{"text_format":"1","workbook":"xlsx","n_sheets":23,"sheets":["Input","Resource and Financial Summary","Decision Matrices","Tidal Stream 1","Tidal Stream 2","Tidal Stream 3","Tidal Stream 4","Tidal Stream 5","Tidal Barrage 1","Tidal Barrage 2","Tidal Barrage 3","Tidal Barrage 4","Tidal Barrage 5","Wave 1","Wave 2","Wave 3","Wave 4","Wave 5","Tidal Device Database","Location Database","Storage Device Database","Wave Device Database","Wave Areas"],"not_rendered":{"charts":15,"images":0,"macros":1,"external_links":0,"defined_names":8,"comments":0,"pivot_tables":0},"unopened":[],"bounds":{"document_bytes":16777216,"sheet_cells":100000,"rows_first":2000,"rows_last":500,"rows_between":2000,"halvings":0,"cell_chars":16384,"cell_head_chars":4096},"cells_cut":0,"cells_raw":0,"read":"whole","date_system":"1900"}

{"sheet":"Input","index":0,"n_rows":469,"n_cols":10,"rows_kept":469,"cut":false,"hidden":false,"merged":[[89,5,89,6],[90,5,90,6],[91,5,91,6],[92,5,92,6],[74,5,74,6],[79,5,79,6],[80,5,80,6],[81,5,81,6],[82,5,82,6],[84,5,84,6],[92,1,92,2],[52,5,52,6],[64,5,64,6],[69,5,69,6],[70,5,70,6],[71,5,71,6],[81,1,81,2],[82,1,82,2],[84,1,84,2],[89,1,89,2],[90,1,90,2],[91,1,91,2],[69,1,69,2],[70,1,70,2],[71,1,71,2],[59,5,59,6],[74,1,74,2],[79,1,79,2],[80,1,80,2],[44,9,44,10],[61,9,61,10],[66,9,66,10],[72,9,72,10],[49,1,49,2],[50,1,50,2],[51,1,51,2],[52,1,52,2],[59,1,59,2],[72,1,72,2],[44,5,44,6],[54,5,54,6],[47,9,47,10],[7,1,7,2],[8,1,8,2],[28,2,28,3],[44,1,44,2],[54,1,54,2],[11,0,11,2],[14,0,14,2],[45,9,45,10],[46,9,46,10],[57,9,57,10],[72,5,72,6],[61,1,61,2],[62,1,62,2],[64,1,64,2],[60,1,60,2],[62,5,62,6],[51,5,51,6],[50,5,50,6],[49,5,49,6],[61,5,61,6],[60,5,60,6],[54,9,54,10],[55,9,55,10],[56,9,56,10],[58,9,58,10],[48,9,48,10],[49,9,49,10],[50,9,50,10],[51,9,51,10],[59,9,59,10],[60,9,60,10],[64,9,64,10],[65,9,65,10],[68,9,68,10],[67,9,67,10],[69,9,69,10],[70,9,70,10],[71,9,71,10],[74,9,74,10],[75,9,75,10],[90,9,90,10],[91,9,91,10],[84,9,84,10],[85,9,85,10],[86,9,86,10],[88,9,88,10],[89,9,89,10],[87,9,87,10],[76,9,76,10],[78,9,78,10],[79,9,79,10],[80,9,80,10],[81,9,81,10],[77,9,77,10]]}
["Decision Making Tool for Island Communities"]
["Coastal Renewable Generation and Storage Devices"]
[]
["Input Cells"]
[]
["Data"]
[]
["Island"]
["Population"]
["Average Daily Demand",null,"kWh"]
["Non-Renewable Generation Capacity"]
["Demand"]
["Average Summer",null,"kW"]
["Average Winter",null,"kW"]
["Generation"]
["Average Summer",null,"kW"]
["Average Winter",null,"kW"]
[]
["Main Grid Connection","No"]
["Generation Excess?",{"$f":"IF(OR(B17>B14,B16>B13),\"Yes\", \"No\")","v":"No"}]
[{"$f":"IF(B20=\"No\",\"\",\"Max Excess\")","v":""},{"$f":"IF(A21=\"Max Excess\",MAX((B16-B13),(B17-B14)),\"\")","v":""},{"$f":"IF(B21<>\"\",\"kW\",\"\")","v":""}]
[]
["Required Storage"]
["Rated Capacity",null,"kW"]
["Capacity",null,"kWh"]
[]
["Current Renewable Generation"]
[]
["Device","Resource Type","Rated Power"]
[null,"[Select]",null,"kW"]
[null,"[Select]",null,"kW"]
[null,"[Select]",null,"kW"]
[null,"[Select]",null,"kW"]
[null,"[Select]",null,"kW"]
[null,"[Select]",null,"kW"]
[null,"[Select]",null,"kW"]
[null,"[Select]",null,"kW"]
[null,"[Select]",null,"kW"]
[]
["Potential Generation and Storage"]
[]
["Resource Type:","Tidal Stream",null,null,"Resource Type:","Tidal Barrage",null,null,"Resource Type:","Wave"]
["No. of Sites",0,null,null,"No. of Sites",0,null,null,"No. of Sites",0]
[]
["Site Name",{"$f":"IF(A45<>\"\", \"[Enter Name]\",\"\")","v":"[Enter Name]"},null,null,"Site Name",{"$f":"IF(E45<>\"\", \"[Enter Name]\",\"\")","v":"[Enter Name]"},null,null,"Site Name",{"$f":"IF(I45<>\"\", \"[Enter Name]\",\"\")","v":"[Enter Name]"}]
["Peak Flow (Springs)",{"$f":"IF(A46<>\"\", \"[Enter Value]\",\"\")","v":"[Enter Value]"},{"$f":"IF(A46<>\"\",\"m/s\",\"\")","v":"m/s"},null,"Max Tidal Range",{"$f":"IF(E46<>\"\", \"[Enter Value]\",\"\")","v":"[Enter Value]"},{"$f":"IF(E46<>\"\",\"m\",\"\")","v":"m"},null,"Position Relevant to Island",{"$f":"IF(I46<>\"\", \"[Select Value]\",\"\")","v":"[Select Value]"}]
["Peak Flow (Neaps)",{"$f":"IF(A47<>\"\", \"[Enter Value]\",\"\")","v":"[Enter Value]"},{"$f":"IF(A47<>\"\",\"m/s\",\"\")","v":"m/s"},null,"Mean Tidal Range",{"$f":"IF(E47<>\"\", \"[Enter Value]\",\"\")","v":"[Enter Value]"},{"$f":"IF(E47<>\"\",\"m\",\"\")","v":"m"},null,"Relevant Ocean Wave Area","[Select Area]"]
["Lunar Cycle Period","[Enter Value]",{"$f":"IF(A48<>\"\",\"days\",\"\")","v":"days"},null,"Lunar Cycle Period","[Enter Value]",{"$f":"IF(E48<>\"\",\"days\",\"\")","v":"days"},null,"Average Wave Height","[Enter Value]"]
["Tidal Period","[Enter Value]",{"$f":"IF(A49<>\"\",\"hours\",\"\")","v":"hours"},null,"Proposed Lagoon Surface Area","[Enter Value]",{"$f":"IF(E49<>\"\",\"m^2\",\"\")","v":"m^2"},null,"Proximity to Grid Connection",{"$f":"IF(I49<>\"\", \"[Select Value]\",\"\")","v":"[Select Value]"}]
["Proximity to Grid Connection",{"$f":"IF(A50<>\"\", \"[Select Value]\",\"\")","v":"[Select Value]"},null,null,"Proximity to Grid Connection",{"$f":"IF(E50<>\"\", \"[Select Value]\",\"\")","v":"[Select Value]"},null,null,"Average Water Depth",{"$f":"IF(I50<>\"\", \"[Select Value]\",\"\")","v":"[Select Value]"}]
["Average Water Depth",{"$f":"IF(A51<>\"\", \"[Select Value]\",\"\")","v":"[Select Value]"},null,null,"Average Water Depth",{"$f":"IF(E51<>\"\", \"[Select Value]\",\"\")","v":"[Select Value]"},null,null,"Seabed Topography",{"$f":"IF(I51<>\"\", \"[Select Value]\",\"\")","v":"[Select Value]"}]
["Seabed Topography",{"$f":"IF(A52<>\"\", \"[Select Value]\",\"\")","v":"[Select Value]"},null,null,"Seabed Topography",{"$f":"IF(E52<>\"\", \"[Select Value]\",\"\")","v":"[Select Value]"},null,null,"Accessibility",{"$f":"IF(I52<>\"\", \"[Select Value]\",\"\")","v":"[Select Value]"}]
["Accessibility",{"$f":"IF(A53<>\"\", \"[Select Value]\",\"\")","v":"[Select Value]"},null,null,"Accessibility",{"$f":"IF(E53<>\"\", \"[Select Value]\",\"\")","v":"[Select Value]"}]
[]
["Site Name",{"$f":"IF(A55<>\"\", \"[Enter Name]\",\"\")","v":"[Enter Name]"},null,null,"Site Name",{"$f":"IF(E55<>\"\", \"[Enter Name]\",\"\")","v":"[Enter Name]"},null,null,"Site Name",{"$f":"IF(I55<>\"\", \"[Enter Name]\",\"\")","v":"[Enter Name]"}]
["Peak Flow (Springs)",{"$f":"IF(A56<>\"\", \"[Enter Value]\",\"\")","v":"[Enter Value]"},{"$f":"IF(A56<>\"\",\"m/s\",\"\")","v":"m/s"},null,"Max Tidal Range",{"$f":"IF(E56<>\"\", \"[Enter Value]\",\"\")","v":"[Enter Value]"},{"$f":"IF(E56<>\"\",\"m\",\"\")","v":"m"},null,"Position Relevant to Island",{"$f":"IF(I56<>\"\", \"[Select Value]\",\"\")","v":"[Select Value]"}]
["Peak Flow (Neaps)",{"$f":"IF(A57<>\"\", \"[Enter Value]\",\"\")","v":"[Enter Value]"},{"$f":"IF(A57<>\"\",\"m/s\",\"\")","v":"m/s"},null,"Mean Tidal Range",{"$f":"IF(E57<>\"\", \"[Enter Value]\",\"\")","v":"[Enter Value]"},{"$f":"IF(E57<>\"\",\"m\",\"\")","v":"m"},null,"Relevant Ocean Wave Area","[Select Area]"]
["Lunar Cycle Period","[Enter Value]",{"$f":"IF(A58<>\"\",\"days\",\"\")","v":"days"},null,"Lunar Cycle Period","[Enter Value]",{"$f":"IF(E58<>\"\",\"days\",\"\")","v":"days"},null,"Average Wave Height","[Enter Value]"]
["Tidal Period","[Enter Value]",{"$f":"IF(A59<>\"\",\"hours\",\"\")","v":"hours"},null,"Proposed Lagoon Surface Area","[Enter Value]",{"$f":"IF(E59<>\"\",\"m^2\",\"\")","v":"m^2"},null,"Proximity to Grid Connection",{"$f":"IF(I59<>\"\", \"[Select Value]\",\"\")","v":"[Select Value]"}]
["Proximity to Grid Connection",{"$f":"IF(A60<>\"\", \"[Select Value]\",\"\")","v":"[Select Value]"},null,null,"Proximity to Grid Connection",{"$f":"IF(E60<>\"\", \"[Select Value]\",\"\")","v":"[Select Value]"},null,null,"Average Water Depth",{"$f":"IF(I60<>\"\", \"[Select Value]\",\"\")","v":"[Select Value]"}]
["Average Water Depth",{"$f":"IF(A61<>\"\", \"[Select Value]\",\"\")","v":"[Select Value]"},null,null,"Average Water Depth",{"$f":"IF(E61<>\"\", \"[Select Value]\",\"\")","v":"[Select Value]"},null,null,"Seabed Topography",{"$f":"IF(I61<>\"\", \"[Select Value]\",\"\")","v":"[Select Value]"}]
["Seabed Topography",{"$f":"IF(A62<>\"\", \"[Select Value]\",\"\")","v":"[Select Value]"},null,null,"Seabed Topography",{"$f":"IF(E62<>\"\", \"[Select Value]\",\"\")","v":"[Select Value]"},null,null,"Accessibility",{"$f":"IF(I62<>\"\", \"[Select Value]\",\"\")","v":"[Select Value]"}]
["Accessibility",{"$f":"IF(A63<>\"\", \"[Select Value]\",\"\")","v":"[Select Value]"},null,null,"Accessibility",{"$f":"IF(E63<>\"\", \"[Select Value]\",\"\")","v":"[Select Value]"}]
[]
["Site Name",{"$f":"IF(A65<>\"\", \"[Enter Name]\",\"\")","v":"[Enter Name]"},null,null,"Site Name",{"$f":"IF(E65<>\"\", \"[Enter Name]\",\"\")","v":"[Enter Name]"},null,null,"Site Name",{"$f":"IF(I65<>\"\", \"[Enter Name]\",\"\")","v":"[Enter Name]"}]
["Peak Flow (Springs)",{"$f":"IF(A66<>\"\", \"[Enter Value]\",\"\")","v":"[Enter Value]"},{"$f":"IF(A66<>\"\",\"m/s\",\"\")","v":"m/s"},null,"Max Tidal Range",{"$f":"IF(E66<>\"\", \"[Enter Value]\",\"\")","v":"[Enter Value]"},{"$f":"IF(E66<>\"\",\"m\",\"\")","v":"m"},null,"Position Relevant to Island",{"$f":"IF(I66<>\"\", \"[Select Value]\",\"\")","v":"[Select Value]"}]
["Peak Flow (Neaps)",{"$f":"IF(A67<>\"\", \"[Enter Value]\",\"\")","v":"[Enter Value]"},{"$f":"IF(A67<>\"\",\"m/s\",\"\")","v":"m/s"},null,"Mean Tidal Range",{"$f":"IF(E67<>\"\", \"[Enter Value]\",\"\")","v":"[Enter Value]"},{"$f":"IF(E67<>\"\",\"m\",\"\")","v":"m"},null,"Relevant Ocean Wave Area","[Select Area]"]
["Lunar Cycle Period","[Enter Value]",{"$f":"IF(A68<>\"\",\"days\",\"\")","v":"days"},null,"Lunar Cycle Period","[Enter Value]",{"$f":"IF(E68<>\"\",\"days\",\"\")","v":"days"},null,"Average Wave Height","[Enter Value]"]
["Tidal Period","[Enter Value]",{"$f":"IF(A69<>\"\",\"hours\",\"\")","v":"hours"},null,"Proposed Lagoon Surface Area","[Enter Value]",{"$f":"IF(E69<>\"\",\"m^2\",\"\")","v":"m^2"},null,"Proximity to Grid Connection",{"$f":"IF(I69<>\"\", \"[Select Value]\",\"\")","v":"[Select Value]"}]
["Proximity to Grid Connection",{"$f":"IF(A70<>\"\", \"[Select Value]\",\"\")","v":"[Select Value]"},null,null,"Proximity to Grid Connection",{"$f":"IF(E70<>\"\", \"[Select Value]\",\"\")","v":"[Select Value]"},null,null,"Average Water Depth",{"$f":"IF(I70<>\"\", \"[Select Value]\",\"\")","v":"[Select Value]"}]
["Average Water Depth",{"$f":"IF(A71<>\"\", \"[Select Value]\",\"\")","v":"[Select Value]"},null,null,"Average Water Depth",{"$f":"IF(E71<>\"\", \"[Select Value]\",\"\")","v":"[Select Value]"},null,null,"Seabed Topography",{"$f":"IF(I71<>\"\", \"[Select Value]\",\"\")","v":"[Select Value]"}]
["Seabed Topography",{"$f":"IF(A72<>\"\", \"[Select Value]\",\"\")","v":"[Select Value]"},null,null,"Seabed Topography",{"$f":"IF(E72<>\"\", \"[Select Value]\",\"\")","v":"[Select Value]"},null,null,"Accessibility",{"$f":"IF(I72<>\"\", \"[Select Value]\",\"\")","v":"[Select Value]"}]
["Accessibility",{"$f":"IF(A73<>\"\", \"[Select Value]\",\"\")","v":"[Select Value]"},null,null,"Accessibility",{"$f":"IF(E73<>\"\", \"[Select Value]\",\"\")","v":"[Select Value]"}]
[]
["Site Name",{"$f":"IF(A75<>\"\", \"[Enter Name]\",\"\")","v":"[Enter Name]"},null,null,"Site Name",{"$f":"IF(E75<>\"\", \"[Enter Name]\",\"\")","v":"[Enter Name]"},null,null,"Site Name",{"$f":"IF(I75<>\"\", \"[Enter Name]\",\"\")","v":"[Enter Name]"}]
["Peak Flow (Springs)",{"$f":"IF(A76<>\"\", \"[Enter Value]\",\"\")","v":"[Enter Value]"},{"$f":"IF(A76<>\"\",\"m/s\",\"\")","v":"m/s"},null,"Max Tidal Range",{"$f":"IF(E76<>\"\", \"[Enter Value]\",\"\")","v":"[Enter Value]"},{"$f":"IF(E76<>\"\",\"m\",\"\")","v":"m"},null,"Position Relevant to Island",{"$f":"IF(I76<>\"\", \"[Select Value]\",\"\")","v":"[Select Value]"}]
["Peak Flow (Neaps)",{"$f":"IF(A77<>\"\", \"[Enter Value]\",\"\")","v":"[Enter Value]"},{"$f":"IF(A77<>\"\",\"m/s\",\"\")","v":"m/s"},null,"Mean Tidal Range",{"$f":"IF(E77<>\"\", \"[Enter Value]\",\"\")","v":"[Enter Value]"},{"$f":"IF(E77<>\"\",\"m\",\"\")","v":"m"},null,"Relevant Ocean Wave Area","[Select Area]"]
["Lunar Cycle Period","[Enter Value]",{"$f":"IF(A78<>\"\",\"days\",\"\")","v":"days"},null,"Lunar Cycle Period","[Enter Value]",{"$f":"IF(E78<>\"\",\"days\",\"\")","v":"days"},null,"Average Wave Height","[Enter Value]"]
["Tidal Period","[Enter Value]",{"$f":"IF(A79<>\"\",\"hours\",\"\")","v":"hours"},null,"Proposed Lagoon Surface Area","[Enter Value]",{"$f":"IF(E79<>\"\",\"m^2\",\"\")","v":"m^2"},null,"Proximity to Grid Connection",{"$f":"IF(I79<>\"\", \"[Select Value]\",\"\")","v":"[Select Value]"}]
["Proximity to Grid Connection",{"$f":"IF(A80<>\"\", \"[Select Value]\",\"\")","v":"[Select Value]"},null,null,"Proximity to Grid Connection",{"$f":"IF(E80<>\"\", \"[Select Value]\",\"\")","v":"[Select Value]"},null,null,"Average Water Depth",{"$f":"IF(I80<>\"\", \"[Select Value]\",\"\")","v":"[Select Value]"}]
["Average Water Depth",{"$f":"IF(A81<>\"\", \"[Select Value]\",\"\")","v":"[Select Value]"},null,null,"Average Water Depth",{"$f":"IF(E81<>\"\", \"[Select Value]\",\"\")","v":"[Select Value]"},null,null,"Seabed Topography",{"$f":"IF(I81<>\"\", \"[Select Value]\",\"\")","v":"[Select Value]"}]
["Seabed Topography",{"$f":"IF(A82<>\"\", \"[Select Value]\",\"\")","v":"[Select Value]"},null,null,"Seabed Topography",{"$f":"IF(E82<>\"\", \"[Select Value]\",\"\")","v":"[Select Value]"},null,null,"Accessibility",{"$f":"IF(I82<>\"\", \"[Select Value]\",\"\")","v":"[Select Value]"}]
["Accessibility",{"$f":"IF(A83<>\"\", \"[Select Value]\",\"\")","v":"[Select Value]"},null,null,"Accessibility",{"$f":"IF(E83<>\"\", \"[Select Value]\",\"\")","v":"[Select Value]"}]
[]
["Site Name",{"$f":"IF(A85<>\"\", \"[Enter Name]\",\"\")","v":"[Enter Name]"},null,null,"Site Name",{"$f":"IF(E85<>\"\", \"[Enter Name]\",\"\")","v":"[Enter Name]"},null,null,"Site Name",{"$f":"IF(I85<>\"\", \"[Enter Name]\",\"\")","v":"[Enter Name]"}]
["Peak Flow (Springs)",{"$f":"IF(A86<>\"\", \"[Enter Value]\",\"\")","v":"[Enter Value]"},{"$f":"IF(A86<>\"\",\"m/s\",\"\")","v":"m/s"},null,"Max Tidal Range",{"$f":"IF(E86<>\"\", \"[Enter Value]\",\"\")","v":"[Enter Value]"},{"$f":"IF(E86<>\"\",\"m\",\"\")","v":"m"},null,"Position Relevant to Island",{"$f":"IF(I86<>\"\", \"[Select Value]\",\"\")","v":"[Select Value]"}]
["Peak Flow (Neaps)",{"$f":"IF(A87<>\"\", \"[Enter Value]\",\"\")","v":"[Enter Value]"},{"$f":"IF(A87<>\"\",\"m/s\",\"\")","v":"m/s"},null,"Mean Tidal Range",{"$f":"IF(E87<>\"\", \"[Enter Value]\",\"\")","v":"[Enter Value]"},{"$f":"IF(E87<>\"\",\"m\",\"\")","v":"m"},null,"Relevant Ocean Wave Area","[Select Area]"]
["Lunar Cycle Period","[Enter Value]",{"$f":"IF(A88<>\"\",\"days\",\"\")","v":"days"},null,"Lunar Cycle Period","[Enter Value]",{"$f":"IF(E88<>\"\",\"days\",\"\")","v":"days"},null,"Average Wave Height","[Enter Value]"]
["Tidal Period","[Enter Value]",{"$f":"IF(A89<>\"\",\"hours\",\"\")","v":"hours"},null,"Proposed Lagoon Surface Area","[Enter Value]",{"$f":"IF(E89<>\"\",\"m^2\",\"\")","v":"m^2"},null,"Proximity to Grid Connection",{"$f":"IF(I89<>\"\", \"[Select Value]\",\"\")","v":"[Select Value]"}]
["Proximity to Grid Connection",{"$f":"IF(A90<>\"\", \"[Select Value]\",\"\")","v":"[Select Value]"},null,null,"Proximity to Grid Connection",{"$f":"IF(E90<>\"\", \"[Select Value]\",\"\")","v":"[Select Value]"},null,null,"Average Water Depth",{"$f":"IF(I90<>\"\", \"[Select Value]\",\"\")","v":"[Select Value]"}]
["Average Water Depth",{"$f":"IF(A91<>\"\", \"[Select Value]\",\"\")","v":"[Select Value]"},null,null,"Average Water Depth",{"$f":"IF(E91<>\"\", \"[Select Value]\",\"\")","v":"[Select Value]"},null,null,"Seabed Topography",{"$f":"IF(I91<>\"\", \"[Select Value]\",\"\")","v":"[Select Value]"}]
["Seabed Topography",{"$f":"IF(A92<>\"\", \"[Select Value]\",\"\")","v":"[Select Value]"},null,null,"Seabed Topography",{"$f":"IF(E92<>\"\", \"[Select Value]\",\"\")","v":"[Select Value]"},null,null,"Accessibility",{"$f":"IF(I92<>\"\", \"[Select Value]\",\"\")","v":"[Select Value]"}]
["Accessibility",{"$f":"IF(A93<>\"\", \"[Select Value]\",\"\")","v":"[Select Value]"},null,null,"Accessibility",{"$f":"IF(E93<>\"\", \"[Select Value]\",\"\")","v":"[Select Value]"}]
[]
[]
[]
[]
[]
[]
[]
[]
[]
[]
[]
[]
[]
[]
[]
[]
[]
[]
[]
[]
[]
[]
[]
[]
[]
[]
[]
[]
[]
[]
[]
[]
[]
[]
[]
[]
[]
[]
[]
[]
[]
[]
[]
[]
[]
[]
[]
[]
[]
[]
[]
[]
[]
[]
[]
[]
[]
[]
[]
[]
[]
[]
[]
[]
[]
[]
[]
[]
[]
[]
[]
[]
[]
[]
[]
[]
[]
[]
[]
[]
[]
[]
[]
[]
[]
[]
[]
[]
[]
[]
[]
[]
[]
[]
[]
[]
[]
[]
[]
[]
[]
[]
[]
[]
[]
[]
[]
[]
[]
[]
[]
[]
[]
[]
[]
[]
[]
[]
[]
[]
[]
[]
[]
[]
[]
[]
[]
[]
[]
[]
[]
[]
[]
[]
[]
[]
[]
[]
[]
[]
[]
[]
[]
[]
[]
[]
[]
[]
[]
[]
[]
[]
[]
[]
[]
[]
[]
[]
[]
[]
[]
[]
[]
[]
[]
[]
[]
[]
[]
[]
[]
[]
[]
[]
[]
[]
[]
[]
[]
[]
[]
[]
[]
[]
[]
[]
[]
[]
[]
[]
[]
[]
[]
[]
[]
[]
[]
[]
[]
[]
[]
[]
[]
[]
[]
[]
[]
[]
[]
[]
[]
[]
[]
[]
[]
[]
[]
[]
[]
[]
[]
[]
[]
[]
[]
[]
[]
[]
[]
[]
[]
[]
[]
[]
[]
[]
[]
[]
[]
[]
[]
[]
[]
[]
[]
[]
[]
[]
[]
[]
[]
[]
[]
[]
[]
[]
[]
[]
[]
[]
[]
[]
[]
[]
[]
[]
[]
[]
[]
[]
[]
[]
[]
[]
[]
[]
[]
[]
[]
[]
[]
[]
[]
[]
[]
[]
[]
[]
[]
[]
[]
[]
[]
[]
[]
[]
[]
[]
[]
[]
[]
[]
[]
[]
[]
[]
[]
[]
[]
[]
[]
[]
[]
[]
[]
[]
[]
[]
[]
[]
[]
[]
[]
[]
[]
[]
[]
[]
[]
[]
[]
[]
[]
[]
[]
[]
[]
[]
[]
[]
[]
[]
[]
[]
[]
[]
[]
[]
[]
[]
[]
[]
[]
[]
[]
[]
[]
[]
[]
[]
[]
[]
[]
[]
[]
[]
[]
[]
[]
[]
[]
[]
[]
[]
[]
[null,"[Enter Value]"]

{"sheet":"Resource and Financial Summary","index":1,"n_rows":68,"n_cols":20,"rows_kept":68,"cut":false,"hidden":false,"merged":[[5,17,7,17],[5,16,7,16],[36,0,36,3],[17,0,19,0],[29,0,29,3],[30,1,30,3],[29,5,29,8],[17,10,19,10],[30,6,30,8],[48,2,50,2],[51,2,53,2],[54,2,56,2],[57,2,59,2],[30,11,30,13]]}
["Summary of Assessed Resources"]
[]
["Tidal Stream",null,null,null,null,"Tidal Barrage",null,null,null,null,"Wave",null,null,null,null,"Storage"]
[]
["Site Name","Energy per lunar cycle (kWh/m^2)","Energy per year (kWh/m^2)","Average Power (kW/m^2)",null,"Site Name","Available Energy per lunar cycle (MWh)","Annual Available Energy(MWh)","Required Rated Power (kW)",null,"Site Name","Position","Average Power (kW/m)","Annual Energy (kWh/m)",null,"Name","Rated Capacity (kW)","Required Capacity (kWh)","Cost (£/kW)","Self Discharge Rate"]
[{"$f":"IF(Input!B45=\"[Enter Name]\",\"\",Input!B45)","v":""},{"$f":"IF(A6<>\"\",'Tidal Stream 1'!$H$2780,\"\")","v":""},{"$f":"IF(A6<>\"\",'Tidal Stream 1'!$H$2781,\"\")","v":""},{"$f":"IF(A6<>\"\",'Tidal Stream 1'!$G$2782,\"\")","v":""},null,{"$f":"IF(Input!F45=\"[Enter Name]\",\"\",Input!F45)","v":""},{"$f":"IF(F6<>\"\",'Tidal Barrage 1'!$B$26,\"\")","v":""},{"$f":"IF(F6<>\"\",'Tidal Barrage 1'!$B$27,\"\")","v":""},{"$f":"IF(F6<>\"\",'Tidal Barrage 1'!$B$23,\"\")","v":""},null,{"$f":"IF(Input!J45=\"[Enter Name]\",\"\",Input!J45)","v":""},{"$f":"IF(Input!J46=\"[Select Value]\",\"\",Input!J46)","v":""},{"$f":"IF(K6<>\"\",'Wave 1'!$B$12,\"\")","v":""},{"$f":"IF(K6<>\"\",M6*365*24,\"\")","v":""},null,{"$f":"VLOOKUP(LARGE('Decision Matrices'!$B$69:$B$80,1),'Decision Matrices'!$B$69:$C$80,2,FALSE)","v":"Pumped Hydro"},{"$f":"Input!B24","v":0},{"$f":"Input!B25","v":0},{"$f":"0.78*(VLOOKUP(P6,'Storage Device Database'!$B$4:$K$15,10,FALSE))","v":40000},{"$f":"VLOOKUP(P6,'Storage Device Database'!$B$4:$M$15,12,FALSE)","v":0}]
[{"$f":"IF(Input!B55=\"[Enter Name]\",\"\",Input!B55)","v":""},{"$f":"IF(A7<>\"\",'Tidal Stream 2'!$H$2780,\"\")","v":""},{"$f":"IF(A7<>\"\",'Tidal Stream 2'!$H$2781,\"\")","v":""},{"$f":"IF(A7<>\"\",'Tidal Stream 2'!$G$2782,\"\")","v":""},null,{"$f":"IF(Input!F55=\"[Enter Name]\",\"\",Input!F55)","v":""},{"$f":"IF(F7<>\"\",'Tidal Barrage 2'!$B$26,\"\")","v":""},{"$f":"IF(F7<>\"\",'Tidal Barrage 2'!$B$27,\"\")","v":""},{"$f":"IF(F7<>\"\",'Tidal Barrage 2'!$B$23,\"\")","v":""},null,{"$f":"IF(Input!J55=\"[Enter Name]\",\"\",Input!J55)","v":""},{"$f":"IF(Input!J56=\"[Select Value]\",\"\",Input!J56)","v":""},{"$f":"IF(K7<>\"\",'Wave 2'!$B$12,\"\")","v":""},{"$f":"IF(K7<>\"\",M7*365*24,\"\")","v":""},null,{"$f":"VLOOKUP(LARGE('Decision Matrices'!$B$69:$B$80,2),'Decision Matrices'!$B$69:$C$80,2,FALSE)","v":"Compressed Air"},null,null,{"$f":"0.78*(VLOOKUP(P7,'Storage Device Database'!$B$4:$K$15,10,FALSE))","v":506.649},{"$f":"VLOOKUP(P7,'Storage Device Database'!$B$4:$M$15,12,FALSE)","v":0}]
[{"$f":"IF(Input!B65=\"[Enter Name]\",\"\",Input!B65)","v":""},{"$f":"IF(A8<>\"\",'Tidal Stream 3'!$H$2780,\"\")","v":""},{"$f":"IF(A8<>\"\",'Tidal Stream 3'!$H$2781,\"\")","v":""},{"$f":"IF(A8<>\"\",'Tidal Stream 3'!$G$2782,\"\")","v":""},null,{"$f":"IF(Input!F65=\"[Enter Name]\",\"\",Input!F65)","v":""},{"$f":"IF(F8<>\"\",'Tidal Barrage 3'!$B$26,\"\")","v":""},{"$f":"IF(F8<>\"\",'Tidal Barrage 3'!$B$27,\"\")","v":""},{"$f":"IF(F8<>\"\",'Tidal Barrage 3'!$B$23,\"\")","v":""},null,{"$f":"IF(Input!J65=\"[Enter Name]\",\"\",Input!J65)","v":""},{"$f":"IF(Input!J66=\"[Select Value]\",\"\",Input!J66)","v":""},{"$f":"IF(K8<>\"\",'Wave 3'!$B$12,\"\")","v":""},{"$f":"IF(K8<>\"\",M8*365*24,\"\")","v":""},null,{"$f":"VLOOKUP(LARGE('Decision Matrices'!$B$69:$B$80,3),'Decision Matrices'!$B$69:$C$80,2,FALSE)","v":"Zinc Air"},null,null,{"$f":"0.78*(VLOOKUP(P8,'Storage Device Database'!$B$4:$K$15,10,FALSE))","v":1195.74},{"$f":"VLOOKUP(P8,'Storage Device Database'!$B$4:$M$15,12,FALSE)","v":7.0000000000000001E-3}]
[{"$f":"IF(Input!B75=\"[Enter Name]\",\"\",Input!B75)","v":""},{"$f":"IF(A9<>\"\",'Tidal Stream 4'!$H$2780,\"\")","v":""},{"$f":"IF(A9<>\"\",'Tidal Stream 4'!$H$2781,\"\")","v":""},{"$f":"IF(A9<>\"\",'Tidal Stream 4'!$G$2782,\"\")","v":""},null,{"$f":"IF(Input!F75=\"[Enter Name]\",\"\",Input!F66)","v":""},{"$f":"IF(F9<>\"\",'Tidal Barrage 3'!$B$26,\"\")","v":""},{"$f":"IF(F9<>\"\",'Tidal Barrage 3'!$B$27,\"\")","v":""},{"$f":"IF(F9<>\"\",'Tidal Barrage 4'!$B$23,\"\")","v":""},null,{"$f":"IF(Input!J75=\"[Enter Name]\",\"\",Input!J75)","v":""},{"$f":"IF(Input!J76=\"[Select Value]\",\"\",Input!J76)","v":""},{"$f":"IF(K9<>\"\",'Wave 4'!$B$12,\"\")","v":""},{"$f":"IF(K9<>\"\",M9*365*24,\"\")","v":""}]
[{"$f":"IF(Input!B85=\"[Enter Name]\",\"\",Input!B85)","v":""},{"$f":"IF(A10<>\"\",'Tidal Stream 5'!$H$2780,\"\")","v":""},{"$f":"IF(A10<>\"\",'Tidal Stream 5'!$H$2781,\"\")","v":""},{"$f":"IF(A10<>\"\",'Tidal Stream 5'!$G$2782,\"\")","v":""},null,{"$f":"IF(Input!F85=\"[Enter Name]\",\"\",Input!F67)","v":""},{"$f":"IF(F10<>\"\",'Tidal Barrage 3'!$B$26,\"\")","v":""},{"$f":"IF(F10<>\"\",'Tidal Barrage 3'!$B$27,\"\")","v":""},{"$f":"IF(F10<>\"\",'Tidal Barrage 5'!$B$23,\"\")","v":""},null,{"$f":"IF(Input!J85=\"[Enter Name]\",\"\",Input!J85)","v":""},{"$f":"IF(Input!J86=\"[Select Value]\",\"\",Input!J86)","v":""},{"$f":"IF(K10<>\"\",'Wave 5'!$B$12,\"\")","v":""},{"$f":"IF(K10<>\"\",M10*365*24,\"\")","v":""}]
[]
["Proposed Location and Devices",null,null,null,null,null,null,null,null,null,"Proposed Location and Devices"]
[]
["Site Name","Energy per year (kWh/m^2)","Average Power (kW/m^2)",null,null,null,null,null,null,null,"Site Name","Position","Average Power (kW/m)","Annual Energy (kWh/m)"]
[{"$f":"VLOOKUP((MAX('Decision Matrices'!B5:B9)),'Decision Matrices'!B5:C9,2,FALSE)","v":"[Enter Name]"},{"$f":"VLOOKUP(A15,A6:D10,3,FALSE)","v":{"$error":"#N/A"}},{"$f":"VLOOKUP(A15,A6:D10,4,FALSE)","v":{"$error":"#N/A"}},null,null,"Site Name",{"$f":"VLOOKUP((MAX('Decision Matrices'!B10:B14)),'Decision Matrices'!B10:C14,2,FALSE)","v":"[Enter Name]"},{"$f":"VLOOKUP(LARGE(('Decision Matrices'!B10:B14),2),'Decision Matrices'!B10:C14,2,FALSE)","v":"[Enter Name]"},{"$f":"VLOOKUP(LARGE(('Decision Matrices'!B10:B14),3),'Decision Matrices'!B10:C14,2,FALSE)","v":"[Enter Name]"},null,{"$f":"K6","v":""},{"$f":"VLOOKUP(K15,K6:L10,2,FALSE)","v":""},{"$f":"VLOOKUP(K15,K6:N10,2,FALSE)","v":""},{"$f":"VLOOKUP(K15,K6:N10,3,FALSE)","v":""}]
[]
[null,"Name","Rated Power (kW)","Capture Area",null,"Available Energy (MWh)",{"$f":"VLOOKUP(G15,$F$6:$H$10,3,FALSE)","v":{"$error":"#N/A"}},{"$f":"VLOOKUP(H15,$F$6:$H$10,3,FALSE)","v":{"$error":"#N/A"}},{"$error":"#N/A"},null,null,"Name","Rated Power (kW)","Availability"]
["Potential Devices ",{"$f":"VLOOKUP((MAX('Decision Matrices'!B25:B63)),'Decision Matrices'!B25:C63,2,FALSE)","v":"Oryon Watermill"},{"$f":"VLOOKUP(B18,'Tidal Device Database'!$B$4:$D$42,3,FALSE)","v":50},{"$f":"VLOOKUP(B18,'Tidal Device Database'!$B$4:$G$42,5,FALSE)","v":3},null,"Rated Power (kW)",{"$f":"VLOOKUP(G15,$F$6:$I$10,4,FALSE)","v":{"$error":"#N/A"}},{"$f":"VLOOKUP(H15,$F$6:$I$10,4,FALSE)","v":{"$error":"#N/A"}},{"$error":"#N/A"},null,"Potential Devices ",{"$f":"VLOOKUP(LARGE('Decision Matrices'!$B$86:$B$89,1),'Decision Matrices'!$B$86:$C$89,2,FALSE)","v":"Yam Pro Energy"},{"$f":"VLOOKUP(L18,'Wave Device Database'!$B$3:$G$8,6,FALSE)","v":100},{"$f":"VLOOKUP(L18,'Wave Device Database'!$B$3:$D$8,3,FALSE)","v":false}]
[null,{"$f":"VLOOKUP((LARGE('Decision Matrices'!B25:B63,2)),'Decision Matrices'!B25:C63,2,FALSE)","v":"ENC-025L"},{"$f":"VLOOKUP(B19,'Tidal Device Database'!$B$4:$D$42,3,FALSE)","v":25},{"$f":"VLOOKUP(B19,'Tidal Device Database'!$B$4:$G$42,5,FALSE)","v":2.4},null,null,null,null,null,null,null,{"$f":"VLOOKUP(LARGE('Decision Matrices'!$B$86:$B$89,2),'Decision Matrices'!$B$86:$C$89,2,FALSE)","v":"Rotary Wave"},{"$f":"VLOOKUP(L19,'Wave Device Database'!$B$3:$G$8,6,FALSE)","v":200},{"$f":"VLOOKUP(L19,'Wave Device Database'!$B$3:$D$8,3,FALSE)","v":0}]
[null,{"$f":"VLOOKUP((LARGE('Decision Matrices'!B25:B63,3)),'Decision Matrices'!B25:C63,2,FALSE)","v":"EVG-005H"},{"$f":"VLOOKUP(B20,'Tidal Device Database'!$B$4:$D$42,3,FALSE)","v":5},{"$f":"VLOOKUP(B20,'Tidal Device Database'!$B$4:$G$42,5,FALSE)","v":0.75},null,null,null,null,null,null,null,{"$f":"VLOOKUP(LARGE('Decision Matrices'!$B$86:$B$89,3),'Decision Matrices'!$B$86:$C$89,2,FALSE)","v":"Wave El Buoy"},{"$f":"VLOOKUP(L20,'Wave Device Database'!$B$3:$G$8,6,FALSE)","v":150},{"$f":"VLOOKUP(L20,'Wave Device Database'!$B$3:$D$8,3,FALSE)","v":0}]
[]
[null,null,null,null,null,null,null,null,null,null,null,null,null,null,null,null,null,null,null,"."]
[]
["Financial Comparison",null,null,null,null,null,null,null,null,null,"Financial Comparison",null,null,null,null,"Financial Comparison"]
[]
["Tidal Power Option",null,null,null,null,"Tidal Barrage Option",null,null,null,null,"Wave Options",null,null,null,null,"Storage Options"]
[]
["Device ",{"$f":"B18","v":"Oryon Watermill"},{"$f":"B19","v":"ENC-025L"},{"$f":"B20","v":"EVG-005H"},null,null,null,null,null,null,"Device ",{"$f":"L18","v":"Yam Pro Energy"},{"$f":"L19","v":"Rotary Wave"},{"$f":"L20","v":"Wave El Buoy"},null,"Device ",{"$f":"P6","v":"Pumped Hydro"},{"$f":"P7","v":"Compressed Air"},{"$f":"P8","v":"Zinc Air"}]
[]
["Capital Expenditure",null,null,null,null,"Capital Expenditure",null,null,null,null,"Capital Expenditure",null,null,null,null,"Capital Expenditure"]
["Average Cost per kW Installed",{"$f":"4400*0.85","v":3740},null,null,null,"Average Cost per kW Installed",20000,null,null,null,"Average Cost per kW Installed",{"$f":"0.85*5790","v":4921.5},null,null,null,"Average Cost per kW Installed",{"$f":"S6","v":40000},{"$f":"S7","v":506.649},{"$f":"S8","v":1195.74}]
["Major Equipment Cost",{"$f":"0.46*B36","v":86020},{"$f":"0.46*C36","v":43010},8602,null,"Capital Cost",{"$f":"(G31*G18)+500000","v":{"$error":"#N/A"}},{"$f":"(G31*H18)+500000","v":{"$error":"#N/A"}},{"$f":"(G31*I18)+500000","v":{"$error":"#N/A"}},null,"Major Equipment Cost",{"$f":"0.46*L36","v":226389},{"$f":"0.46*M36","v":452778},339583.5,null,"Total Capital Cost",{"$f":"$Q$6*Q31","v":0},{"$f":"$Q$6*R31","v":0},0]
["Civil and Structural Cost",{"$f":"0.31*B36","v":57970},{"$f":"0.31*C36","v":28985},5797,null,"Total",{"$f":"G32","v":{"$error":"#N/A"}},{"$f":"SUM(H32:H32)","v":{"$error":"#N/A"}},{"$f":"SUM(I32:I32)","v":{"$error":"#N/A"}},null,"Civil and Structural Cost",{"$f":"0.31*L36","v":152566.5},{"$f":"0.31*M36","v":305133},228849.75,null,"Operating Expenditure"]
["Electrical and Installation",{"$f":"0.07*B36","v":13090.000000000002},{"$f":"0.07*C36","v":6545.0000000000009},1309.0000000000002,null,null,null,null,null,null,"Electrical and Installation",{"$f":"0.07*L36","v":34450.5},{"$f":"0.07*M36","v":68901},51675.750000000007,null,"Maintenance Cost (@5% Capital)",{"$f":"0.05*Q32","v":0},{"$f":"0.05*R32","v":0},0]
["Indirect Project Costs",{"$f":"0.16*B36","v":29920},{"$f":"0.16*C36","v":14960},2992,null,"Maintenance Cost (@1% Capital)",{"$f":"0.01*G33","v":{"$error":"#N/A"}},{"$f":"0.01*H33","v":{"$error":"#N/A"}},{"$f":"0.01*I33","v":{"$error":"#N/A"}},null,"Indirect Project Costs",{"$f":"0.16*L36","v":78744},{"$f":"0.16*M36","v":157488},{"$f":"0.16*N36","v":118116},null,"Lifespan",{"$f":"VLOOKUP(Q28,'Storage Device Database'!$B$4:$H$15,7,FALSE)","v":49.2},{"$f":"VLOOKUP(R28,'Storage Device Database'!$B$4:$H$15,7,FALSE)","v":30},{"$f":"VLOOKUP(S28,'Storage Device Database'!$B$4:$H$15,7,FALSE)","v":8.08}]
["Total",{"$f":"C18*B31","v":187000},{"$f":"C19*B31","v":93500},{"$f":"C20*B31","v":18700},null,"Lifespan",25,25,25,null,"Total",{"$f":"M18*L31","v":492150},{"$f":"M19*L31","v":984300},{"$f":"M20*L31","v":738225},null,"Efficiency",{"$f":"(VLOOKUP(Q28,'Storage Device Database'!$B$4:$G$15,6,FALSE))/100","v":0.76590000000000003},{"$f":"(VLOOKUP(R28,'Storage Device Database'!$B$4:$G$15,6,FALSE))/100","v":0.68299999999999994},{"$f":"(VLOOKUP(S28,'Storage Device Database'!$B$4:$G$15,6,FALSE))/100","v":0.4425}]
["Operating Expenditure",null,null,null,null,"Annual Energy Production (kWh)",{"$f":"G17*1000","v":{"$error":"#N/A"}},{"$f":"H17*1000","v":{"$error":"#N/A"}},{"$f":"I17*1000","v":{"$error":"#N/A"}},null,"Operating Expenditure",null,null,null,null,"Annual Capacity (kWh)",{"$f":"R6","v":0},{"$f":"R6","v":0},{"$f":"R6","v":0}]
["Maintenance Cost (@7% Capital)",{"$f":"0.07*B32","v":6021.4000000000005},{"$f":"0.07*C32","v":3010.7000000000003},{"$f":"0.07*D32","v":602.1400000000001},null,null,null,null,null,null,"Maintenance Cost (@5% Capital)",{"$f":"0.05*L32","v":11319.45},{"$f":"0.05*M32","v":22638.9},{"$f":"0.05*N32","v":16979.174999999999}]
["Lifespan",{"$f":"VLOOKUP(B18,'Tidal Device Database'!$B$4:$H$43,7,FALSE)","v":25},{"$f":"VLOOKUP(B19,'Tidal Device Database'!$B$4:$H$43,7,FALSE)","v":25},{"$f":"VLOOKUP(B20,'Tidal Device Database'!$B$4:$H$43,7,FALSE)","v":25},null,"Levelised Cost of Energy (£/kWh)",{"$f":"IF(ISERROR(G37),0,(G33+(G35*G36))/(G37*G36))","v":0},{"$f":"IF(ISERROR(H37),0,(H33+(H35*H36))/(H37*H36))","v":0},{"$f":"IF(ISERROR(I37),0,(I33+(I35*I36))/(I37*I36))","v":0},null,"Lifespan",{"$f":"VLOOKUP(L28,'Wave Device Database'!$B$3:$F$7,5,FALSE)","v":25},{"$f":"VLOOKUP(M28,'Wave Device Database'!$B$3:$F$7,5,FALSE)","v":20},{"$f":"VLOOKUP(N28,'Wave Device Database'!$B$3:$F$7,5,FALSE)","v":25},null,"Levelised Cost of Energy (£/kWh)",{"$f":"IF(Q37=0,0,(Q32+(Q35*Q34))/(Q35*Q37))","v":0},{"$f":"IF(Q37=0,0,(R32+(R35*R34))/(R35*R37))","v":0},{"$f":"IF(Q37=0,0,(S32+(S35*S34))/(S35*S37))","v":0}]
["Annual Energy Production (kWh)",{"$f":"0.3*$B$15*D18","v":{"$error":"#N/A"}},{"$f":"0.3*$B$15*D19","v":{"$error":"#N/A"}},{"$f":"0.3*$B$15*D20","v":{"$error":"#N/A"}},null,null,null,null,null,null,"Annual Energy Production (kWh)",{"$f":"(M18*365*24)*N18","v":0},{"$f":"(M19*365*24)*N19","v":0},{"$f":"(M20*365*24)*N20","v":0}]
[]
["Levelised Cost of Energy (£/kWh)",{"$f":"IF(ISERROR(B40),0,(B36+(B39*B38))/(B39*B40))","v":0},{"$f":"IF(ISERROR(C40),0,(C36+(C39*C38))/(C39*C40))","v":0},0,null,null,null,null,null,null,"Levelised Cost of Energy (£/kWh)",{"$f":"IF(L40=0,0,(L35+(L38*L37))/(L38*L40))","v":0},{"$f":"IF(L40=0,0,(M35+(M38*M37))/(M38*M40))","v":0},{"$f":"IF(L40=0,0,(N35+(N38*N37))/(N38*N40))","v":0}]
[]
[]
[]
["Summary"]
[]
["Levelised Cost of Energy","Method/Location","Type"]
[{"$f":"B42","v":0},{"$f":"B28","v":"Oryon Watermill"},"Tidal Strean"]
[{"$f":"C42","v":0},{"$f":"C28","v":"ENC-025L"}]
[{"$f":"D42","v":0},{"$f":"D28","v":"EVG-005H"}]
[{"$f":"G39","v":0},{"$f":"G15","v":"[Enter Name]"},"Tidal Range"]
[{"$f":"H39","v":0},{"$f":"H15","v":"[Enter Name]"}]
[{"$f":"I39","v":0},{"$f":"I15","v":"[Enter Name]"}]
[{"$f":"L42","v":0},{"$f":"L28","v":"Yam Pro Energy"},"Wave"]
[{"$f":"M42","v":0},{"$f":"M28","v":"Rotary Wave"}]
[{"$f":"N42","v":0},{"$f":"N28","v":"Wave El Buoy"}]
[{"$f":"Q39","v":0},{"$f":"Q28","v":"Pumped Hydro"},"Storage"]
[{"$f":"R39","v":0},{"$f":"R28","v":"Compressed Air"}]
[{"$f":"S39","v":0},{"$f":"S28","v":"Zinc Air"}]
[]
["Recommeded Options"]
[]
["Generation Method","Levelised Cost of Energy (£/kWh)"]
[{"$f":"VLOOKUP((IF(MIN(A49:A57)=0,SMALL(A49:A57,2),MIN(A49:A57))),A49:B60,2,FALSE)","v":"Oryon Watermill"},{"$f":"VLOOKUP((IF(MIN(A49:A57)=0,SMALL(A49:A57,2),MIN(A49:A57))),A49:B60,1,FALSE)","v":0}]
[]
["Storage Method","Levelised Cost of Energy"]
[{"$f":"VLOOKUP(MIN(A58:A60),A58:B60,2,FALSE)","v":"Pumped Hydro"},{"$f":"VLOOKUP(MIN(A58:A60),A58:B60,1,FALSE)","v":0}]

{"sheet":"Decision Matrices","index":2,"n_rows":91,"n_cols":20,"rows_kept":91,"cut":false,"hidden":false,"merged":[[22,0,23,0],[22,15,23,15],[2,0,3,0],[4,3,8,3],[9,3,13,3],[14,3,18,3],[2,12,3,12],[2,1,3,1],[22,1,23,1],[83,1,84,1],[83,0,84,0],[83,17,84,17],[66,19,67,19],[66,0,67,0],[66,1,67,1]]}
[]
[]
["No.",{"$f":"M3","v":"Score"},null,"Criteria",{"$f":"'Location Database'!D2","v":"Assessed Resource"},{"$f":"'Location Database'!E2","v":"Proximity to Load (Shore)"},{"$f":"'Location Database'!F2","v":"Wave Height"},{"$f":"'Location Database'!G2","v":"Average Water Depth"},{"$f":"'Location Database'!H2","v":"Peak Flow Rate"},{"$f":"'Location Database'!I2","v":"Tidal Range"},{"$f":"'Location Database'!J2","v":"Seabed Topography"},{"$f":"'Location Database'!K2","v":"Accessibility"},"Score"]
[null,null,"Location","Type",4,3,4,3,4,4,2,3]
[{"$f":"'Location Database'!A4","v":1},{"$f":"M5","v":0},{"$f":"'Location Database'!B4","v":"[Enter Name]"},{"$f":"'Location Database'!C4","v":"Tidal Stream "},{"$f":"IF('Location Database'!D4=\"\",0,(VLOOKUP('Location Database'!D4,'Location Database'!$F$30:$G$34,2,FALSE)))","v":0},{"$f":"IF((AND('Location Database'!E4<>\"\",'Location Database'!E4<>\"[Select Value]\")),(VLOOKUP('Location Database'!E4,'Location Database'!$D$36:$E$40,2,FALSE)),0)","v":0},{"$f":"IF((AND('Location Database'!F4<>\"\",'Location Database'!F4<>\"[Select Value]\")),(VLOOKUP('Location Database'!F4,'Location Database'!$D$42:$E$47,2,FALSE)),0)","v":0},{"$f":"IF((AND('Location Database'!G4<>\"\",'Location Database'!G4<>\"[Select Value]\")),(VLOOKUP('Location Database'!G4,'Location Database'!$D$49:$E$53,2,FALSE)),0)","v":0},{"$f":"IF((AND('Location Database'!H4<>\"\",'Location Database'!H4<>\"[Select Value]\")),(VLOOKUP('Location Database'!H4,'Location Database'!$D$55:$E$60,2,FALSE)),0)","v":0},{"$f":"IF((AND('Location Database'!I4<>\"\",'Location Database'!I4<>\"[Select Value]\")),(VLOOKUP('Location Database'!I4,'Location Database'!$D$62:$E$67,2,FALSE)),0)","v":0},{"$f":"IF((AND('Location Database'!J4<>\"\",'Location Database'!J4<>\"[Select Value]\")),(VLOOKUP('Location Database'!J4,'Location Database'!$A$30:$B$34,2,FALSE)),0)","v":0},{"$f":"IF((AND('Location Database'!K4<>\"\",'Location Database'!K4<>\"[Select Value]\")),(VLOOKUP('Location Database'!K4,'Location Database'!$A$36:$B$40,2,FALSE)),0)","v":0},{"$f":"SUMPRODUCT(E5:L5,$E$4:$L$4)","v":0}]
[{"$f":"'Location Database'!A5","v":2},{"$f":"M6","v":0},{"$f":"'Location Database'!B5","v":"[Enter Name]"},null,{"$f":"IF('Location Database'!D5=\"\",0,(VLOOKUP('Location Database'!D5,'Location Database'!$F$30:$G$34,2,FALSE)))","v":0},{"$f":"IF((AND('Location Database'!E5<>\"\",'Location Database'!E5<>\"[Select Value]\")),(VLOOKUP('Location Database'!E5,'Location Database'!$D$36:$E$40,2,FALSE)),0)","v":0},{"$f":"IF((AND('Location Database'!F5<>\"\",'Location Database'!F5<>\"[Select Value]\")),(VLOOKUP('Location Database'!F5,'Location Database'!$D$42:$E$47,2,FALSE)),0)","v":0},{"$f":"IF((AND('Location Database'!G5<>\"\",'Location Database'!G5<>\"[Select Value]\")),(VLOOKUP('Location Database'!G5,'Location Database'!$D$49:$E$53,2,FALSE)),0)","v":0},{"$f":"IF((AND('Location Database'!H5<>\"\",'Location Database'!H5<>\"[Select Value]\")),(VLOOKUP('Location Database'!H5,'Location Database'!$D$55:$E$60,2,FALSE)),0)","v":0},{"$f":"IF((AND('Location Database'!I5<>\"\",'Location Database'!I5<>\"[Select Value]\")),(VLOOKUP('Location Database'!I5,'Location Database'!$D$62:$E$67,2,FALSE)),0)","v":0},{"$f":"IF((AND('Location Database'!J5<>\"\",'Location Database'!J5<>\"[Select Value]\")),(VLOOKUP('Location Database'!J5,'Location Database'!$A$30:$B$34,2,FALSE)),0)","v":0},{"$f":"IF((AND('Location Database'!K5<>\"\",'Location Database'!K5<>\"[Select Value]\")),(VLOOKUP('Location Database'!K5,'Location Database'!$A$36:$B$40,2,FALSE)),0)","v":0},{"$f":"SUMPRODUCT(E6:L6,$E$4:$L$4)","v":0}]
[{"$f":"'Location Database'!A6","v":3},0,{"$f":"'Location Database'!B6","v":"[Enter Name]"},null,{"$f":"IF('Location Database'!D6=\"\",0,(VLOOKUP('Location Database'!D6,'Location Database'!$F$30:$G$34,2,FALSE)))","v":0},{"$f":"IF((AND('Location Database'!E6<>\"\",'Location Database'!E6<>\"[Select Value]\")),(VLOOKUP('Location Database'!E6,'Location Database'!$D$36:$E$40,2,FALSE)),0)","v":0},{"$f":"IF((AND('Location Database'!F6<>\"\",'Location Database'!F6<>\"[Select Value]\")),(VLOOKUP('Location Database'!F6,'Location Database'!$D$42:$E$47,2,FALSE)),0)","v":0},{"$f":"IF((AND('Location Database'!G6<>\"\",'Location Database'!G6<>\"[Select Value]\")),(VLOOKUP('Location Database'!G6,'Location Database'!$D$49:$E$53,2,FALSE)),0)","v":0},{"$f":"IF((AND('Location Database'!H6<>\"\",'Location Database'!H6<>\"[Select Value]\")),(VLOOKUP('Location Database'!H6,'Location Database'!$D$55:$E$60,2,FALSE)),0)","v":0},{"$f":"IF((AND('Location Database'!I6<>\"\",'Location Database'!I6<>\"[Select Value]\")),(VLOOKUP('Location Database'!I6,'Location Database'!$D$62:$E$67,2,FALSE)),0)","v":0},{"$f":"IF((AND('Location Database'!J6<>\"\",'Location Database'!J6<>\"[Select Value]\")),(VLOOKUP('Location Database'!J6,'Location Database'!$A$30:$B$34,2,FALSE)),0)","v":0},{"$f":"IF((AND('Location Database'!K6<>\"\",'Location Database'!K6<>\"[Select Value]\")),(VLOOKUP('Location Database'!K6,'Location Database'!$A$36:$B$40,2,FALSE)),0)","v":0},0]
[{"$f":"'Location Database'!A7","v":4},0,{"$f":"'Location Database'!B7","v":"[Enter Name]"},null,{"$f":"IF('Location Database'!D7=\"\",0,(VLOOKUP('Location Database'!D7,'Location Database'!$F$30:$G$34,2,FALSE)))","v":0},{"$f":"IF((AND('Location Database'!E7<>\"\",'Location Database'!E7<>\"[Select Value]\")),(VLOOKUP('Location Database'!E7,'Location Database'!$D$36:$E$40,2,FALSE)),0)","v":0},{"$f":"IF((AND('Location Database'!F7<>\"\",'Location Database'!F7<>\"[Select Value]\")),(VLOOKUP('Location Database'!F7,'Location Database'!$D$42:$E$47,2,FALSE)),0)","v":0},{"$f":"IF((AND('Location Database'!G7<>\"\",'Location Database'!G7<>\"[Select Value]\")),(VLOOKUP('Location Database'!G7,'Location Database'!$D$49:$E$53,2,FALSE)),0)","v":0},{"$f":"IF((AND('Location Database'!H7<>\"\",'Location Database'!H7<>\"[Select Value]\")),(VLOOKUP('Location Database'!H7,'Location Database'!$D$55:$E$60,2,FALSE)),0)","v":0},{"$f":"IF((AND('Location Database'!I7<>\"\",'Location Database'!I7<>\"[Select Value]\")),(VLOOKUP('Location Database'!I7,'Location Database'!$D$62:$E$67,2,FALSE)),0)","v":0},{"$f":"IF((AND('Location Database'!J7<>\"\",'Location Database'!J7<>\"[Select Value]\")),(VLOOKUP('Location Database'!J7,'Location Database'!$A$30:$B$34,2,FALSE)),0)","v":0},{"$f":"IF((AND('Location Database'!K7<>\"\",'Location Database'!K7<>\"[Select Value]\")),(VLOOKUP('Location Database'!K7,'Location Database'!$A$36:$B$40,2,FALSE)),0)","v":0},0]
[{"$f":"'Location Database'!A8","v":5},0,{"$f":"'Location Database'!B8","v":"[Enter Name]"},null,{"$f":"IF('Location Database'!D8=\"\",0,(VLOOKUP('Location Database'!D8,'Location Database'!$F$30:$G$34,2,FALSE)))","v":0},{"$f":"IF((AND('Location Database'!E8<>\"\",'Location Database'!E8<>\"[Select Value]\")),(VLOOKUP('Location Database'!E8,'Location Database'!$D$36:$E$40,2,FALSE)),0)","v":0},{"$f":"IF((AND('Location Database'!F8<>\"\",'Location Database'!F8<>\"[Select Value]\")),(VLOOKUP('Location Database'!F8,'Location Database'!$D$42:$E$47,2,FALSE)),0)","v":0},{"$f":"IF((AND('Location Database'!G8<>\"\",'Location Database'!G8<>\"[Select Value]\")),(VLOOKUP('Location Database'!G8,'Location Database'!$D$49:$E$53,2,FALSE)),0)","v":0},{"$f":"IF((AND('Location Database'!H8<>\"\",'Location Database'!H8<>\"[Select Value]\")),(VLOOKUP('Location Database'!H8,'Location Database'!$D$55:$E$60,2,FALSE)),0)","v":0},{"$f":"IF((AND('Location Database'!I8<>\"\",'Location Database'!I8<>\"[Select Value]\")),(VLOOKUP('Location Database'!I8,'Location Database'!$D$62:$E$67,2,FALSE)),0)","v":0},{"$f":"IF((AND('Location Database'!J8<>\"\",'Location Database'!J8<>\"[Select Value]\")),(VLOOKUP('Location Database'!J8,'Location Database'!$A$30:$B$34,2,FALSE)),0)","v":0},{"$f":"IF((AND('Location Database'!K8<>\"\",'Location Database'!K8<>\"[Select Value]\")),(VLOOKUP('Location Database'!K8,'Location Database'!$A$36:$B$40,2,FALSE)),0)","v":0},0]
[{"$f":"'Location Database'!A9","v":6},0,{"$f":"'Location Database'!B9","v":"[Enter Name]"},{"$f":"'Location Database'!C9","v":"Tidal Barrage "},{"$f":"IF('Location Database'!D9=\"\",0,(VLOOKUP('Location Database'!D9,'Location Database'!$H$30:$I$34,2,FALSE)))","v":0},{"$f":"IF((AND('Location Database'!E9<>\"\",'Location Database'!E9<>\"[Select Value]\")),(VLOOKUP('Location Database'!E9,'Location Database'!$D$36:$E$40,2,FALSE)),0)","v":0},{"$f":"IF((AND('Location Database'!F9<>\"\",'Location Database'!F9<>\"[Select Value]\")),(VLOOKUP('Location Database'!F9,'Location Database'!$D$42:$E$47,2,FALSE)),0)","v":0},{"$f":"IF((AND('Location Database'!G9<>\"\",'Location Database'!G9<>\"[Select Value]\")),(VLOOKUP('Location Database'!G9,'Location Database'!$D$49:$E$53,2,FALSE)),0)","v":0},{"$f":"IF((AND('Location Database'!H9<>\"\",'Location Database'!H9<>\"[Select Value]\")),(VLOOKUP('Location Database'!H9,'Location Database'!$D$55:$E$60,2,FALSE)),0)","v":0},{"$f":"IF((AND('Location Database'!I9<>\"\",'Location Database'!I9<>\"[Select Value]\")),(VLOOKUP('Location Database'!I9,'Location Database'!$D$62:$E$67,2,FALSE)),0)","v":0},{"$f":"IF((AND('Location Database'!J9<>\"\",'Location Database'!J9<>\"[Select Value]\")),(VLOOKUP('Location Database'!J9,'Location Database'!$A$30:$B$34,2,FALSE)),0)","v":0},{"$f":"IF((AND('Location Database'!K9<>\"\",'Location Database'!K9<>\"[Select Value]\")),(VLOOKUP('Location Database'!K9,'Location Database'!$A$36:$B$40,2,FALSE)),0)","v":0},0]
[{"$f":"'Location Database'!A10","v":7},0,{"$f":"'Location Database'!B10","v":"[Enter Name]"},null,{"$f":"IF('Location Database'!D10=\"\",0,(VLOOKUP('Location Database'!D10,'Location Database'!$H$30:$I$34,2,FALSE)))","v":0},{"$f":"IF((AND('Location Database'!E10<>\"\",'Location Database'!E10<>\"[Select Value]\")),(VLOOKUP('Location Database'!E10,'Location Database'!$D$36:$E$40,2,FALSE)),0)","v":0},{"$f":"IF((AND('Location Database'!F10<>\"\",'Location Database'!F10<>\"[Select Value]\")),(VLOOKUP('Location Database'!F10,'Location Database'!$D$42:$E$47,2,FALSE)),0)","v":0},{"$f":"IF((AND('Location Database'!G10<>\"\",'Location Database'!G10<>\"[Select Value]\")),(VLOOKUP('Location Database'!G10,'Location Database'!$D$49:$E$53,2,FALSE)),0)","v":0},{"$f":"IF((AND('Location Database'!H10<>\"\",'Location Database'!H10<>\"[Select Value]\")),(VLOOKUP('Location Database'!H10,'Location Database'!$D$55:$E$60,2,FALSE)),0)","v":0},{"$f":"IF((AND('Location Database'!I10<>\"\",'Location Database'!I10<>\"[Select Value]\")),(VLOOKUP('Location Database'!I10,'Location Database'!$D$62:$E$67,2,FALSE)),0)","v":0},{"$f":"IF((AND('Location Database'!J10<>\"\",'Location Database'!J10<>\"[Select Value]\")),(VLOOKUP('Location Database'!J10,'Location Database'!$A$30:$B$34,2,FALSE)),0)","v":0},{"$f":"IF((AND('Location Database'!K10<>\"\",'Location Database'!K10<>\"[Select Value]\")),(VLOOKUP('Location Database'!K10,'Location Database'!$A$36:$B$40,2,FALSE)),0)","v":0},0]
[{"$f":"'Location Database'!A11","v":8},0,{"$f":"'Location Database'!B11","v":"[Enter Name]"},null,{"$f":"IF('Location Database'!D11=\"\",0,(VLOOKUP('Location Database'!D11,'Location Database'!$H$30:$I$34,2,FALSE)))","v":0},{"$f":"IF((AND('Location Database'!E11<>\"\",'Location Database'!E11<>\"[Select Value]\")),(VLOOKUP('Location Database'!E11,'Location Database'!$D$36:$E$40,2,FALSE)),0)","v":0},{"$f":"IF((AND('Location Database'!F11<>\"\",'Location Database'!F11<>\"[Select Value]\")),(VLOOKUP('Location Database'!F11,'Location Database'!$D$42:$E$47,2,FALSE)),0)","v":0},{"$f":"IF((AND('Location Database'!G11<>\"\",'Location Database'!G11<>\"[Select Value]\")),(VLOOKUP('Location Database'!G11,'Location Database'!$D$49:$E$53,2,FALSE)),0)","v":0},{"$f":"IF((AND('Location Database'!H11<>\"\",'Location Database'!H11<>\"[Select Value]\")),(VLOOKUP('Location Database'!H11,'Location Database'!$D$55:$E$60,2,FALSE)),0)","v":0},{"$f":"IF((AND('Location Database'!I11<>\"\",'Location Database'!I11<>\"[Select Value]\")),(VLOOKUP('Location Database'!I11,'Location Database'!$D$62:$E$67,2,FALSE)),0)","v":0},{"$f":"IF((AND('Location Database'!J11<>\"\",'Location Database'!J11<>\"[Select Value]\")),(VLOOKUP('Location Database'!J11,'Location Database'!$A$30:$B$34,2,FALSE)),0)","v":0},{"$f":"IF((AND('Location Database'!K11<>\"\",'Location Database'!K11<>\"[Select Value]\")),(VLOOKUP('Location Database'!K11,'Location Database'!$A$36:$B$40,2,FALSE)),0)","v":0},0]
[{"$f":"'Location Database'!A12","v":9},0,{"$f":"'Location Database'!B12","v":"[Enter Name]"},null,{"$f":"IF('Location Database'!D12=\"\",0,(VLOOKUP('Location Database'!D12,'Location Database'!$H$30:$I$34,2,FALSE)))","v":0},{"$f":"IF((AND('Location Database'!E12<>\"\",'Location Database'!E12<>\"[Select Value]\")),(VLOOKUP('Location Database'!E12,'Location Database'!$D$36:$E$40,2,FALSE)),0)","v":0},{"$f":"IF((AND('Location Database'!F12<>\"\",'Location Database'!F12<>\"[Select Value]\")),(VLOOKUP('Location Database'!F12,'Location Database'!$D$42:$E$47,2,FALSE)),0)","v":0},{"$f":"IF((AND('Location Database'!G12<>\"\",'Location Database'!G12<>\"[Select Value]\")),(VLOOKUP('Location Database'!G12,'Location Database'!$D$49:$E$53,2,FALSE)),0)","v":0},{"$f":"IF((AND('Location Database'!H12<>\"\",'Location Database'!H12<>\"[Select Value]\")),(VLOOKUP('Location Database'!H12,'Location Database'!$D$55:$E$60,2,FALSE)),0)","v":0},{"$f":"IF((AND('Location Database'!I12<>\"\",'Location Database'!I12<>\"[Select Value]\")),(VLOOKUP('Location Database'!I12,'Location Database'!$D$62:$E$67,2,FALSE)),0)","v":0},{"$f":"IF((AND('Location Database'!J12<>\"\",'Location Database'!J12<>\"[Select Value]\")),(VLOOKUP('Location Database'!J12,'Location Database'!$A$30:$B$34,2,FALSE)),0)","v":0},{"$f":"IF((AND('Location Database'!K12<>\"\",'Location Database'!K12<>\"[Select Value]\")),(VLOOKUP('Location Database'!K12,'Location Database'!$A$36:$B$40,2,FALSE)),0)","v":0},0]
[{"$f":"'Location Database'!A13","v":10},0,{"$f":"'Location Database'!B13","v":"[Enter Name]"},null,{"$f":"IF('Location Database'!D13=\"\",0,(VLOOKUP('Location Database'!D13,'Location Database'!$H$30:$I$34,2,FALSE)))","v":0},{"$f":"IF((AND('Location Database'!E13<>\"\",'Location Database'!E13<>\"[Select Value]\")),(VLOOKUP('Location Database'!E13,'Location Database'!$D$36:$E$40,2,FALSE)),0)","v":0},{"$f":"IF((AND('Location Database'!F13<>\"\",'Location Database'!F13<>\"[Select Value]\")),(VLOOKUP('Location Database'!F13,'Location Database'!$D$42:$E$47,2,FALSE)),0)","v":0},{"$f":"IF((AND('Location Database'!G13<>\"\",'Location Database'!G13<>\"[Select Value]\")),(VLOOKUP('Location Database'!G13,'Location Database'!$D$49:$E$53,2,FALSE)),0)","v":0},{"$f":"IF((AND('Location Database'!H13<>\"\",'Location Database'!H13<>\"[Select Value]\")),(VLOOKUP('Location Database'!H13,'Location Database'!$D$55:$E$60,2,FALSE)),0)","v":0},{"$f":"IF((AND('Location Database'!I13<>\"\",'Location Database'!I13<>\"[Select Value]\")),(VLOOKUP('Location Database'!I13,'Location Database'!$D$62:$E$67,2,FALSE)),0)","v":0},{"$f":"IF((AND('Location Database'!J13<>\"\",'Location Database'!J13<>\"[Select Value]\")),(VLOOKUP('Location Database'!J13,'Location Database'!$A$30:$B$34,2,FALSE)),0)","v":0},{"$f":"IF((AND('Location Database'!K13<>\"\",'Location Database'!K13<>\"[Select Value]\")),(VLOOKUP('Location Database'!K13,'Location Database'!$A$36:$B$40,2,FALSE)),0)","v":0},0]
[{"$f":"'Location Database'!A14","v":11},0,{"$f":"Input!J45","v":"[Enter Name]"},{"$f":"'Location Database'!C14","v":"Wave"},{"$f":"IF('Location Database'!D14=\"\",0,(VLOOKUP('Location Database'!D14,'Location Database'!$D$30:$E$34,2,FALSE)))","v":0},{"$f":"IF((AND('Location Database'!E14<>\"\",'Location Database'!E14<>\"[Select Value]\")),(VLOOKUP('Location Database'!E14,'Location Database'!$D$36:$E$40,2,FALSE)),0)","v":0},{"$f":"IF((AND('Location Database'!F14<>\"\",'Location Database'!F14<>\"[Select Value]\")),(VLOOKUP('Location Database'!F14,'Location Database'!$D$42:$E$47,2,FALSE)),0)","v":0},{"$f":"IF((AND('Location Database'!G14<>\"\",'Location Database'!G14<>\"[Select Value]\")),(VLOOKUP('Location Database'!G14,'Location Database'!$D$49:$E$53,2,FALSE)),0)","v":0},{"$f":"IF((AND('Location Database'!H14<>\"\",'Location Database'!H14<>\"[Select Value]\")),(VLOOKUP('Location Database'!H14,'Location Database'!$D$55:$E$60,2,FALSE)),0)","v":0},{"$f":"IF((AND('Location Database'!I14<>\"\",'Location Database'!I14<>\"[Select Value]\")),(VLOOKUP('Location Database'!I14,'Location Database'!$D$62:$E$67,2,FALSE)),0)","v":0},{"$f":"IF((AND('Location Database'!J14<>\"\",'Location Database'!J14<>\"[Select Value]\")),(VLOOKUP('Location Database'!J14,'Location Database'!$A$30:$B$34,2,FALSE)),0)","v":0},{"$f":"IF((AND('Location Database'!K14<>\"\",'Location Database'!K14<>\"[Select Value]\")),(VLOOKUP('Location Database'!K14,'Location Database'!$A$36:$B$40,2,FALSE)),0)","v":0},0]
[{"$f":"'Location Database'!A15","v":12},0,{"$f":"Input!J55","v":"[Enter Name]"},null,{"$f":"IF('Location Database'!D15=\"\",0,(VLOOKUP('Location Database'!D15,'Location Database'!$D$30:$E$34,2,FALSE)))","v":0},{"$f":"IF((AND('Location Database'!E15<>\"\",'Location Database'!E15<>\"[Select Value]\")),(VLOOKUP('Location Database'!E15,'Location Database'!$D$36:$E$40,2,FALSE)),0)","v":0},{"$f":"IF((AND('Location Database'!F15<>\"\",'Location Database'!F15<>\"[Select Value]\")),(VLOOKUP('Location Database'!F15,'Location Database'!$D$42:$E$47,2,FALSE)),0)","v":0},{"$f":"IF((AND('Location Database'!G15<>\"\",'Location Database'!G15<>\"[Select Value]\")),(VLOOKUP('Location Database'!G15,'Location Database'!$D$49:$E$53,2,FALSE)),0)","v":0},{"$f":"IF((AND('Location Database'!H15<>\"\",'Location Database'!H15<>\"[Select Value]\")),(VLOOKUP('Location Database'!H15,'Location Database'!$D$55:$E$60,2,FALSE)),0)","v":0},{"$f":"IF((AND('Location Database'!I15<>\"\",'Location Database'!I15<>\"[Select Value]\")),(VLOOKUP('Location Database'!I15,'Location Database'!$D$62:$E$67,2,FALSE)),0)","v":0},{"$f":"IF((AND('Location Database'!J15<>\"\",'Location Database'!J15<>\"[Select Value]\")),(VLOOKUP('Location Database'!J15,'Location Database'!$A$30:$B$34,2,FALSE)),0)","v":0},{"$f":"IF((AND('Location Database'!K15<>\"\",'Location Database'!K15<>\"[Select Value]\")),(VLOOKUP('Location Database'!K15,'Location Database'!$A$36:$B$40,2,FALSE)),0)","v":0},{"$f":"SUMPRODUCT(E16:L16,$E$4:$L$4)","v":0}]
[{"$f":"'Location Database'!A16","v":13},0,{"$f":"Input!J65","v":"[Enter Name]"},null,{"$f":"IF('Location Database'!D16=\"\",0,(VLOOKUP('Location Database'!D16,'Location Database'!$D$30:$E$34,2,FALSE)))","v":0},{"$f":"IF((AND('Location Database'!E16<>\"\",'Location Database'!E16<>\"[Select Value]\")),(VLOOKUP('Location Database'!E16,'Location Database'!$D$36:$E$40,2,FALSE)),0)","v":0},{"$f":"IF((AND('Location Database'!F16<>\"\",'Location Database'!F16<>\"[Select Value]\")),(VLOOKUP('Location Database'!F16,'Location Database'!$D$42:$E$47,2,FALSE)),0)","v":0},{"$f":"IF((AND('Location Database'!G16<>\"\",'Location Database'!G16<>\"[Select Value]\")),(VLOOKUP('Location Database'!G16,'Location Database'!$D$49:$E$53,2,FALSE)),0)","v":0},{"$f":"IF((AND('Location Database'!H16<>\"\",'Location Database'!H16<>\"[Select Value]\")),(VLOOKUP('Location Database'!H16,'Location Database'!$D$55:$E$60,2,FALSE)),0)","v":0},{"$f":"IF((AND('Location Database'!I16<>\"\",'Location Database'!I16<>\"[Select Value]\")),(VLOOKUP('Location Database'!I16,'Location Database'!$D$62:$E$67,2,FALSE)),0)","v":0},{"$f":"IF((AND('Location Database'!J16<>\"\",'Location Database'!J16<>\"[Select Value]\")),(VLOOKUP('Location Database'!J16,'Location Database'!$A$30:$B$34,2,FALSE)),0)","v":0},{"$f":"IF((AND('Location Database'!K16<>\"\",'Location Database'!K16<>\"[Select Value]\")),(VLOOKUP('Location Database'!K16,'Location Database'!$A$36:$B$40,2,FALSE)),0)","v":0},0]
[{"$f":"'Location Database'!A17","v":14},0,{"$f":"Input!J75","v":"[Enter Name]"},null,{"$f":"IF('Location Database'!D17=\"\",0,(VLOOKUP('Location Database'!D17,'Location Database'!$D$30:$E$34,2,FALSE)))","v":0},{"$f":"IF((AND('Location Database'!E17<>\"\",'Location Database'!E17<>\"[Select Value]\")),(VLOOKUP('Location Database'!E17,'Location Database'!$D$36:$E$40,2,FALSE)),0)","v":0},{"$f":"IF((AND('Location Database'!F17<>\"\",'Location Database'!F17<>\"[Select Value]\")),(VLOOKUP('Location Database'!F17,'Location Database'!$D$42:$E$47,2,FALSE)),0)","v":0},{"$f":"IF((AND('Location Database'!G17<>\"\",'Location Database'!G17<>\"[Select Value]\")),(VLOOKUP('Location Database'!G17,'Location Database'!$D$49:$E$53,2,FALSE)),0)","v":0},{"$f":"IF((AND('Location Database'!H17<>\"\",'Location Database'!H17<>\"[Select Value]\")),(VLOOKUP('Location Database'!H17,'Location Database'!$D$55:$E$60,2,FALSE)),0)","v":0},{"$f":"IF((AND('Location Database'!I17<>\"\",'Location Database'!I17<>\"[Select Value]\")),(VLOOKUP('Location Database'!I17,'Location Database'!$D$62:$E$67,2,FALSE)),0)","v":0},{"$f":"IF((AND('Location Database'!J17<>\"\",'Location Database'!J17<>\"[Select Value]\")),(VLOOKUP('Location Database'!J17,'Location Database'!$A$30:$B$34,2,FALSE)),0)","v":0},{"$f":"IF((AND('Location Database'!K17<>\"\",'Location Database'!K17<>\"[Select Value]\")),(VLOOKUP('Location Database'!K17,'Location Database'!$A$36:$B$40,2,FALSE)),0)","v":0},0]
[{"$f":"'Location Database'!A18","v":15},0,{"$f":"Input!J85","v":"[Enter Name]"},null,{"$f":"IF('Location Database'!D18=\"\",0,(VLOOKUP('Location Database'!D18,'Location Database'!$D$30:$E$34,2,FALSE)))","v":0},{"$f":"IF((AND('Location Database'!E18<>\"\",'Location Database'!E18<>\"[Select Value]\")),(VLOOKUP('Location Database'!E18,'Location Database'!$D$36:$E$40,2,FALSE)),0)","v":0},{"$f":"IF((AND('Location Database'!F18<>\"\",'Location Database'!F18<>\"[Select Value]\")),(VLOOKUP('Location Database'!F18,'Location Database'!$D$42:$E$47,2,FALSE)),0)","v":0},{"$f":"IF((AND('Location Database'!G18<>\"\",'Location Database'!G18<>\"[Select Value]\")),(VLOOKUP('Location Database'!G18,'Location Database'!$D$49:$E$53,2,FALSE)),0)","v":0},{"$f":"IF((AND('Location Database'!H18<>\"\",'Location Database'!H18<>\"[Select Value]\")),(VLOOKUP('Location Database'!H18,'Location Database'!$D$55:$E$60,2,FALSE)),0)","v":0},{"$f":"IF((AND('Location Database'!I18<>\"\",'Location Database'!I18<>\"[Select Value]\")),(VLOOKUP('Location Database'!I18,'Location Database'!$D$62:$E$67,2,FALSE)),0)","v":0},{"$f":"IF((AND('Location Database'!J18<>\"\",'Location Database'!J18<>\"[Select Value]\")),(VLOOKUP('Location Database'!J18,'Location Database'!$A$30:$B$34,2,FALSE)),0)","v":0},{"$f":"IF((AND('Location Database'!K18<>\"\",'Location Database'!K18<>\"[Select Value]\")),(VLOOKUP('Location Database'!K18,'Location Database'!$A$36:$B$40,2,FALSE)),0)","v":0},0]
[]
["Tidal Device Decision Matrix"]
[]
["No.",{"$f":"P23","v":"Score"},null,"Criteria",{"$f":"'Tidal Device Database'!I2","v":"Rated capacity"},{"$f":"'Tidal Device Database'!J2","v":"Required Flow Velocity"},{"$f":"'Tidal Device Database'!K2","v":"Operating Water Depth"},{"$f":"'Tidal Device Database'!L2","v":"Installation Complexity"},{"$f":"'Tidal Device Database'!M2","v":"Lifespan"},{"$f":"'Tidal Device Database'!N2","v":"Primary Seabed Attachment"},{"$f":"'Tidal Device Database'!O2","v":"Planned Inspection/Maintenance Period"},{"$f":"'Tidal Device Database'!P2","v":"Maintenance Complexity"},{"$f":"'Tidal Device Database'!Q2","v":"Access Complexity"},{"$f":"'Tidal Device Database'!R2","v":"Shore Connection"},{"$f":"'Tidal Device Database'!S2","v":"Technology Readiness Level"},"Score"]
[null,null,{"$f":"'Tidal Device Database'!B2","v":"Name"},{"$f":"'Tidal Device Database'!C2","v":"Type"},3,3,{"$f":"IF(Input!B19=\"YES\",2,5)","v":5},1,4,4,2,3,4,2,5]
[{"$f":"'Tidal Device Database'!A4","v":1},{"$f":"P25","v":103},{"$f":"'Tidal Device Database'!B4","v":"ANDRITZ HYDRO Hammerfest HS1000"},{"$f":"'Tidal Device Database'!C4","v":"Horizontal Axis"},{"$f":"IF('Tidal Device Database'!I4=\"\",0,(VLOOKUP('Tidal Device Database'!I4,'Tidal Device Database'!$A$131:$B$135,2,FALSE)))","v":2},{"$f":"IF('Tidal Device Database'!J4=\"\",0,(VLOOKUP('Tidal Device Database'!J4,'Tidal Device Database'!$A$137:$B$141,2,FALSE)))","v":4},{"$f":"IF('Tidal Device Database'!K4=\"\",0,(VLOOKUP('Tidal Device Database'!K4,'Tidal Device Database'!$A$143:$B$147,2,FALSE)))","v":1},{"$f":"IF('Tidal Device Database'!L4=\"\",0,(VLOOKUP('Tidal Device Database'!L4,'Tidal Device Database'!$A$69:$B$73,2,FALSE)))","v":2},{"$f":"IF('Tidal Device Database'!M4=\"\",0,(VLOOKUP('Tidal Device Database'!M4,'Tidal Device Database'!$A$75:$B$79,2,FALSE)))","v":4},{"$f":"IF('Tidal Device Database'!N4=\"\",0,(VLOOKUP('Tidal Device Database'!N4,'Tidal Device Database'!$A$81:$B$85,2,FALSE)))","v":3},{"$f":"IF('Tidal Device Database'!O4=\"\",0,(VLOOKUP('Tidal Device Database'!O4,'Tidal Device Database'!$A$87:$B$91,2,FALSE)))","v":5},{"$f":"IF('Tidal Device Database'!P4=\"\",0,(VLOOKUP('Tidal Device Database'!P4,'Tidal Device Database'!$A$93:$B$97,2,FALSE)))","v":2},{"$f":"IF('Tidal Device Database'!Q4=\"\",0,(VLOOKUP('Tidal Device Database'!Q4,'Tidal Device Database'!$A$99:$B$103,2,FALSE)))","v":3},{"$f":"IF('Tidal Device Database'!R4=\"\",0,(VLOOKUP('Tidal Device Database'!R4,'Tidal Device Database'!$A$115:$B$119,2,FALSE)))","v":1},{"$f":"IF('Tidal Device Database'!S4=\"\",0,(VLOOKUP('Tidal Device Database'!S4,'Tidal Device Database'!$A$105:$B$109,2,FALSE)))","v":4},{"$f":"SUMPRODUCT(E25:O25,$E$24:$O$24)","v":103}]
[{"$f":"'Tidal Device Database'!A5","v":2},111,{"$f":"'Tidal Device Database'!B5","v":"ANDRITZ HYDRO Hammerfest HS300"},{"$f":"'Tidal Device Database'!C5","v":"Horizontal Axis"},{"$f":"IF('Tidal Device Database'!I5=\"\",0,(VLOOKUP('Tidal Device Database'!I5,'Tidal Device Database'!$A$131:$B$135,2,FALSE)))","v":3},{"$f":"IF('Tidal Device Database'!J5=\"\",0,(VLOOKUP('Tidal Device Database'!J5,'Tidal Device Database'!$A$137:$B$141,2,FALSE)))","v":4},{"$f":"IF('Tidal Device Database'!K5=\"\",0,(VLOOKUP('Tidal Device Database'!K5,'Tidal Device Database'!$A$143:$B$147,2,FALSE)))","v":1},{"$f":"IF('Tidal Device Database'!L5=\"\",0,(VLOOKUP('Tidal Device Database'!L5,'Tidal Device Database'!$A$69:$B$73,2,FALSE)))","v":2},{"$f":"IF('Tidal Device Database'!M5=\"\",0,(VLOOKUP('Tidal Device Database'!M5,'Tidal Device Database'!$A$75:$B$79,2,FALSE)))","v":4},{"$f":"IF('Tidal Device Database'!N5=\"\",0,(VLOOKUP('Tidal Device Database'!N5,'Tidal Device Database'!$A$81:$B$85,2,FALSE)))","v":3},{"$f":"IF('Tidal Device Database'!O5=\"\",0,(VLOOKUP('Tidal Device Database'!O5,'Tidal Device Database'!$A$87:$B$91,2,FALSE)))","v":5},{"$f":"IF('Tidal Device Database'!P5=\"\",0,(VLOOKUP('Tidal Device Database'!P5,'Tidal Device Database'!$A$93:$B$97,2,FALSE)))","v":2},{"$f":"IF('Tidal Device Database'!Q5=\"\",0,(VLOOKUP('Tidal Device Database'!Q5,'Tidal Device Database'!$A$99:$B$103,2,FALSE)))","v":3},{"$f":"IF('Tidal Device Database'!R5=\"\",0,(VLOOKUP('Tidal Device Database'!R5,'Tidal Device Database'!$A$115:$B$119,2,FALSE)))","v":1},{"$f":"IF('Tidal Device Database'!S5=\"\",0,(VLOOKUP('Tidal Device Database'!S5,'Tidal Device Database'!$A$105:$B$109,2,FALSE)))","v":5},111]
[{"$f":"'Tidal Device Database'!A6","v":3},74,{"$f":"'Tidal Device Database'!B6","v":"EEL"},{"$f":"'Tidal Device Database'!C6","v":"Oscillating Hydrofoil"},{"$f":"IF('Tidal Device Database'!I6=\"\",0,(VLOOKUP('Tidal Device Database'!I6,'Tidal Device Database'!$A$131:$B$135,2,FALSE)))","v":0},{"$f":"IF('Tidal Device Database'!J6=\"\",0,(VLOOKUP('Tidal Device Database'!J6,'Tidal Device Database'!$A$137:$B$141,2,FALSE)))","v":5},{"$f":"IF('Tidal Device Database'!K6=\"\",0,(VLOOKUP('Tidal Device Database'!K6,'Tidal Device Database'!$A$143:$B$147,2,FALSE)))","v":0},{"$f":"IF('Tidal Device Database'!L6=\"\",0,(VLOOKUP('Tidal Device Database'!L6,'Tidal Device Database'!$A$69:$B$73,2,FALSE)))","v":0},{"$f":"IF('Tidal Device Database'!M6=\"\",0,(VLOOKUP('Tidal Device Database'!M6,'Tidal Device Database'!$A$75:$B$79,2,FALSE)))","v":4},{"$f":"IF('Tidal Device Database'!N6=\"\",0,(VLOOKUP('Tidal Device Database'!N6,'Tidal Device Database'!$A$81:$B$85,2,FALSE)))","v":3},{"$f":"IF('Tidal Device Database'!O6=\"\",0,(VLOOKUP('Tidal Device Database'!O6,'Tidal Device Database'!$A$87:$B$91,2,FALSE)))","v":0},{"$f":"IF('Tidal Device Database'!P6=\"\",0,(VLOOKUP('Tidal Device Database'!P6,'Tidal Device Database'!$A$93:$B$97,2,FALSE)))","v":1},{"$f":"IF('Tidal Device Database'!Q6=\"\",0,(VLOOKUP('Tidal Device Database'!Q6,'Tidal Device Database'!$A$99:$B$103,2,FALSE)))","v":2},{"$f":"IF('Tidal Device Database'!R6=\"\",0,(VLOOKUP('Tidal Device Database'!R6,'Tidal Device Database'!$A$115:$B$119,2,FALSE)))","v":0},{"$f":"IF('Tidal Device Database'!S6=\"\",0,(VLOOKUP('Tidal Device Database'!S6,'Tidal Device Database'!$A$105:$B$109,2,FALSE)))","v":4},74]
[{"$f":"'Tidal Device Database'!A7","v":4},85,{"$f":"'Tidal Device Database'!B7","v":"Atlantis AR-1000"},{"$f":"'Tidal Device Database'!C7","v":"Horizontal Axis"},{"$f":"IF('Tidal Device Database'!I7=\"\",0,(VLOOKUP('Tidal Device Database'!I7,'Tidal Device Database'!$A$131:$B$135,2,FALSE)))","v":1},{"$f":"IF('Tidal Device Database'!J7=\"\",0,(VLOOKUP('Tidal Device Database'!J7,'Tidal Device Database'!$A$137:$B$141,2,FALSE)))","v":3},{"$f":"IF('Tidal Device Database'!K7=\"\",0,(VLOOKUP('Tidal Device Database'!K7,'Tidal Device Database'!$A$143:$B$147,2,FALSE)))","v":1},{"$f":"IF('Tidal Device Database'!L7=\"\",0,(VLOOKUP('Tidal Device Database'!L7,'Tidal Device Database'!$A$69:$B$73,2,FALSE)))","v":2},{"$f":"IF('Tidal Device Database'!M7=\"\",0,(VLOOKUP('Tidal Device Database'!M7,'Tidal Device Database'!$A$75:$B$79,2,FALSE)))","v":4},{"$f":"IF('Tidal Device Database'!N7=\"\",0,(VLOOKUP('Tidal Device Database'!N7,'Tidal Device Database'!$A$81:$B$85,2,FALSE)))","v":4},{"$f":"IF('Tidal Device Database'!O7=\"\",0,(VLOOKUP('Tidal Device Database'!O7,'Tidal Device Database'!$A$87:$B$91,2,FALSE)))","v":0},{"$f":"IF('Tidal Device Database'!P7=\"\",0,(VLOOKUP('Tidal Device Database'!P7,'Tidal Device Database'!$A$93:$B$97,2,FALSE)))","v":0},{"$f":"IF('Tidal Device Database'!Q7=\"\",0,(VLOOKUP('Tidal Device Database'!Q7,'Tidal Device Database'!$A$99:$B$103,2,FALSE)))","v":3},{"$f":"IF('Tidal Device Database'!R7=\"\",0,(VLOOKUP('Tidal Device Database'!R7,'Tidal Device Database'!$A$115:$B$119,2,FALSE)))","v":1},{"$f":"IF('Tidal Device Database'!S7=\"\",0,(VLOOKUP('Tidal Device Database'!S7,'Tidal Device Database'!$A$105:$B$109,2,FALSE)))","v":4},85]
[{"$f":"'Tidal Device Database'!A8","v":5},85,{"$f":"'Tidal Device Database'!B8","v":"Seagen S"},{"$f":"'Tidal Device Database'!C8","v":"Horizontal Axis"},{"$f":"IF('Tidal Device Database'!I8=\"\",0,(VLOOKUP('Tidal Device Database'!I8,'Tidal Device Database'!$A$131:$B$135,2,FALSE)))","v":1},{"$f":"IF('Tidal Device Database'!J8=\"\",0,(VLOOKUP('Tidal Device Database'!J8,'Tidal Device Database'!$A$137:$B$141,2,FALSE)))","v":3},{"$f":"IF('Tidal Device Database'!K8=\"\",0,(VLOOKUP('Tidal Device Database'!K8,'Tidal Device Database'!$A$143:$B$147,2,FALSE)))","v":2},{"$f":"IF('Tidal Device Database'!L8=\"\",0,(VLOOKUP('Tidal Device Database'!L8,'Tidal Device Database'!$A$69:$B$73,2,FALSE)))","v":1},{"$f":"IF('Tidal Device Database'!M8=\"\",0,(VLOOKUP('Tidal Device Database'!M8,'Tidal Device Database'!$A$75:$B$79,2,FALSE)))","v":4},{"$f":"IF('Tidal Device Database'!N8=\"\",0,(VLOOKUP('Tidal Device Database'!N8,'Tidal Device Database'!$A$81:$B$85,2,FALSE)))","v":2},{"$f":"IF('Tidal Device Database'!O8=\"\",0,(VLOOKUP('Tidal Device Database'!O8,'Tidal Device Database'!$A$87:$B$91,2,FALSE)))","v":0},{"$f":"IF('Tidal Device Database'!P8=\"\",0,(VLOOKUP('Tidal Device Database'!P8,'Tidal Device Database'!$A$93:$B$97,2,FALSE)))","v":0},{"$f":"IF('Tidal Device Database'!Q8=\"\",0,(VLOOKUP('Tidal Device Database'!Q8,'Tidal Device Database'!$A$99:$B$103,2,FALSE)))","v":3},{"$f":"IF('Tidal Device Database'!R8=\"\",0,(VLOOKUP('Tidal Device Database'!R8,'Tidal Device Database'!$A$115:$B$119,2,FALSE)))","v":3},{"$f":"IF('Tidal Device Database'!S8=\"\",0,(VLOOKUP('Tidal Device Database'!S8,'Tidal Device Database'!$A$105:$B$109,2,FALSE)))","v":4},85]
[{"$f":"'Tidal Device Database'!A9","v":7},40,{"$f":"'Tidal Device Database'!B9","v":"BioStream"},{"$f":"'Tidal Device Database'!C9","v":"Oscillating Hydrofoil"},{"$f":"IF('Tidal Device Database'!I9=\"\",0,(VLOOKUP('Tidal Device Database'!I9,'Tidal Device Database'!$A$131:$B$135,2,FALSE)))","v":4},{"$f":"IF('Tidal Device Database'!J9=\"\",0,(VLOOKUP('Tidal Device Database'!J9,'Tidal Device Database'!$A$137:$B$141,2,FALSE)))","v":0},{"$f":"IF('Tidal Device Database'!K9=\"\",0,(VLOOKUP('Tidal Device Database'!K9,'Tidal Device Database'!$A$143:$B$147,2,FALSE)))","v":0},{"$f":"IF('Tidal Device Database'!L9=\"\",0,(VLOOKUP('Tidal Device Database'!L9,'Tidal Device Database'!$A$69:$B$73,2,FALSE)))","v":0},{"$f":"IF('Tidal Device Database'!M9=\"\",0,(VLOOKUP('Tidal Device Database'!M9,'Tidal Device Database'!$A$75:$B$79,2,FALSE)))","v":4},{"$f":"IF('Tidal Device Database'!N9=\"\",0,(VLOOKUP('Tidal Device Database'!N9,'Tidal Device Database'!$A$81:$B$85,2,FALSE)))","v":3},{"$f":"IF('Tidal Device Database'!O9=\"\",0,(VLOOKUP('Tidal Device Database'!O9,'Tidal Device Database'!$A$87:$B$91,2,FALSE)))","v":0},{"$f":"IF('Tidal Device Database'!P9=\"\",0,(VLOOKUP('Tidal Device Database'!P9,'Tidal Device Database'!$A$93:$B$97,2,FALSE)))","v":0},{"$f":"IF('Tidal Device Database'!Q9=\"\",0,(VLOOKUP('Tidal Device Database'!Q9,'Tidal Device Database'!$A$99:$B$103,2,FALSE)))","v":0},{"$f":"IF('Tidal Device Database'!R9=\"\",0,(VLOOKUP('Tidal Device Database'!R9,'Tidal Device Database'!$A$115:$B$119,2,FALSE)))","v":0},{"$f":"IF('Tidal Device Database'!S9=\"\",0,(VLOOKUP('Tidal Device Database'!S9,'Tidal Device Database'!$A$105:$B$109,2,FALSE)))","v":0},40]
[{"$f":"'Tidal Device Database'!A10","v":8},66,{"$f":"'Tidal Device Database'!B10","v":"C2C Tidal turbine"},{"$f":"'Tidal Device Database'!C10","v":"Vertical Axis"},{"$f":"IF('Tidal Device Database'!I10=\"\",0,(VLOOKUP('Tidal Device Database'!I10,'Tidal Device Database'!$A$131:$B$135,2,FALSE)))","v":5},{"$f":"IF('Tidal Device Database'!J10=\"\",0,(VLOOKUP('Tidal Device Database'!J10,'Tidal Device Database'!$A$137:$B$141,2,FALSE)))","v":5},{"$f":"IF('Tidal Device Database'!K10=\"\",0,(VLOOKUP('Tidal Device Database'!K10,'Tidal Device Database'!$A$143:$B$147,2,FALSE)))","v":0},{"$f":"IF('Tidal Device Database'!L10=\"\",0,(VLOOKUP('Tidal Device Database'!L10,'Tidal Device Database'!$A$69:$B$73,2,FALSE)))","v":0},{"$f":"IF('Tidal Device Database'!M10=\"\",0,(VLOOKUP('Tidal Device Database'!M10,'Tidal Device Database'!$A$75:$B$79,2,FALSE)))","v":4},{"$f":"IF('Tidal Device Database'!N10=\"\",0,(VLOOKUP('Tidal Device Database'!N10,'Tidal Device Database'!$A$81:$B$85,2,FALSE)))","v":5},{"$f":"IF('Tidal Device Database'!O10=\"\",0,(VLOOKUP('Tidal Device Database'!O10,'Tidal Device Database'!$A$87:$B$91,2,FALSE)))","v":0},{"$f":"IF('Tidal Device Database'!P10=\"\",0,(VLOOKUP('Tidal Device Database'!P10,'Tidal Device Database'!$A$93:$B$97,2,FALSE)))","v":0},{"$f":"IF('Tidal Device Database'!Q10=\"\",0,(VLOOKUP('Tidal Device Database'!Q10,'Tidal Device Database'!$A$99:$B$103,2,FALSE)))","v":0},{"$f":"IF('Tidal Device Database'!R10=\"\",0,(VLOOKUP('Tidal Device Database'!R10,'Tidal Device Database'!$A$115:$B$119,2,FALSE)))","v":0},{"$f":"IF('Tidal Device Database'!S10=\"\",0,(VLOOKUP('Tidal Device Database'!S10,'Tidal Device Database'!$A$105:$B$109,2,FALSE)))","v":0},66]
[{"$f":"'Tidal Device Database'!A11","v":9},147,{"$f":"'Tidal Device Database'!B11","v":"Oryon Watermill"},{"$f":"'Tidal Device Database'!C11","v":"Vertical Axis"},{"$f":"IF('Tidal Device Database'!I11=\"\",0,(VLOOKUP('Tidal Device Database'!I11,'Tidal Device Database'!$A$131:$B$135,2,FALSE)))","v":5},{"$f":"IF('Tidal Device Database'!J11=\"\",0,(VLOOKUP('Tidal Device Database'!J11,'Tidal Device Database'!$A$137:$B$141,2,FALSE)))","v":5},{"$f":"IF('Tidal Device Database'!K11=\"\",0,(VLOOKUP('Tidal Device Database'!K11,'Tidal Device Database'!$A$143:$B$147,2,FALSE)))","v":5},{"$f":"IF('Tidal Device Database'!L11=\"\",0,(VLOOKUP('Tidal Device Database'!L11,'Tidal Device Database'!$A$69:$B$73,2,FALSE)))","v":4},{"$f":"IF('Tidal Device Database'!M11=\"\",0,(VLOOKUP('Tidal Device Database'!M11,'Tidal Device Database'!$A$75:$B$79,2,FALSE)))","v":4},{"$f":"IF('Tidal Device Database'!N11=\"\",0,(VLOOKUP('Tidal Device Database'!N11,'Tidal Device Database'!$A$81:$B$85,2,FALSE)))","v":5},{"$f":"IF('Tidal Device Database'!O11=\"\",0,(VLOOKUP('Tidal Device Database'!O11,'Tidal Device Database'!$A$87:$B$91,2,FALSE)))","v":0},{"$f":"IF('Tidal Device Database'!P11=\"\",0,(VLOOKUP('Tidal Device Database'!P11,'Tidal Device Database'!$A$93:$B$97,2,FALSE)))","v":3},{"$f":"IF('Tidal Device Database'!Q11=\"\",0,(VLOOKUP('Tidal Device Database'!Q11,'Tidal Device Database'!$A$99:$B$103,2,FALSE)))","v":5},{"$f":"IF('Tidal Device Database'!R11=\"\",0,(VLOOKUP('Tidal Device Database'!R11,'Tidal Device Database'!$A$115:$B$119,2,FALSE)))","v":4},{"$f":"IF('Tidal Device Database'!S11=\"\",0,(VLOOKUP('Tidal Device Database'!S11,'Tidal Device Database'!$A$105:$B$109,2,FALSE)))","v":3},147]
[{"$f":"'Tidal Device Database'!A12","v":11},35,{"$f":"'Tidal Device Database'!B12","v":"MAKO"},{"$f":"'Tidal Device Database'!C12","v":"Horizontal Axis"},{"$f":"IF('Tidal Device Database'!I12=\"\",0,(VLOOKUP('Tidal Device Database'!I12,'Tidal Device Database'!$A$131:$B$135,2,FALSE)))","v":0},{"$f":"IF('Tidal Device Database'!J12=\"\",0,(VLOOKUP('Tidal Device Database'!J12,'Tidal Device Database'!$A$137:$B$141,2,FALSE)))","v":5},{"$f":"IF('Tidal Device Database'!K12=\"\",0,(VLOOKUP('Tidal Device Database'!K12,'Tidal Device Database'!$A$143:$B$147,2,FALSE)))","v":0},{"$f":"IF('Tidal Device Database'!L12=\"\",0,(VLOOKUP('Tidal Device Database'!L12,'Tidal Device Database'!$A$69:$B$73,2,FALSE)))","v":0},{"$f":"IF('Tidal Device Database'!M12=\"\",0,(VLOOKUP('Tidal Device Database'!M12,'Tidal Device Database'!$A$75:$B$79,2,FALSE)))","v":0},{"$f":"IF('Tidal Device Database'!N12=\"\",0,(VLOOKUP('Tidal Device Database'!N12,'Tidal Device Database'!$A$81:$B$85,2,FALSE)))","v":5},{"$f":"IF('Tidal Device Database'!O12=\"\",0,(VLOOKUP('Tidal Device Database'!O12,'Tidal Device Database'!$A$87:$B$91,2,FALSE)))","v":0},{"$f":"IF('Tidal Device Database'!P12=\"\",0,(VLOOKUP('Tidal Device Database'!P12,'Tidal Device Database'!$A$93:$B$97,2,FALSE)))","v":0},{"$f":"IF('Tidal Device Database'!Q12=\"\",0,(VLOOKUP('Tidal Device Database'!Q12,'Tidal Device Database'!$A$99:$B$103,2,FALSE)))","v":0},{"$f":"IF('Tidal Device Database'!R12=\"\",0,(VLOOKUP('Tidal Device Database'!R12,'Tidal Device Database'!$A$115:$B$119,2,FALSE)))","v":0},{"$f":"IF('Tidal Device Database'!S12=\"\",0,(VLOOKUP('Tidal Device Database'!S12,'Tidal Device Database'!$A$105:$B$109,2,FALSE)))","v":0},35]
[{"$f":"'Tidal Device Database'!A13","v":12},35,{"$f":"'Tidal Device Database'!B13","v":"Guinard MegaWattBlue"},{"$f":"'Tidal Device Database'!C13","v":"Horizontal Axis"},{"$f":"IF('Tidal Device Database'!I13=\"\",0,(VLOOKUP('Tidal Device Database'!I13,'Tidal Device Database'!$A$131:$B$135,2,FALSE)))","v":5},{"$f":"IF('Tidal Device Database'!J13=\"\",0,(VLOOKUP('Tidal Device Database'!J13,'Tidal Device Database'!$A$137:$B$141,2,FALSE)))","v":0},{"$f":"IF('Tidal Device Database'!K13=\"\",0,(VLOOKUP('Tidal Device Database'!K13,'Tidal Device Database'!$A$143:$B$147,2,FALSE)))","v":0},{"$f":"IF('Tidal Device Database'!L13=\"\",0,(VLOOKUP('Tidal Device Database'!L13,'Tidal Device Database'!$A$69:$B$73,2,FALSE)))","v":0},{"$f":"IF('Tidal Device Database'!M13=\"\",0,(VLOOKUP('Tidal Device Database'!M13,'Tidal Device Database'!$A$75:$B$79,2,FALSE)))","v":0},{"$f":"IF('Tidal Device Database'!N13=\"\",0,(VLOOKUP('Tidal Device Database'!N13,'Tidal Device Database'!$A$81:$B$85,2,FALSE)))","v":5},{"$f":"IF('Tidal Device Database'!O13=\"\",0,(VLOOKUP('Tidal Device Database'!O13,'Tidal Device Database'!$A$87:$B$91,2,FALSE)))","v":0},{"$f":"IF('Tidal Device Database'!P13=\"\",0,(VLOOKUP('Tidal Device Database'!P13,'Tidal Device Database'!$A$93:$B$97,2,FALSE)))","v":0},{"$f":"IF('Tidal Device Database'!Q13=\"\",0,(VLOOKUP('Tidal Device Database'!Q13,'Tidal Device Database'!$A$99:$B$103,2,FALSE)))","v":0},{"$f":"IF('Tidal Device Database'!R13=\"\",0,(VLOOKUP('Tidal Device Database'!R13,'Tidal Device Database'!$A$115:$B$119,2,FALSE)))","v":0},{"$f":"IF('Tidal Device Database'!S13=\"\",0,(VLOOKUP('Tidal Device Database'!S13,'Tidal Device Database'!$A$105:$B$109,2,FALSE)))","v":0},35]
[{"$f":"'Tidal Device Database'!A14","v":13},50,{"$f":"'Tidal Device Database'!B14","v":"HydroGen"},{"$f":"'Tidal Device Database'!C14","v":"Vertical Axis"},{"$f":"IF('Tidal Device Database'!I14=\"\",0,(VLOOKUP('Tidal Device Database'!I14,'Tidal Device Database'!$A$131:$B$135,2,FALSE)))","v":5},{"$f":"IF('Tidal Device Database'!J14=\"\",0,(VLOOKUP('Tidal Device Database'!J14,'Tidal Device Database'!$A$137:$B$141,2,FALSE)))","v":5},{"$f":"IF('Tidal Device Database'!K14=\"\",0,(VLOOKUP('Tidal Device Database'!K14,'Tidal Device Database'!$A$143:$B$147,2,FALSE)))","v":0},{"$f":"IF('Tidal Device Database'!L14=\"\",0,(VLOOKUP('Tidal Device Database'!L14,'Tidal Device Database'!$A$69:$B$73,2,FALSE)))","v":0},{"$f":"IF('Tidal Device Database'!M14=\"\",0,(VLOOKUP('Tidal Device Database'!M14,'Tidal Device Database'!$A$75:$B$79,2,FALSE)))","v":0},{"$f":"IF('Tidal Device Database'!N14=\"\",0,(VLOOKUP('Tidal Device Database'!N14,'Tidal Device Database'!$A$81:$B$85,2,FALSE)))","v":5},{"$f":"IF('Tidal Device Database'!O14=\"\",0,(VLOOKUP('Tidal Device Database'!O14,'Tidal Device Database'!$A$87:$B$91,2,FALSE)))","v":0},{"$f":"IF('Tidal Device Database'!P14=\"\",0,(VLOOKUP('Tidal Device Database'!P14,'Tidal Device Database'!$A$93:$B$97,2,FALSE)))","v":0},{"$f":"IF('Tidal Device Database'!Q14=\"\",0,(VLOOKUP('Tidal Device Database'!Q14,'Tidal Device Database'!$A$99:$B$103,2,FALSE)))","v":0},{"$f":"IF('Tidal Device Database'!R14=\"\",0,(VLOOKUP('Tidal Device Database'!R14,'Tidal Device Database'!$A$115:$B$119,2,FALSE)))","v":0},{"$f":"IF('Tidal Device Database'!S14=\"\",0,(VLOOKUP('Tidal Device Database'!S14,'Tidal Device Database'!$A$105:$B$109,2,FALSE)))","v":0},50]
[{"$f":"'Tidal Device Database'!A15","v":14},28,{"$f":"'Tidal Device Database'!B15","v":"HydroQuest"},{"$f":"'Tidal Device Database'!C15","v":"Vertical Axis"},{"$f":"IF('Tidal Device Database'!I15=\"\",0,(VLOOKUP('Tidal Device Database'!I15,'Tidal Device Database'!$A$131:$B$135,2,FALSE)))","v":0},{"$f":"IF('Tidal Device Database'!J15=\"\",0,(VLOOKUP('Tidal Device Database'!J15,'Tidal Device Database'!$A$137:$B$141,2,FALSE)))","v":0},{"$f":"IF('Tidal Device Database'!K15=\"\",0,(VLOOKUP('Tidal Device Database'!K15,'Tidal Device Database'!$A$143:$B$147,2,FALSE)))","v":0},{"$f":"IF('Tidal Device Database'!L15=\"\",0,(VLOOKUP('Tidal Device Database'!L15,'Tidal Device Database'!$A$69:$B$73,2,FALSE)))","v":0},{"$f":"IF('Tidal Device Database'!M15=\"\",0,(VLOOKUP('Tidal Device Database'!M15,'Tidal Device Database'!$A$75:$B$79,2,FALSE)))","v":4},{"$f":"IF('Tidal Device Database'!N15=\"\",0,(VLOOKUP('Tidal Device Database'!N15,'Tidal Device Database'!$A$81:$B$85,2,FALSE)))","v":3},{"$f":"IF('Tidal Device Database'!O15=\"\",0,(VLOOKUP('Tidal Device Database'!O15,'Tidal Device Database'!$A$87:$B$91,2,FALSE)))","v":0},{"$f":"IF('Tidal Device Database'!P15=\"\",0,(VLOOKUP('Tidal Device Database'!P15,'Tidal Device Database'!$A$93:$B$97,2,FALSE)))","v":0},{"$f":"IF('Tidal Device Database'!Q15=\"\",0,(VLOOKUP('Tidal Device Database'!Q15,'Tidal Device Database'!$A$99:$B$103,2,FALSE)))","v":0},{"$f":"IF('Tidal Device Database'!R15=\"\",0,(VLOOKUP('Tidal Device Database'!R15,'Tidal Device Database'!$A$115:$B$119,2,FALSE)))","v":0},{"$f":"IF('Tidal Device Database'!S15=\"\",0,(VLOOKUP('Tidal Device Database'!S15,'Tidal Device Database'!$A$105:$B$109,2,FALSE)))","v":0},28]
[{"$f":"'Tidal Device Database'!A16","v":15},35,{"$f":"'Tidal Device Database'!B16","v":"Jupiter Hydro"},{"$f":"'Tidal Device Database'!C16","v":"Archimedes Screw"},{"$f":"IF('Tidal Device Database'!I16=\"\",0,(VLOOKUP('Tidal Device Database'!I16,'Tidal Device Database'!$A$131:$B$135,2,FALSE)))","v":0},{"$f":"IF('Tidal Device Database'!J16=\"\",0,(VLOOKUP('Tidal Device Database'!J16,'Tidal Device Database'!$A$137:$B$141,2,FALSE)))","v":5},{"$f":"IF('Tidal Device Database'!K16=\"\",0,(VLOOKUP('Tidal Device Database'!K16,'Tidal Device Database'!$A$143:$B$147,2,FALSE)))","v":0},{"$f":"IF('Tidal Device Database'!L16=\"\",0,(VLOOKUP('Tidal Device Database'!L16,'Tidal Device Database'!$A$69:$B$73,2,FALSE)))","v":0},{"$f":"IF('Tidal Device Database'!M16=\"\",0,(VLOOKUP('Tidal Device Database'!M16,'Tidal Device Database'!$A$75:$B$79,2,FALSE)))","v":0},{"$f":"IF('Tidal Device Database'!N16=\"\",0,(VLOOKUP('Tidal Device Database'!N16,'Tidal Device Database'!$A$81:$B$85,2,FALSE)))","v":5},{"$f":"IF('Tidal Device Database'!O16=\"\",0,(VLOOKUP('Tidal Device Database'!O16,'Tidal Device Database'!$A$87:$B$91,2,FALSE)))","v":0},{"$f":"IF('Tidal Device Database'!P16=\"\",0,(VLOOKUP('Tidal Device Database'!P16,'Tidal Device Database'!$A$93:$B$97,2,FALSE)))","v":0},{"$f":"IF('Tidal Device Database'!Q16=\"\",0,(VLOOKUP('Tidal Device Database'!Q16,'Tidal Device Database'!$A$99:$B$103,2,FALSE)))","v":0},{"$f":"IF('Tidal Device Database'!R16=\"\",0,(VLOOKUP('Tidal Device Database'!R16,'Tidal Device Database'!$A$115:$B$119,2,FALSE)))","v":0},{"$f":"IF('Tidal Device Database'!S16=\"\",0,(VLOOKUP('Tidal Device Database'!S16,'Tidal Device Database'!$A$105:$B$109,2,FALSE)))","v":0},35]
[{"$f":"'Tidal Device Database'!A17","v":16},59,{"$f":"'Tidal Device Database'!B17","v":"Minesto"},{"$f":"'Tidal Device Database'!C17","v":"Tidal Kite"},{"$f":"IF('Tidal Device Database'!I17=\"\",0,(VLOOKUP('Tidal Device Database'!I17,'Tidal Device Database'!$A$131:$B$135,2,FALSE)))","v":3},{"$f":"IF('Tidal Device Database'!J17=\"\",0,(VLOOKUP('Tidal Device Database'!J17,'Tidal Device Database'!$A$137:$B$141,2,FALSE)))","v":4},{"$f":"IF('Tidal Device Database'!K17=\"\",0,(VLOOKUP('Tidal Device Database'!K17,'Tidal Device Database'!$A$143:$B$147,2,FALSE)))","v":1},{"$f":"IF('Tidal Device Database'!L17=\"\",0,(VLOOKUP('Tidal Device Database'!L17,'Tidal Device Database'!$A$69:$B$73,2,FALSE)))","v":3},{"$f":"IF('Tidal Device Database'!M17=\"\",0,(VLOOKUP('Tidal Device Database'!M17,'Tidal Device Database'!$A$75:$B$79,2,FALSE)))","v":0},{"$f":"IF('Tidal Device Database'!N17=\"\",0,(VLOOKUP('Tidal Device Database'!N17,'Tidal Device Database'!$A$81:$B$85,2,FALSE)))","v":5},{"$f":"IF('Tidal Device Database'!O17=\"\",0,(VLOOKUP('Tidal Device Database'!O17,'Tidal Device Database'!$A$87:$B$91,2,FALSE)))","v":0},{"$f":"IF('Tidal Device Database'!P17=\"\",0,(VLOOKUP('Tidal Device Database'!P17,'Tidal Device Database'!$A$93:$B$97,2,FALSE)))","v":0},{"$f":"IF('Tidal Device Database'!Q17=\"\",0,(VLOOKUP('Tidal Device Database'!Q17,'Tidal Device Database'!$A$99:$B$103,2,FALSE)))","v":2},{"$f":"IF('Tidal Device Database'!R17=\"\",0,(VLOOKUP('Tidal Device Database'!R17,'Tidal Device Database'!$A$115:$B$119,2,FALSE)))","v":1},{"$f":"IF('Tidal Device Database'!S17=\"\",0,(VLOOKUP('Tidal Device Database'!S17,'Tidal Device Database'!$A$105:$B$109,2,FALSE)))","v":0},59]
[{"$f":"'Tidal Device Database'!A18","v":17},60,{"$f":"'Tidal Device Database'!B18","v":"CoRMat"},{"$f":"'Tidal Device Database'!C18","v":"Horizontal Contra-Rotating"},{"$f":"IF('Tidal Device Database'!I18=\"\",0,(VLOOKUP('Tidal Device Database'!I18,'Tidal Device Database'!$A$131:$B$135,2,FALSE)))","v":0},{"$f":"IF('Tidal Device Database'!J18=\"\",0,(VLOOKUP('Tidal Device Database'!J18,'Tidal Device Database'!$A$137:$B$141,2,FALSE)))","v":0},{"$f":"IF('Tidal Device Database'!K18=\"\",0,(VLOOKUP('Tidal Device Database'!K18,'Tidal Device Database'!$A$143:$B$147,2,FALSE)))","v":5},{"$f":"IF('Tidal Device Database'!L18=\"\",0,(VLOOKUP('Tidal Device Database'!L18,'Tidal Device Database'!$A$69:$B$73,2,FALSE)))","v":0},{"$f":"IF('Tidal Device Database'!M18=\"\",0,(VLOOKUP('Tidal Device Database'!M18,'Tidal Device Database'!$A$75:$B$79,2,FALSE)))","v":0},{"$f":"IF('Tidal Device Database'!N18=\"\",0,(VLOOKUP('Tidal Device Database'!N18,'Tidal Device Database'!$A$81:$B$85,2,FALSE)))","v":5},{"$f":"IF('Tidal Device Database'!O18=\"\",0,(VLOOKUP('Tidal Device Database'!O18,'Tidal Device Database'!$A$87:$B$91,2,FALSE)))","v":0},{"$f":"IF('Tidal Device Database'!P18=\"\",0,(VLOOKUP('Tidal Device Database'!P18,'Tidal Device Database'!$A$93:$B$97,2,FALSE)))","v":0},{"$f":"IF('Tidal Device Database'!Q18=\"\",0,(VLOOKUP('Tidal Device Database'!Q18,'Tidal Device Database'!$A$99:$B$103,2,FALSE)))","v":0},{"$f":"IF('Tidal Device Database'!R18=\"\",0,(VLOOKUP('Tidal Device Database'!R18,'Tidal Device Database'!$A$115:$B$119,2,FALSE)))","v":0},{"$f":"IF('Tidal Device Database'!S18=\"\",0,(VLOOKUP('Tidal Device Database'!S18,'Tidal Device Database'!$A$105:$B$109,2,FALSE)))","v":3},60]
[{"$f":"'Tidal Device Database'!A19","v":18},68,{"$f":"'Tidal Device Database'!B19","v":"Nova M100"},{"$f":"'Tidal Device Database'!C19","v":"Horizontal Axis"},{"$f":"IF('Tidal Device Database'!I19=\"\",0,(VLOOKUP('Tidal Device Database'!I19,'Tidal Device Database'!$A$131:$B$135,2,FALSE)))","v":5},{"$f":"IF('Tidal Device Database'!J19=\"\",0,(VLOOKUP('Tidal Device Database'!J19,'Tidal Device Database'!$A$137:$B$141,2,FALSE)))","v":0},{"$f":"IF('Tidal Device Database'!K19=\"\",0,(VLOOKUP('Tidal Device Database'!K19,'Tidal Device Database'!$A$143:$B$147,2,FALSE)))","v":0},{"$f":"IF('Tidal Device Database'!L19=\"\",0,(VLOOKUP('Tidal Device Database'!L19,'Tidal Device Database'!$A$69:$B$73,2,FALSE)))","v":4},{"$f":"IF('Tidal Device Database'!M19=\"\",0,(VLOOKUP('Tidal Device Database'!M19,'Tidal Device Database'!$A$75:$B$79,2,FALSE)))","v":0},{"$f":"IF('Tidal Device Database'!N19=\"\",0,(VLOOKUP('Tidal Device Database'!N19,'Tidal Device Database'!$A$81:$B$85,2,FALSE)))","v":3},{"$f":"IF('Tidal Device Database'!O19=\"\",0,(VLOOKUP('Tidal Device Database'!O19,'Tidal Device Database'!$A$87:$B$91,2,FALSE)))","v":0},{"$f":"IF('Tidal Device Database'!P19=\"\",0,(VLOOKUP('Tidal Device Database'!P19,'Tidal Device Database'!$A$93:$B$97,2,FALSE)))","v":0},{"$f":"IF('Tidal Device Database'!Q19=\"\",0,(VLOOKUP('Tidal Device Database'!Q19,'Tidal Device Database'!$A$99:$B$103,2,FALSE)))","v":3},{"$f":"IF('Tidal Device Database'!R19=\"\",0,(VLOOKUP('Tidal Device Database'!R19,'Tidal Device Database'!$A$115:$B$119,2,FALSE)))","v":0},{"$f":"IF('Tidal Device Database'!S19=\"\",0,(VLOOKUP('Tidal Device Database'!S19,'Tidal Device Database'!$A$105:$B$109,2,FALSE)))","v":5},68]
[{"$f":"'Tidal Device Database'!A20","v":19},16,{"$f":"'Tidal Device Database'!B20","v":"TidGen"},{"$f":"'Tidal Device Database'!C20","v":"Darrieus"},{"$f":"IF('Tidal Device Database'!I20=\"\",0,(VLOOKUP('Tidal Device Database'!I20,'Tidal Device Database'!$A$131:$B$135,2,FALSE)))","v":0},{"$f":"IF('Tidal Device Database'!J20=\"\",0,(VLOOKUP('Tidal Device Database'!J20,'Tidal Device Database'!$A$137:$B$141,2,FALSE)))","v":0},{"$f":"IF('Tidal Device Database'!K20=\"\",0,(VLOOKUP('Tidal Device Database'!K20,'Tidal Device Database'!$A$143:$B$147,2,FALSE)))","v":0},{"$f":"IF('Tidal Device Database'!L20=\"\",0,(VLOOKUP('Tidal Device Database'!L20,'Tidal Device Database'!$A$69:$B$73,2,FALSE)))","v":0},{"$f":"IF('Tidal Device Database'!M20=\"\",0,(VLOOKUP('Tidal Device Database'!M20,'Tidal Device Database'!$A$75:$B$79,2,FALSE)))","v":0},{"$f":"IF('Tidal Device Database'!N20=\"\",0,(VLOOKUP('Tidal Device Database'!N20,'Tidal Device Database'!$A$81:$B$85,2,FALSE)))","v":4},{"$f":"IF('Tidal Device Database'!O20=\"\",0,(VLOOKUP('Tidal Device Database'!O20,'Tidal Device Database'!$A$87:$B$91,2,FALSE)))","v":0},{"$f":"IF('Tidal Device Database'!P20=\"\",0,(VLOOKUP('Tidal Device Database'!P20,'Tidal Device Database'!$A$93:$B$97,2,FALSE)))","v":0},{"$f":"IF('Tidal Device Database'!Q20=\"\",0,(VLOOKUP('Tidal Device Database'!Q20,'Tidal Device Database'!$A$99:$B$103,2,FALSE)))","v":0},{"$f":"IF('Tidal Device Database'!R20=\"\",0,(VLOOKUP('Tidal Device Database'!R20,'Tidal Device Database'!$A$115:$B$119,2,FALSE)))","v":0},{"$f":"IF('Tidal Device Database'!S20=\"\",0,(VLOOKUP('Tidal Device Database'!S20,'Tidal Device Database'!$A$105:$B$109,2,FALSE)))","v":0},16]
[{"$f":"'Tidal Device Database'!A21","v":20},12,{"$f":"'Tidal Device Database'!B21","v":"Oceana"},{"$f":"'Tidal Device Database'!C21","v":"Horizontal Axis"},{"$f":"IF('Tidal Device Database'!I21=\"\",0,(VLOOKUP('Tidal Device Database'!I21,'Tidal Device Database'!$A$131:$B$135,2,FALSE)))","v":0},{"$f":"IF('Tidal Device Database'!J21=\"\",0,(VLOOKUP('Tidal Device Database'!J21,'Tidal Device Database'!$A$137:$B$141,2,FALSE)))","v":0},{"$f":"IF('Tidal Device Database'!K21=\"\",0,(VLOOKUP('Tidal Device Database'!K21,'Tidal Device Database'!$A$143:$B$147,2,FALSE)))","v":0},{"$f":"IF('Tidal Device Database'!L21=\"\",0,(VLOOKUP('Tidal Device Database'!L21,'Tidal Device Database'!$A$69:$B$73,2,FALSE)))","v":0},{"$f":"IF('Tidal Device Database'!M21=\"\",0,(VLOOKUP('Tidal Device Database'!M21,'Tidal Device Database'!$A$75:$B$79,2,FALSE)))","v":0},{"$f":"IF('Tidal Device Database'!N21=\"\",0,(VLOOKUP('Tidal Device Database'!N21,'Tidal Device Database'!$A$81:$B$85,2,FALSE)))","v":3},{"$f":"IF('Tidal Device Database'!O21=\"\",0,(VLOOKUP('Tidal Device Database'!O21,'Tidal Device Database'!$A$87:$B$91,2,FALSE)))","v":0},{"$f":"IF('Tidal Device Database'!P21=\"\",0,(VLOOKUP('Tidal Device Database'!P21,'Tidal Device Database'!$A$93:$B$97,2,FALSE)))","v":0},{"$f":"IF('Tidal Device Database'!Q21=\"\",0,(VLOOKUP('Tidal Device Database'!Q21,'Tidal Device Database'!$A$99:$B$103,2,FALSE)))","v":0},{"$f":"IF('Tidal Device Database'!R21=\"\",0,(VLOOKUP('Tidal Device Database'!R21,'Tidal Device Database'!$A$115:$B$119,2,FALSE)))","v":0},{"$f":"IF('Tidal Device Database'!S21=\"\",0,(VLOOKUP('Tidal Device Database'!S21,'Tidal Device Database'!$A$105:$B$109,2,FALSE)))","v":0},12]
[{"$f":"'Tidal Device Database'!A22","v":21},50,{"$f":"'Tidal Device Database'!B22","v":"Stream Cube"},{"$f":"'Tidal Device Database'!C22","v":"Vertical Axis"},{"$f":"IF('Tidal Device Database'!I22=\"\",0,(VLOOKUP('Tidal Device Database'!I22,'Tidal Device Database'!$A$131:$B$135,2,FALSE)))","v":5},{"$f":"IF('Tidal Device Database'!J22=\"\",0,(VLOOKUP('Tidal Device Database'!J22,'Tidal Device Database'!$A$137:$B$141,2,FALSE)))","v":5},{"$f":"IF('Tidal Device Database'!K22=\"\",0,(VLOOKUP('Tidal Device Database'!K22,'Tidal Device Database'!$A$143:$B$147,2,FALSE)))","v":0},{"$f":"IF('Tidal Device Database'!L22=\"\",0,(VLOOKUP('Tidal Device Database'!L22,'Tidal Device Database'!$A$69:$B$73,2,FALSE)))","v":0},{"$f":"IF('Tidal Device Database'!M22=\"\",0,(VLOOKUP('Tidal Device Database'!M22,'Tidal Device Database'!$A$75:$B$79,2,FALSE)))","v":0},{"$f":"IF('Tidal Device Database'!N22=\"\",0,(VLOOKUP('Tidal Device Database'!N22,'Tidal Device Database'!$A$81:$B$85,2,FALSE)))","v":5},{"$f":"IF('Tidal Device Database'!O22=\"\",0,(VLOOKUP('Tidal Device Database'!O22,'Tidal Device Database'!$A$87:$B$91,2,FALSE)))","v":0},{"$f":"IF('Tidal Device Database'!P22=\"\",0,(VLOOKUP('Tidal Device Database'!P22,'Tidal Device Database'!$A$93:$B$97,2,FALSE)))","v":0},{"$f":"IF('Tidal Device Database'!Q22=\"\",0,(VLOOKUP('Tidal Device Database'!Q22,'Tidal Device Database'!$A$99:$B$103,2,FALSE)))","v":0},{"$f":"IF('Tidal Device Database'!R22=\"\",0,(VLOOKUP('Tidal Device Database'!R22,'Tidal Device Database'!$A$115:$B$119,2,FALSE)))","v":0},{"$f":"IF('Tidal Device Database'!S22=\"\",0,(VLOOKUP('Tidal Device Database'!S22,'Tidal Device Database'!$A$105:$B$109,2,FALSE)))","v":0},50]
[{"$f":"'Tidal Device Database'!A23","v":22},114,{"$f":"'Tidal Device Database'!B23","v":"Capricorn 5"},{"$f":"'Tidal Device Database'!C23","v":"Horizontal Contra-Rotating"},{"$f":"IF('Tidal Device Database'!I23=\"\",0,(VLOOKUP('Tidal Device Database'!I23,'Tidal Device Database'!$A$131:$B$135,2,FALSE)))","v":5},{"$f":"IF('Tidal Device Database'!J23=\"\",0,(VLOOKUP('Tidal Device Database'!J23,'Tidal Device Database'!$A$137:$B$141,2,FALSE)))","v":5},{"$f":"IF('Tidal Device Database'!K23=\"\",0,(VLOOKUP('Tidal Device Database'!K23,'Tidal Device Database'!$A$143:$B$147,2,FALSE)))","v":4},{"$f":"IF('Tidal Device Database'!L23=\"\",0,(VLOOKUP('Tidal Device Database'!L23,'Tidal Device Database'!$A$69:$B$73,2,FALSE)))","v":4},{"$f":"IF('Tidal Device Database'!M23=\"\",0,(VLOOKUP('Tidal Device Database'!M23,'Tidal Device Database'!$A$75:$B$79,2,FALSE)))","v":0},{"$f":"IF('Tidal Device Database'!N23=\"\",0,(VLOOKUP('Tidal Device Database'!N23,'Tidal Device Database'!$A$81:$B$85,2,FALSE)))","v":5},{"$f":"IF('Tidal Device Database'!O23=\"\",0,(VLOOKUP('Tidal Device Database'!O23,'Tidal Device Database'!$A$87:$B$91,2,FALSE)))","v":0},{"$f":"IF('Tidal Device Database'!P23=\"\",0,(VLOOKUP('Tidal Device Database'!P23,'Tidal Device Database'!$A$93:$B$97,2,FALSE)))","v":0},{"$f":"IF('Tidal Device Database'!Q23=\"\",0,(VLOOKUP('Tidal Device Database'!Q23,'Tidal Device Database'!$A$99:$B$103,2,FALSE)))","v":3},{"$f":"IF('Tidal Device Database'!R23=\"\",0,(VLOOKUP('Tidal Device Database'!R23,'Tidal Device Database'!$A$115:$B$119,2,FALSE)))","v":4},{"$f":"IF('Tidal Device Database'!S23=\"\",0,(VLOOKUP('Tidal Device Database'!S23,'Tidal Device Database'!$A$105:$B$109,2,FALSE)))","v":4},114]
[{"$f":"'Tidal Device Database'!A24","v":23},65,{"$f":"'Tidal Device Database'!B24","v":"Capricorn 125"},{"$f":"'Tidal Device Database'!C24","v":"Horizontal Contra-Rotating"},{"$f":"IF('Tidal Device Database'!I24=\"\",0,(VLOOKUP('Tidal Device Database'!I24,'Tidal Device Database'!$A$131:$B$135,2,FALSE)))","v":1},{"$f":"IF('Tidal Device Database'!J24=\"\",0,(VLOOKUP('Tidal Device Database'!J24,'Tidal Device Database'!$A$137:$B$141,2,FALSE)))","v":5},{"$f":"IF('Tidal Device Database'!K24=\"\",0,(VLOOKUP('Tidal Device Database'!K24,'Tidal Device Database'!$A$143:$B$147,2,FALSE)))","v":1},{"$f":"IF('Tidal Device Database'!L24=\"\",0,(VLOOKUP('Tidal Device Database'!L24,'Tidal Device Database'!$A$69:$B$73,2,FALSE)))","v":4},{"$f":"IF('Tidal Device Database'!M24=\"\",0,(VLOOKUP('Tidal Device Database'!M24,'Tidal Device Database'!$A$75:$B$79,2,FALSE)))","v":0},{"$f":"IF('Tidal Device Database'!N24=\"\",0,(VLOOKUP('Tidal Device Database'!N24,'Tidal Device Database'!$A$81:$B$85,2,FALSE)))","v":5},{"$f":"IF('Tidal Device Database'!O24=\"\",0,(VLOOKUP('Tidal Device Database'!O24,'Tidal Device Database'!$A$87:$B$91,2,FALSE)))","v":0},{"$f":"IF('Tidal Device Database'!P24=\"\",0,(VLOOKUP('Tidal Device Database'!P24,'Tidal Device Database'!$A$93:$B$97,2,FALSE)))","v":0},{"$f":"IF('Tidal Device Database'!Q24=\"\",0,(VLOOKUP('Tidal Device Database'!Q24,'Tidal Device Database'!$A$99:$B$103,2,FALSE)))","v":3},{"$f":"IF('Tidal Device Database'!R24=\"\",0,(VLOOKUP('Tidal Device Database'!R24,'Tidal Device Database'!$A$115:$B$119,2,FALSE)))","v":3},{"$f":"IF('Tidal Device Database'!S24=\"\",0,(VLOOKUP('Tidal Device Database'!S24,'Tidal Device Database'!$A$105:$B$109,2,FALSE)))","v":0},65]
[{"$f":"'Tidal Device Database'!A25","v":24},34,{"$f":"'Tidal Device Database'!B25","v":"Sabella D10"},{"$f":"'Tidal Device Database'!C25","v":"Horizontal Axis"},{"$f":"IF('Tidal Device Database'!I25=\"\",0,(VLOOKUP('Tidal Device Database'!I25,'Tidal Device Database'!$A$131:$B$135,2,FALSE)))","v":3},{"$f":"IF('Tidal Device Database'!J25=\"\",0,(VLOOKUP('Tidal Device Database'!J25,'Tidal Device Database'!$A$137:$B$141,2,FALSE)))","v":3},{"$f":"IF('Tidal Device Database'!K25=\"\",0,(VLOOKUP('Tidal Device Database'!K25,'Tidal Device Database'!$A$143:$B$147,2,FALSE)))","v":0},{"$f":"IF('Tidal Device Database'!L25=\"\",0,(VLOOKUP('Tidal Device Database'!L25,'Tidal Device Database'!$A$69:$B$73,2,FALSE)))","v":0},{"$f":"IF('Tidal Device Database'!M25=\"\",0,(VLOOKUP('Tidal Device Database'!M25,'Tidal Device Database'!$A$75:$B$79,2,FALSE)))","v":0},{"$f":"IF('Tidal Device Database'!N25=\"\",0,(VLOOKUP('Tidal Device Database'!N25,'Tidal Device Database'!$A$81:$B$85,2,FALSE)))","v":4},{"$f":"IF('Tidal Device Database'!O25=\"\",0,(VLOOKUP('Tidal Device Database'!O25,'Tidal Device Database'!$A$87:$B$91,2,FALSE)))","v":0},{"$f":"IF('Tidal Device Database'!P25=\"\",0,(VLOOKUP('Tidal Device Database'!P25,'Tidal Device Database'!$A$93:$B$97,2,FALSE)))","v":0},{"$f":"IF('Tidal Device Database'!Q25=\"\",0,(VLOOKUP('Tidal Device Database'!Q25,'Tidal Device Database'!$A$99:$B$103,2,FALSE)))","v":0},{"$f":"IF('Tidal Device Database'!R25=\"\",0,(VLOOKUP('Tidal Device Database'!R25,'Tidal Device Database'!$A$115:$B$119,2,FALSE)))","v":0},{"$f":"IF('Tidal Device Database'!S25=\"\",0,(VLOOKUP('Tidal Device Database'!S25,'Tidal Device Database'!$A$105:$B$109,2,FALSE)))","v":0},34]
[{"$f":"'Tidal Device Database'!A26","v":25},34,{"$f":"'Tidal Device Database'!B26","v":"Sabella D12"},{"$f":"'Tidal Device Database'!C26","v":"Horizontal Axis"},{"$f":"IF('Tidal Device Database'!I26=\"\",0,(VLOOKUP('Tidal Device Database'!I26,'Tidal Device Database'!$A$131:$B$135,2,FALSE)))","v":3},{"$f":"IF('Tidal Device Database'!J26=\"\",0,(VLOOKUP('Tidal Device Database'!J26,'Tidal Device Database'!$A$137:$B$141,2,FALSE)))","v":3},{"$f":"IF('Tidal Device Database'!K26=\"\",0,(VLOOKUP('Tidal Device Database'!K26,'Tidal Device Database'!$A$143:$B$147,2,FALSE)))","v":0},{"$f":"IF('Tidal Device Database'!L26=\"\",0,(VLOOKUP('Tidal Device Database'!L26,'Tidal Device Database'!$A$69:$B$73,2,FALSE)))","v":0},{"$f":"IF('Tidal Device Database'!M26=\"\",0,(VLOOKUP('Tidal Device Database'!M26,'Tidal Device Database'!$A$75:$B$79,2,FALSE)))","v":0},{"$f":"IF('Tidal Device Database'!N26=\"\",0,(VLOOKUP('Tidal Device Database'!N26,'Tidal Device Database'!$A$81:$B$85,2,FALSE)))","v":4},{"$f":"IF('Tidal Device Database'!O26=\"\",0,(VLOOKUP('Tidal Device Database'!O26,'Tidal Device Database'!$A$87:$B$91,2,FALSE)))","v":0},{"$f":"IF('Tidal Device Database'!P26=\"\",0,(VLOOKUP('Tidal Device Database'!P26,'Tidal Device Database'!$A$93:$B$97,2,FALSE)))","v":0},{"$f":"IF('Tidal Device Database'!Q26=\"\",0,(VLOOKUP('Tidal Device Database'!Q26,'Tidal Device Database'!$A$99:$B$103,2,FALSE)))","v":0},{"$f":"IF('Tidal Device Database'!R26=\"\",0,(VLOOKUP('Tidal Device Database'!R26,'Tidal Device Database'!$A$115:$B$119,2,FALSE)))","v":0},{"$f":"IF('Tidal Device Database'!S26=\"\",0,(VLOOKUP('Tidal Device Database'!S26,'Tidal Device Database'!$A$105:$B$109,2,FALSE)))","v":0},34]
[{"$f":"'Tidal Device Database'!A27","v":26},31,{"$f":"'Tidal Device Database'!B27","v":"Sabella D15"},{"$f":"'Tidal Device Database'!C27","v":"Horizontal Axis"},{"$f":"IF('Tidal Device Database'!I27=\"\",0,(VLOOKUP('Tidal Device Database'!I27,'Tidal Device Database'!$A$131:$B$135,2,FALSE)))","v":2},{"$f":"IF('Tidal Device Database'!J27=\"\",0,(VLOOKUP('Tidal Device Database'!J27,'Tidal Device Database'!$A$137:$B$141,2,FALSE)))","v":3},{"$f":"IF('Tidal Device Database'!K27=\"\",0,(VLOOKUP('Tidal Device Database'!K27,'Tidal Device Database'!$A$143:$B$147,2,FALSE)))","v":0},{"$f":"IF('Tidal Device Database'!L27=\"\",0,(VLOOKUP('Tidal Device Database'!L27,'Tidal Device Database'!$A$69:$B$73,2,FALSE)))","v":0},{"$f":"IF('Tidal Device Database'!M27=\"\",0,(VLOOKUP('Tidal Device Database'!M27,'Tidal Device Database'!$A$75:$B$79,2,FALSE)))","v":0},{"$f":"IF('Tidal Device Database'!N27=\"\",0,(VLOOKUP('Tidal Device Database'!N27,'Tidal Device Database'!$A$81:$B$85,2,FALSE)))","v":4},{"$f":"IF('Tidal Device Database'!O27=\"\",0,(VLOOKUP('Tidal Device Database'!O27,'Tidal Device Database'!$A$87:$B$91,2,FALSE)))","v":0},{"$f":"IF('Tidal Device Database'!P27=\"\",0,(VLOOKUP('Tidal Device Database'!P27,'Tidal Device Database'!$A$93:$B$97,2,FALSE)))","v":0},{"$f":"IF('Tidal Device Database'!Q27=\"\",0,(VLOOKUP('Tidal Device Database'!Q27,'Tidal Device Database'!$A$99:$B$103,2,FALSE)))","v":0},{"$f":"IF('Tidal Device Database'!R27=\"\",0,(VLOOKUP('Tidal Device Database'!R27,'Tidal Device Database'!$A$115:$B$119,2,FALSE)))","v":0},{"$f":"IF('Tidal Device Database'!S27=\"\",0,(VLOOKUP('Tidal Device Database'!S27,'Tidal Device Database'!$A$105:$B$109,2,FALSE)))","v":0},31]
[{"$f":"'Tidal Device Database'!A28","v":27},116,{"$f":"'Tidal Device Database'!B28","v":"Shottel Instream Turbine I"},{"$f":"'Tidal Device Database'!C28","v":"Horizontal Axis"},{"$f":"IF('Tidal Device Database'!I28=\"\",0,(VLOOKUP('Tidal Device Database'!I28,'Tidal Device Database'!$A$131:$B$135,2,FALSE)))","v":5},{"$f":"IF('Tidal Device Database'!J28=\"\",0,(VLOOKUP('Tidal Device Database'!J28,'Tidal Device Database'!$A$137:$B$141,2,FALSE)))","v":5},{"$f":"IF('Tidal Device Database'!K28=\"\",0,(VLOOKUP('Tidal Device Database'!K28,'Tidal Device Database'!$A$143:$B$147,2,FALSE)))","v":0},{"$f":"IF('Tidal Device Database'!L28=\"\",0,(VLOOKUP('Tidal Device Database'!L28,'Tidal Device Database'!$A$69:$B$73,2,FALSE)))","v":0},{"$f":"IF('Tidal Device Database'!M28=\"\",0,(VLOOKUP('Tidal Device Database'!M28,'Tidal Device Database'!$A$75:$B$79,2,FALSE)))","v":4},{"$f":"IF('Tidal Device Database'!N28=\"\",0,(VLOOKUP('Tidal Device Database'!N28,'Tidal Device Database'!$A$81:$B$85,2,FALSE)))","v":5},{"$f":"IF('Tidal Device Database'!O28=\"\",0,(VLOOKUP('Tidal Device Database'!O28,'Tidal Device Database'!$A$87:$B$91,2,FALSE)))","v":0},{"$f":"IF('Tidal Device Database'!P28=\"\",0,(VLOOKUP('Tidal Device Database'!P28,'Tidal Device Database'!$A$93:$B$97,2,FALSE)))","v":0},{"$f":"IF('Tidal Device Database'!Q28=\"\",0,(VLOOKUP('Tidal Device Database'!Q28,'Tidal Device Database'!$A$99:$B$103,2,FALSE)))","v":5},{"$f":"IF('Tidal Device Database'!R28=\"\",0,(VLOOKUP('Tidal Device Database'!R28,'Tidal Device Database'!$A$115:$B$119,2,FALSE)))","v":5},{"$f":"IF('Tidal Device Database'!S28=\"\",0,(VLOOKUP('Tidal Device Database'!S28,'Tidal Device Database'!$A$105:$B$109,2,FALSE)))","v":4},116]
[{"$f":"'Tidal Device Database'!A29","v":28},106,{"$f":"'Tidal Device Database'!B29","v":"Shottel Instream Turbine II"},{"$f":"'Tidal Device Database'!C29","v":"Horizontal Axis"},{"$f":"IF('Tidal Device Database'!I29=\"\",0,(VLOOKUP('Tidal Device Database'!I29,'Tidal Device Database'!$A$131:$B$135,2,FALSE)))","v":5},{"$f":"IF('Tidal Device Database'!J29=\"\",0,(VLOOKUP('Tidal Device Database'!J29,'Tidal Device Database'!$A$137:$B$141,2,FALSE)))","v":5},{"$f":"IF('Tidal Device Database'!K29=\"\",0,(VLOOKUP('Tidal Device Database'!K29,'Tidal Device Database'!$A$143:$B$147,2,FALSE)))","v":0},{"$f":"IF('Tidal Device Database'!L29=\"\",0,(VLOOKUP('Tidal Device Database'!L29,'Tidal Device Database'!$A$69:$B$73,2,FALSE)))","v":0},{"$f":"IF('Tidal Device Database'!M29=\"\",0,(VLOOKUP('Tidal Device Database'!M29,'Tidal Device Database'!$A$75:$B$79,2,FALSE)))","v":4},{"$f":"IF('Tidal Device Database'!N29=\"\",0,(VLOOKUP('Tidal Device Database'!N29,'Tidal Device Database'!$A$81:$B$85,2,FALSE)))","v":5},{"$f":"IF('Tidal Device Database'!O29=\"\",0,(VLOOKUP('Tidal Device Database'!O29,'Tidal Device Database'!$A$87:$B$91,2,FALSE)))","v":0},{"$f":"IF('Tidal Device Database'!P29=\"\",0,(VLOOKUP('Tidal Device Database'!P29,'Tidal Device Database'!$A$93:$B$97,2,FALSE)))","v":0},{"$f":"IF('Tidal Device Database'!Q29=\"\",0,(VLOOKUP('Tidal Device Database'!Q29,'Tidal Device Database'!$A$99:$B$103,2,FALSE)))","v":3},{"$f":"IF('Tidal Device Database'!R29=\"\",0,(VLOOKUP('Tidal Device Database'!R29,'Tidal Device Database'!$A$115:$B$119,2,FALSE)))","v":4},{"$f":"IF('Tidal Device Database'!S29=\"\",0,(VLOOKUP('Tidal Device Database'!S29,'Tidal Device Database'!$A$105:$B$109,2,FALSE)))","v":4},106]
[{"$f":"'Tidal Device Database'!A30","v":29},104,{"$f":"'Tidal Device Database'!B30","v":"Shottel Instream Turbine III"},{"$f":"'Tidal Device Database'!C30","v":"Horizontal Axis"},{"$f":"IF('Tidal Device Database'!I30=\"\",0,(VLOOKUP('Tidal Device Database'!I30,'Tidal Device Database'!$A$131:$B$135,2,FALSE)))","v":5},{"$f":"IF('Tidal Device Database'!J30=\"\",0,(VLOOKUP('Tidal Device Database'!J30,'Tidal Device Database'!$A$137:$B$141,2,FALSE)))","v":5},{"$f":"IF('Tidal Device Database'!K30=\"\",0,(VLOOKUP('Tidal Device Database'!K30,'Tidal Device Database'!$A$143:$B$147,2,FALSE)))","v":0},{"$f":"IF('Tidal Device Database'!L30=\"\",0,(VLOOKUP('Tidal Device Database'!L30,'Tidal Device Database'!$A$69:$B$73,2,FALSE)))","v":0},{"$f":"IF('Tidal Device Database'!M30=\"\",0,(VLOOKUP('Tidal Device Database'!M30,'Tidal Device Database'!$A$75:$B$79,2,FALSE)))","v":4},{"$f":"IF('Tidal Device Database'!N30=\"\",0,(VLOOKUP('Tidal Device Database'!N30,'Tidal Device Database'!$A$81:$B$85,2,FALSE)))","v":5},{"$f":"IF('Tidal Device Database'!O30=\"\",0,(VLOOKUP('Tidal Device Database'!O30,'Tidal Device Database'!$A$87:$B$91,2,FALSE)))","v":0},{"$f":"IF('Tidal Device Database'!P30=\"\",0,(VLOOKUP('Tidal Device Database'!P30,'Tidal Device Database'!$A$93:$B$97,2,FALSE)))","v":0},{"$f":"IF('Tidal Device Database'!Q30=\"\",0,(VLOOKUP('Tidal Device Database'!Q30,'Tidal Device Database'!$A$99:$B$103,2,FALSE)))","v":3},{"$f":"IF('Tidal Device Database'!R30=\"\",0,(VLOOKUP('Tidal Device Database'!R30,'Tidal Device Database'!$A$115:$B$119,2,FALSE)))","v":3},{"$f":"IF('Tidal Device Database'!S30=\"\",0,(VLOOKUP('Tidal Device Database'!S30,'Tidal Device Database'!$A$105:$B$109,2,FALSE)))","v":4},104]
[{"$f":"'Tidal Device Database'!A31","v":30},61,{"$f":"'Tidal Device Database'!B31","v":"SeaPower GEM"},{"$f":"'Tidal Device Database'!C31","v":"Horizontal Axis"},{"$f":"IF('Tidal Device Database'!I31=\"\",0,(VLOOKUP('Tidal Device Database'!I31,'Tidal Device Database'!$A$131:$B$135,2,FALSE)))","v":0},{"$f":"IF('Tidal Device Database'!J31=\"\",0,(VLOOKUP('Tidal Device Database'!J31,'Tidal Device Database'!$A$137:$B$141,2,FALSE)))","v":0},{"$f":"IF('Tidal Device Database'!K31=\"\",0,(VLOOKUP('Tidal Device Database'!K31,'Tidal Device Database'!$A$143:$B$147,2,FALSE)))","v":5},{"$f":"IF('Tidal Device Database'!L31=\"\",0,(VLOOKUP('Tidal Device Database'!L31,'Tidal Device Database'!$A$69:$B$73,2,FALSE)))","v":0},{"$f":"IF('Tidal Device Database'!M31=\"\",0,(VLOOKUP('Tidal Device Database'!M31,'Tidal Device Database'!$A$75:$B$79,2,FALSE)))","v":4},{"$f":"IF('Tidal Device Database'!N31=\"\",0,(VLOOKUP('Tidal Device Database'!N31,'Tidal Device Database'!$A$81:$B$85,2,FALSE)))","v":5},{"$f":"IF('Tidal Device Database'!O31=\"\",0,(VLOOKUP('Tidal Device Database'!O31,'Tidal Device Database'!$A$87:$B$91,2,FALSE)))","v":0},{"$f":"IF('Tidal Device Database'!P31=\"\",0,(VLOOKUP('Tidal Device Database'!P31,'Tidal Device Database'!$A$93:$B$97,2,FALSE)))","v":0},{"$f":"IF('Tidal Device Database'!Q31=\"\",0,(VLOOKUP('Tidal Device Database'!Q31,'Tidal Device Database'!$A$99:$B$103,2,FALSE)))","v":0},{"$f":"IF('Tidal Device Database'!R31=\"\",0,(VLOOKUP('Tidal Device Database'!R31,'Tidal Device Database'!$A$115:$B$119,2,FALSE)))","v":0},{"$f":"IF('Tidal Device Database'!S31=\"\",0,(VLOOKUP('Tidal Device Database'!S31,'Tidal Device Database'!$A$105:$B$109,2,FALSE)))","v":0},61]
[{"$f":"'Tidal Device Database'!A32","v":31},68,{"$f":"'Tidal Device Database'!B32","v":"Tydal Energy Pty (1.5)"},{"$f":"'Tidal Device Database'!C32","v":"Venturi Rotor"},{"$f":"IF('Tidal Device Database'!I32=\"\",0,(VLOOKUP('Tidal Device Database'!I32,'Tidal Device Database'!$A$131:$B$135,2,FALSE)))","v":5},{"$f":"IF('Tidal Device Database'!J32=\"\",0,(VLOOKUP('Tidal Device Database'!J32,'Tidal Device Database'!$A$137:$B$141,2,FALSE)))","v":4},{"$f":"IF('Tidal Device Database'!K32=\"\",0,(VLOOKUP('Tidal Device Database'!K32,'Tidal Device Database'!$A$143:$B$147,2,FALSE)))","v":5},{"$f":"IF('Tidal Device Database'!L32=\"\",0,(VLOOKUP('Tidal Device Database'!L32,'Tidal Device Database'!$A$69:$B$73,2,FALSE)))","v":0},{"$f":"IF('Tidal Device Database'!M32=\"\",0,(VLOOKUP('Tidal Device Database'!M32,'Tidal Device Database'!$A$75:$B$79,2,FALSE)))","v":0},{"$f":"IF('Tidal Device Database'!N32=\"\",0,(VLOOKUP('Tidal Device Database'!N32,'Tidal Device Database'!$A$81:$B$85,2,FALSE)))","v":4},{"$f":"IF('Tidal Device Database'!O32=\"\",0,(VLOOKUP('Tidal Device Database'!O32,'Tidal Device Database'!$A$87:$B$91,2,FALSE)))","v":0},{"$f":"IF('Tidal Device Database'!P32=\"\",0,(VLOOKUP('Tidal Device Database'!P32,'Tidal Device Database'!$A$93:$B$97,2,FALSE)))","v":0},{"$f":"IF('Tidal Device Database'!Q32=\"\",0,(VLOOKUP('Tidal Device Database'!Q32,'Tidal Device Database'!$A$99:$B$103,2,FALSE)))","v":0},{"$f":"IF('Tidal Device Database'!R32=\"\",0,(VLOOKUP('Tidal Device Database'!R32,'Tidal Device Database'!$A$115:$B$119,2,FALSE)))","v":0},{"$f":"IF('Tidal Device Database'!S32=\"\",0,(VLOOKUP('Tidal Device Database'!S32,'Tidal Device Database'!$A$105:$B$109,2,FALSE)))","v":0},68]
[{"$f":"'Tidal Device Database'!A33","v":32},68,{"$f":"'Tidal Device Database'!B33","v":"Tydal Energy Pty (2.4)"},{"$f":"'Tidal Device Database'!C33","v":"Venturi Rotor"},{"$f":"IF('Tidal Device Database'!I33=\"\",0,(VLOOKUP('Tidal Device Database'!I33,'Tidal Device Database'!$A$131:$B$135,2,FALSE)))","v":5},{"$f":"IF('Tidal Device Database'!J33=\"\",0,(VLOOKUP('Tidal Device Database'!J33,'Tidal Device Database'!$A$137:$B$141,2,FALSE)))","v":4},{"$f":"IF('Tidal Device Database'!K33=\"\",0,(VLOOKUP('Tidal Device Database'!K33,'Tidal Device Database'!$A$143:$B$147,2,FALSE)))","v":5},{"$f":"IF('Tidal Device Database'!L33=\"\",0,(VLOOKUP('Tidal Device Database'!L33,'Tidal Device Database'!$A$69:$B$73,2,FALSE)))","v":0},{"$f":"IF('Tidal Device Database'!M33=\"\",0,(VLOOKUP('Tidal Device Database'!M33,'Tidal Device Database'!$A$75:$B$79,2,FALSE)))","v":0},{"$f":"IF('Tidal Device Database'!N33=\"\",0,(VLOOKUP('Tidal Device Database'!N33,'Tidal Device Database'!$A$81:$B$85,2,FALSE)))","v":4},{"$f":"IF('Tidal Device Database'!O33=\"\",0,(VLOOKUP('Tidal Device Database'!O33,'Tidal Device Database'!$A$87:$B$91,2,FALSE)))","v":0},{"$f":"IF('Tidal Device Database'!P33=\"\",0,(VLOOKUP('Tidal Device Database'!P33,'Tidal Device Database'!$A$93:$B$97,2,FALSE)))","v":0},{"$f":"IF('Tidal Device Database'!Q33=\"\",0,(VLOOKUP('Tidal Device Database'!Q33,'Tidal Device Database'!$A$99:$B$103,2,FALSE)))","v":0},{"$f":"IF('Tidal Device Database'!R33=\"\",0,(VLOOKUP('Tidal Device Database'!R33,'Tidal Device Database'!$A$115:$B$119,2,FALSE)))","v":0},{"$f":"IF('Tidal Device Database'!S33=\"\",0,(VLOOKUP('Tidal Device Database'!S33,'Tidal Device Database'!$A$105:$B$109,2,FALSE)))","v":0},68]
[{"$f":"'Tidal Device Database'!A34","v":33},68,{"$f":"'Tidal Device Database'!B34","v":"Tydal Energy Pty (5)"},{"$f":"'Tidal Device Database'!C34","v":"Venturi Rotor"},{"$f":"IF('Tidal Device Database'!I34=\"\",0,(VLOOKUP('Tidal Device Database'!I34,'Tidal Device Database'!$A$131:$B$135,2,FALSE)))","v":5},{"$f":"IF('Tidal Device Database'!J34=\"\",0,(VLOOKUP('Tidal Device Database'!J34,'Tidal Device Database'!$A$137:$B$141,2,FALSE)))","v":4},{"$f":"IF('Tidal Device Database'!K34=\"\",0,(VLOOKUP('Tidal Device Database'!K34,'Tidal Device Database'!$A$143:$B$147,2,FALSE)))","v":5},{"$f":"IF('Tidal Device Database'!L34=\"\",0,(VLOOKUP('Tidal Device Database'!L34,'Tidal Device Database'!$A$69:$B$73,2,FALSE)))","v":0},{"$f":"IF('Tidal Device Database'!M34=\"\",0,(VLOOKUP('Tidal Device Database'!M34,'Tidal Device Database'!$A$75:$B$79,2,FALSE)))","v":0},{"$f":"IF('Tidal Device Database'!N34=\"\",0,(VLOOKUP('Tidal Device Database'!N34,'Tidal Device Database'!$A$81:$B$85,2,FALSE)))","v":4},{"$f":"IF('Tidal Device Database'!O34=\"\",0,(VLOOKUP('Tidal Device Database'!O34,'Tidal Device Database'!$A$87:$B$91,2,FALSE)))","v":0},{"$f":"IF('Tidal Device Database'!P34=\"\",0,(VLOOKUP('Tidal Device Database'!P34,'Tidal Device Database'!$A$93:$B$97,2,FALSE)))","v":0},{"$f":"IF('Tidal Device Database'!Q34=\"\",0,(VLOOKUP('Tidal Device Database'!Q34,'Tidal Device Database'!$A$99:$B$103,2,FALSE)))","v":0},{"$f":"IF('Tidal Device Database'!R34=\"\",0,(VLOOKUP('Tidal Device Database'!R34,'Tidal Device Database'!$A$115:$B$119,2,FALSE)))","v":0},{"$f":"IF('Tidal Device Database'!S34=\"\",0,(VLOOKUP('Tidal Device Database'!S34,'Tidal Device Database'!$A$105:$B$109,2,FALSE)))","v":0},68]
[{"$f":"'Tidal Device Database'!A35","v":34},125,{"$f":"'Tidal Device Database'!B35","v":"EVG-005H"},{"$f":"'Tidal Device Database'!C35","v":"Vertical Axis"},{"$f":"IF('Tidal Device Database'!I35=\"\",0,(VLOOKUP('Tidal Device Database'!I35,'Tidal Device Database'!$A$131:$B$135,2,FALSE)))","v":5},{"$f":"IF('Tidal Device Database'!J35=\"\",0,(VLOOKUP('Tidal Device Database'!J35,'Tidal Device Database'!$A$137:$B$141,2,FALSE)))","v":2},{"$f":"IF('Tidal Device Database'!K35=\"\",0,(VLOOKUP('Tidal Device Database'!K35,'Tidal Device Database'!$A$143:$B$147,2,FALSE)))","v":5},{"$f":"IF('Tidal Device Database'!L35=\"\",0,(VLOOKUP('Tidal Device Database'!L35,'Tidal Device Database'!$A$69:$B$73,2,FALSE)))","v":5},{"$f":"IF('Tidal Device Database'!M35=\"\",0,(VLOOKUP('Tidal Device Database'!M35,'Tidal Device Database'!$A$75:$B$79,2,FALSE)))","v":4},{"$f":"IF('Tidal Device Database'!N35=\"\",0,(VLOOKUP('Tidal Device Database'!N35,'Tidal Device Database'!$A$81:$B$85,2,FALSE)))","v":5},{"$f":"IF('Tidal Device Database'!O35=\"\",0,(VLOOKUP('Tidal Device Database'!O35,'Tidal Device Database'!$A$87:$B$91,2,FALSE)))","v":0},{"$f":"IF('Tidal Device Database'!P35=\"\",0,(VLOOKUP('Tidal Device Database'!P35,'Tidal Device Database'!$A$93:$B$97,2,FALSE)))","v":0},{"$f":"IF('Tidal Device Database'!Q35=\"\",0,(VLOOKUP('Tidal Device Database'!Q35,'Tidal Device Database'!$A$99:$B$103,2,FALSE)))","v":3},{"$f":"IF('Tidal Device Database'!R35=\"\",0,(VLOOKUP('Tidal Device Database'!R35,'Tidal Device Database'!$A$115:$B$119,2,FALSE)))","v":3},{"$f":"IF('Tidal Device Database'!S35=\"\",0,(VLOOKUP('Tidal Device Database'!S35,'Tidal Device Database'!$A$105:$B$109,2,FALSE)))","v":4},125]
[{"$f":"'Tidal Device Database'!A36","v":35},125,{"$f":"'Tidal Device Database'!B36","v":"EVG-010H"},{"$f":"'Tidal Device Database'!C36","v":"Vertical Axis"},{"$f":"IF('Tidal Device Database'!I36=\"\",0,(VLOOKUP('Tidal Device Database'!I36,'Tidal Device Database'!$A$131:$B$135,2,FALSE)))","v":5},{"$f":"IF('Tidal Device Database'!J36=\"\",0,(VLOOKUP('Tidal Device Database'!J36,'Tidal Device Database'!$A$137:$B$141,2,FALSE)))","v":2},{"$f":"IF('Tidal Device Database'!K36=\"\",0,(VLOOKUP('Tidal Device Database'!K36,'Tidal Device Database'!$A$143:$B$147,2,FALSE)))","v":5},{"$f":"IF('Tidal Device Database'!L36=\"\",0,(VLOOKUP('Tidal Device Database'!L36,'Tidal Device Database'!$A$69:$B$73,2,FALSE)))","v":5},{"$f":"IF('Tidal Device Database'!M36=\"\",0,(VLOOKUP('Tidal Device Database'!M36,'Tidal Device Database'!$A$75:$B$79,2,FALSE)))","v":4},{"$f":"IF('Tidal Device Database'!N36=\"\",0,(VLOOKUP('Tidal Device Database'!N36,'Tidal Device Database'!$A$81:$B$85,2,FALSE)))","v":5},{"$f":"IF('Tidal Device Database'!O36=\"\",0,(VLOOKUP('Tidal Device Database'!O36,'Tidal Device Database'!$A$87:$B$91,2,FALSE)))","v":0},{"$f":"IF('Tidal Device Database'!P36=\"\",0,(VLOOKUP('Tidal Device Database'!P36,'Tidal Device Database'!$A$93:$B$97,2,FALSE)))","v":0},{"$f":"IF('Tidal Device Database'!Q36=\"\",0,(VLOOKUP('Tidal Device Database'!Q36,'Tidal Device Database'!$A$99:$B$103,2,FALSE)))","v":3},{"$f":"IF('Tidal Device Database'!R36=\"\",0,(VLOOKUP('Tidal Device Database'!R36,'Tidal Device Database'!$A$115:$B$119,2,FALSE)))","v":3},{"$f":"IF('Tidal Device Database'!S36=\"\",0,(VLOOKUP('Tidal Device Database'!S36,'Tidal Device Database'!$A$105:$B$109,2,FALSE)))","v":4},125]
[{"$f":"'Tidal Device Database'!A37","v":36},125,{"$f":"'Tidal Device Database'!B37","v":"EVG-025H"},{"$f":"'Tidal Device Database'!C37","v":"Vertical Axis"},{"$f":"IF('Tidal Device Database'!I37=\"\",0,(VLOOKUP('Tidal Device Database'!I37,'Tidal Device Database'!$A$131:$B$135,2,FALSE)))","v":5},{"$f":"IF('Tidal Device Database'!J37=\"\",0,(VLOOKUP('Tidal Device Database'!J37,'Tidal Device Database'!$A$137:$B$141,2,FALSE)))","v":2},{"$f":"IF('Tidal Device Database'!K37=\"\",0,(VLOOKUP('Tidal Device Database'!K37,'Tidal Device Database'!$A$143:$B$147,2,FALSE)))","v":5},{"$f":"IF('Tidal Device Database'!L37=\"\",0,(VLOOKUP('Tidal Device Database'!L37,'Tidal Device Database'!$A$69:$B$73,2,FALSE)))","v":5},{"$f":"IF('Tidal Device Database'!M37=\"\",0,(VLOOKUP('Tidal Device Database'!M37,'Tidal Device Database'!$A$75:$B$79,2,FALSE)))","v":4},{"$f":"IF('Tidal Device Database'!N37=\"\",0,(VLOOKUP('Tidal Device Database'!N37,'Tidal Device Database'!$A$81:$B$85,2,FALSE)))","v":5},{"$f":"IF('Tidal Device Database'!O37=\"\",0,(VLOOKUP('Tidal Device Database'!O37,'Tidal Device Database'!$A$87:$B$91,2,FALSE)))","v":0},{"$f":"IF('Tidal Device Database'!P37=\"\",0,(VLOOKUP('Tidal Device Database'!P37,'Tidal Device Database'!$A$93:$B$97,2,FALSE)))","v":0},{"$f":"IF('Tidal Device Database'!Q37=\"\",0,(VLOOKUP('Tidal Device Database'!Q37,'Tidal Device Database'!$A$99:$B$103,2,FALSE)))","v":3},{"$f":"IF('Tidal Device Database'!R37=\"\",0,(VLOOKUP('Tidal Device Database'!R37,'Tidal Device Database'!$A$115:$B$119,2,FALSE)))","v":3},{"$f":"IF('Tidal Device Database'!S37=\"\",0,(VLOOKUP('Tidal Device Database'!S37,'Tidal Device Database'!$A$105:$B$109,2,FALSE)))","v":4},125]
[{"$f":"'Tidal Device Database'!A38","v":37},125,{"$f":"'Tidal Device Database'!B38","v":"EVG-050H"},{"$f":"'Tidal Device Database'!C38","v":"Vertical Axis"},{"$f":"IF('Tidal Device Database'!I38=\"\",0,(VLOOKUP('Tidal Device Database'!I38,'Tidal Device Database'!$A$131:$B$135,2,FALSE)))","v":5},{"$f":"IF('Tidal Device Database'!J38=\"\",0,(VLOOKUP('Tidal Device Database'!J38,'Tidal Device Database'!$A$137:$B$141,2,FALSE)))","v":2},{"$f":"IF('Tidal Device Database'!K38=\"\",0,(VLOOKUP('Tidal Device Database'!K38,'Tidal Device Database'!$A$143:$B$147,2,FALSE)))","v":5},{"$f":"IF('Tidal Device Database'!L38=\"\",0,(VLOOKUP('Tidal Device Database'!L38,'Tidal Device Database'!$A$69:$B$73,2,FALSE)))","v":5},{"$f":"IF('Tidal Device Database'!M38=\"\",0,(VLOOKUP('Tidal Device Database'!M38,'Tidal Device Database'!$A$75:$B$79,2,FALSE)))","v":4},{"$f":"IF('Tidal Device Database'!N38=\"\",0,(VLOOKUP('Tidal Device Database'!N38,'Tidal Device Database'!$A$81:$B$85,2,FALSE)))","v":5},{"$f":"IF('Tidal Device Database'!O38=\"\",0,(VLOOKUP('Tidal Device Database'!O38,'Tidal Device Database'!$A$87:$B$91,2,FALSE)))","v":0},{"$f":"IF('Tidal Device Database'!P38=\"\",0,(VLOOKUP('Tidal Device Database'!P38,'Tidal Device Database'!$A$93:$B$97,2,FALSE)))","v":0},{"$f":"IF('Tidal Device Database'!Q38=\"\",0,(VLOOKUP('Tidal Device Database'!Q38,'Tidal Device Database'!$A$99:$B$103,2,FALSE)))","v":3},{"$f":"IF('Tidal Device Database'!R38=\"\",0,(VLOOKUP('Tidal Device Database'!R38,'Tidal Device Database'!$A$115:$B$119,2,FALSE)))","v":3},{"$f":"IF('Tidal Device Database'!S38=\"\",0,(VLOOKUP('Tidal Device Database'!S38,'Tidal Device Database'!$A$105:$B$109,2,FALSE)))","v":4},125]
[{"$f":"'Tidal Device Database'!A39","v":38},128,{"$f":"'Tidal Device Database'!B39","v":"ENC-025L"},{"$f":"'Tidal Device Database'!C39","v":"Vertical Axis"},{"$f":"IF('Tidal Device Database'!I39=\"\",0,(VLOOKUP('Tidal Device Database'!I39,'Tidal Device Database'!$A$131:$B$135,2,FALSE)))","v":5},{"$f":"IF('Tidal Device Database'!J39=\"\",0,(VLOOKUP('Tidal Device Database'!J39,'Tidal Device Database'!$A$137:$B$141,2,FALSE)))","v":3},{"$f":"IF('Tidal Device Database'!K39=\"\",0,(VLOOKUP('Tidal Device Database'!K39,'Tidal Device Database'!$A$143:$B$147,2,FALSE)))","v":5},{"$f":"IF('Tidal Device Database'!L39=\"\",0,(VLOOKUP('Tidal Device Database'!L39,'Tidal Device Database'!$A$69:$B$73,2,FALSE)))","v":5},{"$f":"IF('Tidal Device Database'!M39=\"\",0,(VLOOKUP('Tidal Device Database'!M39,'Tidal Device Database'!$A$75:$B$79,2,FALSE)))","v":4},{"$f":"IF('Tidal Device Database'!N39=\"\",0,(VLOOKUP('Tidal Device Database'!N39,'Tidal Device Database'!$A$81:$B$85,2,FALSE)))","v":5},{"$f":"IF('Tidal Device Database'!O39=\"\",0,(VLOOKUP('Tidal Device Database'!O39,'Tidal Device Database'!$A$87:$B$91,2,FALSE)))","v":0},{"$f":"IF('Tidal Device Database'!P39=\"\",0,(VLOOKUP('Tidal Device Database'!P39,'Tidal Device Database'!$A$93:$B$97,2,FALSE)))","v":0},{"$f":"IF('Tidal Device Database'!Q39=\"\",0,(VLOOKUP('Tidal Device Database'!Q39,'Tidal Device Database'!$A$99:$B$103,2,FALSE)))","v":3},{"$f":"IF('Tidal Device Database'!R39=\"\",0,(VLOOKUP('Tidal Device Database'!R39,'Tidal Device Database'!$A$115:$B$119,2,FALSE)))","v":3},{"$f":"IF('Tidal Device Database'!S39=\"\",0,(VLOOKUP('Tidal Device Database'!S39,'Tidal Device Database'!$A$105:$B$109,2,FALSE)))","v":4},128]
[{"$f":"'Tidal Device Database'!A40","v":39},125,{"$f":"'Tidal Device Database'!B40","v":"ENC-025H"},{"$f":"'Tidal Device Database'!C40","v":"Vertical Axis"},{"$f":"IF('Tidal Device Database'!I40=\"\",0,(VLOOKUP('Tidal Device Database'!I40,'Tidal Device Database'!$A$131:$B$135,2,FALSE)))","v":5},{"$f":"IF('Tidal Device Database'!J40=\"\",0,(VLOOKUP('Tidal Device Database'!J40,'Tidal Device Database'!$A$137:$B$141,2,FALSE)))","v":2},{"$f":"IF('Tidal Device Database'!K40=\"\",0,(VLOOKUP('Tidal Device Database'!K40,'Tidal Device Database'!$A$143:$B$147,2,FALSE)))","v":5},{"$f":"IF('Tidal Device Database'!L40=\"\",0,(VLOOKUP('Tidal Device Database'!L40,'Tidal Device Database'!$A$69:$B$73,2,FALSE)))","v":5},{"$f":"IF('Tidal Device Database'!M40=\"\",0,(VLOOKUP('Tidal Device Database'!M40,'Tidal Device Database'!$A$75:$B$79,2,FALSE)))","v":4},{"$f":"IF('Tidal Device Database'!N40=\"\",0,(VLOOKUP('Tidal Device Database'!N40,'Tidal Device Database'!$A$81:$B$85,2,FALSE)))","v":5},{"$f":"IF('Tidal Device Database'!O40=\"\",0,(VLOOKUP('Tidal Device Database'!O40,'Tidal Device Database'!$A$87:$B$91,2,FALSE)))","v":0},{"$f":"IF('Tidal Device Database'!P40=\"\",0,(VLOOKUP('Tidal Device Database'!P40,'Tidal Device Database'!$A$93:$B$97,2,FALSE)))","v":0},{"$f":"IF('Tidal Device Database'!Q40=\"\",0,(VLOOKUP('Tidal Device Database'!Q40,'Tidal Device Database'!$A$99:$B$103,2,FALSE)))","v":3},{"$f":"IF('Tidal Device Database'!R40=\"\",0,(VLOOKUP('Tidal Device Database'!R40,'Tidal Device Database'!$A$115:$B$119,2,FALSE)))","v":3},{"$f":"IF('Tidal Device Database'!S40=\"\",0,(VLOOKUP('Tidal Device Database'!S40,'Tidal Device Database'!$A$105:$B$109,2,FALSE)))","v":4},125]
[{"$f":"'Tidal Device Database'!A41","v":40},117,{"$f":"'Tidal Device Database'!B41","v":"ENC-125H"},{"$f":"'Tidal Device Database'!C41","v":"Vertical Axis"},{"$f":"IF('Tidal Device Database'!I41=\"\",0,(VLOOKUP('Tidal Device Database'!I41,'Tidal Device Database'!$A$131:$B$135,2,FALSE)))","v":4},{"$f":"IF('Tidal Device Database'!J41=\"\",0,(VLOOKUP('Tidal Device Database'!J41,'Tidal Device Database'!$A$137:$B$141,2,FALSE)))","v":2},{"$f":"IF('Tidal Device Database'!K41=\"\",0,(VLOOKUP('Tidal Device Database'!K41,'Tidal Device Database'!$A$143:$B$147,2,FALSE)))","v":5},{"$f":"IF('Tidal Device Database'!L41=\"\",0,(VLOOKUP('Tidal Device Database'!L41,'Tidal Device Database'!$A$69:$B$73,2,FALSE)))","v":5},{"$f":"IF('Tidal Device Database'!M41=\"\",0,(VLOOKUP('Tidal Device Database'!M41,'Tidal Device Database'!$A$75:$B$79,2,FALSE)))","v":4},{"$f":"IF('Tidal Device Database'!N41=\"\",0,(VLOOKUP('Tidal Device Database'!N41,'Tidal Device Database'!$A$81:$B$85,2,FALSE)))","v":5},{"$f":"IF('Tidal Device Database'!O41=\"\",0,(VLOOKUP('Tidal Device Database'!O41,'Tidal Device Database'!$A$87:$B$91,2,FALSE)))","v":0},{"$f":"IF('Tidal Device Database'!P41=\"\",0,(VLOOKUP('Tidal Device Database'!P41,'Tidal Device Database'!$A$93:$B$97,2,FALSE)))","v":0},{"$f":"IF('Tidal Device Database'!Q41=\"\",0,(VLOOKUP('Tidal Device Database'!Q41,'Tidal Device Database'!$A$99:$B$103,2,FALSE)))","v":3},{"$f":"IF('Tidal Device Database'!R41=\"\",0,(VLOOKUP('Tidal Device Database'!R41,'Tidal Device Database'!$A$115:$B$119,2,FALSE)))","v":3},{"$f":"IF('Tidal Device Database'!S41=\"\",0,(VLOOKUP('Tidal Device Database'!S41,'Tidal Device Database'!$A$105:$B$109,2,FALSE)))","v":3},117]
[{"$f":"'Tidal Device Database'!A42","v":41},110,{"$f":"'Tidal Device Database'!B42","v":"ENC-250H"},{"$f":"'Tidal Device Database'!C42","v":"Vertical Axis"},{"$f":"IF('Tidal Device Database'!I42=\"\",0,(VLOOKUP('Tidal Device Database'!I42,'Tidal Device Database'!$A$131:$B$135,2,FALSE)))","v":4},{"$f":"IF('Tidal Device Database'!J42=\"\",0,(VLOOKUP('Tidal Device Database'!J42,'Tidal Device Database'!$A$137:$B$141,2,FALSE)))","v":2},{"$f":"IF('Tidal Device Database'!K42=\"\",0,(VLOOKUP('Tidal Device Database'!K42,'Tidal Device Database'!$A$143:$B$147,2,FALSE)))","v":4},{"$f":"IF('Tidal Device Database'!L42=\"\",0,(VLOOKUP('Tidal Device Database'!L42,'Tidal Device Database'!$A$69:$B$73,2,FALSE)))","v":5},{"$f":"IF('Tidal Device Database'!M42=\"\",0,(VLOOKUP('Tidal Device Database'!M42,'Tidal Device Database'!$A$75:$B$79,2,FALSE)))","v":4},{"$f":"IF('Tidal Device Database'!N42=\"\",0,(VLOOKUP('Tidal Device Database'!N42,'Tidal Device Database'!$A$81:$B$85,2,FALSE)))","v":5},{"$f":"IF('Tidal Device Database'!O42=\"\",0,(VLOOKUP('Tidal Device Database'!O42,'Tidal Device Database'!$A$87:$B$91,2,FALSE)))","v":0},{"$f":"IF('Tidal Device Database'!P42=\"\",0,(VLOOKUP('Tidal Device Database'!P42,'Tidal Device Database'!$A$93:$B$97,2,FALSE)))","v":0},{"$f":"IF('Tidal Device Database'!Q42=\"\",0,(VLOOKUP('Tidal Device Database'!Q42,'Tidal Device Database'!$A$99:$B$103,2,FALSE)))","v":3},{"$f":"IF('Tidal Device Database'!R42=\"\",0,(VLOOKUP('Tidal Device Database'!R42,'Tidal Device Database'!$A$115:$B$119,2,FALSE)))","v":2},{"$f":"IF('Tidal Device Database'!S42=\"\",0,(VLOOKUP('Tidal Device Database'!S42,'Tidal Device Database'!$A$105:$B$109,2,FALSE)))","v":3},110]
[{"$f":"'Tidal Device Database'!A43","v":42},110,{"$f":"'Tidal Device Database'!B43","v":"EC-OG"},{"$f":"'Tidal Device Database'!C43","v":"Vertical Axis"},{"$f":"IF('Tidal Device Database'!I43=\"\",0,(VLOOKUP('Tidal Device Database'!I43,'Tidal Device Database'!$A$131:$B$135,2,FALSE)))","v":0},{"$f":"IF('Tidal Device Database'!J43=\"\",0,(VLOOKUP('Tidal Device Database'!J43,'Tidal Device Database'!$A$137:$B$141,2,FALSE)))","v":5},{"$f":"IF('Tidal Device Database'!K43=\"\",0,(VLOOKUP('Tidal Device Database'!K43,'Tidal Device Database'!$A$143:$B$147,2,FALSE)))","v":2},{"$f":"IF('Tidal Device Database'!L43=\"\",0,(VLOOKUP('Tidal Device Database'!L43,'Tidal Device Database'!$A$69:$B$73,2,FALSE)))","v":4},{"$f":"IF('Tidal Device Database'!M43=\"\",0,(VLOOKUP('Tidal Device Database'!M43,'Tidal Device Database'!$A$75:$B$79,2,FALSE)))","v":4},{"$f":"IF('Tidal Device Database'!N43=\"\",0,(VLOOKUP('Tidal Device Database'!N43,'Tidal Device Database'!$A$81:$B$85,2,FALSE)))","v":4},{"$f":"IF('Tidal Device Database'!O43=\"\",0,(VLOOKUP('Tidal Device Database'!O43,'Tidal Device Database'!$A$87:$B$91,2,FALSE)))","v":5},{"$f":"IF('Tidal Device Database'!P43=\"\",0,(VLOOKUP('Tidal Device Database'!P43,'Tidal Device Database'!$A$93:$B$97,2,FALSE)))","v":2},{"$f":"IF('Tidal Device Database'!Q43=\"\",0,(VLOOKUP('Tidal Device Database'!Q43,'Tidal Device Database'!$A$99:$B$103,2,FALSE)))","v":3},{"$f":"IF('Tidal Device Database'!R43=\"\",0,(VLOOKUP('Tidal Device Database'!R43,'Tidal Device Database'!$A$115:$B$119,2,FALSE)))","v":3},{"$f":"IF('Tidal Device Database'!S43=\"\",0,(VLOOKUP('Tidal Device Database'!S43,'Tidal Device Database'!$A$105:$B$109,2,FALSE)))","v":3},110]
[]
[]
["No.","Score",null,"Criteria","Captial Energy Cost","Capital Power Cost","Lifetime Energy Cost","Specific Energy","Specific Power","Energy Density","Power Density","Environmental Impact","Cycle Life","Lifetime","Scalability","Power Regulation","Technical Maturity","Self Discharge Rate","Efficiency ","Score"]
[null,null,"Name","Type",2,2,3,1,1,3,3,3,4,4,3,5,4,4,3]
[1,{"$f":"T69","v":171},"Pumped Hydro","Mechanical Storage",5,3,5,1,1,1,1,2,5,5,3,5,5,5,4,{"$f":"SUMPRODUCT($E$68:$S$68,E69:S69)","v":171}]
[2,167,"Compressed Air","Mechanical Storage",5,4,5,1,1,1,1,4,5,5,4,5,2,5,3,167]
[3,135,"Lead Acid Battery","Battery Storage",4,5,4,1,3,2,4,1,2,3,5,1,5,2,4,135]
[4,131,"Nickel Iron","Battery Storage",3,1,4,2,2,2,2,5,3,5,5,1,3,1,4,131]
[5,138,"Nickel Zinc","Battery Storage",4,5,4,2,4,3,5,5,1,2,5,1,3,1,5,138]
[6,127,"Nickel Cadmium","Battery Storage",2,4,2,2,4,2,3,1,3,4,5,1,5,2,3,127]
[7,141,"Lithium Ion","Battery Storage",2,3,2,3,5,3,5,2,2,4,5,1,4,3,5,141]
[8,133,"Zinc Manganese","Battery Storage",4,2,2,3,1,4,2,3,1,2,5,1,5,5,4,133]
[9,128,"Zinc Silver","Battery Storage",1,1,1,3,2,4,4,5,1,2,5,1,5,4,3,128]
[10,147,"Zinc Air","Battery Storage",4,3,4,4,3,5,3,5,1,3,5,1,4,5,1,147]
[11,137,"Vanadium Redox","Flow Battery",4,3,3,1,3,1,2,4,4,4,4,1,2,5,4,137]
[12,112,"Solid Oxide","Fuel Cell",5,2,3,5,2,3,1,4,0,1,5,1,2,5,2,112]
[]
[]
[]
["No.","Score",null,"Criteria",{"$f":"'Wave Device Database'!H2","v":"Distance from Shore"},{"$f":"'Wave Device Database'!I2","v":"Visual Impact"},{"$f":"'Wave Device Database'!J2","v":"Access Complexity"},{"$f":"'Wave Device Database'!K2","v":"Capital Cost"},{"$f":"'Wave Device Database'!L2","v":"Technology Readiness Level"},{"$f":"'Wave Device Database'!M2","v":"Lifespan"},{"$f":"'Wave Device Database'!N2","v":"Efficiency"},{"$f":"'Wave Device Database'!O2","v":"Scale (kW)"},{"$f":"'Wave Device Database'!P2","v":"Shore Connection"},{"$f":"'Wave Device Database'!Q2","v":"Planned Inspection/Maintenance Period"},{"$f":"'Wave Device Database'!R2","v":"Primary Attachment"},{"$f":"'Wave Device Database'!S2","v":"Installation Complexity"},{"$f":"'Wave Device Database'!T2","v":"Maintenanc Complexity"},"Score"]
[null,null,"Name","Type",1,2,4,3,5,3,3,3,4,3,4,3,3]
[1,{"$f":"R86","v":181},{"$f":"'Wave Device Database'!B3","v":"Yam Pro Energy"},{"$f":"'Wave Device Database'!C3","v":"Shore based"},{"$f":"IF('Wave Device Database'!H3=\"\",0,VLOOKUP('Wave Device Database'!H3,'Wave Device Database'!$B$24:$C$28,2,FALSE))","v":5},{"$f":"IF('Wave Device Database'!I3=\"\",0,VLOOKUP('Wave Device Database'!I3,'Wave Device Database'!$B$30:$C$34,2,FALSE))","v":2},{"$f":"IF('Wave Device Database'!J3=\"\",0,VLOOKUP('Wave Device Database'!J3,'Wave Device Database'!$B$36:$C$40,2,FALSE))","v":5},{"$f":"IF('Wave Device Database'!K3=\"\",0,VLOOKUP('Wave Device Database'!K3,'Wave Device Database'!$B$42:$C$46,2,FALSE))","v":5},{"$f":"IF('Wave Device Database'!L3=\"\",0,VLOOKUP('Wave Device Database'!L3,'Wave Device Database'!$B$48:$C$52,2,FALSE))","v":5},{"$f":"IF('Wave Device Database'!M3=\"\",0,VLOOKUP('Wave Device Database'!M3,'Wave Device Database'!$B$54:$C$58,2,FALSE))","v":5},{"$f":"IF('Wave Device Database'!N3=\"\",0,VLOOKUP('Wave Device Database'!N3,'Wave Device Database'!$B$60:$C$64,2,FALSE))","v":5},{"$f":"IF('Wave Device Database'!O3=\"\",0,VLOOKUP('Wave Device Database'!O3,'Wave Device Database'!$B$66:$C$70,2,FALSE))","v":5},{"$f":"IF('Wave Device Database'!P3=\"\",0,VLOOKUP('Wave Device Database'!P3,'Wave Device Database'!$B$72:$C$76,2,FALSE))","v":5},{"$f":"IF('Wave Device Database'!Q3=\"\",0,VLOOKUP('Wave Device Database'!Q3,'Wave Device Database'!$B$78:$C$82,2,FALSE))","v":1},{"$f":"IF('Wave Device Database'!R3=\"\",0,VLOOKUP('Wave Device Database'!R3,'Wave Device Database'!$B$84:$C$88,2,FALSE))","v":5},{"$f":"IF('Wave Device Database'!S3=\"\",0,VLOOKUP('Wave Device Database'!S3,'Wave Device Database'!$B$90:$C$94,2,FALSE))","v":5},{"$f":"IF('Wave Device Database'!T3=\"\",0,VLOOKUP('Wave Device Database'!T3,'Wave Device Database'!$B$96:$C$100,2,FALSE))","v":3},{"$f":"SUMPRODUCT($E$85:$Q$85,E86:Q86)","v":181}]
[2,{"$f":"R87","v":130},{"$f":"'Wave Device Database'!B4","v":"Wave El Buoy"},{"$f":"'Wave Device Database'!C4","v":"Point Absorber"},{"$f":"IF('Wave Device Database'!H4=\"\",0,VLOOKUP('Wave Device Database'!H4,'Wave Device Database'!$B$24:$C$28,2,FALSE))","v":1},{"$f":"IF('Wave Device Database'!I4=\"\",0,VLOOKUP('Wave Device Database'!I4,'Wave Device Database'!$B$30:$C$34,2,FALSE))","v":3},{"$f":"IF('Wave Device Database'!J4=\"\",0,VLOOKUP('Wave Device Database'!J4,'Wave Device Database'!$B$36:$C$40,2,FALSE))","v":3},{"$f":"IF('Wave Device Database'!K4=\"\",0,VLOOKUP('Wave Device Database'!K4,'Wave Device Database'!$B$42:$C$46,2,FALSE))","v":3},{"$f":"IF('Wave Device Database'!L4=\"\",0,VLOOKUP('Wave Device Database'!L4,'Wave Device Database'!$B$48:$C$52,2,FALSE))","v":5},{"$f":"IF('Wave Device Database'!M4=\"\",0,VLOOKUP('Wave Device Database'!M4,'Wave Device Database'!$B$54:$C$58,2,FALSE))","v":5},{"$f":"IF('Wave Device Database'!N4=\"\",0,VLOOKUP('Wave Device Database'!N4,'Wave Device Database'!$B$60:$C$64,2,FALSE))","v":3},{"$f":"IF('Wave Device Database'!O4=\"\",0,VLOOKUP('Wave Device Database'!O4,'Wave Device Database'!$B$66:$C$70,2,FALSE))","v":3},{"$f":"IF('Wave Device Database'!P4=\"\",0,VLOOKUP('Wave Device Database'!P4,'Wave Device Database'!$B$72:$C$76,2,FALSE))","v":1},{"$f":"IF('Wave Device Database'!Q4=\"\",0,VLOOKUP('Wave Device Database'!Q4,'Wave Device Database'!$B$78:$C$82,2,FALSE))","v":3},{"$f":"IF('Wave Device Database'!R4=\"\",0,VLOOKUP('Wave Device Database'!R4,'Wave Device Database'!$B$84:$C$88,2,FALSE))","v":4},{"$f":"IF('Wave Device Database'!S4=\"\",0,VLOOKUP('Wave Device Database'!S4,'Wave Device Database'!$B$90:$C$94,2,FALSE))","v":2},{"$f":"IF('Wave Device Database'!T4=\"\",0,VLOOKUP('Wave Device Database'!T4,'Wave Device Database'!$B$96:$C$100,2,FALSE))","v":3},{"$f":"SUMPRODUCT($E$85:$Q$85,E87:Q87)","v":130}]
[3,{"$f":"R88","v":140},{"$f":"'Wave Device Database'!B5","v":"Rotary Wave"},{"$f":"'Wave Device Database'!C5","v":"Attenuator "},{"$f":"IF('Wave Device Database'!H5=\"\",0,VLOOKUP('Wave Device Database'!H5,'Wave Device Database'!$B$24:$C$28,2,FALSE))","v":2},{"$f":"IF('Wave Device Database'!I5=\"\",0,VLOOKUP('Wave Device Database'!I5,'Wave Device Database'!$B$30:$C$34,2,FALSE))","v":3},{"$f":"IF('Wave Device Database'!J5=\"\",0,VLOOKUP('Wave Device Database'!J5,'Wave Device Database'!$B$36:$C$40,2,FALSE))","v":3},{"$f":"IF('Wave Device Database'!K5=\"\",0,VLOOKUP('Wave Device Database'!K5,'Wave Device Database'!$B$42:$C$46,2,FALSE))","v":2},{"$f":"IF('Wave Device Database'!L5=\"\",0,VLOOKUP('Wave Device Database'!L5,'Wave Device Database'!$B$48:$C$52,2,FALSE))","v":4},{"$f":"IF('Wave Device Database'!M5=\"\",0,VLOOKUP('Wave Device Database'!M5,'Wave Device Database'!$B$54:$C$58,2,FALSE))","v":5},{"$f":"IF('Wave Device Database'!N5=\"\",0,VLOOKUP('Wave Device Database'!N5,'Wave Device Database'!$B$60:$C$64,2,FALSE))","v":5},{"$f":"IF('Wave Device Database'!O5=\"\",0,VLOOKUP('Wave Device Database'!O5,'Wave Device Database'!$B$66:$C$70,2,FALSE))","v":4},{"$f":"IF('Wave Device Database'!P5=\"\",0,VLOOKUP('Wave Device Database'!P5,'Wave Device Database'!$B$72:$C$76,2,FALSE))","v":3},{"$f":"IF('Wave Device Database'!Q5=\"\",0,VLOOKUP('Wave Device Database'!Q5,'Wave Device Database'!$B$78:$C$82,2,FALSE))","v":1},{"$f":"IF('Wave Device Database'!R5=\"\",0,VLOOKUP('Wave Device Database'!R5,'Wave Device Database'!$B$84:$C$88,2,FALSE))","v":4},{"$f":"IF('Wave Device Database'!S5=\"\",0,VLOOKUP('Wave Device Database'!S5,'Wave Device Database'!$B$90:$C$94,2,FALSE))","v":4},{"$f":"IF('Wave Device Database'!T5=\"\",0,VLOOKUP('Wave Device Database'!T5,'Wave Device Database'!$B$96:$C$100,2,FALSE))","v":3},140]
[4,{"$f":"R89","v":93},{"$f":"'Wave Device Database'!B6","v":"Electric Buoy"},{"$f":"'Wave Device Database'!C6","v":"Point Absorber"},{"$f":"IF('Wave Device Database'!H6=\"\",0,VLOOKUP('Wave Device Database'!H6,'Wave Device Database'!$B$24:$C$28,2,FALSE))","v":1},{"$f":"IF('Wave Device Database'!I6=\"\",0,VLOOKUP('Wave Device Database'!I6,'Wave Device Database'!$B$30:$C$34,2,FALSE))","v":2},{"$f":"IF('Wave Device Database'!J6=\"\",0,VLOOKUP('Wave Device Database'!J6,'Wave Device Database'!$B$36:$C$40,2,FALSE))","v":3},{"$f":"IF('Wave Device Database'!K6=\"\",0,VLOOKUP('Wave Device Database'!K6,'Wave Device Database'!$B$42:$C$46,2,FALSE))","v":4},{"$f":"IF('Wave Device Database'!L6=\"\",0,VLOOKUP('Wave Device Database'!L6,'Wave Device Database'!$B$48:$C$52,2,FALSE))","v":1},{"$f":"IF('Wave Device Database'!M6=\"\",0,VLOOKUP('Wave Device Database'!M6,'Wave Device Database'!$B$54:$C$58,2,FALSE))","v":5},{"$f":"IF('Wave Device Database'!N6=\"\",0,VLOOKUP('Wave Device Database'!N6,'Wave Device Database'!$B$60:$C$64,2,FALSE))","v":3},{"$f":"IF('Wave Device Database'!O6=\"\",0,VLOOKUP('Wave Device Database'!O6,'Wave Device Database'!$B$66:$C$70,2,FALSE))","v":1},{"$f":"IF('Wave Device Database'!P6=\"\",0,VLOOKUP('Wave Device Database'!P6,'Wave Device Database'!$B$72:$C$76,2,FALSE))","v":1},{"$f":"IF('Wave Device Database'!Q6=\"\",0,VLOOKUP('Wave Device Database'!Q6,'Wave Device Database'!$B$78:$C$82,2,FALSE))","v":1},{"$f":"IF('Wave Device Database'!R6=\"\",0,VLOOKUP('Wave Device Database'!R6,'Wave Device Database'!$B$84:$C$88,2,FALSE))","v":4},{"$f":"IF('Wave Device Database'!S6=\"\",0,VLOOKUP('Wave Device Database'!S6,'Wave Device Database'!$B$90:$C$94,2,FALSE))","v":2},{"$f":"IF('Wave Device Database'!T6=\"\",0,VLOOKUP('Wave Device Database'!T6,'Wave Device Database'!$B$96:$C$100,2,FALSE))","v":1},93]
[5,{"$f":"U90","v":0},{"$f":"'Wave Device Database'!B7","v":"Wave Dragon"},{"$f":"'Wave Device Database'!C7","v":"Overtopping/Terminator Device"},{"$f":"IF('Wave Device Database'!H7=\"\",0,VLOOKUP('Wave Device Database'!H7,'Wave Device Database'!$B$24:$C$28,2,FALSE))","v":3},{"$f":"IF('Wave Device Database'!I7=\"\",0,VLOOKUP('Wave Device Database'!I7,'Wave Device Database'!$B$30:$C$34,2,FALSE))","v":3},{"$f":"IF('Wave Device Database'!J7=\"\",0,VLOOKUP('Wave Device Database'!J7,'Wave Device Database'!$B$36:$C$40,2,FALSE))","v":3},{"$f":"IF('Wave Device Database'!K7=\"\",0,VLOOKUP('Wave Device Database'!K7,'Wave Device Database'!$B$42:$C$46,2,FALSE))","v":0},{"$f":"IF('Wave Device Database'!L7=\"\",0,VLOOKUP('Wave Device Database'!L7,'Wave Device Database'!$B$48:$C$52,2,FALSE))","v":5},{"$f":"IF('Wave Device Database'!M7=\"\",0,VLOOKUP('Wave Device Database'!M7,'Wave Device Database'!$B$54:$C$58,2,FALSE))","v":4},{"$f":"IF('Wave Device Database'!N7=\"\",0,VLOOKUP('Wave Device Database'!N7,'Wave Device Database'!$B$60:$C$64,2,FALSE))","v":5},{"$f":"IF('Wave Device Database'!O7=\"\",0,VLOOKUP('Wave Device Database'!O7,'Wave Device Database'!$B$66:$C$70,2,FALSE))","v":2},{"$f":"IF('Wave Device Database'!P7=\"\",0,VLOOKUP('Wave Device Database'!P7,'Wave Device Database'!$B$72:$C$76,2,FALSE))","v":2},{"$f":"IF('Wave Device Database'!Q7=\"\",0,VLOOKUP('Wave Device Database'!Q7,'Wave Device Database'!$B$78:$C$82,2,FALSE))","v":0},{"$f":"IF('Wave Device Database'!R7=\"\",0,VLOOKUP('Wave Device Database'!R7,'Wave Device Database'!$B$84:$C$88,2,FALSE))","v":4},{"$f":"IF('Wave Device Database'!S7=\"\",0,VLOOKUP('Wave Device Database'!S7,'Wave Device Database'!$B$90:$C$94,2,FALSE))","v":4},{"$f":"IF('Wave Device Database'!T7=\"\",0,VLOOKUP('Wave Device Database'!T7,'Wave Device Database'!$B$96:$C$100,2,FALSE))","v":0},115]
[6,0,{"$f":"'Wave Device Database'!B8","v":"Limpet"},{"$f":"'Wave Device Database'!C8","v":"Oscillating Water Column"},{"$f":"IF('Wave Device Database'!H8=\"\",0,VLOOKUP('Wave Device Database'!H8,'Wave Device Database'!$B$24:$C$28,2,FALSE))","v":5},{"$f":"IF('Wave Device Database'!I8=\"\",0,VLOOKUP('Wave Device Database'!I8,'Wave Device Database'!$B$30:$C$34,2,FALSE))","v":1},{"$f":"IF('Wave Device Database'!J8=\"\",0,VLOOKUP('Wave Device Database'!J8,'Wave Device Database'!$B$36:$C$40,2,FALSE))","v":5},{"$f":"IF('Wave Device Database'!K8=\"\",0,VLOOKUP('Wave Device Database'!K8,'Wave Device Database'!$B$42:$C$46,2,FALSE))","v":0},{"$f":"IF('Wave Device Database'!L8=\"\",0,VLOOKUP('Wave Device Database'!L8,'Wave Device Database'!$B$48:$C$52,2,FALSE))","v":5},{"$f":"IF('Wave Device Database'!M8=\"\",0,VLOOKUP('Wave Device Database'!M8,'Wave Device Database'!$B$54:$C$58,2,FALSE))","v":0},{"$f":"IF('Wave Device Database'!N8=\"\",0,VLOOKUP('Wave Device Database'!N8,'Wave Device Database'!$B$60:$C$64,2,FALSE))","v":1},{"$f":"IF('Wave Device Database'!O8=\"\",0,VLOOKUP('Wave Device Database'!O8,'Wave Device Database'!$B$66:$C$70,2,FALSE))","v":4},{"$f":"IF('Wave Device Database'!P8=\"\",0,VLOOKUP('Wave Device Database'!P8,'Wave Device Database'!$B$72:$C$76,2,FALSE))","v":5},{"$f":"IF('Wave Device Database'!Q8=\"\",0,VLOOKUP('Wave Device Database'!Q8,'Wave Device Database'!$B$78:$C$82,2,FALSE))","v":0},{"$f":"IF('Wave Device Database'!R8=\"\",0,VLOOKUP('Wave Device Database'!R8,'Wave Device Database'!$B$84:$C$88,2,FALSE))","v":5},{"$f":"IF('Wave Device Database'!S8=\"\",0,VLOOKUP('Wave Device Database'!S8,'Wave Device Database'!$B$90:$C$94,2,FALSE))","v":5},{"$f":"IF('Wave Device Database'!T8=\"\",0,VLOOKUP('Wave Device Database'!T8,'Wave Device Database'!$B$96:$C$100,2,FALSE))","v":0},122]

{"sheet":"Tidal Stream 1","index":3,"n_rows":2782,"n_cols":9,"rows_kept":2782,"cut":false,"hidden":false,"merged":[[2781,4,2781,5],[2,1,2,2],[17,0,18,0],[17,1,17,3],[13,0,14,0],[2779,4,2780,5],[7,1,7,2],[8,1,8,2],[9,1,9,2],[10,1,10,2]]}
["Tidal Stream Resource"]
[]
[{"$f":"Input!A45","v":"Site Name"},{"$f":"IF(Input!B45<>\"\",Input!B45,\"-\")","v":"[Enter Name]"},{"$f":"Input!C45","v":0},null,null,null,null,null,"Plots:"]
[{"$f":"Input!A46","v":"Peak Flow (Springs)"},{"$f":"IF((AND(Input!B46<>\"\",Input!B46<>\"[Enter Value]\")),Input!B46,\"0\")","v":"0"},{"$f":"Input!C46","v":"m/s"}]
[{"$f":"Input!A47","v":"Peak Flow (Neaps)"},{"$f":"IF((AND(Input!B47<>\"\",Input!B47<>\"[Enter Value]\")),Input!B47,\"0\")","v":"0"},{"$f":"Input!C47","v":"m/s"}]
[{"$f":"Input!A48","v":"Lunar Cycle Period"},{"$f":"IF((AND(Input!B48<>\"\",Input!B48<>\"[Enter Value]\")),Input!B48,\"0\")","v":"0"},{"$f":"Input!C48","v":"days"}]
[{"$f":"Input!A49","v":"Tidal Period"},{"$f":"IF((AND(Input!B49<>\"\",Input!B49<>\"[Enter Value]\")),Input!B49,\"0\")","v":"0"},{"$f":"Input!C49","v":"hours"}]
[{"$f":"Input!A50","v":"Proximity to Grid Connection"},{"$f":"IF(Input!B50<>\"\",Input!B50,\"-\")","v":"[Select Value]"}]
[{"$f":"Input!A51","v":"Average Water Depth"},{"$f":"IF(Input!B51<>\"\",Input!B51,\"-\")","v":"[Select Value]"}]
[{"$f":"Input!A52","v":"Seabed Topography"},{"$f":"IF(Input!B52<>\"\",Input!B52,\"-\")","v":"[Select Value]"}]
[{"$f":"Input!A53","v":"Accessibility"},{"$f":"IF(Input!B53<>\"\",Input!B53,\"-\")","v":"[Select Value]"}]
[]
["Time Step",0.25,"hours"]
["Period",{"$f":"B6/2","v":0},"days"]
[null,{"$f":"B14*24","v":0},"hours"]
["Number of Steps",{"$f":"B15/B13*2","v":0},"-"]
[]
["No.","Time",null,null,"Amplitude","Current","Power","Energy"]
[null,"Hours","Day","Time","m/s","m/s","kW/(m^2)","kWh/(m^2)"]
[0,{"$f":"A20*$B$13","v":0},{"$f":"ROUNDDOWN(A20*$B$1/24,0)","v":0},{"$f":"MOD(B20,24)/24","v":0},{"$f":"IF(A20<>\"\",($B$4+$B$5)/2+($B$5-$B$4)/2*COS(2*PI()/$B$15*B20),\"\")","v":{"$error":"#DIV/0!"}},{"$f":"IF(A20<>\"\",E20*COS(2*PI()/$B$7*B20),\"\")","v":{"$error":"#DIV/0!"}},{"$f":"ABS(0.5*1.025*1*(F20^3))","v":{"$error":"#DIV/0!"}},{"$f":"G20*$B$13","v":{"$error":"#DIV/0!"}}]
[{"$f":"IF(IF(A20<>\"\",A20+1<=$B$16,0),A20+1,\"\")","v":""},{"$f":"IF(A21<>\"\",A21*$B$13,\"\")","v":""},{"$f":"IF(A21<>\"\",ROUNDDOWN(A21*$B$13/24,0),\"\")","v":""},{"$f":"IF(A21<>\"\",MOD(B21,24)/24,\"\")","v":""},{"$f":"IF(A21<>\"\",($B$4+$B$5)/2+($B$5-$B$4)/2*COS(2*PI()/$B$15*B21),\"\")","v":""},{"$f":"IF(A21<>\"\",E21*COS(2*PI()/$B$7*B21),\"\")","v":""},{"$f":"ABS(0.5*1.025*1*(F21^3))","v":{"$error":"#VALUE!"}},{"$f":"G21*$B$13","v":{"$error":"#VALUE!"}}]
[{"$f":"IF(IF(A21<>\"\",A21+1<=$B$16,0),A21+1,\"\")","v":""},{"$f":"IF(A22<>\"\",A22*$B$13,\"\")","v":""},{"$f":"IF(A22<>\"\",ROUNDDOWN(A22*$B$13/24,0),\"\")","v":""},{"$f":"IF(A22<>\"\",MOD(B22,24)/24,\"\")","v":""},{"$f":"IF(A22<>\"\",($B$4+$B$5)/2+($B$5-$B$4)/2*COS(2*PI()/$B$15*B22),\"\")","v":""},{"$f":"IF(A22<>\"\",E22*COS(2*PI()/$B$7*B22),\"\")","v":""},{"$f":"ABS(0.5*1.025*1*(F22^3))","v":{"$error":"#VALUE!"}},{"$error":"#VALUE!"}]
["","","","","","",{"$error":"#VALUE!"},{"$error":"#VALUE!"}," "]
["","","","","","",{"$error":"#VALUE!"},{"$error":"#VALUE!"}]
["","","","","","",{"$error":"#VALUE!"},{"$error":"#VALUE!"}]
["","","","","","",{"$error":"#VALUE!"},{"$error":"#VALUE!"}]
["","","","","","",{"$error":"#VALUE!"},{"$error":"#VALUE!"}]
["","","","","","",{"$error":"#VALUE!"},{"$error":"#VALUE!"}]
["","","","","","",{"$error":"#VALUE!"},{"$error":"#VALUE!"}]
["","","","","","",{"$error":"#VALUE!"},{"$error":"#VALUE!"}]
["","","","","","",{"$error":"#VALUE!"},{"$error":"#VALUE!"}]
["","","","","","",{"$error":"#VALUE!"},{"$error":"#VALUE!"}]
["","","","","","",{"$error":"#VALUE!"},{"$error":"#VALUE!"}]
["","","","","","",{"$error":"#VALUE!"},{"$error":"#VALUE!"}]
["","","","","","",{"$error":"#VALUE!"},{"$error":"#VALUE!"}]
["","","","","","",{"$error":"#VALUE!"},{"$error":"#VALUE!"}]
["","","","","","",{"$error":"#VALUE!"},{"$error":"#VALUE!"}]
["","","","","","",{"$error":"#VALUE!"},{"$error":"#VALUE!"}]
["","","","","","",{"$error":"#VALUE!"},{"$error":"#VALUE!"}]
["","","","","","",{"$error":"#VALUE!"},{"$error":"#VALUE!"}]
["","","","","","",{"$error":"#VALUE!"},{"$error":"#VALUE!"}]
["","","","","","",{"$error":"#VALUE!"},{"$error":"#VALUE!"}]
["","","","","","",{"$error":"#VALUE!"},{"$error":"#VALUE!"}]
["","","","","","",{"$error":"#VALUE!"},{"$error":"#VALUE!"}]
["","","","","","",{"$error":"#VALUE!"},{"$error":"#VALUE!"}]
["","","","","","",{"$error":"#VALUE!"},{"$error":"#VALUE!"}]
["","","","","","",{"$error":"#VALUE!"},{"$error":"#VALUE!"}]
["","","","","","",{"$error":"#VALUE!"},{"$error":"#VALUE!"}]
["","","","","","",{"$error":"#VALUE!"},{"$error":"#VALUE!"}]
["","","","","","",{"$error":"#VALUE!"},{"$error":"#VALUE!"}]
["","","","","","",{"$error":"#VALUE!"},{"$error":"#VALUE!"}]
["","","","","","",{"$error":"#VALUE!"},{"$error":"#VALUE!"}]
["","","","","","",{"$error":"#VALUE!"},{"$error":"#VALUE!"}]
["","","","","","",{"$error":"#VALUE!"},{"$error":"#VALUE!"}]
["","","","","","",{"$error":"#VALUE!"},{"$error":"#VALUE!"}]
["","","","","","",{"$error":"#VALUE!"},{"$error":"#VALUE!"}]
["","","","","","",{"$error":"#VALUE!"},{"$error":"#VALUE!"}]
["","","","","","",{"$error":"#VALUE!"},{"$error":"#VALUE!"}]
["","","","","","",{"$error":"#VALUE!"},{"$error":"#VALUE!"}]
["","","","","","",{"$error":"#VALUE!"},{"$error":"#VALUE!"}]
["","","","","","",{"$error":"#VALUE!"},{"$error":"#VALUE!"}]
["","","","","","",{"$error":"#VALUE!"},{"$error":"#VALUE!"}]
["","","","","","",{"$error":"#VALUE!"},{"$error":"#VALUE!"}]
["","","","","","",{"$error":"#VALUE!"},{"$error":"#VALUE!"}]
["","","","","","",{"$error":"#VALUE!"},{"$error":"#VALUE!"}]
["","","","","","",{"$error":"#VALUE!"},{"$error":"#VALUE!"}]
["","","","","","",{"$error":"#VALUE!"},{"$error":"#VALUE!"}]
["","","","","","",{"$error":"#VALUE!"},{"$error":"#VALUE!"}]
["","","","","","",{"$error":"#VALUE!"},{"$error":"#VALUE!"}]
["","","","","","",{"$error":"#VALUE!"},{"$error":"#VALUE!"}]
["","","","","","",{"$error":"#VALUE!"},{"$error":"#VALUE!"}]
["","","","","","",{"$error":"#VALUE!"},{"$error":"#VALUE!"}]
["","","","","","",{"$error":"#VALUE!"},{"$error":"#VALUE!"}]
["","","","","","",{"$error":"#VALUE!"},{"$error":"#VALUE!"}]
["","","","","","",{"$error":"#VALUE!"},{"$error":"#VALUE!"}]
["","","","","","",{"$error":"#VALUE!"},{"$error":"#VALUE!"}]
["","","","","","",{"$error":"#VALUE!"},{"$error":"#VALUE!"}]
["","","","","","",{"$error":"#VALUE!"},{"$error":"#VALUE!"}]
["","","","","","",{"$error":"#VALUE!"},{"$error":"#VALUE!"}]
["","","","","","",{"$error":"#VALUE!"},{"$error":"#VALUE!"}]
["","","","","","",{"$error":"#VALUE!"},{"$error":"#VALUE!"}]
["","","","","","",{"$error":"#VALUE!"},{"$error":"#VALUE!"}]
["","","","","","",{"$error":"#VALUE!"},{"$error":"#VALUE!"}]
["","","","","","",{"$error":"#VALUE!"},{"$error":"#VALUE!"}]
["","","","","","",{"$error":"#VALUE!"},{"$f":"G85*$B$13","v":{"$error":"#VALUE!"}}]
[{"$f":"IF(IF(A85<>\"\",A85+1<=$B$16,0),A85+1,\"\")","v":""},{"$f":"IF(A86<>\"\",A86*$B$13,\"\")","v":""},{"$f":"IF(A86<>\"\",ROUNDDOWN(A86*$B$13/24,0),\"\")","v":""},{"$f":"IF(A86<>\"\",MOD(B86,24)/24,\"\")","v":""},{"$f":"IF(A86<>\"\",($B$4+$B$5)/2+($B$5-$B$4)/2*COS(2*PI()/$B$15*B86),\"\")","v":""},{"$f":"IF(A86<>\"\",E86*COS(2*PI()/$B$7*B86),\"\")","v":""},{"$f":"ABS(0.5*1.025*1*(F86^3))","v":{"$error":"#VALUE!"}},{"$error":"#VALUE!"}]
["","","","","","",{"$error":"#VALUE!"},{"$error":"#VALUE!"}]
["","","","","","",{"$error":"#VALUE!"},{"$error":"#VALUE!"}]
["","","","","","",{"$error":"#VALUE!"},{"$error":"#VALUE!"}]
["","","","","","",{"$error":"#VALUE!"},{"$error":"#VALUE!"}]
["","","","","","",{"$error":"#VALUE!"},{"$error":"#VALUE!"}]
["","","","","","",{"$error":"#VALUE!"},{"$error":"#VALUE!"}]
["","","","","","",{"$error":"#VALUE!"},{"$error":"#VALUE!"}]
["","","","","","",{"$error":"#VALUE!"},{"$error":"#VALUE!"}]
["","","","","","",{"$error":"#VALUE!"},{"$error":"#VALUE!"}]
["","","","","","",{"$error":"#VALUE!"},{"$error":"#VALUE!"}]
["","","","","","",{"$error":"#VALUE!"},{"$error":"#VALUE!"}]
["","","","","","",{"$error":"#VALUE!"},{"$error":"#VALUE!"}]
["","","","","","",{"$error":"#VALUE!"},{"$error":"#VALUE!"}]
["","","","","","",{"$error":"#VALUE!"},{"$error":"#VALUE!"}]
["","","","","","",{"$error":"#VALUE!"},{"$error":"#VALUE!"}]
["","","","","","",{"$error":"#VALUE!"},{"$error":"#VALUE!"}]
["","","","","","",{"$error":"#VALUE!"},{"$error":"#VALUE!"}]
["","","","","","",{"$error":"#VALUE!"},{"$error":"#VALUE!"}]
["","","","","","",{"$error":"#VALUE!"},{"$error":"#VALUE!"}]
["","","","","","",{"$error":"#VALUE!"},{"$error":"#VALUE!"}]
["","","","","","",{"$error":"#VALUE!"},{"$error":"#VALUE!"}]
["","","","","","",{"$error":"#VALUE!"},{"$error":"#VALUE!"}]
["","","","","","",{"$error":"#VALUE!"},{"$error":"#VALUE!"}]
["","","","","","",{"$error":"#VALUE!"},{"$error":"#VALUE!"}]
["","","","","","",{"$error":"#VALUE!"},{"$error":"#VALUE!"}]
["","","","","","",{"$error":"#VALUE!"},{"$error":"#VALUE!"}]
["","","","","","",{"$error":"#VALUE!"},{"$error":"#VALUE!"}]
["","","","","","",{"$error":"#VALUE!"},{"$error":"#VALUE!"}]
["","","","","","",{"$error":"#VALUE!"},{"$error":"#VALUE!"}]
["","","","","","",{"$error":"#VALUE!"},{"$error":"#VALUE!"}]
["","","","","","",{"$error":"#VALUE!"},{"$error":"#VALUE!"}]
["","","","","","",{"$error":"#VALUE!"},{"$error":"#VALUE!"}]
["","","","","","",{"$error":"#VALUE!"},{"$error":"#VALUE!"}]
["","","","","","",{"$error":"#VALUE!"},{"$error":"#VALUE!"}]
["","","","","","",{"$error":"#VALUE!"},{"$error":"#VALUE!"}]
["","","","","","",{"$error":"#VALUE!"},{"$error":"#VALUE!"}]
["","","","","","",{"$error":"#VALUE!"},{"$error":"#VALUE!"}]
["","","","","","",{"$error":"#VALUE!"},{"$error":"#VALUE!"}]
["","","","","","",{"$error":"#VALUE!"},{"$error":"#VALUE!"}]
["","","","","","",{"$error":"#VALUE!"},{"$error":"#VALUE!"}]
["","","","","","",{"$error":"#VALUE!"},{"$error":"#VALUE!"}]
["","","","","","",{"$error":"#VALUE!"},{"$error":"#VALUE!"}]
["","","","","","",{"$error":"#VALUE!"},{"$error":"#VALUE!"}]
["","","","","","",{"$error":"#VALUE!"},{"$error":"#VALUE!"}]
["","","","","","",{"$error":"#VALUE!"},{"$error":"#VALUE!"}]
["","","","","","",{"$error":"#VALUE!"},{"$error":"#VALUE!"}]
["","","","","","",{"$error":"#VALUE!"},{"$error":"#VALUE!"}]
["","","","","","",{"$error":"#VALUE!"},{"$error":"#VALUE!"}]
["","","","","","",{"$error":"#VALUE!"},{"$error":"#VALUE!"}]
["","","","","","",{"$error":"#VALUE!"},{"$error":"#VALUE!"}]
["","","","","","",{"$error":"#VALUE!"},{"$error":"#VALUE!"}]
["","","","","","",{"$error":"#VALUE!"},{"$error":"#VALUE!"}]
["","","","","","",{"$error":"#VALUE!"},{"$error":"#VALUE!"}]
["","","","","","",{"$error":"#VALUE!"},{"$error":"#VALUE!"}]
["","","","","","",{"$error":"#VALUE!"},{"$error":"#VALUE!"}]
["","","","","","",{"$error":"#VALUE!"},{"$error":"#VALUE!"}]
["","","","","","",{"$error":"#VALUE!"},{"$error":"#VALUE!"}]
["","","","","","",{"$error":"#VALUE!"},{"$error":"#VALUE!"}]
["","","","","","",{"$error":"#VALUE!"},{"$error":"#VALUE!"}]
["","","","","","",{"$error":"#VALUE!"},{"$error":"#VALUE!"}]
["","","","","","",{"$error":"#VALUE!"},{"$error":"#VALUE!"}]
["","","","","","",{"$error":"#VALUE!"},{"$error":"#VALUE!"}]
["","","","","","",{"$error":"#VALUE!"},{"$f":"G149*$B$13","v":{"$error":"#VALUE!"}}]
[{"$f":"IF(IF(A149<>\"\",A149+1<=$B$16,0),A149+1,\"\")","v":""},{"$f":"IF(A150<>\"\",A150*$B$13,\"\")","v":""},{"$f":"IF(A150<>\"\",ROUNDDOWN(A150*$B$13/24,0),\"\")","v":""},{"$f":"IF(A150<>\"\",MOD(B150,24)/24,\"\")","v":""},{"$f":"IF(A150<>\"\",($B$4+$B$5)/2+($B$5-$B$4)/2*COS(2*PI()/$B$15*B150),\"\")","v":""},{"$f":"IF(A150<>\"\",E150*COS(2*PI()/$B$7*B150),\"\")","v":""},{"$f":"ABS(0.5*1.025*1*(F150^3))","v":{"$error":"#VALUE!"}},{"$error":"#VALUE!"}]
["","","","","","",{"$error":"#VALUE!"},{"$error":"#VALUE!"}]
["","","","","","",{"$error":"#VALUE!"},{"$error":"#VALUE!"}]
["","","","","","",{"$error":"#VALUE!"},{"$error":"#VALUE!"}]
["","","","","","",{"$error":"#VALUE!"},{"$error":"#VALUE!"}]
["","","","","","",{"$error":"#VALUE!"},{"$error":"#VALUE!"}]
["","","","","","",{"$error":"#VALUE!"},{"$error":"#VALUE!"}]
["","","","","","",{"$error":"#VALUE!"},{"$error":"#VALUE!"}]
["","","","","","",{"$error":"#VALUE!"},{"$error":"#VALUE!"}]
["","","","","","",{"$error":"#VALUE!"},{"$error":"#VALUE!"}]
["","","","","","",{"$error":"#VALUE!"},{"$error":"#VALUE!"}]
["","","","","","",{"$error":"#VALUE!"},{"$error":"#VALUE!"}]
["","","","","","",{"$error":"#VALUE!"},{"$error":"#VALUE!"}]
["","","","","","",{"$error":"#VALUE!"},{"$error":"#VALUE!"}]
["","","","","","",{"$error":"#VALUE!"},{"$error":"#VALUE!"}]
["","","","","","",{"$error":"#VALUE!"},{"$error":"#VALUE!"}]
["","","","","","",{"$error":"#VALUE!"},{"$error":"#VALUE!"}]
["","","","","","",{"$error":"#VALUE!"},{"$error":"#VALUE!"}]
["","","","","","",{"$error":"#VALUE!"},{"$error":"#VALUE!"}]
["","","","","","",{"$error":"#VALUE!"},{"$error":"#VALUE!"}]
["","","","","","",{"$error":"#VALUE!"},{"$error":"#VALUE!"}]
["","","","","","",{"$error":"#VALUE!"},{"$error":"#VALUE!"}]
["","","","","","",{"$error":"#VALUE!"},{"$error":"#VALUE!"}]
["","","","","","",{"$error":"#VALUE!"},{"$error":"#VALUE!"}]
["","","","","","",{"$error":"#VALUE!"},{"$error":"#VALUE!"}]
["","","","","","",{"$error":"#VALUE!"},{"$error":"#VALUE!"}]
["","","","","","",{"$error":"#VALUE!"},{"$error":"#VALUE!"}]
["","","","","","",{"$error":"#VALUE!"},{"$error":"#VALUE!"}]
["","","","","","",{"$error":"#VALUE!"},{"$error":"#VALUE!"}]
["","","","","","",{"$error":"#VALUE!"},{"$error":"#VALUE!"}]
["","","","","","",{"$error":"#VALUE!"},{"$error":"#VALUE!"}]
["","","","","","",{"$error":"#VALUE!"},{"$error":"#VALUE!"}]
["","","","","","",{"$error":"#VALUE!"},{"$error":"#VALUE!"}]
["","","","","","",{"$error":"#VALUE!"},{"$error":"#VALUE!"}]
["","","","","","",{"$error":"#VALUE!"},{"$error":"#VALUE!"}]
["","","","","","",{"$error":"#VALUE!"},{"$error":"#VALUE!"}]
["","","","","","",{"$error":"#VALUE!"},{"$error":"#VALUE!"}]
["","","","","","",{"$error":"#VALUE!"},{"$error":"#VALUE!"}]
["","","","","","",{"$error":"#VALUE!"},{"$error":"#VALUE!"}]
["","","","","","",{"$error":"#VALUE!"},{"$error":"#VALUE!"}]
["","","","","","",{"$error":"#VALUE!"},{"$error":"#VALUE!"}]
["","","","","","",{"$error":"#VALUE!"},{"$error":"#VALUE!"}]
["","","","","","",{"$error":"#VALUE!"},{"$error":"#VALUE!"}]
["","","","","","",{"$error":"#VALUE!"},{"$error":"#VALUE!"}]
["","","","","","",{"$error":"#VALUE!"},{"$error":"#VALUE!"}]
["","","","","","",{"$error":"#VALUE!"},{"$error":"#VALUE!"}]
["","","","","","",{"$error":"#VALUE!"},{"$error":"#VALUE!"}]
["","","","","","",{"$error":"#VALUE!"},{"$error":"#VALUE!"}]
["","","","","","",{"$error":"#VALUE!"},{"$error":"#VALUE!"}]
["","","","","","",{"$error":"#VALUE!"},{"$error":"#VALUE!"}]
["","","","","","",{"$error":"#VALUE!"},{"$error":"#VALUE!"}]
["","","","","","",{"$error":"#VALUE!"},{"$error":"#VALUE!"}]
["","","","","","",{"$error":"#VALUE!"},{"$error":"#VALUE!"}]
["","","","","","",{"$error":"#VALUE!"},{"$error":"#VALUE!"}]
["","","","","","",{"$error":"#VALUE!"},{"$error":"#VALUE!"}]
["","","","","","",{"$error":"#VALUE!"},{"$error":"#VALUE!"}]
["","","","","","",{"$error":"#VALUE!"},{"$error":"#VALUE!"}]
["","","","","","",{"$error":"#VALUE!"},{"$error":"#VALUE!"}]
["","","","","","",{"$error":"#VALUE!"},{"$error":"#VALUE!"}]
["","","","","","",{"$error":"#VALUE!"},{"$error":"#VALUE!"}]
["","","","","","",{"$error":"#VALUE!"},{"$error":"#VALUE!"}]
["","","","","","",{"$error":"#VALUE!"},{"$error":"#VALUE!"}]
["","","","","","",{"$error":"#VALUE!"},{"$error":"#VALUE!"}]
["","","","","","",{"$error":"#VALUE!"},{"$f":"G213*$B$13","v":{"$error":"#VALUE!"}}]
[{"$f":"IF(IF(A213<>\"\",A213+1<=$B$16,0),A213+1,\"\")","v":""},{"$f":"IF(A214<>\"\",A214*$B$13,\"\")","v":""},{"$f":"IF(A214<>\"\",ROUNDDOWN(A214*$B$13/24,0),\"\")","v":""},{"$f":"IF(A214<>\"\",MOD(B214,24)/24,\"\")","v":""},{"$f":"IF(A214<>\"\",($B$4+$B$5)/2+($B$5-$B$4)/2*COS(2*PI()/$B$15*B214),\"\")","v":""},{"$f":"IF(A214<>\"\",E214*COS(2*PI()/$B$7*B214),\"\")","v":""},{"$f":"ABS(0.5*1.025*1*(F214^3))","v":{"$error":"#VALUE!"}},{"$error":"#VALUE!"}]
["","","","","","",{"$error":"#VALUE!"},{"$error":"#VALUE!"}]
["","","","","","",{"$error":"#VALUE!"},{"$error":"#VALUE!"}]
["","","","","","",{"$error":"#VALUE!"},{"$error":"#VALUE!"}]
["","","","","","",{"$error":"#VALUE!"},{"$error":"#VALUE!"}]
["","","","","","",{"$error":"#VALUE!"},{"$error":"#VALUE!"}]
["","","","","","",{"$error":"#VALUE!"},{"$error":"#VALUE!"}]
["","","","","","",{"$error":"#VALUE!"},{"$error":"#VALUE!"}]
["","","","","","",{"$error":"#VALUE!"},{"$error":"#VALUE!"}]
["","","","","","",{"$error":"#VALUE!"},{"$error":"#VALUE!"}]
["","","","","","",{"$error":"#VALUE!"},{"$error":"#VALUE!"}]
["","","","","","",{"$error":"#VALUE!"},{"$error":"#VALUE!"}]
["","","","","","",{"$error":"#VALUE!"},{"$error":"#VALUE!"}]
["","","","","","",{"$error":"#VALUE!"},{"$error":"#VALUE!"}]
["","","","","","",{"$error":"#VALUE!"},{"$error":"#VALUE!"}]
["","","","","","",{"$error":"#VALUE!"},{"$error":"#VALUE!"}]
["","","","","","",{"$error":"#VALUE!"},{"$error":"#VALUE!"}]
["","","","","","",{"$error":"#VALUE!"},{"$error":"#VALUE!"}]
["","","","","","",{"$error":"#VALUE!"},{"$error":"#VALUE!"}]
["","","","","","",{"$error":"#VALUE!"},{"$error":"#VALUE!"}]
["","","","","","",{"$error":"#VALUE!"},{"$error":"#VALUE!"}]
["","","","","","",{"$error":"#VALUE!"},{"$error":"#VALUE!"}]
["","","","","","",{"$error":"#VALUE!"},{"$error":"#VALUE!"}]
["","","","","","",{"$error":"#VALUE!"},{"$error":"#VALUE!"}]
["","","","","","",{"$error":"#VALUE!"},{"$error":"#VALUE!"}]
["","","","","","",{"$error":"#VALUE!"},{"$error":"#VALUE!"}]
["","","","","","",{"$error":"#VALUE!"},{"$error":"#VALUE!"}]
["","","","","","",{"$error":"#VALUE!"},{"$error":"#VALUE!"}]
["","","","","","",{"$error":"#VALUE!"},{"$error":"#VALUE!"}]
["","","","","","",{"$error":"#VALUE!"},{"$error":"#VALUE!"}]
["","","","","","",{"$error":"#VALUE!"},{"$error":"#VALUE!"}]
["","","","","","",{"$error":"#VALUE!"},{"$error":"#VALUE!"}]
["","","","","","",{"$error":"#VALUE!"},{"$error":"#VALUE!"}]
["","","","","","",{"$error":"#VALUE!"},{"$error":"#VALUE!"}]
["","","","","","",{"$error":"#VALUE!"},{"$error":"#VALUE!"}]
["","","","","","",{"$error":"#VALUE!"},{"$error":"#VALUE!"}]
["","","","","","",{"$error":"#VALUE!"},{"$error":"#VALUE!"}]
["","","","","","",{"$error":"#VALUE!"},{"$error":"#VALUE!"}]
["","","","","","",{"$error":"#VALUE!"},{"$error":"#VALUE!"}]
["","","","","","",{"$error":"#VALUE!"},{"$error":"#VALUE!"}]
["","","","","","",{"$error":"#VALUE!"},{"$error":"#VALUE!"}]
["","","","","","",{"$error":"#VALUE!"},{"$error":"#VALUE!"}]
["","","","","","",{"$error":"#VALUE!"},{"$error":"#VALUE!"}]
["","","","","","",{"$error":"#VALUE!"},{"$error":"#VALUE!"}]
["","","","","","",{"$error":"#VALUE!"},{"$error":"#VALUE!"}]
["","","","","","",{"$error":"#VALUE!"},{"$error":"#VALUE!"}]
["","","","","","",{"$error":"#VALUE!"},{"$error":"#VALUE!"}]
["","","","","","",{"$error":"#VALUE!"},{"$error":"#VALUE!"}]
["","","","","","",{"$error":"#VALUE!"},{"$error":"#VALUE!"}]
["","","","","","",{"$error":"#VALUE!"},{"$error":"#VALUE!"}]
["","","","","","",{"$error":"#VALUE!"},{"$error":"#VALUE!"}]
["","","","","","",{"$error":"#VALUE!"},{"$error":"#VALUE!"}]
["","","","","","",{"$error":"#VALUE!"},{"$error":"#VALUE!"}]
["","","","","","",{"$error":"#VALUE!"},{"$error":"#VALUE!"}]
["","","","","","",{"$error":"#VALUE!"},{"$error":"#VALUE!"}]
["","","","","","",{"$error":"#VALUE!"},{"$error":"#VALUE!"}]
["","","","","","",{"$error":"#VALUE!"},{"$error":"#VALUE!"}]
["","","","","","",{"$error":"#VALUE!"},{"$error":"#VALUE!"}]
["","","","","","",{"$error":"#VALUE!"},{"$error":"#VALUE!"}]
["","","","","","",{"$error":"#VALUE!"},{"$error":"#VALUE!"}]
["","","","","","",{"$error":"#VALUE!"},{"$error":"#VALUE!"}]
["","","","","","",{"$error":"#VALUE!"},{"$error":"#VALUE!"}]
["","","","","","",{"$error":"#VALUE!"},{"$error":"#VALUE!"}]
["","","","","","",{"$error":"#VALUE!"},{"$f":"G277*$B$13","v":{"$error":"#VALUE!"}}]
[{"$f":"IF(IF(A277<>\"\",A277+1<=$B$16,0),A277+1,\"\")","v":""},{"$f":"IF(A278<>\"\",A278*$B$13,\"\")","v":""},{"$f":"IF(A278<>\"\",ROUNDDOWN(A278*$B$13/24,0),\"\")","v":""},{"$f":"IF(A278<>\"\",MOD(B278,24)/24,\"\")","v":""},{"$f":"IF(A278<>\"\",($B$4+$B$5)/2+($B$5-$B$4)/2*COS(2*PI()/$B$15*B278),\"\")","v":""},{"$f":"IF(A278<>\"\",E278*COS(2*PI()/$B$7*B278),\"\")","v":""},{"$f":"ABS(0.5*1.025*1*(F278^3))","v":{"$error":"#VALUE!"}},{"$error":"#VALUE!"}]
["","","","","","",{"$error":"#VALUE!"},{"$error":"#VALUE!"}]
["","","","","","",{"$error":"#VALUE!"},{"$error":"#VALUE!"}]
["","","","","","",{"$error":"#VALUE!"},{"$error":"#VALUE!"}]
["","","","","","",{"$error":"#VALUE!"},{"$error":"#VALUE!"}]
["","","","","","",{"$error":"#VALUE!"},{"$error":"#VALUE!"}]
["","","","","","",{"$error":"#VALUE!"},{"$error":"#VALUE!"}]
["","","","","","",{"$error":"#VALUE!"},{"$error":"#VALUE!"}]
["","","","","","",{"$error":"#VALUE!"},{"$error":"#VALUE!"}]
["","","","","","",{"$error":"#VALUE!"},{"$error":"#VALUE!"}]
["","","","","","",{"$error":"#VALUE!"},{"$error":"#VALUE!"}]
["","","","","","",{"$error":"#VALUE!"},{"$error":"#VALUE!"}]
["","","","","","",{"$error":"#VALUE!"},{"$error":"#VALUE!"}]
["","","","","","",{"$error":"#VALUE!"},{"$error":"#VALUE!"}]
["","","","","","",{"$error":"#VALUE!"},{"$error":"#VALUE!"}]
["","","","","","",{"$error":"#VALUE!"},{"$error":"#VALUE!"}]
["","","","","","",{"$error":"#VALUE!"},{"$error":"#VALUE!"}]
["","","","","","",{"$error":"#VALUE!"},{"$error":"#VALUE!"}]
["","","","","","",{"$error":"#VALUE!"},{"$error":"#VALUE!"}]
["","","","","","",{"$error":"#VALUE!"},{"$error":"#VALUE!"}]
["","","","","","",{"$error":"#VALUE!"},{"$error":"#VALUE!"}]
["","","","","","",{"$error":"#VALUE!"},{"$error":"#VALUE!"}]
["","","","","","",{"$error":"#VALUE!"},{"$error":"#VALUE!"}]
["","","","","","",{"$error":"#VALUE!"},{"$error":"#VALUE!"}]
["","","","","","",{"$error":"#VALUE!"},{"$error":"#VALUE!"}]
["","","","","","",{"$error":"#VALUE!"},{"$error":"#VALUE!"}]
["","","","","","",{"$error":"#VALUE!"},{"$error":"#VALUE!"}]
["","","","","","",{"$error":"#VALUE!"},{"$error":"#VALUE!"}]
["","","","","","",{"$error":"#VALUE!"},{"$error":"#VALUE!"}]
["","","","","","",{"$error":"#VALUE!"},{"$error":"#VALUE!"}]
["","","","","","",{"$error":"#VALUE!"},{"$error":"#VALUE!"}]
["","","","","","",{"$error":"#VALUE!"},{"$error":"#VALUE!"}]
["","","","","","",{"$error":"#VALUE!"},{"$error":"#VALUE!"}]
["","","","","","",{"$error":"#VALUE!"},{"$error":"#VALUE!"}]
["","","","","","",{"$error":"#VALUE!"},{"$error":"#VALUE!"}]
["","","","","","",{"$error":"#VALUE!"},{"$error":"#VALUE!"}]
["","","","","","",{"$error":"#VALUE!"},{"$error":"#VALUE!"}]
["","","","","","",{"$error":"#VALUE!"},{"$error":"#VALUE!"}]
["","","","","","",{"$error":"#VALUE!"},{"$error":"#VALUE!"}]
["","","","","","",{"$error":"#VALUE!"},{"$error":"#VALUE!"}]
["","","","","","",{"$error":"#VALUE!"},{"$error":"#VALUE!"}]
["","","","","","",{"$error":"#VALUE!"},{"$error":"#VALUE!"}]
["","","","","","",{"$error":"#VALUE!"},{"$error":"#VALUE!"}]
["","","","","","",{"$error":"#VALUE!"},{"$error":"#VALUE!"}]
["","","","","","",{"$error":"#VALUE!"},{"$error":"#VALUE!"}]
["","","","","","",{"$error":"#VALUE!"},{"$error":"#VALUE!"}]
["","","","","","",{"$error":"#VALUE!"},{"$error":"#VALUE!"}]
["","","","","","",{"$error":"#VALUE!"},{"$error":"#VALUE!"}]
["","","","","","",{"$error":"#VALUE!"},{"$error":"#VALUE!"}]
["","","","","","",{"$error":"#VALUE!"},{"$error":"#VALUE!"}]
["","","","","","",{"$error":"#VALUE!"},{"$error":"#VALUE!"}]
["","","","","","",{"$error":"#VALUE!"},{"$error":"#VALUE!"}]
["","","","","","",{"$error":"#VALUE!"},{"$error":"#VALUE!"}]
["","","","","","",{"$error":"#VALUE!"},{"$error":"#VALUE!"}]
["","","","","","",{"$error":"#VALUE!"},{"$error":"#VALUE!"}]
["","","","","","",{"$error":"#VALUE!"},{"$error":"#VALUE!"}]
["","","","","","",{"$error":"#VALUE!"},{"$error":"#VALUE!"}]
["","","","","","",{"$error":"#VALUE!"},{"$error":"#VALUE!"}]
["","","","","","",{"$error":"#VALUE!"},{"$error":"#VALUE!"}]
["","","","","","",{"$error":"#VALUE!"},{"$error":"#VALUE!"}]
["","","","","","",{"$error":"#VALUE!"},{"$error":"#VALUE!"}]
["","","","","","",{"$error":"#VALUE!"},{"$error":"#VALUE!"}]
["","","","","","",{"$error":"#VALUE!"},{"$error":"#VALUE!"}]
["","","","","","",{"$error":"#VALUE!"},{"$f":"G341*$B$13","v":{"$error":"#VALUE!"}}]
[{"$f":"IF(IF(A341<>\"\",A341+1<=$B$16,0),A341+1,\"\")","v":""},{"$f":"IF(A342<>\"\",A342*$B$13,\"\")","v":""},{"$f":"IF(A342<>\"\",ROUNDDOWN(A342*$B$13/24,0),\"\")","v":""},{"$f":"IF(A342<>\"\",MOD(B342,24)/24,\"\")","v":""},{"$f":"IF(A342<>\"\",($B$4+$B$5)/2+($B$5-$B$4)/2*COS(2*PI()/$B$15*B342),\"\")","v":""},{"$f":"IF(A342<>\"\",E342*COS(2*PI()/$B$7*B342),\"\")","v":""},{"$f":"ABS(0.5*1.025*1*(F342^3))","v":{"$error":"#VALUE!"}},{"$error":"#VALUE!"}]
["","","","","","",{"$error":"#VALUE!"},{"$error":"#VALUE!"}]
["","","","","","",{"$error":"#VALUE!"},{"$error":"#VALUE!"}]
["","","","","","",{"$error":"#VALUE!"},{"$error":"#VALUE!"}]
["","","","","","",{"$error":"#VALUE!"},{"$error":"#VALUE!"}]
["","","","","","",{"$error":"#VALUE!"},{"$error":"#VALUE!"}]
["","","","","","",{"$error":"#VALUE!"},{"$error":"#VALUE!"}]
["","","","","","",{"$error":"#VALUE!"},{"$error":"#VALUE!"}]
["","","","","","",{"$error":"#VALUE!"},{"$error":"#VALUE!"}]
["","","","","","",{"$error":"#VALUE!"},{"$error":"#VALUE!"}]
["","","","","","",{"$error":"#VALUE!"},{"$error":"#VALUE!"}]
["","","","","","",{"$error":"#VALUE!"},{"$error":"#VALUE!"}]
["","","","","","",{"$error":"#VALUE!"},{"$error":"#VALUE!"}]
["","","","","","",{"$error":"#VALUE!"},{"$error":"#VALUE!"}]
["","","","","","",{"$error":"#VALUE!"},{"$error":"#VALUE!"}]
["","","","","","",{"$error":"#VALUE!"},{"$error":"#VALUE!"}]
["","","","","","",{"$error":"#VALUE!"},{"$error":"#VALUE!"}]
["","","","","","",{"$error":"#VALUE!"},{"$error":"#VALUE!"}]
["","","","","","",{"$error":"#VALUE!"},{"$error":"#VALUE!"}]
["","","","","","",{"$error":"#VALUE!"},{"$error":"#VALUE!"}]
["","","","","","",{"$error":"#VALUE!"},{"$error":"#VALUE!"}]
["","","","","","",{"$error":"#VALUE!"},{"$error":"#VALUE!"}]
["","","","","","",{"$error":"#VALUE!"},{"$error":"#VALUE!"}]
["","","","","","",{"$error":"#VALUE!"},{"$error":"#VALUE!"}]
["","","","","","",{"$error":"#VALUE!"},{"$error":"#VALUE!"}]
["","","","","","",{"$error":"#VALUE!"},{"$error":"#VALUE!"}]
["","","","","","",{"$error":"#VALUE!"},{"$error":"#VALUE!"}]
["","","","","","",{"$error":"#VALUE!"},{"$error":"#VALUE!"}]
["","","","","","",{"$error":"#VALUE!"},{"$error":"#VALUE!"}]
["","","","","","",{"$error":"#VALUE!"},{"$error":"#VALUE!"}]
["","","","","","",{"$error":"#VALUE!"},{"$error":"#VALUE!"}]
["","","","","","",{"$error":"#VALUE!"},{"$error":"#VALUE!"}]
["","","","","","",{"$error":"#VALUE!"},{"$error":"#VALUE!"}]
["","","","","","",{"$error":"#VALUE!"},{"$error":"#VALUE!"}]
["","","","","","",{"$error":"#VALUE!"},{"$error":"#VALUE!"}]
["","","","","","",{"$error":"#VALUE!"},{"$error":"#VALUE!"}]
["","","","","","",{"$error":"#VALUE!"},{"$error":"#VALUE!"}]
["","","","","","",{"$error":"#VALUE!"},{"$error":"#VALUE!"}]
["","","","","","",{"$error":"#VALUE!"},{"$error":"#VALUE!"}]
["","","","","","",{"$error":"#VALUE!"},{"$error":"#VALUE!"}]
["","","","","","",{"$error":"#VALUE!"},{"$error":"#VALUE!"}]
["","","","","","",{"$error":"#VALUE!"},{"$error":"#VALUE!"}]
["","","","","","",{"$error":"#VALUE!"},{"$error":"#VALUE!"}]
["","","","","","",{"$error":"#VALUE!"},{"$error":"#VALUE!"}]
["","","","","","",{"$error":"#VALUE!"},{"$error":"#VALUE!"}]
["","","","","","",{"$error":"#VALUE!"},{"$error":"#VALUE!"}]
["","","","","","",{"$error":"#VALUE!"},{"$error":"#VALUE!"}]
["","","","","","",{"$error":"#VALUE!"},{"$error":"#VALUE!"}]
["","","","","","",{"$error":"#VALUE!"},{"$error":"#VALUE!"}]
["","","","","","",{"$error":"#VALUE!"},{"$error":"#VALUE!"}]
["","","","","","",{"$error":"#VALUE!"},{"$error":"#VALUE!"}]
["","","","","","",{"$error":"#VALUE!"},{"$error":"#VALUE!"}]
["","","","","","",{"$error":"#VALUE!"},{"$error":"#VALUE!"}]
["","","","","","",{"$error":"#VALUE!"},{"$error":"#VALUE!"}]
["","","","","","",{"$error":"#VALUE!"},{"$error":"#VALUE!"}]
["","","","","","",{"$error":"#VALUE!"},{"$error":"#VALUE!"}]
["","","","","","",{"$error":"#VALUE!"},{"$error":"#VALUE!"}]
["","","","","","",{"$error":"#VALUE!"},{"$error":"#VALUE!"}]
["","","","","","",{"$error":"#VALUE!"},{"$error":"#VALUE!"}]
["","","","","","",{"$error":"#VALUE!"},{"$error":"#VALUE!"}]
["","","","","","",{"$error":"#VALUE!"},{"$error":"#VALUE!"}]
["","","","","","",{"$error":"#VALUE!"},{"$error":"#VALUE!"}]
["","","","","","",{"$error":"#VALUE!"},{"$error":"#VALUE!"}]
["","","","","","",{"$error":"#VALUE!"},{"$f":"G405*$B$13","v":{"$error":"#VALUE!"}}]
[{"$f":"IF(IF(A405<>\"\",A405+1<=$B$16,0),A405+1,\"\")","v":""},{"$f":"IF(A406<>\"\",A406*$B$13,\"\")","v":""},{"$f":"IF(A406<>\"\",ROUNDDOWN(A406*$B$13/24,0),\"\")","v":""},{"$f":"IF(A406<>\"\",MOD(B406,24)/24,\"\")","v":""},{"$f":"IF(A406<>\"\",($B$4+$B$5)/2+($B$5-$B$4)/2*COS(2*PI()/$B$15*B406),\"\")","v":""},{"$f":"IF(A406<>\"\",E406*COS(2*PI()/$B$7*B406),\"\")","v":""},{"$f":"ABS(0.5*1.025*1*(F406^3))","v":{"$error":"#VALUE!"}},{"$error":"#VALUE!"}]
["","","","","","",{"$error":"#VALUE!"},{"$error":"#VALUE!"}]
["","","","","","",{"$error":"#VALUE!"},{"$error":"#VALUE!"}]
["","","","","","",{"$error":"#VALUE!"},{"$error":"#VALUE!"}]
["","","","","","",{"$error":"#VALUE!"},{"$error":"#VALUE!"}]
["","","","","","",{"$error":"#VALUE!"},{"$error":"#VALUE!"}]
["","","","","","",{"$error":"#VALUE!"},{"$error":"#VALUE!"}]
["","","","","","",{"$error":"#VALUE!"},{"$error":"#VALUE!"}]
["","","","","","",{"$error":"#VALUE!"},{"$error":"#VALUE!"}]
["","","","","","",{"$error":"#VALUE!"},{"$error":"#VALUE!"}]
["","","","","","",{"$error":"#VALUE!"},{"$error":"#VALUE!"}]
["","","","","","",{"$error":"#VALUE!"},{"$error":"#VALUE!"}]
["","","","","","",{"$error":"#VALUE!"},{"$error":"#VALUE!"}]
["","","","","","",{"$error":"#VALUE!"},{"$error":"#VALUE!"}]
["","","","","","",{"$error":"#VALUE!"},{"$error":"#VALUE!"}]
["","","","","","",{"$error":"#VALUE!"},{"$error":"#VALUE!"}]
["","","","","","",{"$error":"#VALUE!"},{"$error":"#VALUE!"}]
["","","","","","",{"$error":"#VALUE!"},{"$error":"#VALUE!"}]
["","","","","","",{"$error":"#VALUE!"},{"$error":"#VALUE!"}]
["","","","","","",{"$error":"#VALUE!"},{"$error":"#VALUE!"}]
["","","","","","",{"$error":"#VALUE!"},{"$error":"#VALUE!"}]
["","","","","","",{"$error":"#VALUE!"},{"$error":"#VALUE!"}]
["","","","","","",{"$error":"#VALUE!"},{"$error":"#VALUE!"}]
["","","","","","",{"$error":"#VALUE!"},{"$error":"#VALUE!"}]
["","","","","","",{"$error":"#VALUE!"},{"$error":"#VALUE!"}]
["","","","","","",{"$error":"#VALUE!"},{"$error":"#VALUE!"}]
["","","","","","",{"$error":"#VALUE!"},{"$error":"#VALUE!"}]
["","","","","","",{"$error":"#VALUE!"},{"$error":"#VALUE!"}]
["","","","","","",{"$error":"#VALUE!"},{"$error":"#VALUE!"}]
["","","","","","",{"$error":"#VALUE!"},{"$error":"#VALUE!"}]
["","","","","","",{"$error":"#VALUE!"},{"$error":"#VALUE!"}]
["","","","","","",{"$error":"#VALUE!"},{"$error":"#VALUE!"}]
["","","","","","",{"$error":"#VALUE!"},{"$error":"#VALUE!"}]
["","","","","","",{"$error":"#VALUE!"},{"$error":"#VALUE!"}]
["","","","","","",{"$error":"#VALUE!"},{"$error":"#VALUE!"}]
["","","","","","",{"$error":"#VALUE!"},{"$error":"#VALUE!"}]
["","","","","","",{"$error":"#VALUE!"},{"$error":"#VALUE!"}]
["","","","","","",{"$error":"#VALUE!"},{"$error":"#VALUE!"}]
["","","","","","",{"$error":"#VALUE!"},{"$error":"#VALUE!"}]
["","","","","","",{"$error":"#VALUE!"},{"$error":"#VALUE!"}]
["","","","","","",{"$error":"#VALUE!"},{"$error":"#VALUE!"}]
["","","","","","",{"$error":"#VALUE!"},{"$error":"#VALUE!"}]
["","","","","","",{"$error":"#VALUE!"},{"$error":"#VALUE!"}]
["","","","","","",{"$error":"#VALUE!"},{"$error":"#VALUE!"}]
["","","","","","",{"$error":"#VALUE!"},{"$error":"#VALUE!"}]
["","","","","","",{"$error":"#VALUE!"},{"$error":"#VALUE!"}]
["","","","","","",{"$error":"#VALUE!"},{"$error":"#VALUE!"}]
["","","","","","",{"$error":"#VALUE!"},{"$error":"#VALUE!"}]
["","","","","","",{"$error":"#VALUE!"},{"$error":"#VALUE!"}]
["","","","","","",{"$error":"#VALUE!"},{"$error":"#VALUE!"}]
["","","","","","",{"$error":"#VALUE!"},{"$error":"#VALUE!"}]
["","","","","","",{"$error":"#VALUE!"},{"$error":"#VALUE!"}]
["","","","","","",{"$error":"#VALUE!"},{"$error":"#VALUE!"}]
["","","","","","",{"$error":"#VALUE!"},{"$error":"#VALUE!"}]
["","","","","","",{"$error":"#VALUE!"},{"$error":"#VALUE!"}]
["","","","","","",{"$error":"#VALUE!"},{"$error":"#VALUE!"}]
["","","","","","",{"$error":"#VALUE!"},{"$error":"#VALUE!"}]
["","","","","","",{"$error":"#VALUE!"},{"$error":"#VALUE!"}]
["","","","","","",{"$error":"#VALUE!"},{"$error":"#VALUE!"}]
["","","","","","",{"$error":"#VALUE!"},{"$error":"#VALUE!"}]
["","","","","","",{"$error":"#VALUE!"},{"$error":"#VALUE!"}]
["","","","","","",{"$error":"#VALUE!"},{"$error":"#VALUE!"}]
["","","","","","",{"$error":"#VALUE!"},{"$error":"#VALUE!"}]
["","","","","","",{"$error":"#VALUE!"},{"$f":"G469*$B$13","v":{"$error":"#VALUE!"}}]
[{"$f":"IF(IF(A469<>\"\",A469+1<=$B$16,0),A469+1,\"\")","v":""},{"$f":"IF(A470<>\"\",A470*$B$13,\"\")","v":""},{"$f":"IF(A470<>\"\",ROUNDDOWN(A470*$B$13/24,0),\"\")","v":""},{"$f":"IF(A470<>\"\",MOD(B470,24)/24,\"\")","v":""},{"$f":"IF(A470<>\"\",($B$4+$B$5)/2+($B$5-$B$4)/2*COS(2*PI()/$B$15*B470),\"\")","v":""},{"$f":"IF(A470<>\"\",E470*COS(2*PI()/$B$7*B470),\"\")","v":""},{"$f":"ABS(0.5*1.025*1*(F470^3))","v":{"$error":"#VALUE!"}},{"$error":"#VALUE!"}]
["","","","","","",{"$error":"#VALUE!"},{"$error":"#VALUE!"}]
["","","","","","",{"$error":"#VALUE!"},{"$error":"#VALUE!"}]
["","","","","","",{"$error":"#VALUE!"},{"$error":"#VALUE!"}]
["","","","","","",{"$error":"#VALUE!"},{"$error":"#VALUE!"}]
["","","","","","",{"$error":"#VALUE!"},{"$error":"#VALUE!"}]
["","","","","","",{"$error":"#VALUE!"},{"$error":"#VALUE!"}]
["","","","","","",{"$error":"#VALUE!"},{"$error":"#VALUE!"}]
["","","","","","",{"$error":"#VALUE!"},{"$error":"#VALUE!"}]
["","","","","","",{"$error":"#VALUE!"},{"$error":"#VALUE!"}]
["","","","","","",{"$error":"#VALUE!"},{"$error":"#VALUE!"}]
["","","","","","",{"$error":"#VALUE!"},{"$error":"#VALUE!"}]
["","","","","","",{"$error":"#VALUE!"},{"$error":"#VALUE!"}]
["","","","","","",{"$error":"#VALUE!"},{"$error":"#VALUE!"}]
["","","","","","",{"$error":"#VALUE!"},{"$error":"#VALUE!"}]
["","","","","","",{"$error":"#VALUE!"},{"$error":"#VALUE!"}]
["","","","","","",{"$error":"#VALUE!"},{"$error":"#VALUE!"}]
["","","","","","",{"$error":"#VALUE!"},{"$error":"#VALUE!"}]
["","","","","","",{"$error":"#VALUE!"},{"$error":"#VALUE!"}]
["","","","","","",{"$error":"#VALUE!"},{"$error":"#VALUE!"}]
["","","","","","",{"$error":"#VALUE!"},{"$error":"#VALUE!"}]
["","","","","","",{"$error":"#VALUE!"},{"$error":"#VALUE!"}]
["","","","","","",{"$error":"#VALUE!"},{"$error":"#VALUE!"}]
["","","","","","",{"$error":"#VALUE!"},{"$error":"#VALUE!"}]
["","","","","","",{"$error":"#VALUE!"},{"$error":"#VALUE!"}]
["","","","","","",{"$error":"#VALUE!"},{"$error":"#VALUE!"}]
["","","","","","",{"$error":"#VALUE!"},{"$error":"#VALUE!"}]
["","","","","","",{"$error":"#VALUE!"},{"$error":"#VALUE!"}]
["","","","","","",{"$error":"#VALUE!"},{"$error":"#VALUE!"}]
["","","","","","",{"$error":"#VALUE!"},{"$error":"#VALUE!"}]
["","","","","","",{"$error":"#VALUE!"},{"$error":"#VALUE!"}]
["","","","","","",{"$error":"#VALUE!"},{"$error":"#VALUE!"}]
["","","","","","",{"$error":"#VALUE!"},{"$error":"#VALUE!"}]
["","","","","","",{"$error":"#VALUE!"},{"$error":"#VALUE!"}]
["","","","","","",{"$error":"#VALUE!"},{"$error":"#VALUE!"}]
["","","","","","",{"$error":"#VALUE!"},{"$error":"#VALUE!"}]
["","","","","","",{"$error":"#VALUE!"},{"$error":"#VALUE!"}]
["","","","","","",{"$error":"#VALUE!"},{"$error":"#VALUE!"}]
["","","","","","",{"$error":"#VALUE!"},{"$error":"#VALUE!"}]
["","","","","","",{"$error":"#VALUE!"},{"$error":"#VALUE!"}]
["","","","","","",{"$error":"#VALUE!"},{"$error":"#VALUE!"}]
["","","","","","",{"$error":"#VALUE!"},{"$error":"#VALUE!"}]
["","","","","","",{"$error":"#VALUE!"},{"$error":"#VALUE!"}]
["","","","","","",{"$error":"#VALUE!"},{"$error":"#VALUE!"}]
["","","","","","",{"$error":"#VALUE!"},{"$error":"#VALUE!"}]
["","","","","","",{"$error":"#VALUE!"},{"$error":"#VALUE!"}]
["","","","","","",{"$error":"#VALUE!"},{"$error":"#VALUE!"}]
["","","","","","",{"$error":"#VALUE!"},{"$error":"#VALUE!"}]
["","","","","","",{"$error":"#VALUE!"},{"$error":"#VALUE!"}]
["","","","","","",{"$error":"#VALUE!"},{"$error":"#VALUE!"}]
["","","","","","",{"$error":"#VALUE!"},{"$error":"#VALUE!"}]
["","","","","","",{"$error":"#VALUE!"},{"$error":"#VALUE!"}]
["","","","","","",{"$error":"#VALUE!"},{"$error":"#VALUE!"}]
["","","","","","",{"$error":"#VALUE!"},{"$error":"#VALUE!"}]
["","","","","","",{"$error":"#VALUE!"},{"$error":"#VALUE!"}]
["","","","","","",{"$error":"#VALUE!"},{"$error":"#VALUE!"}]
["","","","","","",{"$error":"#VALUE!"},{"$error":"#VALUE!"}]
["","","","","","",{"$error":"#VALUE!"},{"$error":"#VALUE!"}]
["","","","","","",{"$error":"#VALUE!"},{"$error":"#VALUE!"}]
["","","","","","",{"$error":"#VALUE!"},{"$error":"#VALUE!"}]
["","","","","","",{"$error":"#VALUE!"},{"$error":"#VALUE!"}]
["","","","","","",{"$error":"#VALUE!"},{"$error":"#VALUE!"}]
["","","","","","",{"$error":"#VALUE!"},{"$error":"#VALUE!"}]
["","","","","","",{"$error":"#VALUE!"},{"$f":"G533*$B$13","v":{"$error":"#VALUE!"}}]
[{"$f":"IF(IF(A533<>\"\",A533+1<=$B$16,0),A533+1,\"\")","v":""},{"$f":"IF(A534<>\"\",A534*$B$13,\"\")","v":""},{"$f":"IF(A534<>\"\",ROUNDDOWN(A534*$B$13/24,0),\"\")","v":""},{"$f":"IF(A534<>\"\",MOD(B534,24)/24,\"\")","v":""},{"$f":"IF(A534<>\"\",($B$4+$B$5)/2+($B$5-$B$4)/2*COS(2*PI()/$B$15*B534),\"\")","v":""},{"$f":"IF(A534<>\"\",E534*COS(2*PI()/$B$7*B534),\"\")","v":""},{"$f":"ABS(0.5*1.025*1*(F534^3))","v":{"$error":"#VALUE!"}},{"$error":"#VALUE!"}]
["","","","","","",{"$error":"#VALUE!"},{"$error":"#VALUE!"}]
["","","","","","",{"$error":"#VALUE!"},{"$error":"#VALUE!"}]
["","","","","","",{"$error":"#VALUE!"},{"$error":"#VALUE!"}]
["","","","","","",{"$error":"#VALUE!"},{"$error":"#VALUE!"}]
["","","","","","",{"$error":"#VALUE!"},{"$error":"#VALUE!"}]
["","","","","","",{"$error":"#VALUE!"},{"$error":"#VALUE!"}]
["","","","","","",{"$error":"#VALUE!"},{"$error":"#VALUE!"}]
["","","","","","",{"$error":"#VALUE!"},{"$error":"#VALUE!"}]
["","","","","","",{"$error":"#VALUE!"},{"$error":"#VALUE!"}]
["","","","","","",{"$error":"#VALUE!"},{"$error":"#VALUE!"}]
["","","","","","",{"$error":"#VALUE!"},{"$error":"#VALUE!"}]
["","","","","","",{"$error":"#VALUE!"},{"$error":"#VALUE!"}]
["","","","","","",{"$error":"#VALUE!"},{"$error":"#VALUE!"}]
["","","","","","",{"$error":"#VALUE!"},{"$error":"#VALUE!"}]
["","","","","","",{"$error":"#VALUE!"},{"$error":"#VALUE!"}]
["","","","","","",{"$error":"#VALUE!"},{"$error":"#VALUE!"}]
["","","","","","",{"$error":"#VALUE!"},{"$error":"#VALUE!"}]
["","","","","","",{"$error":"#VALUE!"},{"$error":"#VALUE!"}]
["","","","","","",{"$error":"#VALUE!"},{"$error":"#VALUE!"}]
["","","","","","",{"$error":"#VALUE!"},{"$error":"#VALUE!"}]
["","","","","","",{"$error":"#VALUE!"},{"$error":"#VALUE!"}]
["","","","","","",{"$error":"#VALUE!"},{"$error":"#VALUE!"}]
["","","","","","",{"$error":"#VALUE!"},{"$error":"#VALUE!"}]
["","","","","","",{"$error":"#VALUE!"},{"$error":"#VALUE!"}]
["","","","","","",{"$error":"#VALUE!"},{"$error":"#VALUE!"}]
["","","","","","",{"$error":"#VALUE!"},{"$error":"#VALUE!"}]
["","","","","","",{"$error":"#VALUE!"},{"$error":"#VALUE!"}]
["","","","","","",{"$error":"#VALUE!"},{"$error":"#VALUE!"}]
["","","","","","",{"$error":"#VALUE!"},{"$error":"#VALUE!"}]
["","","","","","",{"$error":"#VALUE!"},{"$error":"#VALUE!"}]
["","","","","","",{"$error":"#VALUE!"},{"$error":"#VALUE!"}]
["","","","","","",{"$error":"#VALUE!"},{"$error":"#VALUE!"}]
["","","","","","",{"$error":"#VALUE!"},{"$error":"#VALUE!"}]
["","","","","","",{"$error":"#VALUE!"},{"$error":"#VALUE!"}]
["","","","","","",{"$error":"#VALUE!"},{"$error":"#VALUE!"}]
["","","","","","",{"$error":"#VALUE!"},{"$error":"#VALUE!"}]
["","","","","","",{"$error":"#VALUE!"},{"$error":"#VALUE!"}]
["","","","","","",{"$error":"#VALUE!"},{"$error":"#VALUE!"}]
["","","","","","",{"$error":"#VALUE!"},{"$error":"#VALUE!"}]
["","","","","","",{"$error":"#VALUE!"},{"$error":"#VALUE!"}]
["","","","","","",{"$error":"#VALUE!"},{"$error":"#VALUE!"}]
["","","","","","",{"$error":"#VALUE!"},{"$error":"#VALUE!"}]
["","","","","","",{"$error":"#VALUE!"},{"$error":"#VALUE!"}]
["","","","","","",{"$error":"#VALUE!"},{"$error":"#VALUE!"}]
["","","","","","",{"$error":"#VALUE!"},{"$error":"#VALUE!"}]
["","","","","","",{"$error":"#VALUE!"},{"$error":"#VALUE!"}]
["","","","","","",{"$error":"#VALUE!"},{"$error":"#VALUE!"}]
["","","","","","",{"$error":"#VALUE!"},{"$error":"#VALUE!"}]
["","","","","","",{"$error":"#VALUE!"},{"$error":"#VALUE!"}]
["","","","","","",{"$error":"#VALUE!"},{"$error":"#VALUE!"}]
["","","","","","",{"$error":"#VALUE!"},{"$error":"#VALUE!"}]
["","","","","","",{"$error":"#VALUE!"},{"$error":"#VALUE!"}]
["","","","","","",{"$error":"#VALUE!"},{"$error":"#VALUE!"}]
["","","","","","",{"$error":"#VALUE!"},{"$error":"#VALUE!"}]
["","","","","","",{"$error":"#VALUE!"},{"$error":"#VALUE!"}]
["","","","","","",{"$error":"#VALUE!"},{"$error":"#VALUE!"}]
["","","","","","",{"$error":"#VALUE!"},{"$error":"#VALUE!"}]
["","","","","","",{"$error":"#VALUE!"},{"$error":"#VALUE!"}]
["","","","","","",{"$error":"#VALUE!"},{"$error":"#VALUE!"}]
["","","","","","",{"$error":"#VALUE!"},{"$error":"#VALUE!"}]
["","","","","","",{"$error":"#VALUE!"},{"$error":"#VALUE!"}]
["","","","","","",{"$error":"#VALUE!"},{"$error":"#VALUE!"}]
["","","","","","",{"$error":"#VALUE!"},{"$f":"G597*$B$13","v":{"$error":"#VALUE!"}}]
[{"$f":"IF(IF(A597<>\"\",A597+1<=$B$16,0),A597+1,\"\")","v":""},{"$f":"IF(A598<>\"\",A598*$B$13,\"\")","v":""},{"$f":"IF(A598<>\"\",ROUNDDOWN(A598*$B$13/24,0),\"\")","v":""},{"$f":"IF(A598<>\"\",MOD(B598,24)/24,\"\")","v":""},{"$f":"IF(A598<>\"\",($B$4+$B$5)/2+($B$5-$B$4)/2*COS(2*PI()/$B$15*B598),\"\")","v":""},{"$f":"IF(A598<>\"\",E598*COS(2*PI()/$B$7*B598),\"\")","v":""},{"$f":"ABS(0.5*1.025*1*(F598^3))","v":{"$error":"#VALUE!"}},{"$error":"#VALUE!"}]
["","","","","","",{"$error":"#VALUE!"},{"$error":"#VALUE!"}]
["","","","","","",{"$error":"#VALUE!"},{"$error":"#VALUE!"}]
["","","","","","",{"$error":"#VALUE!"},{"$error":"#VALUE!"}]
["","","","","","",{"$error":"#VALUE!"},{"$error":"#VALUE!"}]
["","","","","","",{"$error":"#VALUE!"},{"$error":"#VALUE!"}]
["","","","","","",{"$error":"#VALUE!"},{"$error":"#VALUE!"}]
["","","","","","",{"$error":"#VALUE!"},{"$error":"#VALUE!"}]
["","","","","","",{"$error":"#VALUE!"},{"$error":"#VALUE!"}]
["","","","","","",{"$error":"#VALUE!"},{"$error":"#VALUE!"}]
["","","","","","",{"$error":"#VALUE!"},{"$error":"#VALUE!"}]
["","","","","","",{"$error":"#VALUE!"},{"$error":"#VALUE!"}]
["","","","","","",{"$error":"#VALUE!"},{"$error":"#VALUE!"}]
["","","","","","",{"$error":"#VALUE!"},{"$error":"#VALUE!"}]
["","","","","","",{"$error":"#VALUE!"},{"$error":"#VALUE!"}]
["","","","","","",{"$error":"#VALUE!"},{"$error":"#VALUE!"}]
["","","","","","",{"$error":"#VALUE!"},{"$error":"#VALUE!"}]
["","","","","","",{"$error":"#VALUE!"},{"$error":"#VALUE!"}]
["","","","","","",{"$error":"#VALUE!"},{"$error":"#VALUE!"}]
["","","","","","",{"$error":"#VALUE!"},{"$error":"#VALUE!"}]
["","","","","","",{"$error":"#VALUE!"},{"$error":"#VALUE!"}]
["","","","","","",{"$error":"#VALUE!"},{"$error":"#VALUE!"}]
["","","","","","",{"$error":"#VALUE!"},{"$error":"#VALUE!"}]
["","","","","","",{"$error":"#VALUE!"},{"$error":"#VALUE!"}]
["","","","","","",{"$error":"#VALUE!"},{"$error":"#VALUE!"}]
["","","","","","",{"$error":"#VALUE!"},{"$error":"#VALUE!"}]
["","","","","","",{"$error":"#VALUE!"},{"$error":"#VALUE!"}]
["","","","","","",{"$error":"#VALUE!"},{"$error":"#VALUE!"}]
["","","","","","",{"$error":"#VALUE!"},{"$error":"#VALUE!"}]
["","","","","","",{"$error":"#VALUE!"},{"$error":"#VALUE!"}]
["","","","","","",{"$error":"#VALUE!"},{"$error":"#VALUE!"}]
["","","","","","",{"$error":"#VALUE!"},{"$error":"#VALUE!"}]
["","","","","","",{"$error":"#VALUE!"},{"$error":"#VALUE!"}]
["","","","","","",{"$error":"#VALUE!"},{"$error":"#VALUE!"}]
["","","","","","",{"$error":"#VALUE!"},{"$error":"#VALUE!"}]
["","","","","","",{"$error":"#VALUE!"},{"$error":"#VALUE!"}]
["","","","","","",{"$error":"#VALUE!"},{"$error":"#VALUE!"}]
["","","","","","",{"$error":"#VALUE!"},{"$error":"#VALUE!"}]
["","","","","","",{"$error":"#VALUE!"},{"$error":"#VALUE!"}]
["","","","","","",{"$error":"#VALUE!"},{"$error":"#VALUE!"}]
["","","","","","",{"$error":"#VALUE!"},{"$error":"#VALUE!"}]
["","","","","","",{"$error":"#VALUE!"},{"$error":"#VALUE!"}]
["","","","","","",{"$error":"#VALUE!"},{"$error":"#VALUE!"}]
["","","","","","",{"$error":"#VALUE!"},{"$error":"#VALUE!"}]
["","","","","","",{"$error":"#VALUE!"},{"$error":"#VALUE!"}]
["","","","","","",{"$error":"#VALUE!"},{"$error":"#VALUE!"}]
["","","","","","",{"$error":"#VALUE!"},{"$error":"#VALUE!"}]
["","","","","","",{"$error":"#VALUE!"},{"$error":"#VALUE!"}]
["","","","","","",{"$error":"#VALUE!"},{"$error":"#VALUE!"}]
["","","","","","",{"$error":"#VALUE!"},{"$error":"#VALUE!"}]
["","","","","","",{"$error":"#VALUE!"},{"$error":"#VALUE!"}]
["","","","","","",{"$error":"#VALUE!"},{"$error":"#VALUE!"}]
["","","","","","",{"$error":"#VALUE!"},{"$error":"#VALUE!"}]
["","","","","","",{"$error":"#VALUE!"},{"$error":"#VALUE!"}]
["","","","","","",{"$error":"#VALUE!"},{"$error":"#VALUE!"}]
["","","","","","",{"$error":"#VALUE!"},{"$error":"#VALUE!"}]
["","","","","","",{"$error":"#VALUE!"},{"$error":"#VALUE!"}]
["","","","","","",{"$error":"#VALUE!"},{"$error":"#VALUE!"}]
["","","","","","",{"$error":"#VALUE!"},{"$error":"#VALUE!"}]
["","","","","","",{"$error":"#VALUE!"},{"$error":"#VALUE!"}]
["","","","","","",{"$error":"#VALUE!"},{"$error":"#VALUE!"}]
["","","","","","",{"$error":"#VALUE!"},{"$error":"#VALUE!"}]
["","","","","","",{"$error":"#VALUE!"},{"$error":"#VALUE!"}]
["","","","","","",{"$error":"#VALUE!"},{"$f":"G661*$B$13","v":{"$error":"#VALUE!"}}]
[{"$f":"IF(IF(A661<>\"\",A661+1<=$B$16,0),A661+1,\"\")","v":""},{"$f":"IF(A662<>\"\",A662*$B$13,\"\")","v":""},{"$f":"IF(A662<>\"\",ROUNDDOWN(A662*$B$13/24,0),\"\")","v":""},{"$f":"IF(A662<>\"\",MOD(B662,24)/24,\"\")","v":""},{"$f":"IF(A662<>\"\",($B$4+$B$5)/2+($B$5-$B$4)/2*COS(2*PI()/$B$15*B662),\"\")","v":""},{"$f":"IF(A662<>\"\",E662*COS(2*PI()/$B$7*B662),\"\")","v":""},{"$f":"ABS(0.5*1.025*1*(F662^3))","v":{"$error":"#VALUE!"}},{"$error":"#VALUE!"}]
["","","","","","",{"$error":"#VALUE!"},{"$error":"#VALUE!"}]
["","","","","","",{"$error":"#VALUE!"},{"$error":"#VALUE!"}]
["","","","","","",{"$error":"#VALUE!"},{"$error":"#VALUE!"}]
["","","","","","",{"$error":"#VALUE!"},{"$error":"#VALUE!"}]
["","","","","","",{"$error":"#VALUE!"},{"$error":"#VALUE!"}]
["","","","","","",{"$error":"#VALUE!"},{"$error":"#VALUE!"}]
["","","","","","",{"$error":"#VALUE!"},{"$error":"#VALUE!"}]
["","","","","","",{"$error":"#VALUE!"},{"$error":"#VALUE!"}]
["","","","","","",{"$error":"#VALUE!"},{"$error":"#VALUE!"}]
["","","","","","",{"$error":"#VALUE!"},{"$error":"#VALUE!"}]
["","","","","","",{"$error":"#VALUE!"},{"$error":"#VALUE!"}]
["","","","","","",{"$error":"#VALUE!"},{"$error":"#VALUE!"}]
["","","","","","",{"$error":"#VALUE!"},{"$error":"#VALUE!"}]
["","","","","","",{"$error":"#VALUE!"},{"$error":"#VALUE!"}]
["","","","","","",{"$error":"#VALUE!"},{"$error":"#VALUE!"}]
["","","","","","",{"$error":"#VALUE!"},{"$error":"#VALUE!"}]
["","","","","","",{"$error":"#VALUE!"},{"$error":"#VALUE!"}]
["","","","","","",{"$error":"#VALUE!"},{"$error":"#VALUE!"}]
["","","","","","",{"$error":"#VALUE!"},{"$error":"#VALUE!"}]
["","","","","","",{"$error":"#VALUE!"},{"$error":"#VALUE!"}]
["","","","","","",{"$error":"#VALUE!"},{"$error":"#VALUE!"}]
["","","","","","",{"$error":"#VALUE!"},{"$error":"#VALUE!"}]
["","","","","","",{"$error":"#VALUE!"},{"$error":"#VALUE!"}]
["","","","","","",{"$error":"#VALUE!"},{"$error":"#VALUE!"}]
["","","","","","",{"$error":"#VALUE!"},{"$error":"#VALUE!"}]
["","","","","","",{"$error":"#VALUE!"},{"$error":"#VALUE!"}]
["","","","","","",{"$error":"#VALUE!"},{"$error":"#VALUE!"}]
["","","","","","",{"$error":"#VALUE!"},{"$error":"#VALUE!"}]
["","","","","","",{"$error":"#VALUE!"},{"$error":"#VALUE!"}]
["","","","","","",{"$error":"#VALUE!"},{"$error":"#VALUE!"}]
["","","","","","",{"$error":"#VALUE!"},{"$error":"#VALUE!"}]
["","","","","","",{"$error":"#VALUE!"},{"$error":"#VALUE!"}]
["","","","","","",{"$error":"#VALUE!"},{"$error":"#VALUE!"}]
["","","","","","",{"$error":"#VALUE!"},{"$error":"#VALUE!"}]
["","","","","","",{"$error":"#VALUE!"},{"$error":"#VALUE!"}]
["","","","","","",{"$error":"#VALUE!"},{"$error":"#VALUE!"}]
["","","","","","",{"$error":"#VALUE!"},{"$error":"#VALUE!"}]
["","","","","","",{"$error":"#VALUE!"},{"$error":"#VALUE!"}]
["","","","","","",{"$error":"#VALUE!"},{"$error":"#VALUE!"}]
["","","","","","",{"$error":"#VALUE!"},{"$error":"#VALUE!"}]
["","","","","","",{"$error":"#VALUE!"},{"$error":"#VALUE!"}]
["","","","","","",{"$error":"#VALUE!"},{"$error":"#VALUE!"}]
["","","","","","",{"$error":"#VALUE!"},{"$error":"#VALUE!"}]
["","","","","","",{"$error":"#VALUE!"},{"$error":"#VALUE!"}]
["","","","","","",{"$error":"#VALUE!"},{"$error":"#VALUE!"}]
["","","","","","",{"$error":"#VALUE!"},{"$error":"#VALUE!"}]
["","","","","","",{"$error":"#VALUE!"},{"$error":"#VALUE!"}]
["","","","","","",{"$error":"#VALUE!"},{"$error":"#VALUE!"}]
["","","","","","",{"$error":"#VALUE!"},{"$error":"#VALUE!"}]
["","","","","","",{"$error":"#VALUE!"},{"$error":"#VALUE!"}]
["","","","","","",{"$error":"#VALUE!"},{"$error":"#VALUE!"}]
["","","","","","",{"$error":"#VALUE!"},{"$error":"#VALUE!"}]
["","","","","","",{"$error":"#VALUE!"},{"$error":"#VALUE!"}]
["","","","","","",{"$error":"#VALUE!"},{"$error":"#VALUE!"}]
["","","","","","",{"$error":"#VALUE!"},{"$error":"#VALUE!"}]
["","","","","","",{"$error":"#VALUE!"},{"$error":"#VALUE!"}]
["","","","","","",{"$error":"#VALUE!"},{"$error":"#VALUE!"}]
["","","","","","",{"$error":"#VALUE!"},{"$error":"#VALUE!"}]
["","","","","","",{"$error":"#VALUE!"},{"$error":"#VALUE!"}]
["","","","","","",{"$error":"#VALUE!"},{"$error":"#VALUE!"}]
["","","","","","",{"$error":"#VALUE!"},{"$error":"#VALUE!"}]
["","","","","","",{"$error":"#VALUE!"},{"$error":"#VALUE!"}]
["","","","","","",{"$error":"#VALUE!"},{"$f":"G725*$B$13","v":{"$error":"#VALUE!"}}]
[{"$f":"IF(IF(A725<>\"\",A725+1<=$B$16,0),A725+1,\"\")","v":""},{"$f":"IF(A726<>\"\",A726*$B$13,\"\")","v":""},{"$f":"IF(A726<>\"\",ROUNDDOWN(A726*$B$13/24,0),\"\")","v":""},{"$f":"IF(A726<>\"\",MOD(B726,24)/24,\"\")","v":""},{"$f":"IF(A726<>\"\",($B$4+$B$5)/2+($B$5-$B$4)/2*COS(2*PI()/$B$15*B726),\"\")","v":""},{"$f":"IF(A726<>\"\",E726*COS(2*PI()/$B$7*B726),\"\")","v":""},{"$f":"ABS(0.5*1.025*1*(F726^3))","v":{"$error":"#VALUE!"}},{"$error":"#VALUE!"}]
["","","","","","",{"$error":"#VALUE!"},{"$error":"#VALUE!"}]
["","","","","","",{"$error":"#VALUE!"},{"$error":"#VALUE!"}]
["","","","","","",{"$error":"#VALUE!"},{"$error":"#VALUE!"}]
["","","","","","",{"$error":"#VALUE!"},{"$error":"#VALUE!"}]
["","","","","","",{"$error":"#VALUE!"},{"$error":"#VALUE!"}]
["","","","","","",{"$error":"#VALUE!"},{"$error":"#VALUE!"}]
["","","","","","",{"$error":"#VALUE!"},{"$error":"#VALUE!"}]
["","","","","","",{"$error":"#VALUE!"},{"$error":"#VALUE!"}]
["","","","","","",{"$error":"#VALUE!"},{"$error":"#VALUE!"}]
["","","","","","",{"$error":"#VALUE!"},{"$error":"#VALUE!"}]
["","","","","","",{"$error":"#VALUE!"},{"$error":"#VALUE!"}]
["","","","","","",{"$error":"#VALUE!"},{"$error":"#VALUE!"}]
["","","","","","",{"$error":"#VALUE!"},{"$error":"#VALUE!"}]
["","","","","","",{"$error":"#VALUE!"},{"$error":"#VALUE!"}]
["","","","","","",{"$error":"#VALUE!"},{"$error":"#VALUE!"}]
["","","","","","",{"$error":"#VALUE!"},{"$error":"#VALUE!"}]
["","","","","","",{"$error":"#VALUE!"},{"$error":"#VALUE!"}]
["","","","","","",{"$error":"#VALUE!"},{"$error":"#VALUE!"}]
["","","","","","",{"$error":"#VALUE!"},{"$error":"#VALUE!"}]
["","","","","","",{"$error":"#VALUE!"},{"$error":"#VALUE!"}]
["","","","","","",{"$error":"#VALUE!"},{"$error":"#VALUE!"}]
["","","","","","",{"$error":"#VALUE!"},{"$error":"#VALUE!"}]
["","","","","","",{"$error":"#VALUE!"},{"$error":"#VALUE!"}]
["","","","","","",{"$error":"#VALUE!"},{"$error":"#VALUE!"}]
["","","","","","",{"$error":"#VALUE!"},{"$error":"#VALUE!"}]
["","","","","","",{"$error":"#VALUE!"},{"$error":"#VALUE!"}]
["","","","","","",{"$error":"#VALUE!"},{"$error":"#VALUE!"}]
["","","","","","",{"$error":"#VALUE!"},{"$error":"#VALUE!"}]
["","","","","","",{"$error":"#VALUE!"},{"$error":"#VALUE!"}]
["","","","","","",{"$error":"#VALUE!"},{"$error":"#VALUE!"}]
["","","","","","",{"$error":"#VALUE!"},{"$error":"#VALUE!"}]
["","","","","","",{"$error":"#VALUE!"},{"$error":"#VALUE!"}]
["","","","","","",{"$error":"#VALUE!"},{"$error":"#VALUE!"}]
["","","","","","",{"$error":"#VALUE!"},{"$error":"#VALUE!"}]
["","","","","","",{"$error":"#VALUE!"},{"$error":"#VALUE!"}]
["","","","","","",{"$error":"#VALUE!"},{"$error":"#VALUE!"}]
["","","","","","",{"$error":"#VALUE!"},{"$error":"#VALUE!"}]
["","","","","","",{"$error":"#VALUE!"},{"$error":"#VALUE!"}]
["","","","","","",{"$error":"#VALUE!"},{"$error":"#VALUE!"}]
["","","","","","",{"$error":"#VALUE!"},{"$error":"#VALUE!"}]
["","","","","","",{"$error":"#VALUE!"},{"$error":"#VALUE!"}]
["","","","","","",{"$error":"#VALUE!"},{"$error":"#VALUE!"}]
["","","","","","",{"$error":"#VALUE!"},{"$error":"#VALUE!"}]
["","","","","","",{"$error":"#VALUE!"},{"$error":"#VALUE!"}]
["","","","","","",{"$error":"#VALUE!"},{"$error":"#VALUE!"}]
["","","","","","",{"$error":"#VALUE!"},{"$error":"#VALUE!"}]
["","","","","","",{"$error":"#VALUE!"},{"$error":"#VALUE!"}]
["","","","","","",{"$error":"#VALUE!"},{"$error":"#VALUE!"}]
["","","","","","",{"$error":"#VALUE!"},{"$error":"#VALUE!"}]
["","","","","","",{"$error":"#VALUE!"},{"$error":"#VALUE!"}]
["","","","","","",{"$error":"#VALUE!"},{"$error":"#VALUE!"}]
["","","","","","",{"$error":"#VALUE!"},{"$error":"#VALUE!"}]
["","","","","","",{"$error":"#VALUE!"},{"$error":"#VALUE!"}]
["","","","","","",{"$error":"#VALUE!"},{"$error":"#VALUE!"}]
["","","","","","",{"$error":"#VALUE!"},{"$error":"#VALUE!"}]
["","","","","","",{"$error":"#VALUE!"},{"$error":"#VALUE!"}]
["","","","","","",{"$error":"#VALUE!"},{"$error":"#VALUE!"}]
["","","","","","",{"$error":"#VALUE!"},{"$error":"#VALUE!"}]
["","","","","","",{"$error":"#VALUE!"},{"$error":"#VALUE!"}]
["","","","","","",{"$error":"#VALUE!"},{"$error":"#VALUE!"}]
["","","","","","",{"$error":"#VALUE!"},{"$error":"#VALUE!"}]
["","","","","","",{"$error":"#VALUE!"},{"$error":"#VALUE!"}]
["","","","","","",{"$error":"#VALUE!"},{"$f":"G789*$B$13","v":{"$error":"#VALUE!"}}]
[{"$f":"IF(IF(A789<>\"\",A789+1<=$B$16,0),A789+1,\"\")","v":""},{"$f":"IF(A790<>\"\",A790*$B$13,\"\")","v":""},{"$f":"IF(A790<>\"\",ROUNDDOWN(A790*$B$13/24,0),\"\")","v":""},{"$f":"IF(A790<>\"\",MOD(B790,24)/24,\"\")","v":""},{"$f":"IF(A790<>\"\",($B$4+$B$5)/2+($B$5-$B$4)/2*COS(2*PI()/$B$15*B790),\"\")","v":""},{"$f":"IF(A790<>\"\",E790*COS(2*PI()/$B$7*B790),\"\")","v":""},{"$f":"ABS(0.5*1.025*1*(F790^3))","v":{"$error":"#VALUE!"}},{"$error":"#VALUE!"}]
["","","","","","",{"$error":"#VALUE!"},{"$error":"#VALUE!"}]
["","","","","","",{"$error":"#VALUE!"},{"$error":"#VALUE!"}]
["","","","","","",{"$error":"#VALUE!"},{"$error":"#VALUE!"}]
["","","","","","",{"$error":"#VALUE!"},{"$error":"#VALUE!"}]
["","","","","","",{"$error":"#VALUE!"},{"$error":"#VALUE!"}]
["","","","","","",{"$error":"#VALUE!"},{"$error":"#VALUE!"}]
["","","","","","",{"$error":"#VALUE!"},{"$error":"#VALUE!"}]
["","","","","","",{"$error":"#VALUE!"},{"$error":"#VALUE!"}]
["","","","","","",{"$error":"#VALUE!"},{"$error":"#VALUE!"}]
["","","","","","",{"$error":"#VALUE!"},{"$error":"#VALUE!"}]
["","","","","","",{"$error":"#VALUE!"},{"$error":"#VALUE!"}]
["","","","","","",{"$error":"#VALUE!"},{"$error":"#VALUE!"}]
["","","","","","",{"$error":"#VALUE!"},{"$error":"#VALUE!"}]
["","","","","","",{"$error":"#VALUE!"},{"$error":"#VALUE!"}]
["","","","","","",{"$error":"#VALUE!"},{"$error":"#VALUE!"}]
["","","","","","",{"$error":"#VALUE!"},{"$error":"#VALUE!"}]
["","","","","","",{"$error":"#VALUE!"},{"$error":"#VALUE!"}]
["","","","","","",{"$error":"#VALUE!"},{"$error":"#VALUE!"}]
["","","","","","",{"$error":"#VALUE!"},{"$error":"#VALUE!"}]
["","","","","","",{"$error":"#VALUE!"},{"$error":"#VALUE!"}]
["","","","","","",{"$error":"#VALUE!"},{"$error":"#VALUE!"}]
["","","","","","",{"$error":"#VALUE!"},{"$error":"#VALUE!"}]
["","","","","","",{"$error":"#VALUE!"},{"$error":"#VALUE!"}]
["","","","","","",{"$error":"#VALUE!"},{"$error":"#VALUE!"}]
["","","","","","",{"$error":"#VALUE!"},{"$error":"#VALUE!"}]
["","","","","","",{"$error":"#VALUE!"},{"$error":"#VALUE!"}]
["","","","","","",{"$error":"#VALUE!"},{"$error":"#VALUE!"}]
["","","","","","",{"$error":"#VALUE!"},{"$error":"#VALUE!"}]
["","","","","","",{"$error":"#VALUE!"},{"$error":"#VALUE!"}]
["","","","","","",{"$error":"#VALUE!"},{"$error":"#VALUE!"}]
["","","","","","",{"$error":"#VALUE!"},{"$error":"#VALUE!"}]
["","","","","","",{"$error":"#VALUE!"},{"$error":"#VALUE!"}]
["","","","","","",{"$error":"#VALUE!"},{"$error":"#VALUE!"}]
["","","","","","",{"$error":"#VALUE!"},{"$error":"#VALUE!"}]
["","","","","","",{"$error":"#VALUE!"},{"$error":"#VALUE!"}]
["","","","","","",{"$error":"#VALUE!"},{"$error":"#VALUE!"}]
["","","","","","",{"$error":"#VALUE!"},{"$error":"#VALUE!"}]
["","","","","","",{"$error":"#VALUE!"},{"$error":"#VALUE!"}]
["","","","","","",{"$error":"#VALUE!"},{"$error":"#VALUE!"}]
["","","","","","",{"$error":"#VALUE!"},{"$error":"#VALUE!"}]
["","","","","","",{"$error":"#VALUE!"},{"$error":"#VALUE!"}]
["","","","","","",{"$error":"#VALUE!"},{"$error":"#VALUE!"}]
["","","","","","",{"$error":"#VALUE!"},{"$error":"#VALUE!"}]
["","","","","","",{"$error":"#VALUE!"},{"$error":"#VALUE!"}]
["","","","","","",{"$error":"#VALUE!"},{"$error":"#VALUE!"}]
["","","","","","",{"$error":"#VALUE!"},{"$error":"#VALUE!"}]
["","","","","","",{"$error":"#VALUE!"},{"$error":"#VALUE!"}]
["","","","","","",{"$error":"#VALUE!"},{"$error":"#VALUE!"}]
["","","","","","",{"$error":"#VALUE!"},{"$error":"#VALUE!"}]
["","","","","","",{"$error":"#VALUE!"},{"$error":"#VALUE!"}]
["","","","","","",{"$error":"#VALUE!"},{"$error":"#VALUE!"}]
["","","","","","",{"$error":"#VALUE!"},{"$error":"#VALUE!"}]
["","","","","","",{"$error":"#VALUE!"},{"$error":"#VALUE!"}]
["","","","","","",{"$error":"#VALUE!"},{"$error":"#VALUE!"}]
["","","","","","",{"$error":"#VALUE!"},{"$error":"#VALUE!"}]
["","","","","","",{"$error":"#VALUE!"},{"$error":"#VALUE!"}]
["","","","","","",{"$error":"#VALUE!"},{"$error":"#VALUE!"}]
["","","","","","",{"$error":"#VALUE!"},{"$error":"#VALUE!"}]
["","","","","","",{"$error":"#VALUE!"},{"$error":"#VALUE!"}]
["","","","","","",{"$error":"#VALUE!"},{"$error":"#VALUE!"}]
["","","","","","",{"$error":"#VALUE!"},{"$error":"#VALUE!"}]
["","","","","","",{"$error":"#VALUE!"},{"$error":"#VALUE!"}]
["","","","","","",{"$error":"#VALUE!"},{"$f":"G853*$B$13","v":{"$error":"#VALUE!"}}]
[{"$f":"IF(IF(A853<>\"\",A853+1<=$B$16,0),A853+1,\"\")","v":""},{"$f":"IF(A854<>\"\",A854*$B$13,\"\")","v":""},{"$f":"IF(A854<>\"\",ROUNDDOWN(A854*$B$13/24,0),\"\")","v":""},{"$f":"IF(A854<>\"\",MOD(B854,24)/24,\"\")","v":""},{"$f":"IF(A854<>\"\",($B$4+$B$5)/2+($B$5-$B$4)/2*COS(2*PI()/$B$15*B854),\"\")","v":""},{"$f":"IF(A854<>\"\",E854*COS(2*PI()/$B$7*B854),\"\")","v":""},{"$f":"ABS(0.5*1.025*1*(F854^3))","v":{"$error":"#VALUE!"}},{"$error":"#VALUE!"}]
["","","","","","",{"$error":"#VALUE!"},{"$error":"#VALUE!"}]
["","","","","","",{"$error":"#VALUE!"},{"$error":"#VALUE!"}]
["","","","","","",{"$error":"#VALUE!"},{"$error":"#VALUE!"}]
["","","","","","",{"$error":"#VALUE!"},{"$error":"#VALUE!"}]
["","","","","","",{"$error":"#VALUE!"},{"$error":"#VALUE!"}]
["","","","","","",{"$error":"#VALUE!"},{"$error":"#VALUE!"}]
["","","","","","",{"$error":"#VALUE!"},{"$error":"#VALUE!"}]
["","","","","","",{"$error":"#VALUE!"},{"$error":"#VALUE!"}]
["","","","","","",{"$error":"#VALUE!"},{"$error":"#VALUE!"}]
["","","","","","",{"$error":"#VALUE!"},{"$error":"#VALUE!"}]
["","","","","","",{"$error":"#VALUE!"},{"$error":"#VALUE!"}]
["","","","","","",{"$error":"#VALUE!"},{"$error":"#VALUE!"}]
["","","","","","",{"$error":"#VALUE!"},{"$error":"#VALUE!"}]
["","","","","","",{"$error":"#VALUE!"},{"$error":"#VALUE!"}]
["","","","","","",{"$error":"#VALUE!"},{"$error":"#VALUE!"}]
["","","","","","",{"$error":"#VALUE!"},{"$error":"#VALUE!"}]
["","","","","","",{"$error":"#VALUE!"},{"$error":"#VALUE!"}]
["","","","","","",{"$error":"#VALUE!"},{"$error":"#VALUE!"}]
["","","","","","",{"$error":"#VALUE!"},{"$error":"#VALUE!"}]
["","","","","","",{"$error":"#VALUE!"},{"$error":"#VALUE!"}]
["","","","","","",{"$error":"#VALUE!"},{"$error":"#VALUE!"}]
["","","","","","",{"$error":"#VALUE!"},{"$error":"#VALUE!"}]
["","","","","","",{"$error":"#VALUE!"},{"$error":"#VALUE!"}]
["","","","","","",{"$error":"#VALUE!"},{"$error":"#VALUE!"}]
["","","","","","",{"$error":"#VALUE!"},{"$error":"#VALUE!"}]
["","","","","","",{"$error":"#VALUE!"},{"$error":"#VALUE!"}]
["","","","","","",{"$error":"#VALUE!"},{"$error":"#VALUE!"}]
["","","","","","",{"$error":"#VALUE!"},{"$error":"#VALUE!"}]
["","","","","","",{"$error":"#VALUE!"},{"$error":"#VALUE!"}]
["","","","","","",{"$error":"#VALUE!"},{"$error":"#VALUE!"}]
["","","","","","",{"$error":"#VALUE!"},{"$error":"#VALUE!"}]
["","","","","","",{"$error":"#VALUE!"},{"$error":"#VALUE!"}]
["","","","","","",{"$error":"#VALUE!"},{"$error":"#VALUE!"}]
["","","","","","",{"$error":"#VALUE!"},{"$error":"#VALUE!"}]
["","","","","","",{"$error":"#VALUE!"},{"$error":"#VALUE!"}]
["","","","","","",{"$error":"#VALUE!"},{"$error":"#VALUE!"}]
["","","","","","",{"$error":"#VALUE!"},{"$error":"#VALUE!"}]
["","","","","","",{"$error":"#VALUE!"},{"$error":"#VALUE!"}]
["","","","","","",{"$error":"#VALUE!"},{"$error":"#VALUE!"}]
["","","","","","",{"$error":"#VALUE!"},{"$error":"#VALUE!"}]
["","","","","","",{"$error":"#VALUE!"},{"$error":"#VALUE!"}]
["","","","","","",{"$error":"#VALUE!"},{"$error":"#VALUE!"}]
["","","","","","",{"$error":"#VALUE!"},{"$error":"#VALUE!"}]
["","","","","","",{"$error":"#VALUE!"},{"$error":"#VALUE!"}]
["","","","","","",{"$error":"#VALUE!"},{"$error":"#VALUE!"}]
["","","","","","",{"$error":"#VALUE!"},{"$error":"#VALUE!"}]
["","","","","","",{"$error":"#VALUE!"},{"$error":"#VALUE!"}]
["","","","","","",{"$error":"#VALUE!"},{"$error":"#VALUE!"}]
["","","","","","",{"$error":"#VALUE!"},{"$error":"#VALUE!"}]
["","","","","","",{"$error":"#VALUE!"},{"$error":"#VALUE!"}]
["","","","","","",{"$error":"#VALUE!"},{"$error":"#VALUE!"}]
["","","","","","",{"$error":"#VALUE!"},{"$error":"#VALUE!"}]
["","","","","","",{"$error":"#VALUE!"},{"$error":"#VALUE!"}]
["","","","","","",{"$error":"#VALUE!"},{"$error":"#VALUE!"}]
["","","","","","",{"$error":"#VALUE!"},{"$error":"#VALUE!"}]
["","","","","","",{"$error":"#VALUE!"},{"$error":"#VALUE!"}]
["","","","","","",{"$error":"#VALUE!"},{"$error":"#VALUE!"}]
["","","","","","",{"$error":"#VALUE!"},{"$error":"#VALUE!"}]
["","","","","","",{"$error":"#VALUE!"},{"$error":"#VALUE!"}]
["","","","","","",{"$error":"#VALUE!"},{"$error":"#VALUE!"}]
["","","","","","",{"$error":"#VALUE!"},{"$error":"#VALUE!"}]
["","","","","","",{"$error":"#VALUE!"},{"$error":"#VALUE!"}]
["","","","","","",{"$error":"#VALUE!"},{"$f":"G917*$B$13","v":{"$error":"#VALUE!"}}]
[{"$f":"IF(IF(A917<>\"\",A917+1<=$B$16,0),A917+1,\"\")","v":""},{"$f":"IF(A918<>\"\",A918*$B$13,\"\")","v":""},{"$f":"IF(A918<>\"\",ROUNDDOWN(A918*$B$13/24,0),\"\")","v":""},{"$f":"IF(A918<>\"\",MOD(B918,24)/24,\"\")","v":""},{"$f":"IF(A918<>\"\",($B$4+$B$5)/2+($B$5-$B$4)/2*COS(2*PI()/$B$15*B918),\"\")","v":""},{"$f":"IF(A918<>\"\",E918*COS(2*PI()/$B$7*B918),\"\")","v":""},{"$f":"ABS(0.5*1.025*1*(F918^3))","v":{"$error":"#VALUE!"}},{"$error":"#VALUE!"}]
["","","","","","",{"$error":"#VALUE!"},{"$error":"#VALUE!"}]
["","","","","","",{"$error":"#VALUE!"},{"$error":"#VALUE!"}]
["","","","","","",{"$error":"#VALUE!"},{"$error":"#VALUE!"}]
["","","","","","",{"$error":"#VALUE!"},{"$error":"#VALUE!"}]
["","","","","","",{"$error":"#VALUE!"},{"$error":"#VALUE!"}]
["","","","","","",{"$error":"#VALUE!"},{"$error":"#VALUE!"}]
["","","","","","",{"$error":"#VALUE!"},{"$error":"#VALUE!"}]
["","","","","","",{"$error":"#VALUE!"},{"$error":"#VALUE!"}]
["","","","","","",{"$error":"#VALUE!"},{"$error":"#VALUE!"}]
["","","","","","",{"$error":"#VALUE!"},{"$error":"#VALUE!"}]
["","","","","","",{"$error":"#VALUE!"},{"$error":"#VALUE!"}]
["","","","","","",{"$error":"#VALUE!"},{"$error":"#VALUE!"}]
["","","","","","",{"$error":"#VALUE!"},{"$error":"#VALUE!"}]
["","","","","","",{"$error":"#VALUE!"},{"$error":"#VALUE!"}]
["","","","","","",{"$error":"#VALUE!"},{"$error":"#VALUE!"}]
["","","","","","",{"$error":"#VALUE!"},{"$error":"#VALUE!"}]
["","","","","","",{"$error":"#VALUE!"},{"$error":"#VALUE!"}]
["","","","","","",{"$error":"#VALUE!"},{"$error":"#VALUE!"}]
["","","","","","",{"$error":"#VALUE!"},{"$error":"#VALUE!"}]
["","","","","","",{"$error":"#VALUE!"},{"$error":"#VALUE!"}]
["","","","","","",{"$error":"#VALUE!"},{"$error":"#VALUE!"}]
["","","","","","",{"$error":"#VALUE!"},{"$error":"#VALUE!"}]
["","","","","","",{"$error":"#VALUE!"},{"$error":"#VALUE!"}]
["","","","","","",{"$error":"#VALUE!"},{"$error":"#VALUE!"}]
["","","","","","",{"$error":"#VALUE!"},{"$error":"#VALUE!"}]
["","","","","","",{"$error":"#VALUE!"},{"$error":"#VALUE!"}]
["","","","","","",{"$error":"#VALUE!"},{"$error":"#VALUE!"}]
["","","","","","",{"$error":"#VALUE!"},{"$error":"#VALUE!"}]
["","","","","","",{"$error":"#VALUE!"},{"$error":"#VALUE!"}]
["","","","","","",{"$error":"#VALUE!"},{"$error":"#VALUE!"}]
["","","","","","",{"$error":"#VALUE!"},{"$error":"#VALUE!"}]
["","","","","","",{"$error":"#VALUE!"},{"$error":"#VALUE!"}]
["","","","","","",{"$error":"#VALUE!"},{"$error":"#VALUE!"}]
["","","","","","",{"$error":"#VALUE!"},{"$error":"#VALUE!"}]
["","","","","","",{"$error":"#VALUE!"},{"$error":"#VALUE!"}]
["","","","","","",{"$error":"#VALUE!"},{"$error":"#VALUE!"}]
["","","","","","",{"$error":"#VALUE!"},{"$error":"#VALUE!"}]
["","","","","","",{"$error":"#VALUE!"},{"$error":"#VALUE!"}]
["","","","","","",{"$error":"#VALUE!"},{"$error":"#VALUE!"}]
["","","","","","",{"$error":"#VALUE!"},{"$error":"#VALUE!"}]
["","","","","","",{"$error":"#VALUE!"},{"$error":"#VALUE!"}]
["","","","","","",{"$error":"#VALUE!"},{"$error":"#VALUE!"}]
["","","","","","",{"$error":"#VALUE!"},{"$error":"#VALUE!"}]
["","","","","","",{"$error":"#VALUE!"},{"$error":"#VALUE!"}]
["","","","","","",{"$error":"#VALUE!"},{"$error":"#VALUE!"}]
["","","","","","",{"$error":"#VALUE!"},{"$error":"#VALUE!"}]
["","","","","","",{"$error":"#VALUE!"},{"$error":"#VALUE!"}]
["","","","","","",{"$error":"#VALUE!"},{"$error":"#VALUE!"}]
["","","","","","",{"$error":"#VALUE!"},{"$error":"#VALUE!"}]
["","","","","","",{"$error":"#VALUE!"},{"$error":"#VALUE!"}]
["","","","","","",{"$error":"#VALUE!"},{"$error":"#VALUE!"}]
["","","","","","",{"$error":"#VALUE!"},{"$error":"#VALUE!"}]
["","","","","","",{"$error":"#VALUE!"},{"$error":"#VALUE!"}]
["","","","","","",{"$error":"#VALUE!"},{"$error":"#VALUE!"}]
["","","","","","",{"$error":"#VALUE!"},{"$error":"#VALUE!"}]
["","","","","","",{"$error":"#VALUE!"},{"$error":"#VALUE!"}]
["","","","","","",{"$error":"#VALUE!"},{"$error":"#VALUE!"}]
["","","","","","",{"$error":"#VALUE!"},{"$error":"#VALUE!"}]
["","","","","","",{"$error":"#VALUE!"},{"$error":"#VALUE!"}]
["","","","","","",{"$error":"#VALUE!"},{"$error":"#VALUE!"}]
["","","","","","",{"$error":"#VALUE!"},{"$error":"#VALUE!"}]
["","","","","","",{"$error":"#VALUE!"},{"$error":"#VALUE!"}]
["","","","","","",{"$error":"#VALUE!"},{"$f":"G981*$B$13","v":{"$error":"#VALUE!"}}]
[{"$f":"IF(IF(A981<>\"\",A981+1<=$B$16,0),A981+1,\"\")","v":""},{"$f":"IF(A982<>\"\",A982*$B$13,\"\")","v":""},{"$f":"IF(A982<>\"\",ROUNDDOWN(A982*$B$13/24,0),\"\")","v":""},{"$f":"IF(A982<>\"\",MOD(B982,24)/24,\"\")","v":""},{"$f":"IF(A982<>\"\",($B$4+$B$5)/2+($B$5-$B$4)/2*COS(2*PI()/$B$15*B982),\"\")","v":""},{"$f":"IF(A982<>\"\",E982*COS(2*PI()/$B$7*B982),\"\")","v":""},{"$f":"ABS(0.5*1.025*1*(F982^3))","v":{"$error":"#VALUE!"}},{"$error":"#VALUE!"}]
["","","","","","",{"$error":"#VALUE!"},{"$error":"#VALUE!"}]
["","","","","","",{"$error":"#VALUE!"},{"$error":"#VALUE!"}]
["","","","","","",{"$error":"#VALUE!"},{"$error":"#VALUE!"}]
["","","","","","",{"$error":"#VALUE!"},{"$error":"#VALUE!"}]
["","","","","","",{"$error":"#VALUE!"},{"$error":"#VALUE!"}]
["","","","","","",{"$error":"#VALUE!"},{"$error":"#VALUE!"}]
["","","","","","",{"$error":"#VALUE!"},{"$error":"#VALUE!"}]
["","","","","","",{"$error":"#VALUE!"},{"$error":"#VALUE!"}]
["","","","","","",{"$error":"#VALUE!"},{"$error":"#VALUE!"}]
["","","","","","",{"$error":"#VALUE!"},{"$error":"#VALUE!"}]
["","","","","","",{"$error":"#VALUE!"},{"$error":"#VALUE!"}]
["","","","","","",{"$error":"#VALUE!"},{"$error":"#VALUE!"}]
["","","","","","",{"$error":"#VALUE!"},{"$error":"#VALUE!"}]
["","","","","","",{"$error":"#VALUE!"},{"$error":"#VALUE!"}]
["","","","","","",{"$error":"#VALUE!"},{"$error":"#VALUE!"}]
["","","","","","",{"$error":"#VALUE!"},{"$error":"#VALUE!"}]
["","","","","","",{"$error":"#VALUE!"},{"$error":"#VALUE!"}]
["","","","","","",{"$error":"#VALUE!"},{"$error":"#VALUE!"}]
["","","","","","",{"$error":"#VALUE!"},{"$error":"#VALUE!"}]
["","","","","","",{"$error":"#VALUE!"},{"$error":"#VALUE!"}]
["","","","","","",{"$error":"#VALUE!"},{"$error":"#VALUE!"}]
["","","","","","",{"$error":"#VALUE!"},{"$error":"#VALUE!"}]
["","","","","","",{"$error":"#VALUE!"},{"$error":"#VALUE!"}]
["","","","","","",{"$error":"#VALUE!"},{"$error":"#VALUE!"}]
["","","","","","",{"$error":"#VALUE!"},{"$error":"#VALUE!"}]
["","","","","","",{"$error":"#VALUE!"},{"$error":"#VALUE!"}]
["","","","","","",{"$error":"#VALUE!"},{"$error":"#VALUE!"}]
["","","","","","",{"$error":"#VALUE!"},{"$error":"#VALUE!"}]
["","","","","","",{"$error":"#VALUE!"},{"$error":"#VALUE!"}]
["","","","","","",{"$error":"#VALUE!"},{"$error":"#VALUE!"}]
["","","","","","",{"$error":"#VALUE!"},{"$error":"#VALUE!"}]
["","","","","","",{"$error":"#VALUE!"},{"$error":"#VALUE!"}]
["","","","","","",{"$error":"#VALUE!"},{"$error":"#VALUE!"}]
["","","","","","",{"$error":"#VALUE!"},{"$error":"#VALUE!"}]
["","","","","","",{"$error":"#VALUE!"},{"$error":"#VALUE!"}]
["","","","","","",{"$error":"#VALUE!"},{"$error":"#VALUE!"}]
["","","","","","",{"$error":"#VALUE!"},{"$error":"#VALUE!"}]
["","","","","","",{"$error":"#VALUE!"},{"$error":"#VALUE!"}]
["","","","","","",{"$error":"#VALUE!"},{"$error":"#VALUE!"}]
["","","","","","",{"$error":"#VALUE!"},{"$error":"#VALUE!"}]
["","","","","","",{"$error":"#VALUE!"},{"$error":"#VALUE!"}]
["","","","","","",{"$error":"#VALUE!"},{"$error":"#VALUE!"}]
["","","","","","",{"$error":"#VALUE!"},{"$error":"#VALUE!"}]
["","","","","","",{"$error":"#VALUE!"},{"$error":"#VALUE!"}]
["","","","","","",{"$error":"#VALUE!"},{"$error":"#VALUE!"}]
["","","","","","",{"$error":"#VALUE!"},{"$error":"#VALUE!"}]
["","","","","","",{"$error":"#VALUE!"},{"$error":"#VALUE!"}]
["","","","","","",{"$error":"#VALUE!"},{"$error":"#VALUE!"}]
["","","","","","",{"$error":"#VALUE!"},{"$error":"#VALUE!"}]
["","","","","","",{"$error":"#VALUE!"},{"$error":"#VALUE!"}]
["","","","","","",{"$error":"#VALUE!"},{"$error":"#VALUE!"}]
["","","","","","",{"$error":"#VALUE!"},{"$error":"#VALUE!"}]
["","","","","","",{"$error":"#VALUE!"},{"$error":"#VALUE!"}]
["","","","","","",{"$error":"#VALUE!"},{"$error":"#VALUE!"}]
["","","","","","",{"$error":"#VALUE!"},{"$error":"#VALUE!"}]
["","","","","","",{"$error":"#VALUE!"},{"$error":"#VALUE!"}]
["","","","","","",{"$error":"#VALUE!"},{"$error":"#VALUE!"}]
["","","","","","",{"$error":"#VALUE!"},{"$error":"#VALUE!"}]
["","","","","","",{"$error":"#VALUE!"},{"$error":"#VALUE!"}]
["","","","","","",{"$error":"#VALUE!"},{"$error":"#VALUE!"}]
["","","","","","",{"$error":"#VALUE!"},{"$error":"#VALUE!"}]
["","","","","","",{"$error":"#VALUE!"},{"$error":"#VALUE!"}]
["","","","","","",{"$error":"#VALUE!"},{"$f":"G1045*$B$13","v":{"$error":"#VALUE!"}}]
[{"$f":"IF(IF(A1045<>\"\",A1045+1<=$B$16,0),A1045+1,\"\")","v":""},{"$f":"IF(A1046<>\"\",A1046*$B$13,\"\")","v":""},{"$f":"IF(A1046<>\"\",ROUNDDOWN(A1046*$B$13/24,0),\"\")","v":""},{"$f":"IF(A1046<>\"\",MOD(B1046,24)/24,\"\")","v":""},{"$f":"IF(A1046<>\"\",($B$4+$B$5)/2+($B$5-$B$4)/2*COS(2*PI()/$B$15*B1046),\"\")","v":""},{"$f":"IF(A1046<>\"\",E1046*COS(2*PI()/$B$7*B1046),\"\")","v":""},{"$f":"ABS(0.5*1.025*1*(F1046^3))","v":{"$error":"#VALUE!"}},{"$error":"#VALUE!"}]
["","","","","","",{"$error":"#VALUE!"},{"$error":"#VALUE!"}]
["","","","","","",{"$error":"#VALUE!"},{"$error":"#VALUE!"}]
["","","","","","",{"$error":"#VALUE!"},{"$error":"#VALUE!"}]
["","","","","","",{"$error":"#VALUE!"},{"$error":"#VALUE!"}]
["","","","","","",{"$error":"#VALUE!"},{"$error":"#VALUE!"}]
["","","","","","",{"$error":"#VALUE!"},{"$error":"#VALUE!"}]
["","","","","","",{"$error":"#VALUE!"},{"$error":"#VALUE!"}]
["","","","","","",{"$error":"#VALUE!"},{"$error":"#VALUE!"}]
["","","","","","",{"$error":"#VALUE!"},{"$error":"#VALUE!"}]
["","","","","","",{"$error":"#VALUE!"},{"$error":"#VALUE!"}]
["","","","","","",{"$error":"#VALUE!"},{"$error":"#VALUE!"}]
["","","","","","",{"$error":"#VALUE!"},{"$error":"#VALUE!"}]
["","","","","","",{"$error":"#VALUE!"},{"$error":"#VALUE!"}]
["","","","","","",{"$error":"#VALUE!"},{"$error":"#VALUE!"}]
["","","","","","",{"$error":"#VALUE!"},{"$error":"#VALUE!"}]
["","","","","","",{"$error":"#VALUE!"},{"$error":"#VALUE!"}]
["","","","","","",{"$error":"#VALUE!"},{"$error":"#VALUE!"}]
["","","","","","",{"$error":"#VALUE!"},{"$error":"#VALUE!"}]
["","","","","","",{"$error":"#VALUE!"},{"$error":"#VALUE!"}]
["","","","","","",{"$error":"#VALUE!"},{"$error":"#VALUE!"}]
["","","","","","",{"$error":"#VALUE!"},{"$error":"#VALUE!"}]
["","","","","","",{"$error":"#VALUE!"},{"$error":"#VALUE!"}]
["","","","","","",{"$error":"#VALUE!"},{"$error":"#VALUE!"}]
["","","","","","",{"$error":"#VALUE!"},{"$error":"#VALUE!"}]
["","","","","","",{"$error":"#VALUE!"},{"$error":"#VALUE!"}]
["","","","","","",{"$error":"#VALUE!"},{"$error":"#VALUE!"}]
["","","","","","",{"$error":"#VALUE!"},{"$error":"#VALUE!"}]
["","","","","","",{"$error":"#VALUE!"},{"$error":"#VALUE!"}]
["","","","","","",{"$error":"#VALUE!"},{"$error":"#VALUE!"}]
["","","","","","",{"$error":"#VALUE!"},{"$error":"#VALUE!"}]
["","","","","","",{"$error":"#VALUE!"},{"$error":"#VALUE!"}]
["","","","","","",{"$error":"#VALUE!"},{"$error":"#VALUE!"}]
["","","","","","",{"$error":"#VALUE!"},{"$error":"#VALUE!"}]
["","","","","","",{"$error":"#VALUE!"},{"$error":"#VALUE!"}]
["","","","","","",{"$error":"#VALUE!"},{"$error":"#VALUE!"}]
["","","","","","",{"$error":"#VALUE!"},{"$error":"#VALUE!"}]
["","","","","","",{"$error":"#VALUE!"},{"$error":"#VALUE!"}]
["","","","","","",{"$error":"#VALUE!"},{"$error":"#VALUE!"}]
["","","","","","",{"$error":"#VALUE!"},{"$error":"#VALUE!"}]
["","","","","","",{"$error":"#VALUE!"},{"$error":"#VALUE!"}]
["","","","","","",{"$error":"#VALUE!"},{"$error":"#VALUE!"}]
["","","","","","",{"$error":"#VALUE!"},{"$error":"#VALUE!"}]
["","","","","","",{"$error":"#VALUE!"},{"$error":"#VALUE!"}]
["","","","","","",{"$error":"#VALUE!"},{"$error":"#VALUE!"}]
["","","","","","",{"$error":"#VALUE!"},{"$error":"#VALUE!"}]
["","","","","","",{"$error":"#VALUE!"},{"$error":"#VALUE!"}]
["","","","","","",{"$error":"#VALUE!"},{"$error":"#VALUE!"}]
["","","","","","",{"$error":"#VALUE!"},{"$error":"#VALUE!"}]
["","","","","","",{"$error":"#VALUE!"},{"$error":"#VALUE!"}]
["","","","","","",{"$error":"#VALUE!"},{"$error":"#VALUE!"}]
["","","","","","",{"$error":"#VALUE!"},{"$error":"#VALUE!"}]
["","","","","","",{"$error":"#VALUE!"},{"$error":"#VALUE!"}]
["","","","","","",{"$error":"#VALUE!"},{"$error":"#VALUE!"}]
["","","","","","",{"$error":"#VALUE!"},{"$error":"#VALUE!"}]
["","","","","","",{"$error":"#VALUE!"},{"$error":"#VALUE!"}]
["","","","","","",{"$error":"#VALUE!"},{"$error":"#VALUE!"}]
["","","","","","",{"$error":"#VALUE!"},{"$error":"#VALUE!"}]
["","","","","","",{"$error":"#VALUE!"},{"$error":"#VALUE!"}]
["","","","","","",{"$error":"#VALUE!"},{"$error":"#VALUE!"}]
["","","","","","",{"$error":"#VALUE!"},{"$error":"#VALUE!"}]
["","","","","","",{"$error":"#VALUE!"},{"$error":"#VALUE!"}]
["","","","","","",{"$error":"#VALUE!"},{"$error":"#VALUE!"}]
["","","","","","",{"$error":"#VALUE!"},{"$f":"G1109*$B$13","v":{"$error":"#VALUE!"}}]
[{"$f":"IF(IF(A1109<>\"\",A1109+1<=$B$16,0),A1109+1,\"\")","v":""},{"$f":"IF(A1110<>\"\",A1110*$B$13,\"\")","v":""},{"$f":"IF(A1110<>\"\",ROUNDDOWN(A1110*$B$13/24,0),\"\")","v":""},{"$f":"IF(A1110<>\"\",MOD(B1110,24)/24,\"\")","v":""},{"$f":"IF(A1110<>\"\",($B$4+$B$5)/2+($B$5-$B$4)/2*COS(2*PI()/$B$15*B1110),\"\")","v":""},{"$f":"IF(A1110<>\"\",E1110*COS(2*PI()/$B$7*B1110),\"\")","v":""},{"$f":"ABS(0.5*1.025*1*(F1110^3))","v":{"$error":"#VALUE!"}},{"$error":"#VALUE!"}]
["","","","","","",{"$error":"#VALUE!"},{"$error":"#VALUE!"}]
["","","","","","",{"$error":"#VALUE!"},{"$error":"#VALUE!"}]
["","","","","","",{"$error":"#VALUE!"},{"$error":"#VALUE!"}]
["","","","","","",{"$error":"#VALUE!"},{"$error":"#VALUE!"}]
["","","","","","",{"$error":"#VALUE!"},{"$error":"#VALUE!"}]
["","","","","","",{"$error":"#VALUE!"},{"$error":"#VALUE!"}]
["","","","","","",{"$error":"#VALUE!"},{"$error":"#VALUE!"}]
["","","","","","",{"$error":"#VALUE!"},{"$error":"#VALUE!"}]
["","","","","","",{"$error":"#VALUE!"},{"$error":"#VALUE!"}]
["","","","","","",{"$error":"#VALUE!"},{"$error":"#VALUE!"}]
["","","","","","",{"$error":"#VALUE!"},{"$error":"#VALUE!"}]
["","","","","","",{"$error":"#VALUE!"},{"$error":"#VALUE!"}]
["","","","","","",{"$error":"#VALUE!"},{"$error":"#VALUE!"}]
["","","","","","",{"$error":"#VALUE!"},{"$error":"#VALUE!"}]
["","","","","","",{"$error":"#VALUE!"},{"$error":"#VALUE!"}]
["","","","","","",{"$error":"#VALUE!"},{"$error":"#VALUE!"}]
["","","","","","",{"$error":"#VALUE!"},{"$error":"#VALUE!"}]
["","","","","","",{"$error":"#VALUE!"},{"$error":"#VALUE!"}]
["","","","","","",{"$error":"#VALUE!"},{"$error":"#VALUE!"}]
["","","","","","",{"$error":"#VALUE!"},{"$error":"#VALUE!"}]
["","","","","","",{"$error":"#VALUE!"},{"$error":"#VALUE!"}]
["","","","","","",{"$error":"#VALUE!"},{"$error":"#VALUE!"}]
["","","","","","",{"$error":"#VALUE!"},{"$error":"#VALUE!"}]
["","","","","","",{"$error":"#VALUE!"},{"$error":"#VALUE!"}]
["","","","","","",{"$error":"#VALUE!"},{"$error":"#VALUE!"}]
["","","","","","",{"$error":"#VALUE!"},{"$error":"#VALUE!"}]
["","","","","","",{"$error":"#VALUE!"},{"$error":"#VALUE!"}]
["","","","","","",{"$error":"#VALUE!"},{"$error":"#VALUE!"}]
["","","","","","",{"$error":"#VALUE!"},{"$error":"#VALUE!"}]
["","","","","","",{"$error":"#VALUE!"},{"$error":"#VALUE!"}]
["","","","","","",{"$error":"#VALUE!"},{"$error":"#VALUE!"}]
["","","","","","",{"$error":"#VALUE!"},{"$error":"#VALUE!"}]
["","","","","","",{"$error":"#VALUE!"},{"$error":"#VALUE!"}]
["","","","","","",{"$error":"#VALUE!"},{"$error":"#VALUE!"}]
["","","","","","",{"$error":"#VALUE!"},{"$error":"#VALUE!"}]
["","","","","","",{"$error":"#VALUE!"},{"$error":"#VALUE!"}]
["","","","","","",{"$error":"#VALUE!"},{"$error":"#VALUE!"}]
["","","","","","",{"$error":"#VALUE!"},{"$error":"#VALUE!"}]
["","","","","","",{"$error":"#VALUE!"},{"$error":"#VALUE!"}]
["","","","","","",{"$error":"#VALUE!"},{"$error":"#VALUE!"}]
["","","","","","",{"$error":"#VALUE!"},{"$error":"#VALUE!"}]
["","","","","","",{"$error":"#VALUE!"},{"$error":"#VALUE!"}]
["","","","","","",{"$error":"#VALUE!"},{"$error":"#VALUE!"}]
["","","","","","",{"$error":"#VALUE!"},{"$error":"#VALUE!"}]
["","","","","","",{"$error":"#VALUE!"},{"$error":"#VALUE!"}]
["","","","","","",{"$error":"#VALUE!"},{"$error":"#VALUE!"}]
["","","","","","",{"$error":"#VALUE!"},{"$error":"#VALUE!"}]
["","","","","","",{"$error":"#VALUE!"},{"$error":"#VALUE!"}]
["","","","","","",{"$error":"#VALUE!"},{"$error":"#VALUE!"}]
["","","","","","",{"$error":"#VALUE!"},{"$error":"#VALUE!"}]
["","","","","","",{"$error":"#VALUE!"},{"$error":"#VALUE!"}]
["","","","","","",{"$error":"#VALUE!"},{"$error":"#VALUE!"}]
["","","","","","",{"$error":"#VALUE!"},{"$error":"#VALUE!"}]
["","","","","","",{"$error":"#VALUE!"},{"$error":"#VALUE!"}]
["","","","","","",{"$error":"#VALUE!"},{"$error":"#VALUE!"}]
["","","","","","",{"$error":"#VALUE!"},{"$error":"#VALUE!"}]
["","","","","","",{"$error":"#VALUE!"},{"$error":"#VALUE!"}]
["","","","","","",{"$error":"#VALUE!"},{"$error":"#VALUE!"}]
["","","","","","",{"$error":"#VALUE!"},{"$error":"#VALUE!"}]
["","","","","","",{"$error":"#VALUE!"},{"$error":"#VALUE!"}]
["","","","","","",{"$error":"#VALUE!"},{"$error":"#VALUE!"}]
["","","","","","",{"$error":"#VALUE!"},{"$error":"#VALUE!"}]
["","","","","","",{"$error":"#VALUE!"},{"$f":"G1173*$B$13","v":{"$error":"#VALUE!"}}]
[{"$f":"IF(IF(A1173<>\"\",A1173+1<=$B$16,0),A1173+1,\"\")","v":""},{"$f":"IF(A1174<>\"\",A1174*$B$13,\"\")","v":""},{"$f":"IF(A1174<>\"\",ROUNDDOWN(A1174*$B$13/24,0),\"\")","v":""},{"$f":"IF(A1174<>\"\",MOD(B1174,24)/24,\"\")","v":""},{"$f":"IF(A1174<>\"\",($B$4+$B$5)/2+($B$5-$B$4)/2*COS(2*PI()/$B$15*B1174),\"\")","v":""},{"$f":"IF(A1174<>\"\",E1174*COS(2*PI()/$B$7*B1174),\"\")","v":""},{"$f":"ABS(0.5*1.025*1*(F1174^3))","v":{"$error":"#VALUE!"}},{"$error":"#VALUE!"}]
["","","","","","",{"$error":"#VALUE!"},{"$error":"#VALUE!"}]
["","","","","","",{"$error":"#VALUE!"},{"$error":"#VALUE!"}]
["","","","","","",{"$error":"#VALUE!"},{"$error":"#VALUE!"}]
["","","","","","",{"$error":"#VALUE!"},{"$error":"#VALUE!"}]
["","","","","","",{"$error":"#VALUE!"},{"$error":"#VALUE!"}]
["","","","","","",{"$error":"#VALUE!"},{"$error":"#VALUE!"}]
["","","","","","",{"$error":"#VALUE!"},{"$error":"#VALUE!"}]
["","","","","","",{"$error":"#VALUE!"},{"$error":"#VALUE!"}]
["","","","","","",{"$error":"#VALUE!"},{"$error":"#VALUE!"}]
["","","","","","",{"$error":"#VALUE!"},{"$error":"#VALUE!"}]
["","","","","","",{"$error":"#VALUE!"},{"$error":"#VALUE!"}]
["","","","","","",{"$error":"#VALUE!"},{"$error":"#VALUE!"}]
["","","","","","",{"$error":"#VALUE!"},{"$error":"#VALUE!"}]
["","","","","","",{"$error":"#VALUE!"},{"$error":"#VALUE!"}]
["","","","","","",{"$error":"#VALUE!"},{"$error":"#VALUE!"}]
["","","","","","",{"$error":"#VALUE!"},{"$error":"#VALUE!"}]
["","","","","","",{"$error":"#VALUE!"},{"$error":"#VALUE!"}]
["","","","","","",{"$error":"#VALUE!"},{"$error":"#VALUE!"}]
["","","","","","",{"$error":"#VALUE!"},{"$error":"#VALUE!"}]
["","","","","","",{"$error":"#VALUE!"},{"$error":"#VALUE!"}]
["","","","","","",{"$error":"#VALUE!"},{"$error":"#VALUE!"}]
["","","","","","",{"$error":"#VALUE!"},{"$error":"#VALUE!"}]
["","","","","","",{"$error":"#VALUE!"},{"$error":"#VALUE!"}]
["","","","","","",{"$error":"#VALUE!"},{"$error":"#VALUE!"}]
["","","","","","",{"$error":"#VALUE!"},{"$error":"#VALUE!"}]
["","","","","","",{"$error":"#VALUE!"},{"$error":"#VALUE!"}]
["","","","","","",{"$error":"#VALUE!"},{"$error":"#VALUE!"}]
["","","","","","",{"$error":"#VALUE!"},{"$error":"#VALUE!"}]
["","","","","","",{"$error":"#VALUE!"},{"$error":"#VALUE!"}]
["","","","","","",{"$error":"#VALUE!"},{"$error":"#VALUE!"}]
["","","","","","",{"$error":"#VALUE!"},{"$error":"#VALUE!"}]
["","","","","","",{"$error":"#VALUE!"},{"$error":"#VALUE!"}]
["","","","","","",{"$error":"#VALUE!"},{"$error":"#VALUE!"}]
["","","","","","",{"$error":"#VALUE!"},{"$error":"#VALUE!"}]
["","","","","","",{"$error":"#VALUE!"},{"$error":"#VALUE!"}]
["","","","","","",{"$error":"#VALUE!"},{"$error":"#VALUE!"}]
["","","","","","",{"$error":"#VALUE!"},{"$error":"#VALUE!"}]
["","","","","","",{"$error":"#VALUE!"},{"$error":"#VALUE!"}]
["","","","","","",{"$error":"#VALUE!"},{"$error":"#VALUE!"}]
["","","","","","",{"$error":"#VALUE!"},{"$error":"#VALUE!"}]
["","","","","","",{"$error":"#VALUE!"},{"$error":"#VALUE!"}]
["","","","","","",{"$error":"#VALUE!"},{"$error":"#VALUE!"}]
["","","","","","",{"$error":"#VALUE!"},{"$error":"#VALUE!"}]
["","","","","","",{"$error":"#VALUE!"},{"$error":"#VALUE!"}]
["","","","","","",{"$error":"#VALUE!"},{"$error":"#VALUE!"}]
["","","","","","",{"$error":"#VALUE!"},{"$error":"#VALUE!"}]
["","","","","","",{"$error":"#VALUE!"},{"$error":"#VALUE!"}]
["","","","","","",{"$error":"#VALUE!"},{"$error":"#VALUE!"}]
["","","","","","",{"$error":"#VALUE!"},{"$error":"#VALUE!"}]
["","","","","","",{"$error":"#VALUE!"},{"$error":"#VALUE!"}]
["","","","","","",{"$error":"#VALUE!"},{"$error":"#VALUE!"}]
["","","","","","",{"$error":"#VALUE!"},{"$error":"#VALUE!"}]
["","","","","","",{"$error":"#VALUE!"},{"$error":"#VALUE!"}]
["","","","","","",{"$error":"#VALUE!"},{"$error":"#VALUE!"}]
["","","","","","",{"$error":"#VALUE!"},{"$error":"#VALUE!"}]
["","","","","","",{"$error":"#VALUE!"},{"$error":"#VALUE!"}]
["","","","","","",{"$error":"#VALUE!"},{"$error":"#VALUE!"}]
["","","","","","",{"$error":"#VALUE!"},{"$error":"#VALUE!"}]
["","","","","","",{"$error":"#VALUE!"},{"$error":"#VALUE!"}]
["","","","","","",{"$error":"#VALUE!"},{"$error":"#VALUE!"}]
["","","","","","",{"$error":"#VALUE!"},{"$error":"#VALUE!"}]
["","","","","","",{"$error":"#VALUE!"},{"$error":"#VALUE!"}]
["","","","","","",{"$error":"#VALUE!"},{"$f":"G1237*$B$13","v":{"$error":"#VALUE!"}}]
[{"$f":"IF(IF(A1237<>\"\",A1237+1<=$B$16,0),A1237+1,\"\")","v":""},{"$f":"IF(A1238<>\"\",A1238*$B$13,\"\")","v":""},{"$f":"IF(A1238<>\"\",ROUNDDOWN(A1238*$B$13/24,0),\"\")","v":""},{"$f":"IF(A1238<>\"\",MOD(B1238,24)/24,\"\")","v":""},{"$f":"IF(A1238<>\"\",($B$4+$B$5)/2+($B$5-$B$4)/2*COS(2*PI()/$B$15*B1238),\"\")","v":""},{"$f":"IF(A1238<>\"\",E1238*COS(2*PI()/$B$7*B1238),\"\")","v":""},{"$f":"ABS(0.5*1.025*1*(F1238^3))","v":{"$error":"#VALUE!"}},{"$error":"#VALUE!"}]
["","","","","","",{"$error":"#VALUE!"},{"$error":"#VALUE!"}]
["","","","","","",{"$error":"#VALUE!"},{"$error":"#VALUE!"}]
["","","","","","",{"$error":"#VALUE!"},{"$error":"#VALUE!"}]
["","","","","","",{"$error":"#VALUE!"},{"$error":"#VALUE!"}]
["","","","","","",{"$error":"#VALUE!"},{"$error":"#VALUE!"}]
["","","","","","",{"$error":"#VALUE!"},{"$error":"#VALUE!"}]
["","","","","","",{"$error":"#VALUE!"},{"$error":"#VALUE!"}]
["","","","","","",{"$error":"#VALUE!"},{"$error":"#VALUE!"}]
["","","","","","",{"$error":"#VALUE!"},{"$error":"#VALUE!"}]
["","","","","","",{"$error":"#VALUE!"},{"$error":"#VALUE!"}]
["","","","","","",{"$error":"#VALUE!"},{"$error":"#VALUE!"}]
["","","","","","",{"$error":"#VALUE!"},{"$error":"#VALUE!"}]
["","","","","","",{"$error":"#VALUE!"},{"$error":"#VALUE!"}]
["","","","","","",{"$error":"#VALUE!"},{"$error":"#VALUE!"}]
["","","","","","",{"$error":"#VALUE!"},{"$error":"#VALUE!"}]
["","","","","","",{"$error":"#VALUE!"},{"$error":"#VALUE!"}]
["","","","","","",{"$error":"#VALUE!"},{"$error":"#VALUE!"}]
["","","","","","",{"$error":"#VALUE!"},{"$error":"#VALUE!"}]
["","","","","","",{"$error":"#VALUE!"},{"$error":"#VALUE!"}]
["","","","","","",{"$error":"#VALUE!"},{"$error":"#VALUE!"}]
["","","","","","",{"$error":"#VALUE!"},{"$error":"#VALUE!"}]
["","","","","","",{"$error":"#VALUE!"},{"$error":"#VALUE!"}]
["","","","","","",{"$error":"#VALUE!"},{"$error":"#VALUE!"}]
["","","","","","",{"$error":"#VALUE!"},{"$error":"#VALUE!"}]
["","","","","","",{"$error":"#VALUE!"},{"$error":"#VALUE!"}]
["","","","","","",{"$error":"#VALUE!"},{"$error":"#VALUE!"}]
["","","","","","",{"$error":"#VALUE!"},{"$error":"#VALUE!"}]
["","","","","","",{"$error":"#VALUE!"},{"$error":"#VALUE!"}]
["","","","","","",{"$error":"#VALUE!"},{"$error":"#VALUE!"}]
["","","","","","",{"$error":"#VALUE!"},{"$error":"#VALUE!"}]
["","","","","","",{"$error":"#VALUE!"},{"$error":"#VALUE!"}]
["","","","","","",{"$error":"#VALUE!"},{"$error":"#VALUE!"}]
["","","","","","",{"$error":"#VALUE!"},{"$error":"#VALUE!"}]
["","","","","","",{"$error":"#VALUE!"},{"$error":"#VALUE!"}]
["","","","","","",{"$error":"#VALUE!"},{"$error":"#VALUE!"}]
["","","","","","",{"$error":"#VALUE!"},{"$error":"#VALUE!"}]
["","","","","","",{"$error":"#VALUE!"},{"$error":"#VALUE!"}]
["","","","","","",{"$error":"#VALUE!"},{"$error":"#VALUE!"}]
["","","","","","",{"$error":"#VALUE!"},{"$error":"#VALUE!"}]
["","","","","","",{"$error":"#VALUE!"},{"$error":"#VALUE!"}]
["","","","","","",{"$error":"#VALUE!"},{"$error":"#VALUE!"}]
["","","","","","",{"$error":"#VALUE!"},{"$error":"#VALUE!"}]
["","","","","","",{"$error":"#VALUE!"},{"$error":"#VALUE!"}]
["","","","","","",{"$error":"#VALUE!"},{"$error":"#VALUE!"}]
["","","","","","",{"$error":"#VALUE!"},{"$error":"#VALUE!"}]
["","","","","","",{"$error":"#VALUE!"},{"$error":"#VALUE!"}]
["","","","","","",{"$error":"#VALUE!"},{"$error":"#VALUE!"}]
["","","","","","",{"$error":"#VALUE!"},{"$error":"#VALUE!"}]
["","","","","","",{"$error":"#VALUE!"},{"$error":"#VALUE!"}]
["","","","","","",{"$error":"#VALUE!"},{"$error":"#VALUE!"}]
["","","","","","",{"$error":"#VALUE!"},{"$error":"#VALUE!"}]
["","","","","","",{"$error":"#VALUE!"},{"$error":"#VALUE!"}]
["","","","","","",{"$error":"#VALUE!"},{"$error":"#VALUE!"}]
["","","","","","",{"$error":"#VALUE!"},{"$error":"#VALUE!"}]
["","","","","","",{"$error":"#VALUE!"},{"$error":"#VALUE!"}]
["","","","","","",{"$error":"#VALUE!"},{"$error":"#VALUE!"}]
["","","","","","",{"$error":"#VALUE!"},{"$error":"#VALUE!"}]
["","","","","","",{"$error":"#VALUE!"},{"$error":"#VALUE!"}]
["","","","","","",{"$error":"#VALUE!"},{"$error":"#VALUE!"}]
["","","","","","",{"$error":"#VALUE!"},{"$error":"#VALUE!"}]
["","","","","","",{"$error":"#VALUE!"},{"$error":"#VALUE!"}]
["","","","","","",{"$error":"#VALUE!"},{"$error":"#VALUE!"}]
["","","","","","",{"$error":"#VALUE!"},{"$f":"G1301*$B$13","v":{"$error":"#VALUE!"}}]
[{"$f":"IF(IF(A1301<>\"\",A1301+1<=$B$16,0),A1301+1,\"\")","v":""},{"$f":"IF(A1302<>\"\",A1302*$B$13,\"\")","v":""},{"$f":"IF(A1302<>\"\",ROUNDDOWN(A1302*$B$13/24,0),\"\")","v":""},{"$f":"IF(A1302<>\"\",MOD(B1302,24)/24,\"\")","v":""},{"$f":"IF(A1302<>\"\",($B$4+$B$5)/2+($B$5-$B$4)/2*COS(2*PI()/$B$15*B1302),\"\")","v":""},{"$f":"IF(A1302<>\"\",E1302*COS(2*PI()/$B$7*B1302),\"\")","v":""},{"$f":"ABS(0.5*1.025*1*(F1302^3))","v":{"$error":"#VALUE!"}},{"$error":"#VALUE!"}]
["","","","","","",{"$error":"#VALUE!"},{"$error":"#VALUE!"}]
["","","","","","",{"$error":"#VALUE!"},{"$error":"#VALUE!"}]
["","","","","","",{"$error":"#VALUE!"},{"$error":"#VALUE!"}]
["","","","","","",{"$error":"#VALUE!"},{"$error":"#VALUE!"}]
["","","","","","",{"$error":"#VALUE!"},{"$error":"#VALUE!"}]
["","","","","","",{"$error":"#VALUE!"},{"$error":"#VALUE!"}]
["","","","","","",{"$error":"#VALUE!"},{"$error":"#VALUE!"}]
["","","","","","",{"$error":"#VALUE!"},{"$error":"#VALUE!"}]
["","","","","","",{"$error":"#VALUE!"},{"$error":"#VALUE!"}]
["","","","","","",{"$error":"#VALUE!"},{"$error":"#VALUE!"}]
["","","","","","",{"$error":"#VALUE!"},{"$error":"#VALUE!"}]
["","","","","","",{"$error":"#VALUE!"},{"$error":"#VALUE!"}]
["","","","","","",{"$error":"#VALUE!"},{"$error":"#VALUE!"}]
["","","","","","",{"$error":"#VALUE!"},{"$error":"#VALUE!"}]
["","","","","","",{"$error":"#VALUE!"},{"$error":"#VALUE!"}]
["","","","","","",{"$error":"#VALUE!"},{"$error":"#VALUE!"}]
["","","","","","",{"$error":"#VALUE!"},{"$error":"#VALUE!"}]
["","","","","","",{"$error":"#VALUE!"},{"$error":"#VALUE!"}]
["","","","","","",{"$error":"#VALUE!"},{"$error":"#VALUE!"}]
["","","","","","",{"$error":"#VALUE!"},{"$error":"#VALUE!"}]
["","","","","","",{"$error":"#VALUE!"},{"$error":"#VALUE!"}]
["","","","","","",{"$error":"#VALUE!"},{"$error":"#VALUE!"}]
["","","","","","",{"$error":"#VALUE!"},{"$error":"#VALUE!"}]
["","","","","","",{"$error":"#VALUE!"},{"$error":"#VALUE!"}]
["","","","","","",{"$error":"#VALUE!"},{"$error":"#VALUE!"}]
["","","","","","",{"$error":"#VALUE!"},{"$error":"#VALUE!"}]
["","","","","","",{"$error":"#VALUE!"},{"$error":"#VALUE!"}]
["","","","","","",{"$error":"#VALUE!"},{"$error":"#VALUE!"}]
["","","","","","",{"$error":"#VALUE!"},{"$error":"#VALUE!"}]
["","","","","","",{"$error":"#VALUE!"},{"$error":"#VALUE!"}]
["","","","","","",{"$error":"#VALUE!"},{"$error":"#VALUE!"}]
["","","","","","",{"$error":"#VALUE!"},{"$error":"#VALUE!"}]
["","","","","","",{"$error":"#VALUE!"},{"$error":"#VALUE!"}]
["","","","","","",{"$error":"#VALUE!"},{"$error":"#VALUE!"}]
["","","","","","",{"$error":"#VALUE!"},{"$error":"#VALUE!"}]
["","","","","","",{"$error":"#VALUE!"},{"$error":"#VALUE!"}]
["","","","","","",{"$error":"#VALUE!"},{"$error":"#VALUE!"}]
["","","","","","",{"$error":"#VALUE!"},{"$error":"#VALUE!"}]
["","","","","","",{"$error":"#VALUE!"},{"$error":"#VALUE!"}]
["","","","","","",{"$error":"#VALUE!"},{"$error":"#VALUE!"}]
["","","","","","",{"$error":"#VALUE!"},{"$error":"#VALUE!"}]
["","","","","","",{"$error":"#VALUE!"},{"$error":"#VALUE!"}]
["","","","","","",{"$error":"#VALUE!"},{"$error":"#VALUE!"}]
["","","","","","",{"$error":"#VALUE!"},{"$error":"#VALUE!"}]
["","","","","","",{"$error":"#VALUE!"},{"$error":"#VALUE!"}]
["","","","","","",{"$error":"#VALUE!"},{"$error":"#VALUE!"}]
["","","","","","",{"$error":"#VALUE!"},{"$error":"#VALUE!"}]
["","","","","","",{"$error":"#VALUE!"},{"$error":"#VALUE!"}]
["","","","","","",{"$error":"#VALUE!"},{"$error":"#VALUE!"}]
["","","","","","",{"$error":"#VALUE!"},{"$error":"#VALUE!"}]
["","","","","","",{"$error":"#VALUE!"},{"$error":"#VALUE!"}]
["","","","","","",{"$error":"#VALUE!"},{"$error":"#VALUE!"}]
["","","","","","",{"$error":"#VALUE!"},{"$error":"#VALUE!"}]
["","","","","","",{"$error":"#VALUE!"},{"$error":"#VALUE!"}]
["","","","","","",{"$error":"#VALUE!"},{"$error":"#VALUE!"}]
["","","","","","",{"$error":"#VALUE!"},{"$error":"#VALUE!"}]
["","","","","","",{"$error":"#VALUE!"},{"$error":"#VALUE!"}]
["","","","","","",{"$error":"#VALUE!"},{"$error":"#VALUE!"}]
["","","","","","",{"$error":"#VALUE!"},{"$error":"#VALUE!"}]
["","","","","","",{"$error":"#VALUE!"},{"$error":"#VALUE!"}]
["","","","","","",{"$error":"#VALUE!"},{"$error":"#VALUE!"}]
["","","","","","",{"$error":"#VALUE!"},{"$error":"#VALUE!"}]
["","","","","","",{"$error":"#VALUE!"},{"$f":"G1365*$B$13","v":{"$error":"#VALUE!"}}]
[{"$f":"IF(IF(A1365<>\"\",A1365+1<=$B$16,0),A1365+1,\"\")","v":""},{"$f":"IF(A1366<>\"\",A1366*$B$13,\"\")","v":""},{"$f":"IF(A1366<>\"\",ROUNDDOWN(A1366*$B$13/24,0),\"\")","v":""},{"$f":"IF(A1366<>\"\",MOD(B1366,24)/24,\"\")","v":""},{"$f":"IF(A1366<>\"\",($B$4+$B$5)/2+($B$5-$B$4)/2*COS(2*PI()/$B$15*B1366),\"\")","v":""},{"$f":"IF(A1366<>\"\",E1366*COS(2*PI()/$B$7*B1366),\"\")","v":""},{"$f":"ABS(0.5*1.025*1*(F1366^3))","v":{"$error":"#VALUE!"}},{"$error":"#VALUE!"}]
["","","","","","",{"$error":"#VALUE!"},{"$error":"#VALUE!"}]
["","","","","","",{"$error":"#VALUE!"},{"$error":"#VALUE!"}]
["","","","","","",{"$error":"#VALUE!"},{"$error":"#VALUE!"}]
["","","","","","",{"$error":"#VALUE!"},{"$error":"#VALUE!"}]
["","","","","","",{"$error":"#VALUE!"},{"$error":"#VALUE!"}]
["","","","","","",{"$error":"#VALUE!"},{"$error":"#VALUE!"}]
["","","","","","",{"$error":"#VALUE!"},{"$error":"#VALUE!"}]
["","","","","","",{"$error":"#VALUE!"},{"$error":"#VALUE!"}]
["","","","","","",{"$error":"#VALUE!"},{"$error":"#VALUE!"}]
["","","","","","",{"$error":"#VALUE!"},{"$error":"#VALUE!"}]
["","","","","","",{"$error":"#VALUE!"},{"$error":"#VALUE!"}]
["","","","","","",{"$error":"#VALUE!"},{"$error":"#VALUE!"}]
["","","","","","",{"$error":"#VALUE!"},{"$error":"#VALUE!"}]
["","","","","","",{"$error":"#VALUE!"},{"$error":"#VALUE!"}]
["","","","","","",{"$error":"#VALUE!"},{"$error":"#VALUE!"}]
["","","","","","",{"$error":"#VALUE!"},{"$error":"#VALUE!"}]
["","","","","","",{"$error":"#VALUE!"},{"$error":"#VALUE!"}]
["","","","","","",{"$error":"#VALUE!"},{"$error":"#VALUE!"}]
["","","","","","",{"$error":"#VALUE!"},{"$error":"#VALUE!"}]
["","","","","","",{"$error":"#VALUE!"},{"$error":"#VALUE!"}]
["","","","","","",{"$error":"#VALUE!"},{"$error":"#VALUE!"}]
["","","","","","",{"$error":"#VALUE!"},{"$error":"#VALUE!"}]
["","","","","","",{"$error":"#VALUE!"},{"$error":"#VALUE!"}]
["","","","","","",{"$error":"#VALUE!"},{"$error":"#VALUE!"}]
["","","","","","",{"$error":"#VALUE!"},{"$error":"#VALUE!"}]
["","","","","","",{"$error":"#VALUE!"},{"$error":"#VALUE!"}]
["","","","","","",{"$error":"#VALUE!"},{"$error":"#VALUE!"}]
["","","","","","",{"$error":"#VALUE!"},{"$error":"#VALUE!"}]
["","","","","","",{"$error":"#VALUE!"},{"$error":"#VALUE!"}]
["","","","","","",{"$error":"#VALUE!"},{"$error":"#VALUE!"}]
["","","","","","",{"$error":"#VALUE!"},{"$error":"#VALUE!"}]
["","","","","","",{"$error":"#VALUE!"},{"$error":"#VALUE!"}]
["","","","","","",{"$error":"#VALUE!"},{"$error":"#VALUE!"}]
["","","","","","",{"$error":"#VALUE!"},{"$error":"#VALUE!"}]
["","","","","","",{"$error":"#VALUE!"},{"$error":"#VALUE!"}]
["","","","","","",{"$error":"#VALUE!"},{"$error":"#VALUE!"}]
["","","","","","",{"$error":"#VALUE!"},{"$error":"#VALUE!"}]
["","","","","","",{"$error":"#VALUE!"},{"$error":"#VALUE!"}]
["","","","","","",{"$error":"#VALUE!"},{"$error":"#VALUE!"}]
["","","","","","",{"$error":"#VALUE!"},{"$error":"#VALUE!"}]
["","","","","","",{"$error":"#VALUE!"},{"$error":"#VALUE!"}]
["","","","","","",{"$error":"#VALUE!"},{"$error":"#VALUE!"}]
["","","","","","",{"$error":"#VALUE!"},{"$error":"#VALUE!"}]
["","","","","","",{"$error":"#VALUE!"},{"$error":"#VALUE!"}]
["","","","","","",{"$error":"#VALUE!"},{"$error":"#VALUE!"}]
["","","","","","",{"$error":"#VALUE!"},{"$error":"#VALUE!"}]
["","","","","","",{"$error":"#VALUE!"},{"$error":"#VALUE!"}]
["","","","","","",{"$error":"#VALUE!"},{"$error":"#VALUE!"}]
["","","","","","",{"$error":"#VALUE!"},{"$error":"#VALUE!"}]
["","","","","","",{"$error":"#VALUE!"},{"$error":"#VALUE!"}]
["","","","","","",{"$error":"#VALUE!"},{"$error":"#VALUE!"}]
["","","","","","",{"$error":"#VALUE!"},{"$error":"#VALUE!"}]
["","","","","","",{"$error":"#VALUE!"},{"$error":"#VALUE!"}]
["","","","","","",{"$error":"#VALUE!"},{"$error":"#VALUE!"}]
["","","","","","",{"$error":"#VALUE!"},{"$error":"#VALUE!"}]
["","","","","","",{"$error":"#VALUE!"},{"$error":"#VALUE!"}]
["","","","","","",{"$error":"#VALUE!"},{"$error":"#VALUE!"}]
["","","","","","",{"$error":"#VALUE!"},{"$error":"#VALUE!"}]
["","","","","","",{"$error":"#VALUE!"},{"$error":"#VALUE!"}]
["","","","","","",{"$error":"#VALUE!"},{"$error":"#VALUE!"}]
["","","","","","",{"$error":"#VALUE!"},{"$error":"#VALUE!"}]
["","","","","","",{"$error":"#VALUE!"},{"$error":"#VALUE!"}]
["","","","","","",{"$error":"#VALUE!"},{"$f":"G1429*$B$13","v":{"$error":"#VALUE!"}}]
[{"$f":"IF(IF(A1429<>\"\",A1429+1<=$B$16,0),A1429+1,\"\")","v":""},{"$f":"IF(A1430<>\"\",A1430*$B$13,\"\")","v":""},{"$f":"IF(A1430<>\"\",ROUNDDOWN(A1430*$B$13/24,0),\"\")","v":""},{"$f":"IF(A1430<>\"\",MOD(B1430,24)/24,\"\")","v":""},{"$f":"IF(A1430<>\"\",($B$4+$B$5)/2+($B$5-$B$4)/2*COS(2*PI()/$B$15*B1430),\"\")","v":""},{"$f":"IF(A1430<>\"\",E1430*COS(2*PI()/$B$7*B1430),\"\")","v":""},{"$f":"ABS(0.5*1.025*1*(F1430^3))","v":{"$error":"#VALUE!"}},{"$error":"#VALUE!"}]
["","","","","","",{"$error":"#VALUE!"},{"$error":"#VALUE!"}]
["","","","","","",{"$error":"#VALUE!"},{"$error":"#VALUE!"}]
["","","","","","",{"$error":"#VALUE!"},{"$error":"#VALUE!"}]
["","","","","","",{"$error":"#VALUE!"},{"$error":"#VALUE!"}]
["","","","","","",{"$error":"#VALUE!"},{"$error":"#VALUE!"}]
["","","","","","",{"$error":"#VALUE!"},{"$error":"#VALUE!"}]
["","","","","","",{"$error":"#VALUE!"},{"$error":"#VALUE!"}]
["","","","","","",{"$error":"#VALUE!"},{"$error":"#VALUE!"}]
["","","","","","",{"$error":"#VALUE!"},{"$error":"#VALUE!"}]
["","","","","","",{"$error":"#VALUE!"},{"$error":"#VALUE!"}]
["","","","","","",{"$error":"#VALUE!"},{"$error":"#VALUE!"}]
["","","","","","",{"$error":"#VALUE!"},{"$error":"#VALUE!"}]
["","","","","","",{"$error":"#VALUE!"},{"$error":"#VALUE!"}]
["","","","","","",{"$error":"#VALUE!"},{"$error":"#VALUE!"}]
["","","","","","",{"$error":"#VALUE!"},{"$error":"#VALUE!"}]
["","","","","","",{"$error":"#VALUE!"},{"$error":"#VALUE!"}]
["","","","","","",{"$error":"#VALUE!"},{"$error":"#VALUE!"}]
["","","","","","",{"$error":"#VALUE!"},{"$error":"#VALUE!"}]
["","","","","","",{"$error":"#VALUE!"},{"$error":"#VALUE!"}]
["","","","","","",{"$error":"#VALUE!"},{"$error":"#VALUE!"}]
["","","","","","",{"$error":"#VALUE!"},{"$error":"#VALUE!"}]
["","","","","","",{"$error":"#VALUE!"},{"$error":"#VALUE!"}]
["","","","","","",{"$error":"#VALUE!"},{"$error":"#VALUE!"}]
["","","","","","",{"$error":"#VALUE!"},{"$error":"#VALUE!"}]
["","","","","","",{"$error":"#VALUE!"},{"$error":"#VALUE!"}]
["","","","","","",{"$error":"#VALUE!"},{"$error":"#VALUE!"}]
["","","","","","",{"$error":"#VALUE!"},{"$error":"#VALUE!"}]
["","","","","","",{"$error":"#VALUE!"},{"$error":"#VALUE!"}]
["","","","","","",{"$error":"#VALUE!"},{"$error":"#VALUE!"}]
["","","","","","",{"$error":"#VALUE!"},{"$error":"#VALUE!"}]
["","","","","","",{"$error":"#VALUE!"},{"$error":"#VALUE!"}]
["","","","","","",{"$error":"#VALUE!"},{"$error":"#VALUE!"}]
["","","","","","",{"$error":"#VALUE!"},{"$error":"#VALUE!"}]
["","","","","","",{"$error":"#VALUE!"},{"$error":"#VALUE!"}]
["","","","","","",{"$error":"#VALUE!"},{"$error":"#VALUE!"}]
["","","","","","",{"$error":"#VALUE!"},{"$error":"#VALUE!"}]
["","","","","","",{"$error":"#VALUE!"},{"$error":"#VALUE!"}]
["","","","","","",{"$error":"#VALUE!"},{"$error":"#VALUE!"}]
["","","","","","",{"$error":"#VALUE!"},{"$error":"#VALUE!"}]
["","","","","","",{"$error":"#VALUE!"},{"$error":"#VALUE!"}]
["","","","","","",{"$error":"#VALUE!"},{"$error":"#VALUE!"}]
["","","","","","",{"$error":"#VALUE!"},{"$error":"#VALUE!"}]
["","","","","","",{"$error":"#VALUE!"},{"$error":"#VALUE!"}]
["","","","","","",{"$error":"#VALUE!"},{"$error":"#VALUE!"}]
["","","","","","",{"$error":"#VALUE!"},{"$error":"#VALUE!"}]
["","","","","","",{"$error":"#VALUE!"},{"$error":"#VALUE!"}]
["","","","","","",{"$error":"#VALUE!"},{"$error":"#VALUE!"}]
["","","","","","",{"$error":"#VALUE!"},{"$error":"#VALUE!"}]
["","","","","","",{"$error":"#VALUE!"},{"$error":"#VALUE!"}]
["","","","","","",{"$error":"#VALUE!"},{"$error":"#VALUE!"}]
["","","","","","",{"$error":"#VALUE!"},{"$error":"#VALUE!"}]
["","","","","","",{"$error":"#VALUE!"},{"$error":"#VALUE!"}]
["","","","","","",{"$error":"#VALUE!"},{"$error":"#VALUE!"}]
["","","","","","",{"$error":"#VALUE!"},{"$error":"#VALUE!"}]
["","","","","","",{"$error":"#VALUE!"},{"$error":"#VALUE!"}]
["","","","","","",{"$error":"#VALUE!"},{"$error":"#VALUE!"}]
["","","","","","",{"$error":"#VALUE!"},{"$error":"#VALUE!"}]
["","","","","","",{"$error":"#VALUE!"},{"$error":"#VALUE!"}]
["","","","","","",{"$error":"#VALUE!"},{"$error":"#VALUE!"}]
["","","","","","",{"$error":"#VALUE!"},{"$error":"#VALUE!"}]
["","","","","","",{"$error":"#VALUE!"},{"$error":"#VALUE!"}]
["","","","","","",{"$error":"#VALUE!"},{"$error":"#VALUE!"}]
["","","","","","",{"$error":"#VALUE!"},{"$f":"G1493*$B$13","v":{"$error":"#VALUE!"}}]
[{"$f":"IF(IF(A1493<>\"\",A1493+1<=$B$16,0),A1493+1,\"\")","v":""},{"$f":"IF(A1494<>\"\",A1494*$B$13,\"\")","v":""},{"$f":"IF(A1494<>\"\",ROUNDDOWN(A1494*$B$13/24,0),\"\")","v":""},{"$f":"IF(A1494<>\"\",MOD(B1494,24)/24,\"\")","v":""},{"$f":"IF(A1494<>\"\",($B$4+$B$5)/2+($B$5-$B$4)/2*COS(2*PI()/$B$15*B1494),\"\")","v":""},{"$f":"IF(A1494<>\"\",E1494*COS(2*PI()/$B$7*B1494),\"\")","v":""},{"$f":"ABS(0.5*1.025*1*(F1494^3))","v":{"$error":"#VALUE!"}},{"$error":"#VALUE!"}]
["","","","","","",{"$error":"#VALUE!"},{"$error":"#VALUE!"}]
["","","","","","",{"$error":"#VALUE!"},{"$error":"#VALUE!"}]
["","","","","","",{"$error":"#VALUE!"},{"$error":"#VALUE!"}]
["","","","","","",{"$error":"#VALUE!"},{"$error":"#VALUE!"}]
["","","","","","",{"$error":"#VALUE!"},{"$error":"#VALUE!"}]
["","","","","","",{"$error":"#VALUE!"},{"$error":"#VALUE!"}]
["","","","","","",{"$error":"#VALUE!"},{"$error":"#VALUE!"}]
["","","","","","",{"$error":"#VALUE!"},{"$error":"#VALUE!"}]
["","","","","","",{"$error":"#VALUE!"},{"$error":"#VALUE!"}]
["","","","","","",{"$error":"#VALUE!"},{"$error":"#VALUE!"}]
["","","","","","",{"$error":"#VALUE!"},{"$error":"#VALUE!"}]
["","","","","","",{"$error":"#VALUE!"},{"$error":"#VALUE!"}]
["","","","","","",{"$error":"#VALUE!"},{"$error":"#VALUE!"}]
["","","","","","",{"$error":"#VALUE!"},{"$error":"#VALUE!"}]
["","","","","","",{"$error":"#VALUE!"},{"$error":"#VALUE!"}]
["","","","","","",{"$error":"#VALUE!"},{"$error":"#VALUE!"}]
["","","","","","",{"$error":"#VALUE!"},{"$error":"#VALUE!"}]
["","","","","","",{"$error":"#VALUE!"},{"$error":"#VALUE!"}]
["","","","","","",{"$error":"#VALUE!"},{"$error":"#VALUE!"}]
["","","","","","",{"$error":"#VALUE!"},{"$error":"#VALUE!"}]
["","","","","","",{"$error":"#VALUE!"},{"$error":"#VALUE!"}]
["","","","","","",{"$error":"#VALUE!"},{"$error":"#VALUE!"}]
["","","","","","",{"$error":"#VALUE!"},{"$error":"#VALUE!"}]
["","","","","","",{"$error":"#VALUE!"},{"$error":"#VALUE!"}]
["","","","","","",{"$error":"#VALUE!"},{"$error":"#VALUE!"}]
["","","","","","",{"$error":"#VALUE!"},{"$error":"#VALUE!"}]
["","","","","","",{"$error":"#VALUE!"},{"$error":"#VALUE!"}]
["","","","","","",{"$error":"#VALUE!"},{"$error":"#VALUE!"}]
["","","","","","",{"$error":"#VALUE!"},{"$error":"#VALUE!"}]
["","","","","","",{"$error":"#VALUE!"},{"$error":"#VALUE!"}]
["","","","","","",{"$error":"#VALUE!"},{"$error":"#VALUE!"}]
["","","","","","",{"$error":"#VALUE!"},{"$error":"#VALUE!"}]
["","","","","","",{"$error":"#VALUE!"},{"$error":"#VALUE!"}]
["","","","","","",{"$error":"#VALUE!"},{"$error":"#VALUE!"}]
["","","","","","",{"$error":"#VALUE!"},{"$error":"#VALUE!"}]
["","","","","","",{"$error":"#VALUE!"},{"$error":"#VALUE!"}]
["","","","","","",{"$error":"#VALUE!"},{"$error":"#VALUE!"}]
["","","","","","",{"$error":"#VALUE!"},{"$error":"#VALUE!"}]
["","","","","","",{"$error":"#VALUE!"},{"$error":"#VALUE!"}]
["","","","","","",{"$error":"#VALUE!"},{"$error":"#VALUE!"}]
["","","","","","",{"$error":"#VALUE!"},{"$error":"#VALUE!"}]
["","","","","","",{"$error":"#VALUE!"},{"$error":"#VALUE!"}]
["","","","","","",{"$error":"#VALUE!"},{"$error":"#VALUE!"}]
["","","","","","",{"$error":"#VALUE!"},{"$error":"#VALUE!"}]
["","","","","","",{"$error":"#VALUE!"},{"$error":"#VALUE!"}]
["","","","","","",{"$error":"#VALUE!"},{"$error":"#VALUE!"}]
["","","","","","",{"$error":"#VALUE!"},{"$error":"#VALUE!"}]
["","","","","","",{"$error":"#VALUE!"},{"$error":"#VALUE!"}]
["","","","","","",{"$error":"#VALUE!"},{"$error":"#VALUE!"}]
["","","","","","",{"$error":"#VALUE!"},{"$error":"#VALUE!"}]
["","","","","","",{"$error":"#VALUE!"},{"$error":"#VALUE!"}]
["","","","","","",{"$error":"#VALUE!"},{"$error":"#VALUE!"}]
["","","","","","",{"$error":"#VALUE!"},{"$error":"#VALUE!"}]
["","","","","","",{"$error":"#VALUE!"},{"$error":"#VALUE!"}]
["","","","","","",{"$error":"#VALUE!"},{"$error":"#VALUE!"}]
["","","","","","",{"$error":"#VALUE!"},{"$error":"#VALUE!"}]
["","","","","","",{"$error":"#VALUE!"},{"$error":"#VALUE!"}]
["","","","","","",{"$error":"#VALUE!"},{"$error":"#VALUE!"}]
["","","","","","",{"$error":"#VALUE!"},{"$error":"#VALUE!"}]
["","","","","","",{"$error":"#VALUE!"},{"$error":"#VALUE!"}]
["","","","","","",{"$error":"#VALUE!"},{"$error":"#VALUE!"}]
["","","","","","",{"$error":"#VALUE!"},{"$error":"#VALUE!"}]
["","","","","","",{"$error":"#VALUE!"},{"$f":"G1557*$B$13","v":{"$error":"#VALUE!"}}]
[{"$f":"IF(IF(A1557<>\"\",A1557+1<=$B$16,0),A1557+1,\"\")","v":""},{"$f":"IF(A1558<>\"\",A1558*$B$13,\"\")","v":""},{"$f":"IF(A1558<>\"\",ROUNDDOWN(A1558*$B$13/24,0),\"\")","v":""},{"$f":"IF(A1558<>\"\",MOD(B1558,24)/24,\"\")","v":""},{"$f":"IF(A1558<>\"\",($B$4+$B$5)/2+($B$5-$B$4)/2*COS(2*PI()/$B$15*B1558),\"\")","v":""},{"$f":"IF(A1558<>\"\",E1558*COS(2*PI()/$B$7*B1558),\"\")","v":""},{"$f":"ABS(0.5*1.025*1*(F1558^3))","v":{"$error":"#VALUE!"}},{"$error":"#VALUE!"}]
["","","","","","",{"$error":"#VALUE!"},{"$error":"#VALUE!"}]
["","","","","","",{"$error":"#VALUE!"},{"$error":"#VALUE!"}]
["","","","","","",{"$error":"#VALUE!"},{"$error":"#VALUE!"}]
["","","","","","",{"$error":"#VALUE!"},{"$error":"#VALUE!"}]
["","","","","","",{"$error":"#VALUE!"},{"$error":"#VALUE!"}]
["","","","","","",{"$error":"#VALUE!"},{"$error":"#VALUE!"}]
["","","","","","",{"$error":"#VALUE!"},{"$error":"#VALUE!"}]
["","","","","","",{"$error":"#VALUE!"},{"$error":"#VALUE!"}]
["","","","","","",{"$error":"#VALUE!"},{"$error":"#VALUE!"}]
["","","","","","",{"$error":"#VALUE!"},{"$error":"#VALUE!"}]
["","","","","","",{"$error":"#VALUE!"},{"$error":"#VALUE!"}]
["","","","","","",{"$error":"#VALUE!"},{"$error":"#VALUE!"}]
["","","","","","",{"$error":"#VALUE!"},{"$error":"#VALUE!"}]
["","","","","","",{"$error":"#VALUE!"},{"$error":"#VALUE!"}]
["","","","","","",{"$error":"#VALUE!"},{"$error":"#VALUE!"}]
["","","","","","",{"$error":"#VALUE!"},{"$error":"#VALUE!"}]
["","","","","","",{"$error":"#VALUE!"},{"$error":"#VALUE!"}]
["","","","","","",{"$error":"#VALUE!"},{"$error":"#VALUE!"}]
["","","","","","",{"$error":"#VALUE!"},{"$error":"#VALUE!"}]
["","","","","","",{"$error":"#VALUE!"},{"$error":"#VALUE!"}]
["","","","","","",{"$error":"#VALUE!"},{"$error":"#VALUE!"}]
["","","","","","",{"$error":"#VALUE!"},{"$error":"#VALUE!"}]
["","","","","","",{"$error":"#VALUE!"},{"$error":"#VALUE!"}]
["","","","","","",{"$error":"#VALUE!"},{"$error":"#VALUE!"}]
["","","","","","",{"$error":"#VALUE!"},{"$error":"#VALUE!"}]
["","","","","","",{"$error":"#VALUE!"},{"$error":"#VALUE!"}]
["","","","","","",{"$error":"#VALUE!"},{"$error":"#VALUE!"}]
["","","","","","",{"$error":"#VALUE!"},{"$error":"#VALUE!"}]
["","","","","","",{"$error":"#VALUE!"},{"$error":"#VALUE!"}]
["","","","","","",{"$error":"#VALUE!"},{"$error":"#VALUE!"}]
["","","","","","",{"$error":"#VALUE!"},{"$error":"#VALUE!"}]
["","","","","","",{"$error":"#VALUE!"},{"$error":"#VALUE!"}]
["","","","","","",{"$error":"#VALUE!"},{"$error":"#VALUE!"}]
["","","","","","",{"$error":"#VALUE!"},{"$error":"#VALUE!"}]
["","","","","","",{"$error":"#VALUE!"},{"$error":"#VALUE!"}]
["","","","","","",{"$error":"#VALUE!"},{"$error":"#VALUE!"}]
["","","","","","",{"$error":"#VALUE!"},{"$error":"#VALUE!"}]
["","","","","","",{"$error":"#VALUE!"},{"$error":"#VALUE!"}]
["","","","","","",{"$error":"#VALUE!"},{"$error":"#VALUE!"}]
["","","","","","",{"$error":"#VALUE!"},{"$error":"#VALUE!"}]
["","","","","","",{"$error":"#VALUE!"},{"$error":"#VALUE!"}]
["","","","","","",{"$error":"#VALUE!"},{"$error":"#VALUE!"}]
["","","","","","",{"$error":"#VALUE!"},{"$error":"#VALUE!"}]
["","","","","","",{"$error":"#VALUE!"},{"$error":"#VALUE!"}]
["","","","","","",{"$error":"#VALUE!"},{"$error":"#VALUE!"}]
["","","","","","",{"$error":"#VALUE!"},{"$error":"#VALUE!"}]
["","","","","","",{"$error":"#VALUE!"},{"$error":"#VALUE!"}]
["","","","","","",{"$error":"#VALUE!"},{"$error":"#VALUE!"}]
["","","","","","",{"$error":"#VALUE!"},{"$error":"#VALUE!"}]
["","","","","","",{"$error":"#VALUE!"},{"$error":"#VALUE!"}]
["","","","","","",{"$error":"#VALUE!"},{"$error":"#VALUE!"}]
["","","","","","",{"$error":"#VALUE!"},{"$error":"#VALUE!"}]
["","","","","","",{"$error":"#VALUE!"},{"$error":"#VALUE!"}]
["","","","","","",{"$error":"#VALUE!"},{"$error":"#VALUE!"}]
["","","","","","",{"$error":"#VALUE!"},{"$error":"#VALUE!"}]
["","","","","","",{"$error":"#VALUE!"},{"$error":"#VALUE!"}]
["","","","","","",{"$error":"#VALUE!"},{"$error":"#VALUE!"}]
["","","","","","",{"$error":"#VALUE!"},{"$error":"#VALUE!"}]
["","","","","","",{"$error":"#VALUE!"},{"$error":"#VALUE!"}]
["","","","","","",{"$error":"#VALUE!"},{"$error":"#VALUE!"}]
["","","","","","",{"$error":"#VALUE!"},{"$error":"#VALUE!"}]
["","","","","","",{"$error":"#VALUE!"},{"$error":"#VALUE!"}]
["","","","","","",{"$error":"#VALUE!"},{"$f":"G1621*$B$13","v":{"$error":"#VALUE!"}}]
[{"$f":"IF(IF(A1621<>\"\",A1621+1<=$B$16,0),A1621+1,\"\")","v":""},{"$f":"IF(A1622<>\"\",A1622*$B$13,\"\")","v":""},{"$f":"IF(A1622<>\"\",ROUNDDOWN(A1622*$B$13/24,0),\"\")","v":""},{"$f":"IF(A1622<>\"\",MOD(B1622,24)/24,\"\")","v":""},{"$f":"IF(A1622<>\"\",($B$4+$B$5)/2+($B$5-$B$4)/2*COS(2*PI()/$B$15*B1622),\"\")","v":""},{"$f":"IF(A1622<>\"\",E1622*COS(2*PI()/$B$7*B1622),\"\")","v":""},{"$f":"ABS(0.5*1.025*1*(F1622^3))","v":{"$error":"#VALUE!"}},{"$error":"#VALUE!"}]
["","","","","","",{"$error":"#VALUE!"},{"$error":"#VALUE!"}]
["","","","","","",{"$error":"#VALUE!"},{"$error":"#VALUE!"}]
["","","","","","",{"$error":"#VALUE!"},{"$error":"#VALUE!"}]
["","","","","","",{"$error":"#VALUE!"},{"$error":"#VALUE!"}]
["","","","","","",{"$error":"#VALUE!"},{"$error":"#VALUE!"}]
["","","","","","",{"$error":"#VALUE!"},{"$error":"#VALUE!"}]
["","","","","","",{"$error":"#VALUE!"},{"$error":"#VALUE!"}]
["","","","","","",{"$error":"#VALUE!"},{"$error":"#VALUE!"}]
["","","","","","",{"$error":"#VALUE!"},{"$error":"#VALUE!"}]
["","","","","","",{"$error":"#VALUE!"},{"$error":"#VALUE!"}]
["","","","","","",{"$error":"#VALUE!"},{"$error":"#VALUE!"}]
["","","","","","",{"$error":"#VALUE!"},{"$error":"#VALUE!"}]
["","","","","","",{"$error":"#VALUE!"},{"$error":"#VALUE!"}]
["","","","","","",{"$error":"#VALUE!"},{"$error":"#VALUE!"}]
["","","","","","",{"$error":"#VALUE!"},{"$error":"#VALUE!"}]
["","","","","","",{"$error":"#VALUE!"},{"$error":"#VALUE!"}]
["","","","","","",{"$error":"#VALUE!"},{"$error":"#VALUE!"}]
["","","","","","",{"$error":"#VALUE!"},{"$error":"#VALUE!"}]
["","","","","","",{"$error":"#VALUE!"},{"$error":"#VALUE!"}]
["","","","","","",{"$error":"#VALUE!"},{"$error":"#VALUE!"}]
["","","","","","",{"$error":"#VALUE!"},{"$error":"#VALUE!"}]
["","","","","","",{"$error":"#VALUE!"},{"$error":"#VALUE!"}]
["","","","","","",{"$error":"#VALUE!"},{"$error":"#VALUE!"}]
["","","","","","",{"$error":"#VALUE!"},{"$error":"#VALUE!"}]
["","","","","","",{"$error":"#VALUE!"},{"$error":"#VALUE!"}]
["","","","","","",{"$error":"#VALUE!"},{"$error":"#VALUE!"}]
["","","","","","",{"$error":"#VALUE!"},{"$error":"#VALUE!"}]
["","","","","","",{"$error":"#VALUE!"},{"$error":"#VALUE!"}]
["","","","","","",{"$error":"#VALUE!"},{"$error":"#VALUE!"}]
["","","","","","",{"$error":"#VALUE!"},{"$error":"#VALUE!"}]
["","","","","","",{"$error":"#VALUE!"},{"$error":"#VALUE!"}]
["","","","","","",{"$error":"#VALUE!"},{"$error":"#VALUE!"}]
["","","","","","",{"$error":"#VALUE!"},{"$error":"#VALUE!"}]
["","","","","","",{"$error":"#VALUE!"},{"$error":"#VALUE!"}]
["","","","","","",{"$error":"#VALUE!"},{"$error":"#VALUE!"}]
["","","","","","",{"$error":"#VALUE!"},{"$error":"#VALUE!"}]
["","","","","","",{"$error":"#VALUE!"},{"$error":"#VALUE!"}]
["","","","","","",{"$error":"#VALUE!"},{"$error":"#VALUE!"}]
["","","","","","",{"$error":"#VALUE!"},{"$error":"#VALUE!"}]
["","","","","","",{"$error":"#VALUE!"},{"$error":"#VALUE!"}]
["","","","","","",{"$error":"#VALUE!"},{"$error":"#VALUE!"}]
["","","","","","",{"$error":"#VALUE!"},{"$error":"#VALUE!"}]
["","","","","","",{"$error":"#VALUE!"},{"$error":"#VALUE!"}]
["","","","","","",{"$error":"#VALUE!"},{"$error":"#VALUE!"}]
["","","","","","",{"$error":"#VALUE!"},{"$error":"#VALUE!"}]
["","","","","","",{"$error":"#VALUE!"},{"$error":"#VALUE!"}]
["","","","","","",{"$error":"#VALUE!"},{"$error":"#VALUE!"}]
["","","","","","",{"$error":"#VALUE!"},{"$error":"#VALUE!"}]
["","","","","","",{"$error":"#VALUE!"},{"$error":"#VALUE!"}]
["","","","","","",{"$error":"#VALUE!"},{"$error":"#VALUE!"}]
["","","","","","",{"$error":"#VALUE!"},{"$error":"#VALUE!"}]
["","","","","","",{"$error":"#VALUE!"},{"$error":"#VALUE!"}]
["","","","","","",{"$error":"#VALUE!"},{"$error":"#VALUE!"}]
["","","","","","",{"$error":"#VALUE!"},{"$error":"#VALUE!"}]
["","","","","","",{"$error":"#VALUE!"},{"$error":"#VALUE!"}]
["","","","","","",{"$error":"#VALUE!"},{"$error":"#VALUE!"}]
["","","","","","",{"$error":"#VALUE!"},{"$error":"#VALUE!"}]
["","","","","","",{"$error":"#VALUE!"},{"$error":"#VALUE!"}]
["","","","","","",{"$error":"#VALUE!"},{"$error":"#VALUE!"}]
["","","","","","",{"$error":"#VALUE!"},{"$error":"#VALUE!"}]
["","","","","","",{"$error":"#VALUE!"},{"$error":"#VALUE!"}]
["","","","","","",{"$error":"#VALUE!"},{"$error":"#VALUE!"}]
["","","","","","",{"$error":"#VALUE!"},{"$f":"G1685*$B$13","v":{"$error":"#VALUE!"}}]
[{"$f":"IF(IF(A1685<>\"\",A1685+1<=$B$16,0),A1685+1,\"\")","v":""},{"$f":"IF(A1686<>\"\",A1686*$B$13,\"\")","v":""},{"$f":"IF(A1686<>\"\",ROUNDDOWN(A1686*$B$13/24,0),\"\")","v":""},{"$f":"IF(A1686<>\"\",MOD(B1686,24)/24,\"\")","v":""},{"$f":"IF(A1686<>\"\",($B$4+$B$5)/2+($B$5-$B$4)/2*COS(2*PI()/$B$15*B1686),\"\")","v":""},{"$f":"IF(A1686<>\"\",E1686*COS(2*PI()/$B$7*B1686),\"\")","v":""},{"$f":"ABS(0.5*1.025*1*(F1686^3))","v":{"$error":"#VALUE!"}},{"$error":"#VALUE!"}]
["","","","","","",{"$error":"#VALUE!"},{"$error":"#VALUE!"}]
["","","","","","",{"$error":"#VALUE!"},{"$error":"#VALUE!"}]
["","","","","","",{"$error":"#VALUE!"},{"$error":"#VALUE!"}]
["","","","","","",{"$error":"#VALUE!"},{"$error":"#VALUE!"}]
["","","","","","",{"$error":"#VALUE!"},{"$error":"#VALUE!"}]
["","","","","","",{"$error":"#VALUE!"},{"$error":"#VALUE!"}]
["","","","","","",{"$error":"#VALUE!"},{"$error":"#VALUE!"}]
["","","","","","",{"$error":"#VALUE!"},{"$error":"#VALUE!"}]
["","","","","","",{"$error":"#VALUE!"},{"$error":"#VALUE!"}]
["","","","","","",{"$error":"#VALUE!"},{"$error":"#VALUE!"}]
["","","","","","",{"$error":"#VALUE!"},{"$error":"#VALUE!"}]
["","","","","","",{"$error":"#VALUE!"},{"$error":"#VALUE!"}]
["","","","","","",{"$error":"#VALUE!"},{"$error":"#VALUE!"}]
["","","","","","",{"$error":"#VALUE!"},{"$error":"#VALUE!"}]
["","","","","","",{"$error":"#VALUE!"},{"$error":"#VALUE!"}]
["","","","","","",{"$error":"#VALUE!"},{"$error":"#VALUE!"}]
["","","","","","",{"$error":"#VALUE!"},{"$error":"#VALUE!"}]
["","","","","","",{"$error":"#VALUE!"},{"$error":"#VALUE!"}]
["","","","","","",{"$error":"#VALUE!"},{"$error":"#VALUE!"}]
["","","","","","",{"$error":"#VALUE!"},{"$error":"#VALUE!"}]
["","","","","","",{"$error":"#VALUE!"},{"$error":"#VALUE!"}]
["","","","","","",{"$error":"#VALUE!"},{"$error":"#VALUE!"}]
["","","","","","",{"$error":"#VALUE!"},{"$error":"#VALUE!"}]
["","","","","","",{"$error":"#VALUE!"},{"$error":"#VALUE!"}]
["","","","","","",{"$error":"#VALUE!"},{"$error":"#VALUE!"}]
["","","","","","",{"$error":"#VALUE!"},{"$error":"#VALUE!"}]
["","","","","","",{"$error":"#VALUE!"},{"$error":"#VALUE!"}]
["","","","","","",{"$error":"#VALUE!"},{"$error":"#VALUE!"}]
["","","","","","",{"$error":"#VALUE!"},{"$error":"#VALUE!"}]
["","","","","","",{"$error":"#VALUE!"},{"$error":"#VALUE!"}]
["","","","","","",{"$error":"#VALUE!"},{"$error":"#VALUE!"}]
["","","","","","",{"$error":"#VALUE!"},{"$error":"#VALUE!"}]
["","","","","","",{"$error":"#VALUE!"},{"$error":"#VALUE!"}]
["","","","","","",{"$error":"#VALUE!"},{"$error":"#VALUE!"}]
["","","","","","",{"$error":"#VALUE!"},{"$error":"#VALUE!"}]
["","","","","","",{"$error":"#VALUE!"},{"$error":"#VALUE!"}]
["","","","","","",{"$error":"#VALUE!"},{"$error":"#VALUE!"}]
["","","","","","",{"$error":"#VALUE!"},{"$error":"#VALUE!"}]
["","","","","","",{"$error":"#VALUE!"},{"$error":"#VALUE!"}]
["","","","","","",{"$error":"#VALUE!"},{"$error":"#VALUE!"}]
["","","","","","",{"$error":"#VALUE!"},{"$error":"#VALUE!"}]
["","","","","","",{"$error":"#VALUE!"},{"$error":"#VALUE!"}]
["","","","","","",{"$error":"#VALUE!"},{"$error":"#VALUE!"}]
["","","","","","",{"$error":"#VALUE!"},{"$error":"#VALUE!"}]
["","","","","","",{"$error":"#VALUE!"},{"$error":"#VALUE!"}]
["","","","","","",{"$error":"#VALUE!"},{"$error":"#VALUE!"}]
["","","","","","",{"$error":"#VALUE!"},{"$error":"#VALUE!"}]
["","","","","","",{"$error":"#VALUE!"},{"$error":"#VALUE!"}]
["","","","","","",{"$error":"#VALUE!"},{"$error":"#VALUE!"}]
["","","","","","",{"$error":"#VALUE!"},{"$error":"#VALUE!"}]
["","","","","","",{"$error":"#VALUE!"},{"$error":"#VALUE!"}]
["","","","","","",{"$error":"#VALUE!"},{"$error":"#VALUE!"}]
["","","","","","",{"$error":"#VALUE!"},{"$error":"#VALUE!"}]
["","","","","","",{"$error":"#VALUE!"},{"$error":"#VALUE!"}]
["","","","","","",{"$error":"#VALUE!"},{"$error":"#VALUE!"}]
["","","","","","",{"$error":"#VALUE!"},{"$error":"#VALUE!"}]
["","","","","","",{"$error":"#VALUE!"},{"$error":"#VALUE!"}]
["","","","","","",{"$error":"#VALUE!"},{"$error":"#VALUE!"}]
["","","","","","",{"$error":"#VALUE!"},{"$error":"#VALUE!"}]
["","","","","","",{"$error":"#VALUE!"},{"$error":"#VALUE!"}]
["","","","","","",{"$error":"#VALUE!"},{"$error":"#VALUE!"}]
["","","","","","",{"$error":"#VALUE!"},{"$error":"#VALUE!"}]
["","","","","","",{"$error":"#VALUE!"},{"$f":"G1749*$B$13","v":{"$error":"#VALUE!"}}]
[{"$f":"IF(IF(A1749<>\"\",A1749+1<=$B$16,0),A1749+1,\"\")","v":""},{"$f":"IF(A1750<>\"\",A1750*$B$13,\"\")","v":""},{"$f":"IF(A1750<>\"\",ROUNDDOWN(A1750*$B$13/24,0),\"\")","v":""},{"$f":"IF(A1750<>\"\",MOD(B1750,24)/24,\"\")","v":""},{"$f":"IF(A1750<>\"\",($B$4+$B$5)/2+($B$5-$B$4)/2*COS(2*PI()/$B$15*B1750),\"\")","v":""},{"$f":"IF(A1750<>\"\",E1750*COS(2*PI()/$B$7*B1750),\"\")","v":""},{"$f":"ABS(0.5*1.025*1*(F1750^3))","v":{"$error":"#VALUE!"}},{"$error":"#VALUE!"}]
["","","","","","",{"$error":"#VALUE!"},{"$error":"#VALUE!"}]
["","","","","","",{"$error":"#VALUE!"},{"$error":"#VALUE!"}]
["","","","","","",{"$error":"#VALUE!"},{"$error":"#VALUE!"}]
["","","","","","",{"$error":"#VALUE!"},{"$error":"#VALUE!"}]
["","","","","","",{"$error":"#VALUE!"},{"$error":"#VALUE!"}]
["","","","","","",{"$error":"#VALUE!"},{"$error":"#VALUE!"}]
["","","","","","",{"$error":"#VALUE!"},{"$error":"#VALUE!"}]
["","","","","","",{"$error":"#VALUE!"},{"$error":"#VALUE!"}]
["","","","","","",{"$error":"#VALUE!"},{"$error":"#VALUE!"}]
["","","","","","",{"$error":"#VALUE!"},{"$error":"#VALUE!"}]
["","","","","","",{"$error":"#VALUE!"},{"$error":"#VALUE!"}]
["","","","","","",{"$error":"#VALUE!"},{"$error":"#VALUE!"}]
["","","","","","",{"$error":"#VALUE!"},{"$error":"#VALUE!"}]
["","","","","","",{"$error":"#VALUE!"},{"$error":"#VALUE!"}]
["","","","","","",{"$error":"#VALUE!"},{"$error":"#VALUE!"}]
["","","","","","",{"$error":"#VALUE!"},{"$error":"#VALUE!"}]
["","","","","","",{"$error":"#VALUE!"},{"$error":"#VALUE!"}]
["","","","","","",{"$error":"#VALUE!"},{"$error":"#VALUE!"}]
["","","","","","",{"$error":"#VALUE!"},{"$error":"#VALUE!"}]
["","","","","","",{"$error":"#VALUE!"},{"$error":"#VALUE!"}]
["","","","","","",{"$error":"#VALUE!"},{"$error":"#VALUE!"}]
["","","","","","",{"$error":"#VALUE!"},{"$error":"#VALUE!"}]
["","","","","","",{"$error":"#VALUE!"},{"$error":"#VALUE!"}]
["","","","","","",{"$error":"#VALUE!"},{"$error":"#VALUE!"}]
["","","","","","",{"$error":"#VALUE!"},{"$error":"#VALUE!"}]
["","","","","","",{"$error":"#VALUE!"},{"$error":"#VALUE!"}]
["","","","","","",{"$error":"#VALUE!"},{"$error":"#VALUE!"}]
["","","","","","",{"$error":"#VALUE!"},{"$error":"#VALUE!"}]
["","","","","","",{"$error":"#VALUE!"},{"$error":"#VALUE!"}]
["","","","","","",{"$error":"#VALUE!"},{"$error":"#VALUE!"}]
["","","","","","",{"$error":"#VALUE!"},{"$error":"#VALUE!"}]
["","","","","","",{"$error":"#VALUE!"},{"$error":"#VALUE!"}]
["","","","","","",{"$error":"#VALUE!"},{"$error":"#VALUE!"}]
["","","","","","",{"$error":"#VALUE!"},{"$error":"#VALUE!"}]
["","","","","","",{"$error":"#VALUE!"},{"$error":"#VALUE!"}]
["","","","","","",{"$error":"#VALUE!"},{"$error":"#VALUE!"}]
["","","","","","",{"$error":"#VALUE!"},{"$error":"#VALUE!"}]
["","","","","","",{"$error":"#VALUE!"},{"$error":"#VALUE!"}]
["","","","","","",{"$error":"#VALUE!"},{"$error":"#VALUE!"}]
["","","","","","",{"$error":"#VALUE!"},{"$error":"#VALUE!"}]
["","","","","","",{"$error":"#VALUE!"},{"$error":"#VALUE!"}]
["","","","","","",{"$error":"#VALUE!"},{"$error":"#VALUE!"}]
["","","","","","",{"$error":"#VALUE!"},{"$error":"#VALUE!"}]
["","","","","","",{"$error":"#VALUE!"},{"$error":"#VALUE!"}]
["","","","","","",{"$error":"#VALUE!"},{"$error":"#VALUE!"}]
["","","","","","",{"$error":"#VALUE!"},{"$error":"#VALUE!"}]
["","","","","","",{"$error":"#VALUE!"},{"$error":"#VALUE!"}]
["","","","","","",{"$error":"#VALUE!"},{"$error":"#VALUE!"}]
["","","","","","",{"$error":"#VALUE!"},{"$error":"#VALUE!"}]
["","","","","","",{"$error":"#VALUE!"},{"$error":"#VALUE!"}]
["","","","","","",{"$error":"#VALUE!"},{"$error":"#VALUE!"}]
["","","","","","",{"$error":"#VALUE!"},{"$error":"#VALUE!"}]
["","","","","","",{"$error":"#VALUE!"},{"$error":"#VALUE!"}]
["","","","","","",{"$error":"#VALUE!"},{"$error":"#VALUE!"}]
["","","","","","",{"$error":"#VALUE!"},{"$error":"#VALUE!"}]
["","","","","","",{"$error":"#VALUE!"},{"$error":"#VALUE!"}]
["","","","","","",{"$error":"#VALUE!"},{"$error":"#VALUE!"}]
["","","","","","",{"$error":"#VALUE!"},{"$error":"#VALUE!"}]
["","","","","","",{"$error":"#VALUE!"},{"$error":"#VALUE!"}]
["","","","","","",{"$error":"#VALUE!"},{"$error":"#VALUE!"}]
["","","","","","",{"$error":"#VALUE!"},{"$error":"#VALUE!"}]
["","","","","","",{"$error":"#VALUE!"},{"$error":"#VALUE!"}]
["","","","","","",{"$error":"#VALUE!"},{"$f":"G1813*$B$13","v":{"$error":"#VALUE!"}}]
[{"$f":"IF(IF(A1813<>\"\",A1813+1<=$B$16,0),A1813+1,\"\")","v":""},{"$f":"IF(A1814<>\"\",A1814*$B$13,\"\")","v":""},{"$f":"IF(A1814<>\"\",ROUNDDOWN(A1814*$B$13/24,0),\"\")","v":""},{"$f":"IF(A1814<>\"\",MOD(B1814,24)/24,\"\")","v":""},{"$f":"IF(A1814<>\"\",($B$4+$B$5)/2+($B$5-$B$4)/2*COS(2*PI()/$B$15*B1814),\"\")","v":""},{"$f":"IF(A1814<>\"\",E1814*COS(2*PI()/$B$7*B1814),\"\")","v":""},{"$f":"ABS(0.5*1.025*1*(F1814^3))","v":{"$error":"#VALUE!"}},{"$error":"#VALUE!"}]
["","","","","","",{"$error":"#VALUE!"},{"$error":"#VALUE!"}]
["","","","","","",{"$error":"#VALUE!"},{"$error":"#VALUE!"}]
["","","","","","",{"$error":"#VALUE!"},{"$error":"#VALUE!"}]
["","","","","","",{"$error":"#VALUE!"},{"$error":"#VALUE!"}]
["","","","","","",{"$error":"#VALUE!"},{"$error":"#VALUE!"}]
["","","","","","",{"$error":"#VALUE!"},{"$error":"#VALUE!"}]
["","","","","","",{"$error":"#VALUE!"},{"$error":"#VALUE!"}]
["","","","","","",{"$error":"#VALUE!"},{"$error":"#VALUE!"}]
["","","","","","",{"$error":"#VALUE!"},{"$error":"#VALUE!"}]
["","","","","","",{"$error":"#VALUE!"},{"$error":"#VALUE!"}]
["","","","","","",{"$error":"#VALUE!"},{"$error":"#VALUE!"}]
["","","","","","",{"$error":"#VALUE!"},{"$error":"#VALUE!"}]
["","","","","","",{"$error":"#VALUE!"},{"$error":"#VALUE!"}]
["","","","","","",{"$error":"#VALUE!"},{"$error":"#VALUE!"}]
["","","","","","",{"$error":"#VALUE!"},{"$error":"#VALUE!"}]
["","","","","","",{"$error":"#VALUE!"},{"$error":"#VALUE!"}]
["","","","","","",{"$error":"#VALUE!"},{"$error":"#VALUE!"}]
["","","","","","",{"$error":"#VALUE!"},{"$error":"#VALUE!"}]
["","","","","","",{"$error":"#VALUE!"},{"$error":"#VALUE!"}]
["","","","","","",{"$error":"#VALUE!"},{"$error":"#VALUE!"}]
["","","","","","",{"$error":"#VALUE!"},{"$error":"#VALUE!"}]
["","","","","","",{"$error":"#VALUE!"},{"$error":"#VALUE!"}]
["","","","","","",{"$error":"#VALUE!"},{"$error":"#VALUE!"}]
["","","","","","",{"$error":"#VALUE!"},{"$error":"#VALUE!"}]
["","","","","","",{"$error":"#VALUE!"},{"$error":"#VALUE!"}]
["","","","","","",{"$error":"#VALUE!"},{"$error":"#VALUE!"}]
["","","","","","",{"$error":"#VALUE!"},{"$error":"#VALUE!"}]
["","","","","","",{"$error":"#VALUE!"},{"$error":"#VALUE!"}]
["","","","","","",{"$error":"#VALUE!"},{"$error":"#VALUE!"}]
["","","","","","",{"$error":"#VALUE!"},{"$error":"#VALUE!"}]
["","","","","","",{"$error":"#VALUE!"},{"$error":"#VALUE!"}]
["","","","","","",{"$error":"#VALUE!"},{"$error":"#VALUE!"}]
["","","","","","",{"$error":"#VALUE!"},{"$error":"#VALUE!"}]
["","","","","","",{"$error":"#VALUE!"},{"$error":"#VALUE!"}]
["","","","","","",{"$error":"#VALUE!"},{"$error":"#VALUE!"}]
["","","","","","",{"$error":"#VALUE!"},{"$error":"#VALUE!"}]
["","","","","","",{"$error":"#VALUE!"},{"$error":"#VALUE!"}]
["","","","","","",{"$error":"#VALUE!"},{"$error":"#VALUE!"}]
["","","","","","",{"$error":"#VALUE!"},{"$error":"#VALUE!"}]
["","","","","","",{"$error":"#VALUE!"},{"$error":"#VALUE!"}]
["","","","","","",{"$error":"#VALUE!"},{"$error":"#VALUE!"}]
["","","","","","",{"$error":"#VALUE!"},{"$error":"#VALUE!"}]
["","","","","","",{"$error":"#VALUE!"},{"$error":"#VALUE!"}]
["","","","","","",{"$error":"#VALUE!"},{"$error":"#VALUE!"}]
["","","","","","",{"$error":"#VALUE!"},{"$error":"#VALUE!"}]
["","","","","","",{"$error":"#VALUE!"},{"$error":"#VALUE!"}]
["","","","","","",{"$error":"#VALUE!"},{"$error":"#VALUE!"}]
["","","","","","",{"$error":"#VALUE!"},{"$error":"#VALUE!"}]
["","","","","","",{"$error":"#VALUE!"},{"$error":"#VALUE!"}]
["","","","","","",{"$error":"#VALUE!"},{"$error":"#VALUE!"}]
["","","","","","",{"$error":"#VALUE!"},{"$error":"#VALUE!"}]
["","","","","","",{"$error":"#VALUE!"},{"$error":"#VALUE!"}]
["","","","","","",{"$error":"#VALUE!"},{"$error":"#VALUE!"}]
["","","","","","",{"$error":"#VALUE!"},{"$error":"#VALUE!"}]
["","","","","","",{"$error":"#VALUE!"},{"$error":"#VALUE!"}]
["","","","","","",{"$error":"#VALUE!"},{"$error":"#VALUE!"}]
["","","","","","",{"$error":"#VALUE!"},{"$error":"#VALUE!"}]
["","","","","","",{"$error":"#VALUE!"},{"$error":"#VALUE!"}]
["","","","","","",{"$error":"#VALUE!"},{"$error":"#VALUE!"}]
["","","","","","",{"$error":"#VALUE!"},{"$error":"#VALUE!"}]
["","","","","","",{"$error":"#VALUE!"},{"$error":"#VALUE!"}]
["","","","","","",{"$error":"#VALUE!"},{"$error":"#VALUE!"}]
["","","","","","",{"$error":"#VALUE!"},{"$f":"G1877*$B$13","v":{"$error":"#VALUE!"}}]
[{"$f":"IF(IF(A1877<>\"\",A1877+1<=$B$16,0),A1877+1,\"\")","v":""},{"$f":"IF(A1878<>\"\",A1878*$B$13,\"\")","v":""},{"$f":"IF(A1878<>\"\",ROUNDDOWN(A1878*$B$13/24,0),\"\")","v":""},{"$f":"IF(A1878<>\"\",MOD(B1878,24)/24,\"\")","v":""},{"$f":"IF(A1878<>\"\",($B$4+$B$5)/2+($B$5-$B$4)/2*COS(2*PI()/$B$15*B1878),\"\")","v":""},{"$f":"IF(A1878<>\"\",E1878*COS(2*PI()/$B$7*B1878),\"\")","v":""},{"$f":"ABS(0.5*1.025*1*(F1878^3))","v":{"$error":"#VALUE!"}},{"$error":"#VALUE!"}]
["","","","","","",{"$error":"#VALUE!"},{"$error":"#VALUE!"}]
["","","","","","",{"$error":"#VALUE!"},{"$error":"#VALUE!"}]
["","","","","","",{"$error":"#VALUE!"},{"$error":"#VALUE!"}]
["","","","","","",{"$error":"#VALUE!"},{"$error":"#VALUE!"}]
["","","","","","",{"$error":"#VALUE!"},{"$error":"#VALUE!"}]
["","","","","","",{"$error":"#VALUE!"},{"$error":"#VALUE!"}]
["","","","","","",{"$error":"#VALUE!"},{"$error":"#VALUE!"}]
["","","","","","",{"$error":"#VALUE!"},{"$error":"#VALUE!"}]
["","","","","","",{"$error":"#VALUE!"},{"$error":"#VALUE!"}]
["","","","","","",{"$error":"#VALUE!"},{"$error":"#VALUE!"}]
["","","","","","",{"$error":"#VALUE!"},{"$error":"#VALUE!"}]
["","","","","","",{"$error":"#VALUE!"},{"$error":"#VALUE!"}]
["","","","","","",{"$error":"#VALUE!"},{"$error":"#VALUE!"}]
["","","","","","",{"$error":"#VALUE!"},{"$error":"#VALUE!"}]
["","","","","","",{"$error":"#VALUE!"},{"$error":"#VALUE!"}]
["","","","","","",{"$error":"#VALUE!"},{"$error":"#VALUE!"}]
["","","","","","",{"$error":"#VALUE!"},{"$error":"#VALUE!"}]
["","","","","","",{"$error":"#VALUE!"},{"$error":"#VALUE!"}]
["","","","","","",{"$error":"#VALUE!"},{"$error":"#VALUE!"}]
["","","","","","",{"$error":"#VALUE!"},{"$error":"#VALUE!"}]
["","","","","","",{"$error":"#VALUE!"},{"$error":"#VALUE!"}]
["","","","","","",{"$error":"#VALUE!"},{"$error":"#VALUE!"}]
["","","","","","",{"$error":"#VALUE!"},{"$error":"#VALUE!"}]
["","","","","","",{"$error":"#VALUE!"},{"$error":"#VALUE!"}]
["","","","","","",{"$error":"#VALUE!"},{"$error":"#VALUE!"}]
["","","","","","",{"$error":"#VALUE!"},{"$error":"#VALUE!"}]
["","","","","","",{"$error":"#VALUE!"},{"$error":"#VALUE!"}]
["","","","","","",{"$error":"#VALUE!"},{"$error":"#VALUE!"}]
["","","","","","",{"$error":"#VALUE!"},{"$error":"#VALUE!"}]
["","","","","","",{"$error":"#VALUE!"},{"$error":"#VALUE!"}]
["","","","","","",{"$error":"#VALUE!"},{"$error":"#VALUE!"}]
["","","","","","",{"$error":"#VALUE!"},{"$error":"#VALUE!"}]
["","","","","","",{"$error":"#VALUE!"},{"$error":"#VALUE!"}]
["","","","","","",{"$error":"#VALUE!"},{"$error":"#VALUE!"}]
["","","","","","",{"$error":"#VALUE!"},{"$error":"#VALUE!"}]
["","","","","","",{"$error":"#VALUE!"},{"$error":"#VALUE!"}]
["","","","","","",{"$error":"#VALUE!"},{"$error":"#VALUE!"}]
["","","","","","",{"$error":"#VALUE!"},{"$error":"#VALUE!"}]
["","","","","","",{"$error":"#VALUE!"},{"$error":"#VALUE!"}]
["","","","","","",{"$error":"#VALUE!"},{"$error":"#VALUE!"}]
["","","","","","",{"$error":"#VALUE!"},{"$error":"#VALUE!"}]
["","","","","","",{"$error":"#VALUE!"},{"$error":"#VALUE!"}]
["","","","","","",{"$error":"#VALUE!"},{"$error":"#VALUE!"}]
["","","","","","",{"$error":"#VALUE!"},{"$error":"#VALUE!"}]
["","","","","","",{"$error":"#VALUE!"},{"$error":"#VALUE!"}]
["","","","","","",{"$error":"#VALUE!"},{"$error":"#VALUE!"}]
["","","","","","",{"$error":"#VALUE!"},{"$error":"#VALUE!"}]
["","","","","","",{"$error":"#VALUE!"},{"$error":"#VALUE!"}]
["","","","","","",{"$error":"#VALUE!"},{"$error":"#VALUE!"}]
["","","","","","",{"$error":"#VALUE!"},{"$error":"#VALUE!"}]
["","","","","","",{"$error":"#VALUE!"},{"$error":"#VALUE!"}]
["","","","","","",{"$error":"#VALUE!"},{"$error":"#VALUE!"}]
["","","","","","",{"$error":"#VALUE!"},{"$error":"#VALUE!"}]
["","","","","","",{"$error":"#VALUE!"},{"$error":"#VALUE!"}]
["","","","","","",{"$error":"#VALUE!"},{"$error":"#VALUE!"}]
["","","","","","",{"$error":"#VALUE!"},{"$error":"#VALUE!"}]
["","","","","","",{"$error":"#VALUE!"},{"$error":"#VALUE!"}]
["","","","","","",{"$error":"#VALUE!"},{"$error":"#VALUE!"}]
["","","","","","",{"$error":"#VALUE!"},{"$error":"#VALUE!"}]
["","","","","","",{"$error":"#VALUE!"},{"$error":"#VALUE!"}]
["","","","","","",{"$error":"#VALUE!"},{"$error":"#VALUE!"}]
["","","","","","",{"$error":"#VALUE!"},{"$error":"#VALUE!"}]
["","","","","","",{"$error":"#VALUE!"},{"$f":"G1941*$B$13","v":{"$error":"#VALUE!"}}]
[{"$f":"IF(IF(A1941<>\"\",A1941+1<=$B$16,0),A1941+1,\"\")","v":""},{"$f":"IF(A1942<>\"\",A1942*$B$13,\"\")","v":""},{"$f":"IF(A1942<>\"\",ROUNDDOWN(A1942*$B$13/24,0),\"\")","v":""},{"$f":"IF(A1942<>\"\",MOD(B1942,24)/24,\"\")","v":""},{"$f":"IF(A1942<>\"\",($B$4+$B$5)/2+($B$5-$B$4)/2*COS(2*PI()/$B$15*B1942),\"\")","v":""},{"$f":"IF(A1942<>\"\",E1942*COS(2*PI()/$B$7*B1942),\"\")","v":""},{"$f":"ABS(0.5*1.025*1*(F1942^3))","v":{"$error":"#VALUE!"}},{"$error":"#VALUE!"}]
["","","","","","",{"$error":"#VALUE!"},{"$error":"#VALUE!"}]
["","","","","","",{"$error":"#VALUE!"},{"$error":"#VALUE!"}]
["","","","","","",{"$error":"#VALUE!"},{"$error":"#VALUE!"}]
["","","","","","",{"$error":"#VALUE!"},{"$error":"#VALUE!"}]
["","","","","","",{"$error":"#VALUE!"},{"$error":"#VALUE!"}]
["","","","","","",{"$error":"#VALUE!"},{"$error":"#VALUE!"}]
["","","","","","",{"$error":"#VALUE!"},{"$error":"#VALUE!"}]
["","","","","","",{"$error":"#VALUE!"},{"$error":"#VALUE!"}]
["","","","","","",{"$error":"#VALUE!"},{"$error":"#VALUE!"}]
["","","","","","",{"$error":"#VALUE!"},{"$error":"#VALUE!"}]
["","","","","","",{"$error":"#VALUE!"},{"$error":"#VALUE!"}]
["","","","","","",{"$error":"#VALUE!"},{"$error":"#VALUE!"}]
["","","","","","",{"$error":"#VALUE!"},{"$error":"#VALUE!"}]
["","","","","","",{"$error":"#VALUE!"},{"$error":"#VALUE!"}]
["","","","","","",{"$error":"#VALUE!"},{"$error":"#VALUE!"}]
["","","","","","",{"$error":"#VALUE!"},{"$error":"#VALUE!"}]
["","","","","","",{"$error":"#VALUE!"},{"$error":"#VALUE!"}]
["","","","","","",{"$error":"#VALUE!"},{"$error":"#VALUE!"}]
["","","","","","",{"$error":"#VALUE!"},{"$error":"#VALUE!"}]
["","","","","","",{"$error":"#VALUE!"},{"$error":"#VALUE!"}]
["","","","","","",{"$error":"#VALUE!"},{"$error":"#VALUE!"}]
["","","","","","",{"$error":"#VALUE!"},{"$error":"#VALUE!"}]
["","","","","","",{"$error":"#VALUE!"},{"$error":"#VALUE!"}]
["","","","","","",{"$error":"#VALUE!"},{"$error":"#VALUE!"}]
["","","","","","",{"$error":"#VALUE!"},{"$error":"#VALUE!"}]
["","","","","","",{"$error":"#VALUE!"},{"$error":"#VALUE!"}]
["","","","","","",{"$error":"#VALUE!"},{"$error":"#VALUE!"}]
["","","","","","",{"$error":"#VALUE!"},{"$error":"#VALUE!"}]
["","","","","","",{"$error":"#VALUE!"},{"$error":"#VALUE!"}]
["","","","","","",{"$error":"#VALUE!"},{"$error":"#VALUE!"}]
["","","","","","",{"$error":"#VALUE!"},{"$error":"#VALUE!"}]
["","","","","","",{"$error":"#VALUE!"},{"$error":"#VALUE!"}]
["","","","","","",{"$error":"#VALUE!"},{"$error":"#VALUE!"}]
["","","","","","",{"$error":"#VALUE!"},{"$error":"#VALUE!"}]
["","","","","","",{"$error":"#VALUE!"},{"$error":"#VALUE!"}]
["","","","","","",{"$error":"#VALUE!"},{"$error":"#VALUE!"}]
["","","","","","",{"$error":"#VALUE!"},{"$error":"#VALUE!"}]
["","","","","","",{"$error":"#VALUE!"},{"$error":"#VALUE!"}]
["","","","","","",{"$error":"#VALUE!"},{"$error":"#VALUE!"}]
["","","","","","",{"$error":"#VALUE!"},{"$error":"#VALUE!"}]
["","","","","","",{"$error":"#VALUE!"},{"$error":"#VALUE!"}]
["","","","","","",{"$error":"#VALUE!"},{"$error":"#VALUE!"}]
["","","","","","",{"$error":"#VALUE!"},{"$error":"#VALUE!"}]
["","","","","","",{"$error":"#VALUE!"},{"$error":"#VALUE!"}]
["","","","","","",{"$error":"#VALUE!"},{"$error":"#VALUE!"}]
["","","","","","",{"$error":"#VALUE!"},{"$error":"#VALUE!"}]
["","","","","","",{"$error":"#VALUE!"},{"$error":"#VALUE!"}]
["","","","","","",{"$error":"#VALUE!"},{"$error":"#VALUE!"}]
["","","","","","",{"$error":"#VALUE!"},{"$error":"#VALUE!"}]
["","","","","","",{"$error":"#VALUE!"},{"$error":"#VALUE!"}]
["","","","","","",{"$error":"#VALUE!"},{"$error":"#VALUE!"}]
["","","","","","",{"$error":"#VALUE!"},{"$error":"#VALUE!"}]
["","","","","","",{"$error":"#VALUE!"},{"$error":"#VALUE!"}]
["","","","","","",{"$error":"#VALUE!"},{"$error":"#VALUE!"}]
["","","","","","",{"$error":"#VALUE!"},{"$error":"#VALUE!"}]
["","","","","","",{"$error":"#VALUE!"},{"$error":"#VALUE!"}]
["","","","","","",{"$error":"#VALUE!"},{"$error":"#VALUE!"}]
["","","","","","",{"$error":"#VALUE!"},{"$error":"#VALUE!"}]
["","","","","","",{"$error":"#VALUE!"},{"$error":"#VALUE!"}]
["","","","","","",{"$error":"#VALUE!"},{"$error":"#VALUE!"}]
["","","","","","",{"$error":"#VALUE!"},{"$error":"#VALUE!"}]
["","","","","","",{"$error":"#VALUE!"},{"$error":"#VALUE!"}]
["","","","","","",{"$error":"#VALUE!"},{"$f":"G2005*$B$13","v":{"$error":"#VALUE!"}}]
[{"$f":"IF(IF(A2005<>\"\",A2005+1<=$B$16,0),A2005+1,\"\")","v":""},{"$f":"IF(A2006<>\"\",A2006*$B$13,\"\")","v":""},{"$f":"IF(A2006<>\"\",ROUNDDOWN(A2006*$B$13/24,0),\"\")","v":""},{"$f":"IF(A2006<>\"\",MOD(B2006,24)/24,\"\")","v":""},{"$f":"IF(A2006<>\"\",($B$4+$B$5)/2+($B$5-$B$4)/2*COS(2*PI()/$B$15*B2006),\"\")","v":""},{"$f":"IF(A2006<>\"\",E2006*COS(2*PI()/$B$7*B2006),\"\")","v":""},{"$f":"ABS(0.5*1.025*1*(F2006^3))","v":{"$error":"#VALUE!"}},{"$error":"#VALUE!"}]
["","","","","","",{"$error":"#VALUE!"},{"$error":"#VALUE!"}]
["","","","","","",{"$error":"#VALUE!"},{"$error":"#VALUE!"}]
["","","","","","",{"$error":"#VALUE!"},{"$error":"#VALUE!"}]
["","","","","","",{"$error":"#VALUE!"},{"$error":"#VALUE!"}]
["","","","","","",{"$error":"#VALUE!"},{"$error":"#VALUE!"}]
["","","","","","",{"$error":"#VALUE!"},{"$error":"#VALUE!"}]
["","","","","","",{"$error":"#VALUE!"},{"$error":"#VALUE!"}]
["","","","","","",{"$error":"#VALUE!"},{"$error":"#VALUE!"}]
["","","","","","",{"$error":"#VALUE!"},{"$error":"#VALUE!"}]
["","","","","","",{"$error":"#VALUE!"},{"$error":"#VALUE!"}]
["","","","","","",{"$error":"#VALUE!"},{"$error":"#VALUE!"}]
["","","","","","",{"$error":"#VALUE!"},{"$error":"#VALUE!"}]
["","","","","","",{"$error":"#VALUE!"},{"$error":"#VALUE!"}]
["","","","","","",{"$error":"#VALUE!"},{"$error":"#VALUE!"}]
["","","","","","",{"$error":"#VALUE!"},{"$error":"#VALUE!"}]
["","","","","","",{"$error":"#VALUE!"},{"$error":"#VALUE!"}]
["","","","","","",{"$error":"#VALUE!"},{"$error":"#VALUE!"}]
["","","","","","",{"$error":"#VALUE!"},{"$error":"#VALUE!"}]
["","","","","","",{"$error":"#VALUE!"},{"$error":"#VALUE!"}]
["","","","","","",{"$error":"#VALUE!"},{"$error":"#VALUE!"}]
["","","","","","",{"$error":"#VALUE!"},{"$error":"#VALUE!"}]
["","","","","","",{"$error":"#VALUE!"},{"$error":"#VALUE!"}]
["","","","","","",{"$error":"#VALUE!"},{"$error":"#VALUE!"}]
["","","","","","",{"$error":"#VALUE!"},{"$error":"#VALUE!"}]
["","","","","","",{"$error":"#VALUE!"},{"$error":"#VALUE!"}]
["","","","","","",{"$error":"#VALUE!"},{"$error":"#VALUE!"}]
["","","","","","",{"$error":"#VALUE!"},{"$error":"#VALUE!"}]
["","","","","","",{"$error":"#VALUE!"},{"$error":"#VALUE!"}]
["","","","","","",{"$error":"#VALUE!"},{"$error":"#VALUE!"}]
["","","","","","",{"$error":"#VALUE!"},{"$error":"#VALUE!"}]
["","","","","","",{"$error":"#VALUE!"},{"$error":"#VALUE!"}]
["","","","","","",{"$error":"#VALUE!"},{"$error":"#VALUE!"}]
["","","","","","",{"$error":"#VALUE!"},{"$error":"#VALUE!"}]
["","","","","","",{"$error":"#VALUE!"},{"$error":"#VALUE!"}]
["","","","","","",{"$error":"#VALUE!"},{"$error":"#VALUE!"}]
["","","","","","",{"$error":"#VALUE!"},{"$error":"#VALUE!"}]
["","","","","","",{"$error":"#VALUE!"},{"$error":"#VALUE!"}]
["","","","","","",{"$error":"#VALUE!"},{"$error":"#VALUE!"}]
["","","","","","",{"$error":"#VALUE!"},{"$error":"#VALUE!"}]
["","","","","","",{"$error":"#VALUE!"},{"$error":"#VALUE!"}]
["","","","","","",{"$error":"#VALUE!"},{"$error":"#VALUE!"}]
["","","","","","",{"$error":"#VALUE!"},{"$error":"#VALUE!"}]
["","","","","","",{"$error":"#VALUE!"},{"$error":"#VALUE!"}]
["","","","","","",{"$error":"#VALUE!"},{"$error":"#VALUE!"}]
["","","","","","",{"$error":"#VALUE!"},{"$error":"#VALUE!"}]
["","","","","","",{"$error":"#VALUE!"},{"$error":"#VALUE!"}]
["","","","","","",{"$error":"#VALUE!"},{"$error":"#VALUE!"}]
["","","","","","",{"$error":"#VALUE!"},{"$error":"#VALUE!"}]
["","","","","","",{"$error":"#VALUE!"},{"$error":"#VALUE!"}]
["","","","","","",{"$error":"#VALUE!"},{"$error":"#VALUE!"}]
["","","","","","",{"$error":"#VALUE!"},{"$error":"#VALUE!"}]
["","","","","","",{"$error":"#VALUE!"},{"$error":"#VALUE!"}]
["","","","","","",{"$error":"#VALUE!"},{"$error":"#VALUE!"}]
["","","","","","",{"$error":"#VALUE!"},{"$error":"#VALUE!"}]
["","","","","","",{"$error":"#VALUE!"},{"$error":"#VALUE!"}]
["","","","","","",{"$error":"#VALUE!"},{"$error":"#VALUE!"}]
["","","","","","",{"$error":"#VALUE!"},{"$error":"#VALUE!"}]
["","","","","","",{"$error":"#VALUE!"},{"$error":"#VALUE!"}]
["","","","","","",{"$error":"#VALUE!"},{"$error":"#VALUE!"}]
["","","","","","",{"$error":"#VALUE!"},{"$error":"#VALUE!"}]
["","","","","","",{"$error":"#VALUE!"},{"$error":"#VALUE!"}]
["","","","","","",{"$error":"#VALUE!"},{"$error":"#VALUE!"}]
["","","","","","",{"$error":"#VALUE!"},{"$f":"G2069*$B$13","v":{"$error":"#VALUE!"}}]
[{"$f":"IF(IF(A2069<>\"\",A2069+1<=$B$16,0),A2069+1,\"\")","v":""},{"$f":"IF(A2070<>\"\",A2070*$B$13,\"\")","v":""},{"$f":"IF(A2070<>\"\",ROUNDDOWN(A2070*$B$13/24,0),\"\")","v":""},{"$f":"IF(A2070<>\"\",MOD(B2070,24)/24,\"\")","v":""},{"$f":"IF(A2070<>\"\",($B$4+$B$5)/2+($B$5-$B$4)/2*COS(2*PI()/$B$15*B2070),\"\")","v":""},{"$f":"IF(A2070<>\"\",E2070*COS(2*PI()/$B$7*B2070),\"\")","v":""},{"$f":"ABS(0.5*1.025*1*(F2070^3))","v":{"$error":"#VALUE!"}},{"$error":"#VALUE!"}]
["","","","","","",{"$error":"#VALUE!"},{"$error":"#VALUE!"}]
["","","","","","",{"$error":"#VALUE!"},{"$error":"#VALUE!"}]
["","","","","","",{"$error":"#VALUE!"},{"$error":"#VALUE!"}]
["","","","","","",{"$error":"#VALUE!"},{"$error":"#VALUE!"}]
["","","","","","",{"$error":"#VALUE!"},{"$error":"#VALUE!"}]
["","","","","","",{"$error":"#VALUE!"},{"$error":"#VALUE!"}]
["","","","","","",{"$error":"#VALUE!"},{"$error":"#VALUE!"}]
["","","","","","",{"$error":"#VALUE!"},{"$error":"#VALUE!"}]
["","","","","","",{"$error":"#VALUE!"},{"$error":"#VALUE!"}]
["","","","","","",{"$error":"#VALUE!"},{"$error":"#VALUE!"}]
["","","","","","",{"$error":"#VALUE!"},{"$error":"#VALUE!"}]
["","","","","","",{"$error":"#VALUE!"},{"$error":"#VALUE!"}]
["","","","","","",{"$error":"#VALUE!"},{"$error":"#VALUE!"}]
["","","","","","",{"$error":"#VALUE!"},{"$error":"#VALUE!"}]
["","","","","","",{"$error":"#VALUE!"},{"$error":"#VALUE!"}]
["","","","","","",{"$error":"#VALUE!"},{"$error":"#VALUE!"}]
["","","","","","",{"$error":"#VALUE!"},{"$error":"#VALUE!"}]
["","","","","","",{"$error":"#VALUE!"},{"$error":"#VALUE!"}]
["","","","","","",{"$error":"#VALUE!"},{"$error":"#VALUE!"}]
["","","","","","",{"$error":"#VALUE!"},{"$error":"#VALUE!"}]
["","","","","","",{"$error":"#VALUE!"},{"$error":"#VALUE!"}]
["","","","","","",{"$error":"#VALUE!"},{"$error":"#VALUE!"}]
["","","","","","",{"$error":"#VALUE!"},{"$error":"#VALUE!"}]
["","","","","","",{"$error":"#VALUE!"},{"$error":"#VALUE!"}]
["","","","","","",{"$error":"#VALUE!"},{"$error":"#VALUE!"}]
["","","","","","",{"$error":"#VALUE!"},{"$error":"#VALUE!"}]
["","","","","","",{"$error":"#VALUE!"},{"$error":"#VALUE!"}]
["","","","","","",{"$error":"#VALUE!"},{"$error":"#VALUE!"}]
["","","","","","",{"$error":"#VALUE!"},{"$error":"#VALUE!"}]
["","","","","","",{"$error":"#VALUE!"},{"$error":"#VALUE!"}]
["","","","","","",{"$error":"#VALUE!"},{"$error":"#VALUE!"}]
["","","","","","",{"$error":"#VALUE!"},{"$error":"#VALUE!"}]
["","","","","","",{"$error":"#VALUE!"},{"$error":"#VALUE!"}]
["","","","","","",{"$error":"#VALUE!"},{"$error":"#VALUE!"}]
["","","","","","",{"$error":"#VALUE!"},{"$error":"#VALUE!"}]
["","","","","","",{"$error":"#VALUE!"},{"$error":"#VALUE!"}]
["","","","","","",{"$error":"#VALUE!"},{"$error":"#VALUE!"}]
["","","","","","",{"$error":"#VALUE!"},{"$error":"#VALUE!"}]
["","","","","","",{"$error":"#VALUE!"},{"$error":"#VALUE!"}]
["","","","","","",{"$error":"#VALUE!"},{"$error":"#VALUE!"}]
["","","","","","",{"$error":"#VALUE!"},{"$error":"#VALUE!"}]
["","","","","","",{"$error":"#VALUE!"},{"$error":"#VALUE!"}]
["","","","","","",{"$error":"#VALUE!"},{"$error":"#VALUE!"}]
["","","","","","",{"$error":"#VALUE!"},{"$error":"#VALUE!"}]
["","","","","","",{"$error":"#VALUE!"},{"$error":"#VALUE!"}]
["","","","","","",{"$error":"#VALUE!"},{"$error":"#VALUE!"}]
["","","","","","",{"$error":"#VALUE!"},{"$error":"#VALUE!"}]
["","","","","","",{"$error":"#VALUE!"},{"$error":"#VALUE!"}]
["","","","","","",{"$error":"#VALUE!"},{"$error":"#VALUE!"}]
["","","","","","",{"$error":"#VALUE!"},{"$error":"#VALUE!"}]
["","","","","","",{"$error":"#VALUE!"},{"$error":"#VALUE!"}]
["","","","","","",{"$error":"#VALUE!"},{"$error":"#VALUE!"}]
["","","","","","",{"$error":"#VALUE!"},{"$error":"#VALUE!"}]
["","","","","","",{"$error":"#VALUE!"},{"$error":"#VALUE!"}]
["","","","","","",{"$error":"#VALUE!"},{"$error":"#VALUE!"}]
["","","","","","",{"$error":"#VALUE!"},{"$error":"#VALUE!"}]
["","","","","","",{"$error":"#VALUE!"},{"$error":"#VALUE!"}]
["","","","","","",{"$error":"#VALUE!"},{"$error":"#VALUE!"}]
["","","","","","",{"$error":"#VALUE!"},{"$error":"#VALUE!"}]
["","","","","","",{"$error":"#VALUE!"},{"$error":"#VALUE!"}]
["","","","","","",{"$error":"#VALUE!"},{"$error":"#VALUE!"}]
["","","","","","",{"$error":"#VALUE!"},{"$error":"#VALUE!"}]
["","","","","","",{"$error":"#VALUE!"},{"$f":"G2133*$B$13","v":{"$error":"#VALUE!"}}]
[{"$f":"IF(IF(A2133<>\"\",A2133+1<=$B$16,0),A2133+1,\"\")","v":""},{"$f":"IF(A2134<>\"\",A2134*$B$13,\"\")","v":""},{"$f":"IF(A2134<>\"\",ROUNDDOWN(A2134*$B$13/24,0),\"\")","v":""},{"$f":"IF(A2134<>\"\",MOD(B2134,24)/24,\"\")","v":""},{"$f":"IF(A2134<>\"\",($B$4+$B$5)/2+($B$5-$B$4)/2*COS(2*PI()/$B$15*B2134),\"\")","v":""},{"$f":"IF(A2134<>\"\",E2134*COS(2*PI()/$B$7*B2134),\"\")","v":""},{"$f":"ABS(0.5*1.025*1*(F2134^3))","v":{"$error":"#VALUE!"}},{"$error":"#VALUE!"}]
["","","","","","",{"$error":"#VALUE!"},{"$error":"#VALUE!"}]
["","","","","","",{"$error":"#VALUE!"},{"$error":"#VALUE!"}]
["","","","","","",{"$error":"#VALUE!"},{"$error":"#VALUE!"}]
["","","","","","",{"$error":"#VALUE!"},{"$error":"#VALUE!"}]
["","","","","","",{"$error":"#VALUE!"},{"$error":"#VALUE!"}]
["","","","","","",{"$error":"#VALUE!"},{"$error":"#VALUE!"}]
["","","","","","",{"$error":"#VALUE!"},{"$error":"#VALUE!"}]
["","","","","","",{"$error":"#VALUE!"},{"$error":"#VALUE!"}]
["","","","","","",{"$error":"#VALUE!"},{"$error":"#VALUE!"}]
["","","","","","",{"$error":"#VALUE!"},{"$error":"#VALUE!"}]
["","","","","","",{"$error":"#VALUE!"},{"$error":"#VALUE!"}]
["","","","","","",{"$error":"#VALUE!"},{"$error":"#VALUE!"}]
["","","","","","",{"$error":"#VALUE!"},{"$error":"#VALUE!"}]
["","","","","","",{"$error":"#VALUE!"},{"$error":"#VALUE!"}]
["","","","","","",{"$error":"#VALUE!"},{"$error":"#VALUE!"}]
["","","","","","",{"$error":"#VALUE!"},{"$error":"#VALUE!"}]
["","","","","","",{"$error":"#VALUE!"},{"$error":"#VALUE!"}]
["","","","","","",{"$error":"#VALUE!"},{"$error":"#VALUE!"}]
["","","","","","",{"$error":"#VALUE!"},{"$error":"#VALUE!"}]
["","","","","","",{"$error":"#VALUE!"},{"$error":"#VALUE!"}]
["","","","","","",{"$error":"#VALUE!"},{"$error":"#VALUE!"}]
["","","","","","",{"$error":"#VALUE!"},{"$error":"#VALUE!"}]
["","","","","","",{"$error":"#VALUE!"},{"$error":"#VALUE!"}]
["","","","","","",{"$error":"#VALUE!"},{"$error":"#VALUE!"}]
["","","","","","",{"$error":"#VALUE!"},{"$error":"#VALUE!"}]
["","","","","","",{"$error":"#VALUE!"},{"$error":"#VALUE!"}]
["","","","","","",{"$error":"#VALUE!"},{"$error":"#VALUE!"}]
["","","","","","",{"$error":"#VALUE!"},{"$error":"#VALUE!"}]
["","","","","","",{"$error":"#VALUE!"},{"$error":"#VALUE!"}]
["","","","","","",{"$error":"#VALUE!"},{"$error":"#VALUE!"}]
["","","","","","",{"$error":"#VALUE!"},{"$error":"#VALUE!"}]
["","","","","","",{"$error":"#VALUE!"},{"$error":"#VALUE!"}]
["","","","","","",{"$error":"#VALUE!"},{"$error":"#VALUE!"}]
["","","","","","",{"$error":"#VALUE!"},{"$error":"#VALUE!"}]
["","","","","","",{"$error":"#VALUE!"},{"$error":"#VALUE!"}]
["","","","","","",{"$error":"#VALUE!"},{"$error":"#VALUE!"}]
["","","","","","",{"$error":"#VALUE!"},{"$error":"#VALUE!"}]
["","","","","","",{"$error":"#VALUE!"},{"$error":"#VALUE!"}]
["","","","","","",{"$error":"#VALUE!"},{"$error":"#VALUE!"}]
["","","","","","",{"$error":"#VALUE!"},{"$error":"#VALUE!"}]
["","","","","","",{"$error":"#VALUE!"},{"$error":"#VALUE!"}]
["","","","","","",{"$error":"#VALUE!"},{"$error":"#VALUE!"}]
["","","","","","",{"$error":"#VALUE!"},{"$error":"#VALUE!"}]
["","","","","","",{"$error":"#VALUE!"},{"$error":"#VALUE!"}]
["","","","","","",{"$error":"#VALUE!"},{"$error":"#VALUE!"}]
["","","","","","",{"$error":"#VALUE!"},{"$error":"#VALUE!"}]
["","","","","","",{"$error":"#VALUE!"},{"$error":"#VALUE!"}]
["","","","","","",{"$error":"#VALUE!"},{"$error":"#VALUE!"}]
["","","","","","",{"$error":"#VALUE!"},{"$error":"#VALUE!"}]
["","","","","","",{"$error":"#VALUE!"},{"$error":"#VALUE!"}]
["","","","","","",{"$error":"#VALUE!"},{"$error":"#VALUE!"}]
["","","","","","",{"$error":"#VALUE!"},{"$error":"#VALUE!"}]
["","","","","","",{"$error":"#VALUE!"},{"$error":"#VALUE!"}]
["","","","","","",{"$error":"#VALUE!"},{"$error":"#VALUE!"}]
["","","","","","",{"$error":"#VALUE!"},{"$error":"#VALUE!"}]
["","","","","","",{"$error":"#VALUE!"},{"$error":"#VALUE!"}]
["","","","","","",{"$error":"#VALUE!"},{"$error":"#VALUE!"}]
["","","","","","",{"$error":"#VALUE!"},{"$error":"#VALUE!"}]
["","","","","","",{"$error":"#VALUE!"},{"$error":"#VALUE!"}]
["","","","","","",{"$error":"#VALUE!"},{"$error":"#VALUE!"}]
["","","","","","",{"$error":"#VALUE!"},{"$error":"#VALUE!"}]
["","","","","","",{"$error":"#VALUE!"},{"$error":"#VALUE!"}]
["","","","","","",{"$error":"#VALUE!"},{"$f":"G2197*$B$13","v":{"$error":"#VALUE!"}}]
[{"$f":"IF(IF(A2197<>\"\",A2197+1<=$B$16,0),A2197+1,\"\")","v":""},{"$f":"IF(A2198<>\"\",A2198*$B$13,\"\")","v":""},{"$f":"IF(A2198<>\"\",ROUNDDOWN(A2198*$B$13/24,0),\"\")","v":""},{"$f":"IF(A2198<>\"\",MOD(B2198,24)/24,\"\")","v":""},{"$f":"IF(A2198<>\"\",($B$4+$B$5)/2+($B$5-$B$4)/2*COS(2*PI()/$B$15*B2198),\"\")","v":""},{"$f":"IF(A2198<>\"\",E2198*COS(2*PI()/$B$7*B2198),\"\")","v":""},{"$f":"ABS(0.5*1.025*1*(F2198^3))","v":{"$error":"#VALUE!"}},{"$error":"#VALUE!"}]
["","","","","","",{"$error":"#VALUE!"},{"$error":"#VALUE!"}]
["","","","","","",{"$error":"#VALUE!"},{"$error":"#VALUE!"}]
["","","","","","",{"$error":"#VALUE!"},{"$error":"#VALUE!"}]
["","","","","","",{"$error":"#VALUE!"},{"$error":"#VALUE!"}]
["","","","","","",{"$error":"#VALUE!"},{"$error":"#VALUE!"}]
["","","","","","",{"$error":"#VALUE!"},{"$error":"#VALUE!"}]
["","","","","","",{"$error":"#VALUE!"},{"$error":"#VALUE!"}]
["","","","","","",{"$error":"#VALUE!"},{"$error":"#VALUE!"}]
["","","","","","",{"$error":"#VALUE!"},{"$error":"#VALUE!"}]
["","","","","","",{"$error":"#VALUE!"},{"$error":"#VALUE!"}]
["","","","","","",{"$error":"#VALUE!"},{"$error":"#VALUE!"}]
["","","","","","",{"$error":"#VALUE!"},{"$error":"#VALUE!"}]
["","","","","","",{"$error":"#VALUE!"},{"$error":"#VALUE!"}]
["","","","","","",{"$error":"#VALUE!"},{"$error":"#VALUE!"}]
["","","","","","",{"$error":"#VALUE!"},{"$error":"#VALUE!"}]
["","","","","","",{"$error":"#VALUE!"},{"$error":"#VALUE!"}]
["","","","","","",{"$error":"#VALUE!"},{"$error":"#VALUE!"}]
["","","","","","",{"$error":"#VALUE!"},{"$error":"#VALUE!"}]
["","","","","","",{"$error":"#VALUE!"},{"$error":"#VALUE!"}]
["","","","","","",{"$error":"#VALUE!"},{"$error":"#VALUE!"}]
["","","","","","",{"$error":"#VALUE!"},{"$error":"#VALUE!"}]
["","","","","","",{"$error":"#VALUE!"},{"$error":"#VALUE!"}]
["","","","","","",{"$error":"#VALUE!"},{"$error":"#VALUE!"}]
["","","","","","",{"$error":"#VALUE!"},{"$error":"#VALUE!"}]
["","","","","","",{"$error":"#VALUE!"},{"$error":"#VALUE!"}]
["","","","","","",{"$error":"#VALUE!"},{"$error":"#VALUE!"}]
["","","","","","",{"$error":"#VALUE!"},{"$error":"#VALUE!"}]
["","","","","","",{"$error":"#VALUE!"},{"$error":"#VALUE!"}]
["","","","","","",{"$error":"#VALUE!"},{"$error":"#VALUE!"}]
["","","","","","",{"$error":"#VALUE!"},{"$error":"#VALUE!"}]
["","","","","","",{"$error":"#VALUE!"},{"$error":"#VALUE!"}]
["","","","","","",{"$error":"#VALUE!"},{"$error":"#VALUE!"}]
["","","","","","",{"$error":"#VALUE!"},{"$error":"#VALUE!"}]
["","","","","","",{"$error":"#VALUE!"},{"$error":"#VALUE!"}]
["","","","","","",{"$error":"#VALUE!"},{"$error":"#VALUE!"}]
["","","","","","",{"$error":"#VALUE!"},{"$error":"#VALUE!"}]
["","","","","","",{"$error":"#VALUE!"},{"$error":"#VALUE!"}]
["","","","","","",{"$error":"#VALUE!"},{"$error":"#VALUE!"}]
["","","","","","",{"$error":"#VALUE!"},{"$error":"#VALUE!"}]
["","","","","","",{"$error":"#VALUE!"},{"$error":"#VALUE!"}]
["","","","","","",{"$error":"#VALUE!"},{"$error":"#VALUE!"}]
["","","","","","",{"$error":"#VALUE!"},{"$error":"#VALUE!"}]
["","","","","","",{"$error":"#VALUE!"},{"$error":"#VALUE!"}]
["","","","","","",{"$error":"#VALUE!"},{"$error":"#VALUE!"}]
["","","","","","",{"$error":"#VALUE!"},{"$error":"#VALUE!"}]
["","","","","","",{"$error":"#VALUE!"},{"$error":"#VALUE!"}]
["","","","","","",{"$error":"#VALUE!"},{"$error":"#VALUE!"}]
["","","","","","",{"$error":"#VALUE!"},{"$error":"#VALUE!"}]
["","","","","","",{"$error":"#VALUE!"},{"$error":"#VALUE!"}]
["","","","","","",{"$error":"#VALUE!"},{"$error":"#VALUE!"}]
["","","","","","",{"$error":"#VALUE!"},{"$error":"#VALUE!"}]
["","","","","","",{"$error":"#VALUE!"},{"$error":"#VALUE!"}]
["","","","","","",{"$error":"#VALUE!"},{"$error":"#VALUE!"}]
["","","","","","",{"$error":"#VALUE!"},{"$error":"#VALUE!"}]
["","","","","","",{"$error":"#VALUE!"},{"$error":"#VALUE!"}]
["","","","","","",{"$error":"#VALUE!"},{"$error":"#VALUE!"}]
["","","","","","",{"$error":"#VALUE!"},{"$error":"#VALUE!"}]
["","","","","","",{"$error":"#VALUE!"},{"$error":"#VALUE!"}]
["","","","","","",{"$error":"#VALUE!"},{"$error":"#VALUE!"}]
["","","","","","",{"$error":"#VALUE!"},{"$error":"#VALUE!"}]
["","","","","","",{"$error":"#VALUE!"},{"$error":"#VALUE!"}]
["","","","","","",{"$error":"#VALUE!"},{"$error":"#VALUE!"}]
["","","","","","",{"$error":"#VALUE!"},{"$f":"G2261*$B$13","v":{"$error":"#VALUE!"}}]
[{"$f":"IF(IF(A2261<>\"\",A2261+1<=$B$16,0),A2261+1,\"\")","v":""},{"$f":"IF(A2262<>\"\",A2262*$B$13,\"\")","v":""},{"$f":"IF(A2262<>\"\",ROUNDDOWN(A2262*$B$13/24,0),\"\")","v":""},{"$f":"IF(A2262<>\"\",MOD(B2262,24)/24,\"\")","v":""},{"$f":"IF(A2262<>\"\",($B$4+$B$5)/2+($B$5-$B$4)/2*COS(2*PI()/$B$15*B2262),\"\")","v":""},{"$f":"IF(A2262<>\"\",E2262*COS(2*PI()/$B$7*B2262),\"\")","v":""},{"$f":"ABS(0.5*1.025*1*(F2262^3))","v":{"$error":"#VALUE!"}},{"$error":"#VALUE!"}]
["","","","","","",{"$error":"#VALUE!"},{"$error":"#VALUE!"}]
["","","","","","",{"$error":"#VALUE!"},{"$error":"#VALUE!"}]
["","","","","","",{"$error":"#VALUE!"},{"$error":"#VALUE!"}]
["","","","","","",{"$error":"#VALUE!"},{"$error":"#VALUE!"}]
["","","","","","",{"$error":"#VALUE!"},{"$error":"#VALUE!"}]
["","","","","","",{"$error":"#VALUE!"},{"$error":"#VALUE!"}]
["","","","","","",{"$error":"#VALUE!"},{"$error":"#VALUE!"}]
["","","","","","",{"$error":"#VALUE!"},{"$error":"#VALUE!"}]
["","","","","","",{"$error":"#VALUE!"},{"$error":"#VALUE!"}]
["","","","","","",{"$error":"#VALUE!"},{"$error":"#VALUE!"}]
["","","","","","",{"$error":"#VALUE!"},{"$error":"#VALUE!"}]
["","","","","","",{"$error":"#VALUE!"},{"$error":"#VALUE!"}]
["","","","","","",{"$error":"#VALUE!"},{"$error":"#VALUE!"}]
["","","","","","",{"$error":"#VALUE!"},{"$error":"#VALUE!"}]
["","","","","","",{"$error":"#VALUE!"},{"$error":"#VALUE!"}]
["","","","","","",{"$error":"#VALUE!"},{"$error":"#VALUE!"}]
["","","","","","",{"$error":"#VALUE!"},{"$error":"#VALUE!"}]
["","","","","","",{"$error":"#VALUE!"},{"$error":"#VALUE!"}]
["","","","","","",{"$error":"#VALUE!"},{"$error":"#VALUE!"}]
["","","","","","",{"$error":"#VALUE!"},{"$error":"#VALUE!"}]
["","","","","","",{"$error":"#VALUE!"},{"$error":"#VALUE!"}]
["","","","","","",{"$error":"#VALUE!"},{"$error":"#VALUE!"}]
["","","","","","",{"$error":"#VALUE!"},{"$error":"#VALUE!"}]
["","","","","","",{"$error":"#VALUE!"},{"$error":"#VALUE!"}]
["","","","","","",{"$error":"#VALUE!"},{"$error":"#VALUE!"}]
["","","","","","",{"$error":"#VALUE!"},{"$error":"#VALUE!"}]
["","","","","","",{"$error":"#VALUE!"},{"$error":"#VALUE!"}]
["","","","","","",{"$error":"#VALUE!"},{"$error":"#VALUE!"}]
["","","","","","",{"$error":"#VALUE!"},{"$error":"#VALUE!"}]
["","","","","","",{"$error":"#VALUE!"},{"$error":"#VALUE!"}]
["","","","","","",{"$error":"#VALUE!"},{"$error":"#VALUE!"}]
["","","","","","",{"$error":"#VALUE!"},{"$error":"#VALUE!"}]
["","","","","","",{"$error":"#VALUE!"},{"$error":"#VALUE!"}]
["","","","","","",{"$error":"#VALUE!"},{"$error":"#VALUE!"}]
["","","","","","",{"$error":"#VALUE!"},{"$error":"#VALUE!"}]
["","","","","","",{"$error":"#VALUE!"},{"$error":"#VALUE!"}]
["","","","","","",{"$error":"#VALUE!"},{"$error":"#VALUE!"}]
["","","","","","",{"$error":"#VALUE!"},{"$error":"#VALUE!"}]
["","","","","","",{"$error":"#VALUE!"},{"$error":"#VALUE!"}]
["","","","","","",{"$error":"#VALUE!"},{"$error":"#VALUE!"}]
["","","","","","",{"$error":"#VALUE!"},{"$error":"#VALUE!"}]
["","","","","","",{"$error":"#VALUE!"},{"$error":"#VALUE!"}]
["","","","","","",{"$error":"#VALUE!"},{"$error":"#VALUE!"}]
["","","","","","",{"$error":"#VALUE!"},{"$error":"#VALUE!"}]
["","","","","","",{"$error":"#VALUE!"},{"$error":"#VALUE!"}]
["","","","","","",{"$error":"#VALUE!"},{"$error":"#VALUE!"}]
["","","","","","",{"$error":"#VALUE!"},{"$error":"#VALUE!"}]
["","","","","","",{"$error":"#VALUE!"},{"$error":"#VALUE!"}]
["","","","","","",{"$error":"#VALUE!"},{"$error":"#VALUE!"}]
["","","","","","",{"$error":"#VALUE!"},{"$error":"#VALUE!"}]
["","","","","","",{"$error":"#VALUE!"},{"$error":"#VALUE!"}]
["","","","","","",{"$error":"#VALUE!"},{"$error":"#VALUE!"}]
["","","","","","",{"$error":"#VALUE!"},{"$error":"#VALUE!"}]
["","","","","","",{"$error":"#VALUE!"},{"$error":"#VALUE!"}]
["","","","","","",{"$error":"#VALUE!"},{"$error":"#VALUE!"}]
["","","","","","",{"$error":"#VALUE!"},{"$error":"#VALUE!"}]
["","","","","","",{"$error":"#VALUE!"},{"$error":"#VALUE!"}]
["","","","","","",{"$error":"#VALUE!"},{"$error":"#VALUE!"}]
["","","","","","",{"$error":"#VALUE!"},{"$error":"#VALUE!"}]
["","","","","","",{"$error":"#VALUE!"},{"$error":"#VALUE!"}]
["","","","","","",{"$error":"#VALUE!"},{"$error":"#VALUE!"}]
["","","","","","",{"$error":"#VALUE!"},{"$error":"#VALUE!"}]
["","","","","","",{"$error":"#VALUE!"},{"$f":"G2325*$B$13","v":{"$error":"#VALUE!"}}]
[{"$f":"IF(IF(A2325<>\"\",A2325+1<=$B$16,0),A2325+1,\"\")","v":""},{"$f":"IF(A2326<>\"\",A2326*$B$13,\"\")","v":""},{"$f":"IF(A2326<>\"\",ROUNDDOWN(A2326*$B$13/24,0),\"\")","v":""},{"$f":"IF(A2326<>\"\",MOD(B2326,24)/24,\"\")","v":""},{"$f":"IF(A2326<>\"\",($B$4+$B$5)/2+($B$5-$B$4)/2*COS(2*PI()/$B$15*B2326),\"\")","v":""},{"$f":"IF(A2326<>\"\",E2326*COS(2*PI()/$B$7*B2326),\"\")","v":""},{"$f":"ABS(0.5*1.025*1*(F2326^3))","v":{"$error":"#VALUE!"}},{"$error":"#VALUE!"}]
["","","","","","",{"$error":"#VALUE!"},{"$error":"#VALUE!"}]
["","","","","","",{"$error":"#VALUE!"},{"$error":"#VALUE!"}]
["","","","","","",{"$error":"#VALUE!"},{"$error":"#VALUE!"}]
["","","","","","",{"$error":"#VALUE!"},{"$error":"#VALUE!"}]
["","","","","","",{"$error":"#VALUE!"},{"$error":"#VALUE!"}]
["","","","","","",{"$error":"#VALUE!"},{"$error":"#VALUE!"}]
["","","","","","",{"$error":"#VALUE!"},{"$error":"#VALUE!"}]
["","","","","","",{"$error":"#VALUE!"},{"$error":"#VALUE!"}]
["","","","","","",{"$error":"#VALUE!"},{"$error":"#VALUE!"}]
["","","","","","",{"$error":"#VALUE!"},{"$error":"#VALUE!"}]
["","","","","","",{"$error":"#VALUE!"},{"$error":"#VALUE!"}]
["","","","","","",{"$error":"#VALUE!"},{"$error":"#VALUE!"}]
["","","","","","",{"$error":"#VALUE!"},{"$error":"#VALUE!"}]
["","","","","","",{"$error":"#VALUE!"},{"$error":"#VALUE!"}]
["","","","","","",{"$error":"#VALUE!"},{"$error":"#VALUE!"}]
["","","","","","",{"$error":"#VALUE!"},{"$error":"#VALUE!"}]
["","","","","","",{"$error":"#VALUE!"},{"$error":"#VALUE!"}]
["","","","","","",{"$error":"#VALUE!"},{"$error":"#VALUE!"}]
["","","","","","",{"$error":"#VALUE!"},{"$error":"#VALUE!"}]
["","","","","","",{"$error":"#VALUE!"},{"$error":"#VALUE!"}]
["","","","","","",{"$error":"#VALUE!"},{"$error":"#VALUE!"}]
["","","","","","",{"$error":"#VALUE!"},{"$error":"#VALUE!"}]
["","","","","","",{"$error":"#VALUE!"},{"$error":"#VALUE!"}]
["","","","","","",{"$error":"#VALUE!"},{"$error":"#VALUE!"}]
["","","","","","",{"$error":"#VALUE!"},{"$error":"#VALUE!"}]
["","","","","","",{"$error":"#VALUE!"},{"$error":"#VALUE!"}]
["","","","","","",{"$error":"#VALUE!"},{"$error":"#VALUE!"}]
["","","","","","",{"$error":"#VALUE!"},{"$error":"#VALUE!"}]
["","","","","","",{"$error":"#VALUE!"},{"$error":"#VALUE!"}]
["","","","","","",{"$error":"#VALUE!"},{"$error":"#VALUE!"}]
["","","","","","",{"$error":"#VALUE!"},{"$error":"#VALUE!"}]
["","","","","","",{"$error":"#VALUE!"},{"$error":"#VALUE!"}]
["","","","","","",{"$error":"#VALUE!"},{"$error":"#VALUE!"}]
["","","","","","",{"$error":"#VALUE!"},{"$error":"#VALUE!"}]
["","","","","","",{"$error":"#VALUE!"},{"$error":"#VALUE!"}]
["","","","","","",{"$error":"#VALUE!"},{"$error":"#VALUE!"}]
["","","","","","",{"$error":"#VALUE!"},{"$error":"#VALUE!"}]
["","","","","","",{"$error":"#VALUE!"},{"$error":"#VALUE!"}]
["","","","","","",{"$error":"#VALUE!"},{"$error":"#VALUE!"}]
["","","","","","",{"$error":"#VALUE!"},{"$error":"#VALUE!"}]
["","","","","","",{"$error":"#VALUE!"},{"$error":"#VALUE!"}]
["","","","","","",{"$error":"#VALUE!"},{"$error":"#VALUE!"}]
["","","","","","",{"$error":"#VALUE!"},{"$error":"#VALUE!"}]
["","","","","","",{"$error":"#VALUE!"},{"$error":"#VALUE!"}]
["","","","","","",{"$error":"#VALUE!"},{"$error":"#VALUE!"}]
["","","","","","",{"$error":"#VALUE!"},{"$error":"#VALUE!"}]
["","","","","","",{"$error":"#VALUE!"},{"$error":"#VALUE!"}]
["","","","","","",{"$error":"#VALUE!"},{"$error":"#VALUE!"}]
["","","","","","",{"$error":"#VALUE!"},{"$error":"#VALUE!"}]
["","","","","","",{"$error":"#VALUE!"},{"$error":"#VALUE!"}]
["","","","","","",{"$error":"#VALUE!"},{"$error":"#VALUE!"}]
["","","","","","",{"$error":"#VALUE!"},{"$error":"#VALUE!"}]
["","","","","","",{"$error":"#VALUE!"},{"$error":"#VALUE!"}]
["","","","","","",{"$error":"#VALUE!"},{"$error":"#VALUE!"}]
["","","","","","",{"$error":"#VALUE!"},{"$error":"#VALUE!"}]
["","","","","","",{"$error":"#VALUE!"},{"$error":"#VALUE!"}]
["","","","","","",{"$error":"#VALUE!"},{"$error":"#VALUE!"}]
["","","","","","",{"$error":"#VALUE!"},{"$error":"#VALUE!"}]
["","","","","","",{"$error":"#VALUE!"},{"$error":"#VALUE!"}]
["","","","","","",{"$error":"#VALUE!"},{"$error":"#VALUE!"}]
["","","","","","",{"$error":"#VALUE!"},{"$error":"#VALUE!"}]
["","","","","","",{"$error":"#VALUE!"},{"$error":"#VALUE!"}]
["","","","","","",{"$error":"#VALUE!"},{"$f":"G2389*$B$13","v":{"$error":"#VALUE!"}}]
[{"$f":"IF(IF(A2389<>\"\",A2389+1<=$B$16,0),A2389+1,\"\")","v":""},{"$f":"IF(A2390<>\"\",A2390*$B$13,\"\")","v":""},{"$f":"IF(A2390<>\"\",ROUNDDOWN(A2390*$B$13/24,0),\"\")","v":""},{"$f":"IF(A2390<>\"\",MOD(B2390,24)/24,\"\")","v":""},{"$f":"IF(A2390<>\"\",($B$4+$B$5)/2+($B$5-$B$4)/2*COS(2*PI()/$B$15*B2390),\"\")","v":""},{"$f":"IF(A2390<>\"\",E2390*COS(2*PI()/$B$7*B2390),\"\")","v":""},{"$f":"ABS(0.5*1.025*1*(F2390^3))","v":{"$error":"#VALUE!"}},{"$error":"#VALUE!"}]
["","","","","","",{"$error":"#VALUE!"},{"$error":"#VALUE!"}]
["","","","","","",{"$error":"#VALUE!"},{"$error":"#VALUE!"}]
["","","","","","",{"$error":"#VALUE!"},{"$error":"#VALUE!"}]
["","","","","","",{"$error":"#VALUE!"},{"$error":"#VALUE!"}]
["","","","","","",{"$error":"#VALUE!"},{"$error":"#VALUE!"}]
["","","","","","",{"$error":"#VALUE!"},{"$error":"#VALUE!"}]
["","","","","","",{"$error":"#VALUE!"},{"$error":"#VALUE!"}]
["","","","","","",{"$error":"#VALUE!"},{"$error":"#VALUE!"}]
["","","","","","",{"$error":"#VALUE!"},{"$error":"#VALUE!"}]
["","","","","","",{"$error":"#VALUE!"},{"$error":"#VALUE!"}]
["","","","","","",{"$error":"#VALUE!"},{"$error":"#VALUE!"}]
["","","","","","",{"$error":"#VALUE!"},{"$error":"#VALUE!"}]
["","","","","","",{"$error":"#VALUE!"},{"$error":"#VALUE!"}]
["","","","","","",{"$error":"#VALUE!"},{"$error":"#VALUE!"}]
["","","","","","",{"$error":"#VALUE!"},{"$error":"#VALUE!"}]
["","","","","","",{"$error":"#VALUE!"},{"$error":"#VALUE!"}]
["","","","","","",{"$error":"#VALUE!"},{"$error":"#VALUE!"}]
["","","","","","",{"$error":"#VALUE!"},{"$error":"#VALUE!"}]
["","","","","","",{"$error":"#VALUE!"},{"$error":"#VALUE!"}]
["","","","","","",{"$error":"#VALUE!"},{"$error":"#VALUE!"}]
["","","","","","",{"$error":"#VALUE!"},{"$error":"#VALUE!"}]
["","","","","","",{"$error":"#VALUE!"},{"$error":"#VALUE!"}]
["","","","","","",{"$error":"#VALUE!"},{"$error":"#VALUE!"}]
["","","","","","",{"$error":"#VALUE!"},{"$error":"#VALUE!"}]
["","","","","","",{"$error":"#VALUE!"},{"$error":"#VALUE!"}]
["","","","","","",{"$error":"#VALUE!"},{"$error":"#VALUE!"}]
["","","","","","",{"$error":"#VALUE!"},{"$error":"#VALUE!"}]
["","","","","","",{"$error":"#VALUE!"},{"$error":"#VALUE!"}]
["","","","","","",{"$error":"#VALUE!"},{"$error":"#VALUE!"}]
["","","","","","",{"$error":"#VALUE!"},{"$error":"#VALUE!"}]
["","","","","","",{"$error":"#VALUE!"},{"$error":"#VALUE!"}]
["","","","","","",{"$error":"#VALUE!"},{"$error":"#VALUE!"}]
["","","","","","",{"$error":"#VALUE!"},{"$error":"#VALUE!"}]
["","","","","","",{"$error":"#VALUE!"},{"$error":"#VALUE!"}]
["","","","","","",{"$error":"#VALUE!"},{"$error":"#VALUE!"}]
["","","","","","",{"$error":"#VALUE!"},{"$error":"#VALUE!"}]
["","","","","","",{"$error":"#VALUE!"},{"$error":"#VALUE!"}]
["","","","","","",{"$error":"#VALUE!"},{"$error":"#VALUE!"}]
["","","","","","",{"$error":"#VALUE!"},{"$error":"#VALUE!"}]
["","","","","","",{"$error":"#VALUE!"},{"$error":"#VALUE!"}]
["","","","","","",{"$error":"#VALUE!"},{"$error":"#VALUE!"}]
["","","","","","",{"$error":"#VALUE!"},{"$error":"#VALUE!"}]
["","","","","","",{"$error":"#VALUE!"},{"$error":"#VALUE!"}]
["","","","","","",{"$error":"#VALUE!"},{"$error":"#VALUE!"}]
["","","","","","",{"$error":"#VALUE!"},{"$error":"#VALUE!"}]
["","","","","","",{"$error":"#VALUE!"},{"$error":"#VALUE!"}]
["","","","","","",{"$error":"#VALUE!"},{"$error":"#VALUE!"}]
["","","","","","",{"$error":"#VALUE!"},{"$error":"#VALUE!"}]
["","","","","","",{"$error":"#VALUE!"},{"$error":"#VALUE!"}]
["","","","","","",{"$error":"#VALUE!"},{"$error":"#VALUE!"}]
["","","","","","",{"$error":"#VALUE!"},{"$error":"#VALUE!"}]
["","","","","","",{"$error":"#VALUE!"},{"$error":"#VALUE!"}]
["","","","","","",{"$error":"#VALUE!"},{"$error":"#VALUE!"}]
["","","","","","",{"$error":"#VALUE!"},{"$error":"#VALUE!"}]
["","","","","","",{"$error":"#VALUE!"},{"$error":"#VALUE!"}]
["","","","","","",{"$error":"#VALUE!"},{"$error":"#VALUE!"}]
["","","","","","",{"$error":"#VALUE!"},{"$error":"#VALUE!"}]
["","","","","","",{"$error":"#VALUE!"},{"$error":"#VALUE!"}]
["","","","","","",{"$error":"#VALUE!"},{"$error":"#VALUE!"}]
["","","","","","",{"$error":"#VALUE!"},{"$error":"#VALUE!"}]
["","","","","","",{"$error":"#VALUE!"},{"$error":"#VALUE!"}]
["","","","","","",{"$error":"#VALUE!"},{"$error":"#VALUE!"}]
["","","","","","",{"$error":"#VALUE!"},{"$f":"G2453*$B$13","v":{"$error":"#VALUE!"}}]
[{"$f":"IF(IF(A2453<>\"\",A2453+1<=$B$16,0),A2453+1,\"\")","v":""},{"$f":"IF(A2454<>\"\",A2454*$B$13,\"\")","v":""},{"$f":"IF(A2454<>\"\",ROUNDDOWN(A2454*$B$13/24,0),\"\")","v":""},{"$f":"IF(A2454<>\"\",MOD(B2454,24)/24,\"\")","v":""},{"$f":"IF(A2454<>\"\",($B$4+$B$5)/2+($B$5-$B$4)/2*COS(2*PI()/$B$15*B2454),\"\")","v":""},{"$f":"IF(A2454<>\"\",E2454*COS(2*PI()/$B$7*B2454),\"\")","v":""},{"$f":"ABS(0.5*1.025*1*(F2454^3))","v":{"$error":"#VALUE!"}},{"$error":"#VALUE!"}]
["","","","","","",{"$error":"#VALUE!"},{"$error":"#VALUE!"}]
["","","","","","",{"$error":"#VALUE!"},{"$error":"#VALUE!"}]
["","","","","","",{"$error":"#VALUE!"},{"$error":"#VALUE!"}]
["","","","","","",{"$error":"#VALUE!"},{"$error":"#VALUE!"}]
["","","","","","",{"$error":"#VALUE!"},{"$error":"#VALUE!"}]
["","","","","","",{"$error":"#VALUE!"},{"$error":"#VALUE!"}]
["","","","","","",{"$error":"#VALUE!"},{"$error":"#VALUE!"}]
["","","","","","",{"$error":"#VALUE!"},{"$error":"#VALUE!"}]
["","","","","","",{"$error":"#VALUE!"},{"$error":"#VALUE!"}]
["","","","","","",{"$error":"#VALUE!"},{"$error":"#VALUE!"}]
["","","","","","",{"$error":"#VALUE!"},{"$error":"#VALUE!"}]
["","","","","","",{"$error":"#VALUE!"},{"$error":"#VALUE!"}]
["","","","","","",{"$error":"#VALUE!"},{"$error":"#VALUE!"}]
["","","","","","",{"$error":"#VALUE!"},{"$error":"#VALUE!"}]
["","","","","","",{"$error":"#VALUE!"},{"$error":"#VALUE!"}]
["","","","","","",{"$error":"#VALUE!"},{"$error":"#VALUE!"}]
["","","","","","",{"$error":"#VALUE!"},{"$error":"#VALUE!"}]
["","","","","","",{"$error":"#VALUE!"},{"$error":"#VALUE!"}]
["","","","","","",{"$error":"#VALUE!"},{"$error":"#VALUE!"}]
["","","","","","",{"$error":"#VALUE!"},{"$error":"#VALUE!"}]
["","","","","","",{"$error":"#VALUE!"},{"$error":"#VALUE!"}]
["","","","","","",{"$error":"#VALUE!"},{"$error":"#VALUE!"}]
["","","","","","",{"$error":"#VALUE!"},{"$error":"#VALUE!"}]
["","","","","","",{"$error":"#VALUE!"},{"$error":"#VALUE!"}]
["","","","","","",{"$error":"#VALUE!"},{"$error":"#VALUE!"}]
["","","","","","",{"$error":"#VALUE!"},{"$error":"#VALUE!"}]
["","","","","","",{"$error":"#VALUE!"},{"$error":"#VALUE!"}]
["","","","","","",{"$error":"#VALUE!"},{"$error":"#VALUE!"}]
["","","","","","",{"$error":"#VALUE!"},{"$error":"#VALUE!"}]
["","","","","","",{"$error":"#VALUE!"},{"$error":"#VALUE!"}]
["","","","","","",{"$error":"#VALUE!"},{"$error":"#VALUE!"}]
["","","","","","",{"$error":"#VALUE!"},{"$error":"#VALUE!"}]
["","","","","","",{"$error":"#VALUE!"},{"$error":"#VALUE!"}]
["","","","","","",{"$error":"#VALUE!"},{"$error":"#VALUE!"}]
["","","","","","",{"$error":"#VALUE!"},{"$error":"#VALUE!"}]
["","","","","","",{"$error":"#VALUE!"},{"$error":"#VALUE!"}]
["","","","","","",{"$error":"#VALUE!"},{"$error":"#VALUE!"}]
["","","","","","",{"$error":"#VALUE!"},{"$error":"#VALUE!"}]
["","","","","","",{"$error":"#VALUE!"},{"$error":"#VALUE!"}]
["","","","","","",{"$error":"#VALUE!"},{"$error":"#VALUE!"}]
["","","","","","",{"$error":"#VALUE!"},{"$error":"#VALUE!"}]
["","","","","","",{"$error":"#VALUE!"},{"$error":"#VALUE!"}]
["","","","","","",{"$error":"#VALUE!"},{"$error":"#VALUE!"}]
["","","","","","",{"$error":"#VALUE!"},{"$error":"#VALUE!"}]
["","","","","","",{"$error":"#VALUE!"},{"$error":"#VALUE!"}]
["","","","","","",{"$error":"#VALUE!"},{"$error":"#VALUE!"}]
["","","","","","",{"$error":"#VALUE!"},{"$error":"#VALUE!"}]
["","","","","","",{"$error":"#VALUE!"},{"$error":"#VALUE!"}]
["","","","","","",{"$error":"#VALUE!"},{"$error":"#VALUE!"}]
["","","","","","",{"$error":"#VALUE!"},{"$error":"#VALUE!"}]
["","","","","","",{"$error":"#VALUE!"},{"$error":"#VALUE!"}]
["","","","","","",{"$error":"#VALUE!"},{"$error":"#VALUE!"}]
["","","","","","",{"$error":"#VALUE!"},{"$error":"#VALUE!"}]
["","","","","","",{"$error":"#VALUE!"},{"$error":"#VALUE!"}]
["","","","","","",{"$error":"#VALUE!"},{"$error":"#VALUE!"}]
["","","","","","",{"$error":"#VALUE!"},{"$error":"#VALUE!"}]
["","","","","","",{"$error":"#VALUE!"},{"$error":"#VALUE!"}]
["","","","","","",{"$error":"#VALUE!"},{"$error":"#VALUE!"}]
["","","","","","",{"$error":"#VALUE!"},{"$error":"#VALUE!"}]
["","","","","","",{"$error":"#VALUE!"},{"$error":"#VALUE!"}]
["","","","","","",{"$error":"#VALUE!"},{"$error":"#VALUE!"}]
["","","","","","",{"$error":"#VALUE!"},{"$error":"#VALUE!"}]
["","","","","","",{"$error":"#VALUE!"},{"$f":"G2517*$B$13","v":{"$error":"#VALUE!"}}]
[{"$f":"IF(IF(A2517<>\"\",A2517+1<=$B$16,0),A2517+1,\"\")","v":""},{"$f":"IF(A2518<>\"\",A2518*$B$13,\"\")","v":""},{"$f":"IF(A2518<>\"\",ROUNDDOWN(A2518*$B$13/24,0),\"\")","v":""},{"$f":"IF(A2518<>\"\",MOD(B2518,24)/24,\"\")","v":""},{"$f":"IF(A2518<>\"\",($B$4+$B$5)/2+($B$5-$B$4)/2*COS(2*PI()/$B$15*B2518),\"\")","v":""},{"$f":"IF(A2518<>\"\",E2518*COS(2*PI()/$B$7*B2518),\"\")","v":""},{"$f":"ABS(0.5*1.025*1*(F2518^3))","v":{"$error":"#VALUE!"}},{"$error":"#VALUE!"}]
["","","","","","",{"$error":"#VALUE!"},{"$error":"#VALUE!"}]
["","","","","","",{"$error":"#VALUE!"},{"$error":"#VALUE!"}]
["","","","","","",{"$error":"#VALUE!"},{"$error":"#VALUE!"}]
["","","","","","",{"$error":"#VALUE!"},{"$error":"#VALUE!"}]
["","","","","","",{"$error":"#VALUE!"},{"$error":"#VALUE!"}]
["","","","","","",{"$error":"#VALUE!"},{"$error":"#VALUE!"}]
["","","","","","",{"$error":"#VALUE!"},{"$error":"#VALUE!"}]
["","","","","","",{"$error":"#VALUE!"},{"$error":"#VALUE!"}]
["","","","","","",{"$error":"#VALUE!"},{"$error":"#VALUE!"}]
["","","","","","",{"$error":"#VALUE!"},{"$error":"#VALUE!"}]
["","","","","","",{"$error":"#VALUE!"},{"$error":"#VALUE!"}]
["","","","","","",{"$error":"#VALUE!"},{"$error":"#VALUE!"}]
["","","","","","",{"$error":"#VALUE!"},{"$error":"#VALUE!"}]
["","","","","","",{"$error":"#VALUE!"},{"$error":"#VALUE!"}]
["","","","","","",{"$error":"#VALUE!"},{"$error":"#VALUE!"}]
["","","","","","",{"$error":"#VALUE!"},{"$error":"#VALUE!"}]
["","","","","","",{"$error":"#VALUE!"},{"$error":"#VALUE!"}]
["","","","","","",{"$error":"#VALUE!"},{"$error":"#VALUE!"}]
["","","","","","",{"$error":"#VALUE!"},{"$error":"#VALUE!"}]
["","","","","","",{"$error":"#VALUE!"},{"$error":"#VALUE!"}]
["","","","","","",{"$error":"#VALUE!"},{"$error":"#VALUE!"}]
["","","","","","",{"$error":"#VALUE!"},{"$error":"#VALUE!"}]
["","","","","","",{"$error":"#VALUE!"},{"$error":"#VALUE!"}]
["","","","","","",{"$error":"#VALUE!"},{"$error":"#VALUE!"}]
["","","","","","",{"$error":"#VALUE!"},{"$error":"#VALUE!"}]
["","","","","","",{"$error":"#VALUE!"},{"$error":"#VALUE!"}]
["","","","","","",{"$error":"#VALUE!"},{"$error":"#VALUE!"}]
["","","","","","",{"$error":"#VALUE!"},{"$error":"#VALUE!"}]
["","","","","","",{"$error":"#VALUE!"},{"$error":"#VALUE!"}]
["","","","","","",{"$error":"#VALUE!"},{"$error":"#VALUE!"}]
["","","","","","",{"$error":"#VALUE!"},{"$error":"#VALUE!"}]
["","","","","","",{"$error":"#VALUE!"},{"$error":"#VALUE!"}]
["","","","","","",{"$error":"#VALUE!"},{"$error":"#VALUE!"}]
["","","","","","",{"$error":"#VALUE!"},{"$error":"#VALUE!"}]
["","","","","","",{"$error":"#VALUE!"},{"$error":"#VALUE!"}]
["","","","","","",{"$error":"#VALUE!"},{"$error":"#VALUE!"}]
["","","","","","",{"$error":"#VALUE!"},{"$error":"#VALUE!"}]
["","","","","","",{"$error":"#VALUE!"},{"$error":"#VALUE!"}]
["","","","","","",{"$error":"#VALUE!"},{"$error":"#VALUE!"}]
["","","","","","",{"$error":"#VALUE!"},{"$error":"#VALUE!"}]
["","","","","","",{"$error":"#VALUE!"},{"$error":"#VALUE!"}]
["","","","","","",{"$error":"#VALUE!"},{"$error":"#VALUE!"}]
["","","","","","",{"$error":"#VALUE!"},{"$error":"#VALUE!"}]
["","","","","","",{"$error":"#VALUE!"},{"$error":"#VALUE!"}]
["","","","","","",{"$error":"#VALUE!"},{"$error":"#VALUE!"}]
["","","","","","",{"$error":"#VALUE!"},{"$error":"#VALUE!"}]
["","","","","","",{"$error":"#VALUE!"},{"$error":"#VALUE!"}]
["","","","","","",{"$error":"#VALUE!"},{"$error":"#VALUE!"}]
["","","","","","",{"$error":"#VALUE!"},{"$error":"#VALUE!"}]
["","","","","","",{"$error":"#VALUE!"},{"$error":"#VALUE!"}]
["","","","","","",{"$error":"#VALUE!"},{"$error":"#VALUE!"}]
["","","","","","",{"$error":"#VALUE!"},{"$error":"#VALUE!"}]
["","","","","","",{"$error":"#VALUE!"},{"$error":"#VALUE!"}]
["","","","","","",{"$error":"#VALUE!"},{"$error":"#VALUE!"}]
["","","","","","",{"$error":"#VALUE!"},{"$error":"#VALUE!"}]
["","","","","","",{"$error":"#VALUE!"},{"$error":"#VALUE!"}]
["","","","","","",{"$error":"#VALUE!"},{"$error":"#VALUE!"}]
["","","","","","",{"$error":"#VALUE!"},{"$error":"#VALUE!"}]
["","","","","","",{"$error":"#VALUE!"},{"$error":"#VALUE!"}]
["","","","","","",{"$error":"#VALUE!"},{"$error":"#VALUE!"}]
["","","","","","",{"$error":"#VALUE!"},{"$error":"#VALUE!"}]
["","","","","","",{"$error":"#VALUE!"},{"$error":"#VALUE!"}]
["","","","","","",{"$error":"#VALUE!"},{"$f":"G2581*$B$13","v":{"$error":"#VALUE!"}}]
[{"$f":"IF(IF(A2581<>\"\",A2581+1<=$B$16,0),A2581+1,\"\")","v":""},{"$f":"IF(A2582<>\"\",A2582*$B$13,\"\")","v":""},{"$f":"IF(A2582<>\"\",ROUNDDOWN(A2582*$B$13/24,0),\"\")","v":""},{"$f":"IF(A2582<>\"\",MOD(B2582,24)/24,\"\")","v":""},{"$f":"IF(A2582<>\"\",($B$4+$B$5)/2+($B$5-$B$4)/2*COS(2*PI()/$B$15*B2582),\"\")","v":""},{"$f":"IF(A2582<>\"\",E2582*COS(2*PI()/$B$7*B2582),\"\")","v":""},{"$f":"ABS(0.5*1.025*1*(F2582^3))","v":{"$error":"#VALUE!"}},{"$error":"#VALUE!"}]
["","","","","","",{"$error":"#VALUE!"},{"$error":"#VALUE!"}]
["","","","","","",{"$error":"#VALUE!"},{"$error":"#VALUE!"}]
["","","","","","",{"$error":"#VALUE!"},{"$error":"#VALUE!"}]
["","","","","","",{"$error":"#VALUE!"},{"$error":"#VALUE!"}]
["","","","","","",{"$error":"#VALUE!"},{"$error":"#VALUE!"}]
["","","","","","",{"$error":"#VALUE!"},{"$error":"#VALUE!"}]
["","","","","","",{"$error":"#VALUE!"},{"$error":"#VALUE!"}]
["","","","","","",{"$error":"#VALUE!"},{"$error":"#VALUE!"}]
["","","","","","",{"$error":"#VALUE!"},{"$error":"#VALUE!"}]
["","","","","","",{"$error":"#VALUE!"},{"$error":"#VALUE!"}]
["","","","","","",{"$error":"#VALUE!"},{"$error":"#VALUE!"}]
["","","","","","",{"$error":"#VALUE!"},{"$error":"#VALUE!"}]
["","","","","","",{"$error":"#VALUE!"},{"$error":"#VALUE!"}]
["","","","","","",{"$error":"#VALUE!"},{"$error":"#VALUE!"}]
["","","","","","",{"$error":"#VALUE!"},{"$error":"#VALUE!"}]
["","","","","","",{"$error":"#VALUE!"},{"$error":"#VALUE!"}]
["","","","","","",{"$error":"#VALUE!"},{"$error":"#VALUE!"}]
["","","","","","",{"$error":"#VALUE!"},{"$error":"#VALUE!"}]
["","","","","","",{"$error":"#VALUE!"},{"$error":"#VALUE!"}]
["","","","","","",{"$error":"#VALUE!"},{"$error":"#VALUE!"}]
["","","","","","",{"$error":"#VALUE!"},{"$error":"#VALUE!"}]
["","","","","","",{"$error":"#VALUE!"},{"$error":"#VALUE!"}]
["","","","","","",{"$error":"#VALUE!"},{"$error":"#VALUE!"}]
["","","","","","",{"$error":"#VALUE!"},{"$error":"#VALUE!"}]
["","","","","","",{"$error":"#VALUE!"},{"$error":"#VALUE!"}]
["","","","","","",{"$error":"#VALUE!"},{"$error":"#VALUE!"}]
["","","","","","",{"$error":"#VALUE!"},{"$error":"#VALUE!"}]
["","","","","","",{"$error":"#VALUE!"},{"$error":"#VALUE!"}]
["","","","","","",{"$error":"#VALUE!"},{"$error":"#VALUE!"}]
["","","","","","",{"$error":"#VALUE!"},{"$error":"#VALUE!"}]
["","","","","","",{"$error":"#VALUE!"},{"$error":"#VALUE!"}]
["","","","","","",{"$error":"#VALUE!"},{"$error":"#VALUE!"}]
["","","","","","",{"$error":"#VALUE!"},{"$error":"#VALUE!"}]
["","","","","","",{"$error":"#VALUE!"},{"$error":"#VALUE!"}]
["","","","","","",{"$error":"#VALUE!"},{"$error":"#VALUE!"}]
["","","","","","",{"$error":"#VALUE!"},{"$error":"#VALUE!"}]
["","","","","","",{"$error":"#VALUE!"},{"$error":"#VALUE!"}]
["","","","","","",{"$error":"#VALUE!"},{"$error":"#VALUE!"}]
["","","","","","",{"$error":"#VALUE!"},{"$error":"#VALUE!"}]
["","","","","","",{"$error":"#VALUE!"},{"$error":"#VALUE!"}]
["","","","","","",{"$error":"#VALUE!"},{"$error":"#VALUE!"}]
["","","","","","",{"$error":"#VALUE!"},{"$error":"#VALUE!"}]
["","","","","","",{"$error":"#VALUE!"},{"$error":"#VALUE!"}]
["","","","","","",{"$error":"#VALUE!"},{"$error":"#VALUE!"}]
["","","","","","",{"$error":"#VALUE!"},{"$error":"#VALUE!"}]
["","","","","","",{"$error":"#VALUE!"},{"$error":"#VALUE!"}]
["","","","","","",{"$error":"#VALUE!"},{"$error":"#VALUE!"}]
["","","","","","",{"$error":"#VALUE!"},{"$error":"#VALUE!"}]
["","","","","","",{"$error":"#VALUE!"},{"$error":"#VALUE!"}]
["","","","","","",{"$error":"#VALUE!"},{"$error":"#VALUE!"}]
["","","","","","",{"$error":"#VALUE!"},{"$error":"#VALUE!"}]
["","","","","","",{"$error":"#VALUE!"},{"$error":"#VALUE!"}]
["","","","","","",{"$error":"#VALUE!"},{"$error":"#VALUE!"}]
["","","","","","",{"$error":"#VALUE!"},{"$error":"#VALUE!"}]
["","","","","","",{"$error":"#VALUE!"},{"$error":"#VALUE!"}]
["","","","","","",{"$error":"#VALUE!"},{"$error":"#VALUE!"}]
["","","","","","",{"$error":"#VALUE!"},{"$error":"#VALUE!"}]
["","","","","","",{"$error":"#VALUE!"},{"$error":"#VALUE!"}]
["","","","","","",{"$error":"#VALUE!"},{"$error":"#VALUE!"}]
["","","","","","",{"$error":"#VALUE!"},{"$error":"#VALUE!"}]
["","","","","","",{"$error":"#VALUE!"},{"$error":"#VALUE!"}]
["","","","","","",{"$error":"#VALUE!"},{"$error":"#VALUE!"}]
["","","","","","",{"$error":"#VALUE!"},{"$f":"G2645*$B$13","v":{"$error":"#VALUE!"}}]
[{"$f":"IF(IF(A2645<>\"\",A2645+1<=$B$16,0),A2645+1,\"\")","v":""},{"$f":"IF(A2646<>\"\",A2646*$B$13,\"\")","v":""},{"$f":"IF(A2646<>\"\",ROUNDDOWN(A2646*$B$13/24,0),\"\")","v":""},{"$f":"IF(A2646<>\"\",MOD(B2646,24)/24,\"\")","v":""},{"$f":"IF(A2646<>\"\",($B$4+$B$5)/2+($B$5-$B$4)/2*COS(2*PI()/$B$15*B2646),\"\")","v":""},{"$f":"IF(A2646<>\"\",E2646*COS(2*PI()/$B$7*B2646),\"\")","v":""},{"$f":"ABS(0.5*1.025*1*(F2646^3))","v":{"$error":"#VALUE!"}},{"$error":"#VALUE!"}]
["","","","","","",{"$error":"#VALUE!"},{"$error":"#VALUE!"}]
["","","","","","",{"$error":"#VALUE!"},{"$error":"#VALUE!"}]
["","","","","","",{"$error":"#VALUE!"},{"$error":"#VALUE!"}]
["","","","","","",{"$error":"#VALUE!"},{"$error":"#VALUE!"}]
["","","","","","",{"$error":"#VALUE!"},{"$error":"#VALUE!"}]
["","","","","","",{"$error":"#VALUE!"},{"$error":"#VALUE!"}]
["","","","","","",{"$error":"#VALUE!"},{"$error":"#VALUE!"}]
["","","","","","",{"$error":"#VALUE!"},{"$error":"#VALUE!"}]
["","","","","","",{"$error":"#VALUE!"},{"$error":"#VALUE!"}]
["","","","","","",{"$error":"#VALUE!"},{"$error":"#VALUE!"}]
["","","","","","",{"$error":"#VALUE!"},{"$error":"#VALUE!"}]
["","","","","","",{"$error":"#VALUE!"},{"$error":"#VALUE!"}]
["","","","","","",{"$error":"#VALUE!"},{"$error":"#VALUE!"}]
["","","","","","",{"$error":"#VALUE!"},{"$error":"#VALUE!"}]
["","","","","","",{"$error":"#VALUE!"},{"$error":"#VALUE!"}]
["","","","","","",{"$error":"#VALUE!"},{"$error":"#VALUE!"}]
["","","","","","",{"$error":"#VALUE!"},{"$error":"#VALUE!"}]
["","","","","","",{"$error":"#VALUE!"},{"$error":"#VALUE!"}]
["","","","","","",{"$error":"#VALUE!"},{"$error":"#VALUE!"}]
["","","","","","",{"$error":"#VALUE!"},{"$error":"#VALUE!"}]
["","","","","","",{"$error":"#VALUE!"},{"$error":"#VALUE!"}]
["","","","","","",{"$error":"#VALUE!"},{"$error":"#VALUE!"}]
["","","","","","",{"$error":"#VALUE!"},{"$error":"#VALUE!"}]
["","","","","","",{"$error":"#VALUE!"},{"$error":"#VALUE!"}]
["","","","","","",{"$error":"#VALUE!"},{"$error":"#VALUE!"}]
["","","","","","",{"$error":"#VALUE!"},{"$error":"#VALUE!"}]
["","","","","","",{"$error":"#VALUE!"},{"$error":"#VALUE!"}]
["","","","","","",{"$error":"#VALUE!"},{"$error":"#VALUE!"}]
["","","","","","",{"$error":"#VALUE!"},{"$error":"#VALUE!"}]
["","","","","","",{"$error":"#VALUE!"},{"$error":"#VALUE!"}]
["","","","","","",{"$error":"#VALUE!"},{"$error":"#VALUE!"}]
["","","","","","",{"$error":"#VALUE!"},{"$error":"#VALUE!"}]
["","","","","","",{"$error":"#VALUE!"},{"$error":"#VALUE!"}]
["","","","","","",{"$error":"#VALUE!"},{"$error":"#VALUE!"}]
["","","","","","",{"$error":"#VALUE!"},{"$error":"#VALUE!"}]
["","","","","","",{"$error":"#VALUE!"},{"$error":"#VALUE!"}]
["","","","","","",{"$error":"#VALUE!"},{"$error":"#VALUE!"}]
["","","","","","",{"$error":"#VALUE!"},{"$error":"#VALUE!"}]
["","","","","","",{"$error":"#VALUE!"},{"$error":"#VALUE!"}]
["","","","","","",{"$error":"#VALUE!"},{"$error":"#VALUE!"}]
["","","","","","",{"$error":"#VALUE!"},{"$error":"#VALUE!"}]
["","","","","","",{"$error":"#VALUE!"},{"$error":"#VALUE!"}]
["","","","","","",{"$error":"#VALUE!"},{"$error":"#VALUE!"}]
["","","","","","",{"$error":"#VALUE!"},{"$error":"#VALUE!"}]
["","","","","","",{"$error":"#VALUE!"},{"$error":"#VALUE!"}]
["","","","","","",{"$error":"#VALUE!"},{"$error":"#VALUE!"}]
["","","","","","",{"$error":"#VALUE!"},{"$error":"#VALUE!"}]
["","","","","","",{"$error":"#VALUE!"},{"$error":"#VALUE!"}]
["","","","","","",{"$error":"#VALUE!"},{"$error":"#VALUE!"}]
["","","","","","",{"$error":"#VALUE!"},{"$error":"#VALUE!"}]
["","","","","","",{"$error":"#VALUE!"},{"$error":"#VALUE!"}]
["","","","","","",{"$error":"#VALUE!"},{"$error":"#VALUE!"}]
["","","","","","",{"$error":"#VALUE!"},{"$error":"#VALUE!"}]
["","","","","","",{"$error":"#VALUE!"},{"$error":"#VALUE!"}]
["","","","","","",{"$error":"#VALUE!"},{"$error":"#VALUE!"}]
["","","","","","",{"$error":"#VALUE!"},{"$error":"#VALUE!"}]
["","","","","","",{"$error":"#VALUE!"},{"$error":"#VALUE!"}]
["","","","","","",{"$error":"#VALUE!"},{"$error":"#VALUE!"}]
["","","","","","",{"$f":"ABS(0.5*1.025*1*(F2705^3))","v":{"$error":"#VALUE!"}},{"$error":"#VALUE!"}]
["","","","","","",{"$error":"#VALUE!"},{"$error":"#VALUE!"}]
["","","","","","",{"$error":"#VALUE!"},{"$error":"#VALUE!"}]
["","","","","","",{"$error":"#VALUE!"},{"$error":"#VALUE!"}]
["","","","","","",{"$error":"#VALUE!"},{"$f":"G2709*$B$13","v":{"$error":"#VALUE!"}}]
[{"$f":"IF(IF(A2709<>\"\",A2709+1<=$B$16,0),A2709+1,\"\")","v":""},{"$f":"IF(A2710<>\"\",A2710*$B$13,\"\")","v":""},{"$f":"IF(A2710<>\"\",ROUNDDOWN(A2710*$B$13/24,0),\"\")","v":""},{"$f":"IF(A2710<>\"\",MOD(B2710,24)/24,\"\")","v":""},{"$f":"IF(A2710<>\"\",($B$4+$B$5)/2+($B$5-$B$4)/2*COS(2*PI()/$B$15*B2710),\"\")","v":""},{"$f":"IF(A2710<>\"\",E2710*COS(2*PI()/$B$7*B2710),\"\")","v":""},{"$f":"ABS(0.5*1.025*1*(F2710^3))","v":{"$error":"#VALUE!"}},{"$error":"#VALUE!"}]
["","","","","","",{"$error":"#VALUE!"},{"$error":"#VALUE!"}]
["","","","","","",{"$error":"#VALUE!"},{"$error":"#VALUE!"}]
["","","","","","",{"$error":"#VALUE!"},{"$error":"#VALUE!"}]
["","","","","","",{"$error":"#VALUE!"},{"$error":"#VALUE!"}]
["","","","","","",{"$error":"#VALUE!"},{"$error":"#VALUE!"}]
["","","","","","",{"$error":"#VALUE!"},{"$error":"#VALUE!"}]
["","","","","","",{"$error":"#VALUE!"},{"$error":"#VALUE!"}]
["","","","","","",{"$error":"#VALUE!"},{"$error":"#VALUE!"}]
["","","","","","",{"$error":"#VALUE!"},{"$error":"#VALUE!"}]
["","","","","","",{"$error":"#VALUE!"},{"$error":"#VALUE!"}]
["","","","","","",{"$error":"#VALUE!"},{"$error":"#VALUE!"}]
["","","","","","",{"$error":"#VALUE!"},{"$error":"#VALUE!"}]
["","","","","","",{"$error":"#VALUE!"},{"$error":"#VALUE!"}]
["","","","","","",{"$error":"#VALUE!"},{"$error":"#VALUE!"}]
["","","","","","",{"$error":"#VALUE!"},{"$error":"#VALUE!"}]
["","","","","","",{"$error":"#VALUE!"},{"$error":"#VALUE!"}]
["","","","","","",{"$error":"#VALUE!"},{"$error":"#VALUE!"}]
["","","","","","",{"$error":"#VALUE!"},{"$error":"#VALUE!"}]
["","","","","","",{"$error":"#VALUE!"},{"$error":"#VALUE!"}]
["","","","","","",{"$error":"#VALUE!"},{"$error":"#VALUE!"}]
["","","","","","",{"$error":"#VALUE!"},{"$error":"#VALUE!"}]
["","","","","","",{"$error":"#VALUE!"},{"$error":"#VALUE!"}]
["","","","","","",{"$error":"#VALUE!"},{"$error":"#VALUE!"}]
["","","","","","",{"$error":"#VALUE!"},{"$error":"#VALUE!"}]
["","","","","","",{"$error":"#VALUE!"},{"$error":"#VALUE!"}]
["","","","","","",{"$error":"#VALUE!"},{"$error":"#VALUE!"}]
["","","","","","",{"$error":"#VALUE!"},{"$error":"#VALUE!"}]
["","","","","","",{"$error":"#VALUE!"},{"$error":"#VALUE!"}]
["","","","","","",{"$error":"#VALUE!"},{"$error":"#VALUE!"}]
["","","","","","",{"$error":"#VALUE!"},{"$error":"#VALUE!"}]
["","","","","","",{"$error":"#VALUE!"},{"$error":"#VALUE!"}]
["","","","","","",{"$error":"#VALUE!"},{"$error":"#VALUE!"}]
["","","","","","",{"$error":"#VALUE!"},{"$error":"#VALUE!"}]
["","","","","","",{"$error":"#VALUE!"},{"$error":"#VALUE!"}]
["","","","","","",{"$error":"#VALUE!"},{"$error":"#VALUE!"}]
["","","","","","",{"$error":"#VALUE!"},{"$error":"#VALUE!"}]
["","","","","","",{"$error":"#VALUE!"},{"$error":"#VALUE!"}]
["","","","","","",{"$error":"#VALUE!"},{"$error":"#VALUE!"}]
["","","","","","",{"$error":"#VALUE!"},{"$error":"#VALUE!"}]
["","","","","","",{"$error":"#VALUE!"},{"$error":"#VALUE!"}]
["","","","","","",{"$error":"#VALUE!"},{"$error":"#VALUE!"}]
["","","","","","",{"$error":"#VALUE!"},{"$error":"#VALUE!"}]
["","","","","","",{"$error":"#VALUE!"},{"$error":"#VALUE!"}]
["","","","","","",{"$error":"#VALUE!"},{"$error":"#VALUE!"}]
["","","","","","",{"$error":"#VALUE!"},{"$error":"#VALUE!"}]
["","","","","","",{"$error":"#VALUE!"},{"$error":"#VALUE!"}]
["","","","","","",{"$error":"#VALUE!"},{"$error":"#VALUE!"}]
["","","","","","",{"$error":"#VALUE!"},{"$error":"#VALUE!"}]
["","","","","","",{"$error":"#VALUE!"},{"$error":"#VALUE!"}]
["","","","","","",{"$f":"ABS(0.5*1.025*1*(F2760^3))","v":{"$error":"#VALUE!"}},{"$error":"#VALUE!"}]
["","","","","","",{"$error":"#VALUE!"},{"$error":"#VALUE!"}]
["","","","","","",{"$error":"#VALUE!"},{"$error":"#VALUE!"}]
["","","","","","",{"$error":"#VALUE!"},{"$error":"#VALUE!"}]
["","","","","","",{"$error":"#VALUE!"},{"$error":"#VALUE!"}]
["","","","","","",{"$error":"#VALUE!"},{"$error":"#VALUE!"}]
["","","","","","",{"$error":"#VALUE!"},{"$error":"#VALUE!"}]
["","","","","","",{"$error":"#VALUE!"},{"$error":"#VALUE!"}]
["","","","","","",{"$error":"#VALUE!"},{"$error":"#VALUE!"}]
["","",{"$f":"IF(A2769<>\"\",ROUNDDOWN(A2769*$B$13/24,0),\"\")","v":""},"","","",{"$error":"#VALUE!"},{"$error":"#VALUE!"}]
[{"$f":"IF(IF(A2769<>\"\",A2769+1<=$B$16,0),A2769+1,\"\")","v":""},{"$f":"IF(A2770<>\"\",A2770*$B$13,\"\")","v":""},{"$f":"IF(A2770<>\"\",ROUNDDOWN(A2770*$B$13/24,0),\"\")","v":""},"",{"$f":"IF(A2770<>\"\",($B$4+$B$5)/2+($B$5-$B$4)/2*COS(2*PI()/$B$15*B2770),\"\")","v":""},{"$f":"IF(A2770<>\"\",E2770*COS(2*PI()/$B$7*B2770),\"\")","v":""},{"$error":"#VALUE!"},{"$error":"#VALUE!"}]
[{"$f":"IF(IF(A2770<>\"\",A2770+1<=$B$16,0),A2770+1,\"\")","v":""},{"$f":"IF(A2771<>\"\",A2771*$B$13,\"\")","v":""},{"$f":"IF(A2771<>\"\",ROUNDDOWN(A2771*$B$13/24,0),\"\")","v":""},{"$f":"IF(A2771<>\"\",MOD(B2771,24)/24,\"\")","v":""},{"$f":"IF(A2771<>\"\",($B$4+$B$5)/2+($B$5-$B$4)/2*COS(2*PI()/$B$15*B2771),\"\")","v":""},{"$f":"IF(A2771<>\"\",E2771*COS(2*PI()/$B$7*B2771),\"\")","v":""},{"$f":"ABS(0.5*1.025*1*(F2771^3))","v":{"$error":"#VALUE!"}},{"$error":"#VALUE!"}]
["","","","","","",{"$error":"#VALUE!"},{"$error":"#VALUE!"}]
["","","","","","",{"$error":"#VALUE!"},{"$f":"G2773*$B$13","v":{"$error":"#VALUE!"}}]
["","","","","","",{"$error":"#VALUE!"},{"$error":"#VALUE!"}]
["","","","","","",{"$error":"#VALUE!"},{"$error":"#VALUE!"}]
["","","","","","",{"$error":"#VALUE!"},{"$error":"#VALUE!"}]
["","","","","","",{"$error":"#VALUE!"},{"$error":"#VALUE!"}]
["","","","","","",{"$error":"#VALUE!"},{"$error":"#VALUE!"}]
["","","","","","",{"$error":"#VALUE!"},{"$f":"G2779*$B$13","v":{"$error":"#VALUE!"}}]
[null,null,null,null,"Total Energy (kWh/m^2)",null,"-",{"$f":"IF(ISERROR(SUM(H20:H2779)),\"\",SUM(H20:H2779))","v":""},"per lunar cycle"]
[null,null,null,null,null,null,"-",{"$f":"IF(ISERROR(H2780*(365/$B$6)),\"\",(H2780*(365/$B$6)))","v":""},"per year"]
[null,null,null,null,"Average Power (kW/m^2)",null,{"$f":"IF(ISERROR(AVERAGE(G20:G2779)),\"\",(AVERAGE(G20:G2779)))","v":""},"-"]

{"sheet":"Tidal Stream 2","index":4,"n_rows":2782,"n_cols":9,"rows_kept":2782,"cut":false,"hidden":false,"merged":[[2781,4,2781,5],[17,0,18,0],[17,1,17,3],[2779,4,2780,5],[2,1,2,2],[7,1,7,2],[8,1,8,2],[9,1,9,2],[10,1,10,2],[13,0,14,0]]}
["Tidal Stream Resource"]
[]
[{"$f":"Input!A45","v":"Site Name"},{"$f":"IF(Input!B55<>\"\",Input!B55,\"-\")","v":"[Enter Name]"},{"$f":"Input!C45","v":0},null,null,null,null,null,"Plots:"]
[{"$f":"Input!A46","v":"Peak Flow (Springs)"},{"$f":"IF((AND(Input!B56<>\"\",Input!B56<>\"[Enter Value]\")),Input!B56,\"0\")","v":"0"},{"$f":"Input!C46","v":"m/s"}]
[{"$f":"Input!A47","v":"Peak Flow (Neaps)"},{"$f":"IF((AND(Input!B57<>\"\",Input!B57<>\"[Enter Value]\")),Input!B57,\"0\")","v":"0"},{"$f":"Input!C47","v":"m/s"}]
[{"$f":"Input!A48","v":"Lunar Cycle Period"},{"$f":"IF((AND(Input!B58<>\"\",Input!B58<>\"[Enter Value]\")),Input!B58,\"0\")","v":"0"},{"$f":"Input!C48","v":"days"}]
[{"$f":"Input!A49","v":"Tidal Period"},{"$f":"IF((AND(Input!B59<>\"\",Input!B59<>\"[Enter Value]\")),Input!B59,\"0\")","v":"0"},{"$f":"Input!C49","v":"hours"}]
[{"$f":"Input!A50","v":"Proximity to Grid Connection"},{"$f":"IF(Input!B60<>\"\",Input!B60,\"-\")","v":"[Select Value]"}]
[{"$f":"Input!A51","v":"Average Water Depth"},{"$f":"IF(Input!B61<>\"\",Input!B61,\"-\")","v":"[Select Value]"}]
[{"$f":"Input!A52","v":"Seabed Topography"},{"$f":"IF(Input!B62<>\"\",Input!B62,\"-\")","v":"[Select Value]"}]
[{"$f":"Input!A53","v":"Accessibility"},{"$f":"IF(Input!B63<>\"\",Input!B63,\"-\")","v":"[Select Value]"}]
[]
["Time Step",0.25,"hours"]
["Period",{"$f":"B6/2","v":0},"days"]
[null,{"$f":"B14*24","v":0},"hours"]
["Number of Steps",{"$f":"B15/B13*2","v":0},"-"]
[]
["No.","Time",null,null,"Amplitude","Current","Power","Energy"]
[null,"Hours","Day","Time","m/s","m/s","kW/(m^2)","kWh/(m^2)"]
[0,{"$f":"A20*$B$13","v":0},{"$f":"ROUNDDOWN(A20*$B$1/24,0)","v":0},{"$f":"MOD(B20,24)/24","v":0},{"$f":"IF(A20<>\"\",($B$4+$B$5)/2+($B$5-$B$4)/2*COS(2*PI()/$B$15*B20),\"\")","v":{"$error":"#DIV/0!"}},{"$f":"IF(A20<>\"\",E20*COS(2*PI()/$B$7*B20),\"\")","v":{"$error":"#DIV/0!"}},{"$f":"ABS(0.5*1.025*1*(F20^3))","v":{"$error":"#DIV/0!"}},{"$f":"G20*$B$13","v":{"$error":"#DIV/0!"}}]
[{"$f":"IF(IF(A20<>\"\",A20+1<=$B$16,0),A20+1,\"\")","v":""},{"$f":"IF(A21<>\"\",A21*$B$13,\"\")","v":""},{"$f":"IF(A21<>\"\",ROUNDDOWN(A21*$B$13/24,0),\"\")","v":""},{"$f":"IF(A21<>\"\",MOD(B21,24)/24,\"\")","v":""},{"$f":"IF(A21<>\"\",($B$4+$B$5)/2+($B$5-$B$4)/2*COS(2*PI()/$B$15*B21),\"\")","v":""},{"$f":"IF(A21<>\"\",E21*COS(2*PI()/$B$7*B21),\"\")","v":""},{"$f":"ABS(0.5*1.025*1*(F21^3))","v":{"$error":"#VALUE!"}},{"$f":"G21*$B$13","v":{"$error":"#VALUE!"}}]
[{"$f":"IF(IF(A21<>\"\",A21+1<=$B$16,0),A21+1,\"\")","v":""},{"$f":"IF(A22<>\"\",A22*$B$13,\"\")","v":""},{"$f":"IF(A22<>\"\",ROUNDDOWN(A22*$B$13/24,0),\"\")","v":""},"",{"$f":"IF(A22<>\"\",($B$4+$B$5)/2+($B$5-$B$4)/2*COS(2*PI()/$B$15*B22),\"\")","v":""},{"$f":"IF(A22<>\"\",E22*COS(2*PI()/$B$7*B22),\"\")","v":""},{"$f":"ABS(0.5*1.025*1*(F22^3))","v":{"$error":"#VALUE!"}},{"$error":"#VALUE!"}]
["","","","","","",{"$error":"#VALUE!"},{"$error":"#VALUE!"}]
["","","","","","",{"$error":"#VALUE!"},{"$error":"#VALUE!"}]
["","","","","","",{"$error":"#VALUE!"},{"$error":"#VALUE!"}]
["","","","","","",{"$error":"#VALUE!"},{"$error":"#VALUE!"}]
["","","","","","",{"$error":"#VALUE!"},{"$error":"#VALUE!"}]
["","","","","","",{"$error":"#VALUE!"},{"$error":"#VALUE!"}]
["","","","","","",{"$error":"#VALUE!"},{"$error":"#VALUE!"}]
["","","","","","",{"$error":"#VALUE!"},{"$error":"#VALUE!"}]
["","","","","","",{"$error":"#VALUE!"},{"$error":"#VALUE!"}]
["","","","","","",{"$error":"#VALUE!"},{"$error":"#VALUE!"}]
["","","","","","",{"$error":"#VALUE!"},{"$error":"#VALUE!"}]
["","","","","","",{"$error":"#VALUE!"},{"$error":"#VALUE!"}]
["","","","","","",{"$error":"#VALUE!"},{"$error":"#VALUE!"}]
["","","","","","",{"$error":"#VALUE!"},{"$error":"#VALUE!"}]
["","","","","","",{"$error":"#VALUE!"},{"$error":"#VALUE!"}]
["","","","","","",{"$error":"#VALUE!"},{"$error":"#VALUE!"}]
["","","","","","",{"$error":"#VALUE!"},{"$error":"#VALUE!"}]
["","","","","","",{"$error":"#VALUE!"},{"$error":"#VALUE!"}]
["","","","","","",{"$error":"#VALUE!"},{"$error":"#VALUE!"}]
["","","","","","",{"$error":"#VALUE!"},{"$error":"#VALUE!"}]
["","","","","","",{"$error":"#VALUE!"},{"$error":"#VALUE!"}]
["","","","","","",{"$error":"#VALUE!"},{"$error":"#VALUE!"}]
["","","","","","",{"$error":"#VALUE!"},{"$error":"#VALUE!"}]
["","","","","","",{"$error":"#VALUE!"},{"$error":"#VALUE!"}]
["","","","","","",{"$error":"#VALUE!"},{"$error":"#VALUE!"}]
["","","","","","",{"$error":"#VALUE!"},{"$error":"#VALUE!"}]
["","","","","","",{"$error":"#VALUE!"},{"$error":"#VALUE!"}]
["","","","","","",{"$error":"#VALUE!"},{"$error":"#VALUE!"}]
["","","","","","",{"$error":"#VALUE!"},{"$error":"#VALUE!"}]
["","","","","","",{"$error":"#VALUE!"},{"$error":"#VALUE!"}]
["","","","","","",{"$error":"#VALUE!"},{"$error":"#VALUE!"}]
["","","","","","",{"$error":"#VALUE!"},{"$error":"#VALUE!"}]
["","","","","","",{"$error":"#VALUE!"},{"$error":"#VALUE!"}]
["","","","","","",{"$error":"#VALUE!"},{"$error":"#VALUE!"}]
["","","","","","",{"$error":"#VALUE!"},{"$error":"#VALUE!"}]
["","","","","","",{"$error":"#VALUE!"},{"$error":"#VALUE!"}]
["","","","","","",{"$error":"#VALUE!"},{"$error":"#VALUE!"}]
["","","","","","",{"$error":"#VALUE!"},{"$error":"#VALUE!"}]
["","","","","","",{"$error":"#VALUE!"},{"$error":"#VALUE!"}]
["","","","","","",{"$error":"#VALUE!"},{"$error":"#VALUE!"}]
["","","","","","",{"$error":"#VALUE!"},{"$error":"#VALUE!"}]
["","","","","","",{"$error":"#VALUE!"},{"$error":"#VALUE!"}]
["","","","","","",{"$error":"#VALUE!"},{"$error":"#VALUE!"}]
["","","","","","",{"$error":"#VALUE!"},{"$error":"#VALUE!"}]
["","","","","","",{"$error":"#VALUE!"},{"$error":"#VALUE!"}]
["","","","","","",{"$error":"#VALUE!"},{"$error":"#VALUE!"}]
["","","","","","",{"$error":"#VALUE!"},{"$error":"#VALUE!"}]
["","","","","","",{"$error":"#VALUE!"},{"$error":"#VALUE!"}]
["","","","","","",{"$error":"#VALUE!"},{"$error":"#VALUE!"}]
["","","","","","",{"$error":"#VALUE!"},{"$error":"#VALUE!"}]
["","","","","","",{"$error":"#VALUE!"},{"$error":"#VALUE!"}]
["","","","","","",{"$error":"#VALUE!"},{"$error":"#VALUE!"}]
["","","","","","",{"$error":"#VALUE!"},{"$error":"#VALUE!"}]
["","","","","","",{"$error":"#VALUE!"},{"$error":"#VALUE!"}]
["","","","","","",{"$error":"#VALUE!"},{"$error":"#VALUE!"}]
["","","","","","",{"$error":"#VALUE!"},{"$error":"#VALUE!"}]
["","","","","","",{"$error":"#VALUE!"},{"$error":"#VALUE!"}]
["","","","","","",{"$error":"#VALUE!"},{"$error":"#VALUE!"}]
["","","","","","",{"$error":"#VALUE!"},{"$error":"#VALUE!"}]
["","","","","","",{"$error":"#VALUE!"},{"$error":"#VALUE!"}]
["","","","","","",{"$error":"#VALUE!"},{"$error":"#VALUE!"}]
["","","","","","",{"$error":"#VALUE!"},{"$error":"#VALUE!"}]
["","","",{"$f":"IF(A85<>\"\",MOD(B85,24)/24,\"\")","v":""},"","",{"$f":"ABS(0.5*1.025*1*(F85^3))","v":{"$error":"#VALUE!"}},{"$f":"G85*$B$13","v":{"$error":"#VALUE!"}}]
[{"$f":"IF(IF(A85<>\"\",A85+1<=$B$16,0),A85+1,\"\")","v":""},{"$f":"IF(A86<>\"\",A86*$B$13,\"\")","v":""},{"$f":"IF(A86<>\"\",ROUNDDOWN(A86*$B$13/24,0),\"\")","v":""},"",{"$f":"IF(A86<>\"\",($B$4+$B$5)/2+($B$5-$B$4)/2*COS(2*PI()/$B$15*B86),\"\")","v":""},{"$f":"IF(A86<>\"\",E86*COS(2*PI()/$B$7*B86),\"\")","v":""},{"$error":"#VALUE!"},{"$error":"#VALUE!"}]
["","","","","","",{"$error":"#VALUE!"},{"$error":"#VALUE!"}]
["","","","","","",{"$error":"#VALUE!"},{"$error":"#VALUE!"}]
["","","","","","",{"$error":"#VALUE!"},{"$error":"#VALUE!"}]
["","","","","","",{"$error":"#VALUE!"},{"$error":"#VALUE!"}]
["","","","","","",{"$error":"#VALUE!"},{"$error":"#VALUE!"}]
["","","","","","",{"$error":"#VALUE!"},{"$error":"#VALUE!"}]
["","","","","","",{"$error":"#VALUE!"},{"$error":"#VALUE!"}]
["","","","","","",{"$error":"#VALUE!"},{"$error":"#VALUE!"}]
["","","","","","",{"$error":"#VALUE!"},{"$error":"#VALUE!"}]
["","","","","","",{"$error":"#VALUE!"},{"$error":"#VALUE!"}]
["","","","","","",{"$error":"#VALUE!"},{"$error":"#VALUE!"}]
["","","","","","",{"$error":"#VALUE!"},{"$error":"#VALUE!"}]
["","","","","","",{"$error":"#VALUE!"},{"$error":"#VALUE!"}]
["","","","","","",{"$error":"#VALUE!"},{"$error":"#VALUE!"}]
["","","","","","",{"$error":"#VALUE!"},{"$error":"#VALUE!"}]
["","","","","","",{"$error":"#VALUE!"},{"$error":"#VALUE!"}]
["","","","","","",{"$error":"#VALUE!"},{"$error":"#VALUE!"}]
["","","","","","",{"$error":"#VALUE!"},{"$error":"#VALUE!"}]
["","","","","","",{"$error":"#VALUE!"},{"$error":"#VALUE!"}]
["","","","","","",{"$error":"#VALUE!"},{"$error":"#VALUE!"}]
["","","","","","",{"$error":"#VALUE!"},{"$error":"#VALUE!"}]
["","","","","","",{"$error":"#VALUE!"},{"$error":"#VALUE!"}]
["","","","","","",{"$error":"#VALUE!"},{"$error":"#VALUE!"}]
["","","","","","",{"$error":"#VALUE!"},{"$error":"#VALUE!"}]
["","","","","","",{"$error":"#VALUE!"},{"$error":"#VALUE!"}]
["","","","","","",{"$error":"#VALUE!"},{"$error":"#VALUE!"}]
["","","","","","",{"$error":"#VALUE!"},{"$error":"#VALUE!"}]
["","","","","","",{"$error":"#VALUE!"},{"$error":"#VALUE!"}]
["","","","","","",{"$error":"#VALUE!"},{"$error":"#VALUE!"}]
["","","","","","",{"$error":"#VALUE!"},{"$error":"#VALUE!"}]
["","","","","","",{"$error":"#VALUE!"},{"$error":"#VALUE!"}]
["","","","","","",{"$error":"#VALUE!"},{"$error":"#VALUE!"}]
["","","","","","",{"$error":"#VALUE!"},{"$error":"#VALUE!"}]
["","","","","","",{"$error":"#VALUE!"},{"$error":"#VALUE!"}]
["","","","","","",{"$error":"#VALUE!"},{"$error":"#VALUE!"}]
["","","","","","",{"$error":"#VALUE!"},{"$error":"#VALUE!"}]
["","","","","","",{"$error":"#VALUE!"},{"$error":"#VALUE!"}]
["","","","","","",{"$error":"#VALUE!"},{"$error":"#VALUE!"}]
["","","","","","",{"$error":"#VALUE!"},{"$error":"#VALUE!"}]
["","","","","","",{"$error":"#VALUE!"},{"$error":"#VALUE!"}]
["","","","","","",{"$error":"#VALUE!"},{"$error":"#VALUE!"}]
["","","","","","",{"$error":"#VALUE!"},{"$error":"#VALUE!"}]
["","","","","","",{"$error":"#VALUE!"},{"$error":"#VALUE!"}]
["","","","","","",{"$error":"#VALUE!"},{"$error":"#VALUE!"}]
["","","","","","",{"$error":"#VALUE!"},{"$error":"#VALUE!"}]
["","","","","","",{"$error":"#VALUE!"},{"$error":"#VALUE!"}]
["","","","","","",{"$error":"#VALUE!"},{"$error":"#VALUE!"}]
["","","","","","",{"$error":"#VALUE!"},{"$error":"#VALUE!"}]
["","","","","","",{"$error":"#VALUE!"},{"$error":"#VALUE!"}]
["","","","","","",{"$error":"#VALUE!"},{"$error":"#VALUE!"}]
["","","","","","",{"$error":"#VALUE!"},{"$error":"#VALUE!"}]
["","","","","","",{"$error":"#VALUE!"},{"$error":"#VALUE!"}]
["","","","","","",{"$error":"#VALUE!"},{"$error":"#VALUE!"}]
["","","","","","",{"$error":"#VALUE!"},{"$error":"#VALUE!"}]
["","","","","","",{"$error":"#VALUE!"},{"$error":"#VALUE!"}]
["","","","","","",{"$error":"#VALUE!"},{"$error":"#VALUE!"}]
["","","","","","",{"$error":"#VALUE!"},{"$error":"#VALUE!"}]
["","","","","","",{"$error":"#VALUE!"},{"$error":"#VALUE!"}]
["","","","","","",{"$error":"#VALUE!"},{"$error":"#VALUE!"}]
["","","","","","",{"$error":"#VALUE!"},{"$error":"#VALUE!"}]
["","","","","","",{"$error":"#VALUE!"},{"$error":"#VALUE!"}]
["","","","","","",{"$error":"#VALUE!"},{"$error":"#VALUE!"}]
["","","",{"$f":"IF(A149<>\"\",MOD(B149,24)/24,\"\")","v":""},"","",{"$f":"ABS(0.5*1.025*1*(F149^3))","v":{"$error":"#VALUE!"}},{"$f":"G149*$B$13","v":{"$error":"#VALUE!"}}]
[{"$f":"IF(IF(A149<>\"\",A149+1<=$B$16,0),A149+1,\"\")","v":""},{"$f":"IF(A150<>\"\",A150*$B$13,\"\")","v":""},{"$f":"IF(A150<>\"\",ROUNDDOWN(A150*$B$13/24,0),\"\")","v":""},"",{"$f":"IF(A150<>\"\",($B$4+$B$5)/2+($B$5-$B$4)/2*COS(2*PI()/$B$15*B150),\"\")","v":""},{"$f":"IF(A150<>\"\",E150*COS(2*PI()/$B$7*B150),\"\")","v":""},{"$error":"#VALUE!"},{"$error":"#VALUE!"}]
["","","","","","",{"$error":"#VALUE!"},{"$error":"#VALUE!"}]
["","","","","","",{"$error":"#VALUE!"},{"$error":"#VALUE!"}]
["","","","","","",{"$error":"#VALUE!"},{"$error":"#VALUE!"}]
["","","","","","",{"$error":"#VALUE!"},{"$error":"#VALUE!"}]
["","","","","","",{"$error":"#VALUE!"},{"$error":"#VALUE!"}]
["","","","","","",{"$error":"#VALUE!"},{"$error":"#VALUE!"}]
["","","","","","",{"$error":"#VALUE!"},{"$error":"#VALUE!"}]
["","","","","","",{"$error":"#VALUE!"},{"$error":"#VALUE!"}]
["","","","","","",{"$error":"#VALUE!"},{"$error":"#VALUE!"}]
["","","","","","",{"$error":"#VALUE!"},{"$error":"#VALUE!"}]
["","","","","","",{"$error":"#VALUE!"},{"$error":"#VALUE!"}]
["","","","","","",{"$error":"#VALUE!"},{"$error":"#VALUE!"}]
["","","","","","",{"$error":"#VALUE!"},{"$error":"#VALUE!"}]
["","","","","","",{"$error":"#VALUE!"},{"$error":"#VALUE!"}]
["","","","","","",{"$error":"#VALUE!"},{"$error":"#VALUE!"}]
["","","","","","",{"$error":"#VALUE!"},{"$error":"#VALUE!"}]
["","","","","","",{"$error":"#VALUE!"},{"$error":"#VALUE!"}]
["","","","","","",{"$error":"#VALUE!"},{"$error":"#VALUE!"}]
["","","","","","",{"$error":"#VALUE!"},{"$error":"#VALUE!"}]
["","","","","","",{"$error":"#VALUE!"},{"$error":"#VALUE!"}]
["","","","","","",{"$error":"#VALUE!"},{"$error":"#VALUE!"}]
["","","","","","",{"$error":"#VALUE!"},{"$error":"#VALUE!"}]
["","","","","","",{"$error":"#VALUE!"},{"$error":"#VALUE!"}]
["","","","","","",{"$error":"#VALUE!"},{"$error":"#VALUE!"}]
["","","","","","",{"$error":"#VALUE!"},{"$error":"#VALUE!"}]
["","","","","","",{"$error":"#VALUE!"},{"$error":"#VALUE!"}]
["","","","","","",{"$error":"#VALUE!"},{"$error":"#VALUE!"}]
["","","","","","",{"$error":"#VALUE!"},{"$error":"#VALUE!"}]
["","","","","","",{"$error":"#VALUE!"},{"$error":"#VALUE!"}]
["","","","","","",{"$error":"#VALUE!"},{"$error":"#VALUE!"}]
["","","","","","",{"$error":"#VALUE!"},{"$error":"#VALUE!"}]
["","","","","","",{"$error":"#VALUE!"},{"$error":"#VALUE!"}]
["","","","","","",{"$error":"#VALUE!"},{"$error":"#VALUE!"}]
["","","","","","",{"$error":"#VALUE!"},{"$error":"#VALUE!"}]
["","","","","","",{"$error":"#VALUE!"},{"$error":"#VALUE!"}]
["","","","","","",{"$error":"#VALUE!"},{"$error":"#VALUE!"}]
["","","","","","",{"$error":"#VALUE!"},{"$error":"#VALUE!"}]
["","","","","","",{"$error":"#VALUE!"},{"$error":"#VALUE!"}]
["","","","","","",{"$error":"#VALUE!"},{"$error":"#VALUE!"}]
["","","","","","",{"$error":"#VALUE!"},{"$error":"#VALUE!"}]
["","","","","","",{"$error":"#VALUE!"},{"$error":"#VALUE!"}]
["","","","","","",{"$error":"#VALUE!"},{"$error":"#VALUE!"}]
["","","","","","",{"$error":"#VALUE!"},{"$error":"#VALUE!"}]
["","","","","","",{"$error":"#VALUE!"},{"$error":"#VALUE!"}]
["","","","","","",{"$error":"#VALUE!"},{"$error":"#VALUE!"}]
["","","","","","",{"$error":"#VALUE!"},{"$error":"#VALUE!"}]
["","","","","","",{"$error":"#VALUE!"},{"$error":"#VALUE!"}]
["","","","","","",{"$error":"#VALUE!"},{"$error":"#VALUE!"}]
["","","","","","",{"$error":"#VALUE!"},{"$error":"#VALUE!"}]
["","","","","","",{"$error":"#VALUE!"},{"$error":"#VALUE!"}]
["","","","","","",{"$error":"#VALUE!"},{"$error":"#VALUE!"}]
["","","","","","",{"$error":"#VALUE!"},{"$error":"#VALUE!"}]
["","","","","","",{"$error":"#VALUE!"},{"$error":"#VALUE!"}]
["","","","","","",{"$error":"#VALUE!"},{"$error":"#VALUE!"}]
["","","","","","",{"$error":"#VALUE!"},{"$error":"#VALUE!"}]
["","","","","","",{"$error":"#VALUE!"},{"$error":"#VALUE!"}]
["","","","","","",{"$error":"#VALUE!"},{"$error":"#VALUE!"}]
["","","","","","",{"$error":"#VALUE!"},{"$error":"#VALUE!"}]
["","","","","","",{"$error":"#VALUE!"},{"$error":"#VALUE!"}]
["","","","","","",{"$error":"#VALUE!"},{"$error":"#VALUE!"}]
["","","","","","",{"$error":"#VALUE!"},{"$error":"#VALUE!"}]
["","","","","","",{"$error":"#VALUE!"},{"$error":"#VALUE!"}]
["","","",{"$f":"IF(A213<>\"\",MOD(B213,24)/24,\"\")","v":""},"","",{"$f":"ABS(0.5*1.025*1*(F213^3))","v":{"$error":"#VALUE!"}},{"$f":"G213*$B$13","v":{"$error":"#VALUE!"}}]
[{"$f":"IF(IF(A213<>\"\",A213+1<=$B$16,0),A213+1,\"\")","v":""},{"$f":"IF(A214<>\"\",A214*$B$13,\"\")","v":""},{"$f":"IF(A214<>\"\",ROUNDDOWN(A214*$B$13/24,0),\"\")","v":""},"",{"$f":"IF(A214<>\"\",($B$4+$B$5)/2+($B$5-$B$4)/2*COS(2*PI()/$B$15*B214),\"\")","v":""},{"$f":"IF(A214<>\"\",E214*COS(2*PI()/$B$7*B214),\"\")","v":""},{"$error":"#VALUE!"},{"$error":"#VALUE!"}]
["","","","","","",{"$error":"#VALUE!"},{"$error":"#VALUE!"}]
["","","","","","",{"$error":"#VALUE!"},{"$error":"#VALUE!"}]
["","","","","","",{"$error":"#VALUE!"},{"$error":"#VALUE!"}]
["","","","","","",{"$error":"#VALUE!"},{"$error":"#VALUE!"}]
["","","","","","",{"$error":"#VALUE!"},{"$error":"#VALUE!"}]
["","","","","","",{"$error":"#VALUE!"},{"$error":"#VALUE!"}]
["","","","","","",{"$error":"#VALUE!"},{"$error":"#VALUE!"}]
["","","","","","",{"$error":"#VALUE!"},{"$error":"#VALUE!"}]
["","","","","","",{"$error":"#VALUE!"},{"$error":"#VALUE!"}]
["","","","","","",{"$error":"#VALUE!"},{"$error":"#VALUE!"}]
["","","","","","",{"$error":"#VALUE!"},{"$error":"#VALUE!"}]
["","","","","","",{"$error":"#VALUE!"},{"$error":"#VALUE!"}]
["","","","","","",{"$error":"#VALUE!"},{"$error":"#VALUE!"}]
["","","","","","",{"$error":"#VALUE!"},{"$error":"#VALUE!"}]
["","","","","","",{"$error":"#VALUE!"},{"$error":"#VALUE!"}]
["","","","","","",{"$error":"#VALUE!"},{"$error":"#VALUE!"}]
["","","","","","",{"$error":"#VALUE!"},{"$error":"#VALUE!"}]
["","","","","","",{"$error":"#VALUE!"},{"$error":"#VALUE!"}]
["","","","","","",{"$error":"#VALUE!"},{"$error":"#VALUE!"}]
["","","","","","",{"$error":"#VALUE!"},{"$error":"#VALUE!"}]
["","","","","","",{"$error":"#VALUE!"},{"$error":"#VALUE!"}]
["","","","","","",{"$error":"#VALUE!"},{"$error":"#VALUE!"}]
["","","","","","",{"$error":"#VALUE!"},{"$error":"#VALUE!"}]
["","","","","","",{"$error":"#VALUE!"},{"$error":"#VALUE!"}]
["","","","","","",{"$error":"#VALUE!"},{"$error":"#VALUE!"}]
["","","","","","",{"$error":"#VALUE!"},{"$error":"#VALUE!"}]
["","","","","","",{"$error":"#VALUE!"},{"$error":"#VALUE!"}]
["","","","","","",{"$error":"#VALUE!"},{"$error":"#VALUE!"}]
["","","","","","",{"$error":"#VALUE!"},{"$error":"#VALUE!"}]
["","","","","","",{"$error":"#VALUE!"},{"$error":"#VALUE!"}]
["","","","","","",{"$error":"#VALUE!"},{"$error":"#VALUE!"}]
["","","","","","",{"$error":"#VALUE!"},{"$error":"#VALUE!"}]
["","","","","","",{"$error":"#VALUE!"},{"$error":"#VALUE!"}]
["","","","","","",{"$error":"#VALUE!"},{"$error":"#VALUE!"}]
["","","","","","",{"$error":"#VALUE!"},{"$error":"#VALUE!"}]
["","","","","","",{"$error":"#VALUE!"},{"$error":"#VALUE!"}]
["","","","","","",{"$error":"#VALUE!"},{"$error":"#VALUE!"}]
["","","","","","",{"$error":"#VALUE!"},{"$error":"#VALUE!"}]
["","","","","","",{"$error":"#VALUE!"},{"$error":"#VALUE!"}]
["","","","","","",{"$error":"#VALUE!"},{"$error":"#VALUE!"}]
["","","","","","",{"$error":"#VALUE!"},{"$error":"#VALUE!"}]
["","","","","","",{"$error":"#VALUE!"},{"$error":"#VALUE!"}]
["","","","","","",{"$error":"#VALUE!"},{"$error":"#VALUE!"}]
["","","","","","",{"$error":"#VALUE!"},{"$error":"#VALUE!"}]
["","","","","","",{"$error":"#VALUE!"},{"$error":"#VALUE!"}]
["","","","","","",{"$error":"#VALUE!"},{"$error":"#VALUE!"}]
["","","","","","",{"$error":"#VALUE!"},{"$error":"#VALUE!"}]
["","","","","","",{"$error":"#VALUE!"},{"$error":"#VALUE!"}]
["","","","","","",{"$error":"#VALUE!"},{"$error":"#VALUE!"}]
["","","","","","",{"$error":"#VALUE!"},{"$error":"#VALUE!"}]
["","","","","","",{"$error":"#VALUE!"},{"$error":"#VALUE!"}]
["","","","","","",{"$error":"#VALUE!"},{"$error":"#VALUE!"}]
["","","","","","",{"$error":"#VALUE!"},{"$error":"#VALUE!"}]
["","","","","","",{"$error":"#VALUE!"},{"$error":"#VALUE!"}]
["","","","","","",{"$error":"#VALUE!"},{"$error":"#VALUE!"}]
["","","","","","",{"$error":"#VALUE!"},{"$error":"#VALUE!"}]
["","","","","","",{"$error":"#VALUE!"},{"$error":"#VALUE!"}]
["","","","","","",{"$error":"#VALUE!"},{"$error":"#VALUE!"}]
["","","","","","",{"$error":"#VALUE!"},{"$error":"#VALUE!"}]
["","","","","","",{"$error":"#VALUE!"},{"$error":"#VALUE!"}]
["","","","","","",{"$error":"#VALUE!"},{"$error":"#VALUE!"}]
["","","","","","",{"$error":"#VALUE!"},{"$error":"#VALUE!"}]
["","","",{"$f":"IF(A277<>\"\",MOD(B277,24)/24,\"\")","v":""},"","",{"$f":"ABS(0.5*1.025*1*(F277^3))","v":{"$error":"#VALUE!"}},{"$f":"G277*$B$13","v":{"$error":"#VALUE!"}}]
[{"$f":"IF(IF(A277<>\"\",A277+1<=$B$16,0),A277+1,\"\")","v":""},{"$f":"IF(A278<>\"\",A278*$B$13,\"\")","v":""},{"$f":"IF(A278<>\"\",ROUNDDOWN(A278*$B$13/24,0),\"\")","v":""},"",{"$f":"IF(A278<>\"\",($B$4+$B$5)/2+($B$5-$B$4)/2*COS(2*PI()/$B$15*B278),\"\")","v":""},{"$f":"IF(A278<>\"\",E278*COS(2*PI()/$B$7*B278),\"\")","v":""},{"$error":"#VALUE!"},{"$error":"#VALUE!"}]
["","","","","","",{"$error":"#VALUE!"},{"$error":"#VALUE!"}]
["","","","","","",{"$error":"#VALUE!"},{"$error":"#VALUE!"}]
["","","","","","",{"$error":"#VALUE!"},{"$error":"#VALUE!"}]
["","","","","","",{"$error":"#VALUE!"},{"$error":"#VALUE!"}]
["","","","","","",{"$error":"#VALUE!"},{"$error":"#VALUE!"}]
["","","","","","",{"$error":"#VALUE!"},{"$error":"#VALUE!"}]
["","","","","","",{"$error":"#VALUE!"},{"$error":"#VALUE!"}]
["","","","","","",{"$error":"#VALUE!"},{"$error":"#VALUE!"}]
["","","","","","",{"$error":"#VALUE!"},{"$error":"#VALUE!"}]
["","","","","","",{"$error":"#VALUE!"},{"$error":"#VALUE!"}]
["","","","","","",{"$error":"#VALUE!"},{"$error":"#VALUE!"}]
["","","","","","",{"$error":"#VALUE!"},{"$error":"#VALUE!"}]
["","","","","","",{"$error":"#VALUE!"},{"$error":"#VALUE!"}]
["","","","","","",{"$error":"#VALUE!"},{"$error":"#VALUE!"}]
["","","","","","",{"$error":"#VALUE!"},{"$error":"#VALUE!"}]
["","","","","","",{"$error":"#VALUE!"},{"$error":"#VALUE!"}]
["","","","","","",{"$error":"#VALUE!"},{"$error":"#VALUE!"}]
["","","","","","",{"$error":"#VALUE!"},{"$error":"#VALUE!"}]
["","","","","","",{"$error":"#VALUE!"},{"$error":"#VALUE!"}]
["","","","","","",{"$error":"#VALUE!"},{"$error":"#VALUE!"}]
["","","","","","",{"$error":"#VALUE!"},{"$error":"#VALUE!"}]
["","","","","","",{"$error":"#VALUE!"},{"$error":"#VALUE!"}]
["","","","","","",{"$error":"#VALUE!"},{"$error":"#VALUE!"}]
["","","","","","",{"$error":"#VALUE!"},{"$error":"#VALUE!"}]
["","","","","","",{"$error":"#VALUE!"},{"$error":"#VALUE!"}]
["","","","","","",{"$error":"#VALUE!"},{"$error":"#VALUE!"}]
["","","","","","",{"$error":"#VALUE!"},{"$error":"#VALUE!"}]
["","","","","","",{"$error":"#VALUE!"},{"$error":"#VALUE!"}]
["","","","","","",{"$error":"#VALUE!"},{"$error":"#VALUE!"}]
["","","","","","",{"$error":"#VALUE!"},{"$error":"#VALUE!"}]
["","","","","","",{"$error":"#VALUE!"},{"$error":"#VALUE!"}]
["","","","","","",{"$error":"#VALUE!"},{"$error":"#VALUE!"}]
["","","","","","",{"$error":"#VALUE!"},{"$error":"#VALUE!"}]
["","","","","","",{"$error":"#VALUE!"},{"$error":"#VALUE!"}]
["","","","","","",{"$error":"#VALUE!"},{"$error":"#VALUE!"}]
["","","","","","",{"$error":"#VALUE!"},{"$error":"#VALUE!"}]
["","","","","","",{"$error":"#VALUE!"},{"$error":"#VALUE!"}]
["","","","","","",{"$error":"#VALUE!"},{"$error":"#VALUE!"}]
["","","","","","",{"$error":"#VALUE!"},{"$error":"#VALUE!"}]
["","","","","","",{"$error":"#VALUE!"},{"$error":"#VALUE!"}]
["","","","","","",{"$error":"#VALUE!"},{"$error":"#VALUE!"}]
["","","","","","",{"$error":"#VALUE!"},{"$error":"#VALUE!"}]
["","","","","","",{"$error":"#VALUE!"},{"$error":"#VALUE!"}]
["","","","","","",{"$error":"#VALUE!"},{"$error":"#VALUE!"}]
["","","","","","",{"$error":"#VALUE!"},{"$error":"#VALUE!"}]
["","","","","","",{"$error":"#VALUE!"},{"$error":"#VALUE!"}]
["","","","","","",{"$error":"#VALUE!"},{"$error":"#VALUE!"}]
["","","","","","",{"$error":"#VALUE!"},{"$error":"#VALUE!"}]
["","","","","","",{"$error":"#VALUE!"},{"$error":"#VALUE!"}]
["","","","","","",{"$error":"#VALUE!"},{"$error":"#VALUE!"}]
["","","","","","",{"$error":"#VALUE!"},{"$error":"#VALUE!"}]
["","","","","","",{"$error":"#VALUE!"},{"$error":"#VALUE!"}]
["","","","","","",{"$error":"#VALUE!"},{"$error":"#VALUE!"}]
["","","","","","",{"$error":"#VALUE!"},{"$error":"#VALUE!"}]
["","","","","","",{"$error":"#VALUE!"},{"$error":"#VALUE!"}]
["","","","","","",{"$error":"#VALUE!"},{"$error":"#VALUE!"}]
["","","","","","",{"$error":"#VALUE!"},{"$error":"#VALUE!"}]
["","","","","","",{"$error":"#VALUE!"},{"$error":"#VALUE!"}]
["","","","","","",{"$error":"#VALUE!"},{"$error":"#VALUE!"}]
["","","","","","",{"$error":"#VALUE!"},{"$error":"#VALUE!"}]
["","","","","","",{"$error":"#VALUE!"},{"$error":"#VALUE!"}]
["","","","","","",{"$error":"#VALUE!"},{"$error":"#VALUE!"}]
["","","",{"$f":"IF(A341<>\"\",MOD(B341,24)/24,\"\")","v":""},"","",{"$f":"ABS(0.5*1.025*1*(F341^3))","v":{"$error":"#VALUE!"}},{"$f":"G341*$B$13","v":{"$error":"#VALUE!"}}]
[{"$f":"IF(IF(A341<>\"\",A341+1<=$B$16,0),A341+1,\"\")","v":""},{"$f":"IF(A342<>\"\",A342*$B$13,\"\")","v":""},{"$f":"IF(A342<>\"\",ROUNDDOWN(A342*$B$13/24,0),\"\")","v":""},"",{"$f":"IF(A342<>\"\",($B$4+$B$5)/2+($B$5-$B$4)/2*COS(2*PI()/$B$15*B342),\"\")","v":""},{"$f":"IF(A342<>\"\",E342*COS(2*PI()/$B$7*B342),\"\")","v":""},{"$error":"#VALUE!"},{"$error":"#VALUE!"}]
["","","","","","",{"$error":"#VALUE!"},{"$error":"#VALUE!"}]
["","","","","","",{"$error":"#VALUE!"},{"$error":"#VALUE!"}]
["","","","","","",{"$error":"#VALUE!"},{"$error":"#VALUE!"}]
["","","","","","",{"$error":"#VALUE!"},{"$error":"#VALUE!"}]
["","","","","","",{"$error":"#VALUE!"},{"$error":"#VALUE!"}]
["","","","","","",{"$error":"#VALUE!"},{"$error":"#VALUE!"}]
["","","","","","",{"$error":"#VALUE!"},{"$error":"#VALUE!"}]
["","","","","","",{"$error":"#VALUE!"},{"$error":"#VALUE!"}]
["","","","","","",{"$error":"#VALUE!"},{"$error":"#VALUE!"}]
["","","","","","",{"$error":"#VALUE!"},{"$error":"#VALUE!"}]
["","","","","","",{"$error":"#VALUE!"},{"$error":"#VALUE!"}]
["","","","","","",{"$error":"#VALUE!"},{"$error":"#VALUE!"}]
["","","","","","",{"$error":"#VALUE!"},{"$error":"#VALUE!"}]
["","","","","","",{"$error":"#VALUE!"},{"$error":"#VALUE!"}]
["","","","","","",{"$error":"#VALUE!"},{"$error":"#VALUE!"}]
["","","","","","",{"$error":"#VALUE!"},{"$error":"#VALUE!"}]
["","","","","","",{"$error":"#VALUE!"},{"$error":"#VALUE!"}]
["","","","","","",{"$error":"#VALUE!"},{"$error":"#VALUE!"}]
["","","","","","",{"$error":"#VALUE!"},{"$error":"#VALUE!"}]
["","","","","","",{"$error":"#VALUE!"},{"$error":"#VALUE!"}]
["","","","","","",{"$error":"#VALUE!"},{"$error":"#VALUE!"}]
["","","","","","",{"$error":"#VALUE!"},{"$error":"#VALUE!"}]
["","","","","","",{"$error":"#VALUE!"},{"$error":"#VALUE!"}]
["","","","","","",{"$error":"#VALUE!"},{"$error":"#VALUE!"}]
["","","","","","",{"$error":"#VALUE!"},{"$error":"#VALUE!"}]
["","","","","","",{"$error":"#VALUE!"},{"$error":"#VALUE!"}]
["","","","","","",{"$error":"#VALUE!"},{"$error":"#VALUE!"}]
["","","","","","",{"$error":"#VALUE!"},{"$error":"#VALUE!"}]
["","","","","","",{"$error":"#VALUE!"},{"$error":"#VALUE!"}]
["","","","","","",{"$error":"#VALUE!"},{"$error":"#VALUE!"}]
["","","","","","",{"$error":"#VALUE!"},{"$error":"#VALUE!"}]
["","","","","","",{"$error":"#VALUE!"},{"$error":"#VALUE!"}]
["","","","","","",{"$error":"#VALUE!"},{"$error":"#VALUE!"}]
["","","","","","",{"$error":"#VALUE!"},{"$error":"#VALUE!"}]
["","","","","","",{"$error":"#VALUE!"},{"$error":"#VALUE!"}]
["","","","","","",{"$error":"#VALUE!"},{"$error":"#VALUE!"}]
["","","","","","",{"$error":"#VALUE!"},{"$error":"#VALUE!"}]
["","","","","","",{"$error":"#VALUE!"},{"$error":"#VALUE!"}]
["","","","","","",{"$error":"#VALUE!"},{"$error":"#VALUE!"}]
["","","","","","",{"$error":"#VALUE!"},{"$error":"#VALUE!"}]
["","","","","","",{"$error":"#VALUE!"},{"$error":"#VALUE!"}]
["","","","","","",{"$error":"#VALUE!"},{"$error":"#VALUE!"}]
["","","","","","",{"$error":"#VALUE!"},{"$error":"#VALUE!"}]
["","","","","","",{"$error":"#VALUE!"},{"$error":"#VALUE!"}]
["","","","","","",{"$error":"#VALUE!"},{"$error":"#VALUE!"}]
["","","","","","",{"$error":"#VALUE!"},{"$error":"#VALUE!"}]
["","","","","","",{"$error":"#VALUE!"},{"$error":"#VALUE!"}]
["","","","","","",{"$error":"#VALUE!"},{"$error":"#VALUE!"}]
["","","","","","",{"$error":"#VALUE!"},{"$error":"#VALUE!"}]
["","","","","","",{"$error":"#VALUE!"},{"$error":"#VALUE!"}]
["","","","","","",{"$error":"#VALUE!"},{"$error":"#VALUE!"}]
["","","","","","",{"$error":"#VALUE!"},{"$error":"#VALUE!"}]
["","","","","","",{"$error":"#VALUE!"},{"$error":"#VALUE!"}]
["","","","","","",{"$error":"#VALUE!"},{"$error":"#VALUE!"}]
["","","","","","",{"$error":"#VALUE!"},{"$error":"#VALUE!"}]
["","","","","","",{"$error":"#VALUE!"},{"$error":"#VALUE!"}]
["","","","","","",{"$error":"#VALUE!"},{"$error":"#VALUE!"}]
["","","","","","",{"$error":"#VALUE!"},{"$error":"#VALUE!"}]
["","","","","","",{"$error":"#VALUE!"},{"$error":"#VALUE!"}]
["","","","","","",{"$error":"#VALUE!"},{"$error":"#VALUE!"}]
["","","","","","",{"$error":"#VALUE!"},{"$error":"#VALUE!"}]
["","","","","","",{"$error":"#VALUE!"},{"$error":"#VALUE!"}]
["","","",{"$f":"IF(A405<>\"\",MOD(B405,24)/24,\"\")","v":""},"","",{"$f":"ABS(0.5*1.025*1*(F405^3))","v":{"$error":"#VALUE!"}},{"$f":"G405*$B$13","v":{"$error":"#VALUE!"}}]
[{"$f":"IF(IF(A405<>\"\",A405+1<=$B$16,0),A405+1,\"\")","v":""},{"$f":"IF(A406<>\"\",A406*$B$13,\"\")","v":""},{"$f":"IF(A406<>\"\",ROUNDDOWN(A406*$B$13/24,0),\"\")","v":""},"",{"$f":"IF(A406<>\"\",($B$4+$B$5)/2+($B$5-$B$4)/2*COS(2*PI()/$B$15*B406),\"\")","v":""},{"$f":"IF(A406<>\"\",E406*COS(2*PI()/$B$7*B406),\"\")","v":""},{"$error":"#VALUE!"},{"$error":"#VALUE!"}]
["","","","","","",{"$error":"#VALUE!"},{"$error":"#VALUE!"}]
["","","","","","",{"$error":"#VALUE!"},{"$error":"#VALUE!"}]
["","","","","","",{"$error":"#VALUE!"},{"$error":"#VALUE!"}]
["","","","","","",{"$error":"#VALUE!"},{"$error":"#VALUE!"}]
["","","","","","",{"$error":"#VALUE!"},{"$error":"#VALUE!"}]
["","","","","","",{"$error":"#VALUE!"},{"$error":"#VALUE!"}]
["","","","","","",{"$error":"#VALUE!"},{"$error":"#VALUE!"}]
["","","","","","",{"$error":"#VALUE!"},{"$error":"#VALUE!"}]
["","","","","","",{"$error":"#VALUE!"},{"$error":"#VALUE!"}]
["","","","","","",{"$error":"#VALUE!"},{"$error":"#VALUE!"}]
["","","","","","",{"$error":"#VALUE!"},{"$error":"#VALUE!"}]
["","","","","","",{"$error":"#VALUE!"},{"$error":"#VALUE!"}]
["","","","","","",{"$error":"#VALUE!"},{"$error":"#VALUE!"}]
["","","","","","",{"$error":"#VALUE!"},{"$error":"#VALUE!"}]
["","","","","","",{"$error":"#VALUE!"},{"$error":"#VALUE!"}]
["","","","","","",{"$error":"#VALUE!"},{"$error":"#VALUE!"}]
["","","","","","",{"$error":"#VALUE!"},{"$error":"#VALUE!"}]
["","","","","","",{"$error":"#VALUE!"},{"$error":"#VALUE!"}]
["","","","","","",{"$error":"#VALUE!"},{"$error":"#VALUE!"}]
["","","","","","",{"$error":"#VALUE!"},{"$error":"#VALUE!"}]
["","","","","","",{"$error":"#VALUE!"},{"$error":"#VALUE!"}]
["","","","","","",{"$error":"#VALUE!"},{"$error":"#VALUE!"}]
["","","","","","",{"$error":"#VALUE!"},{"$error":"#VALUE!"}]
["","","","","","",{"$error":"#VALUE!"},{"$error":"#VALUE!"}]
["","","","","","",{"$error":"#VALUE!"},{"$error":"#VALUE!"}]
["","","","","","",{"$error":"#VALUE!"},{"$error":"#VALUE!"}]
["","","","","","",{"$error":"#VALUE!"},{"$error":"#VALUE!"}]
["","","","","","",{"$error":"#VALUE!"},{"$error":"#VALUE!"}]
["","","","","","",{"$error":"#VALUE!"},{"$error":"#VALUE!"}]
["","","","","","",{"$error":"#VALUE!"},{"$error":"#VALUE!"}]
["","","","","","",{"$error":"#VALUE!"},{"$error":"#VALUE!"}]
["","","","","","",{"$error":"#VALUE!"},{"$error":"#VALUE!"}]
["","","","","","",{"$error":"#VALUE!"},{"$error":"#VALUE!"}]
["","","","","","",{"$error":"#VALUE!"},{"$error":"#VALUE!"}]
["","","","","","",{"$error":"#VALUE!"},{"$error":"#VALUE!"}]
["","","","","","",{"$error":"#VALUE!"},{"$error":"#VALUE!"}]
["","","","","","",{"$error":"#VALUE!"},{"$error":"#VALUE!"}]
["","","","","","",{"$error":"#VALUE!"},{"$error":"#VALUE!"}]
["","","","","","",{"$error":"#VALUE!"},{"$error":"#VALUE!"}]
["","","","","","",{"$error":"#VALUE!"},{"$error":"#VALUE!"}]
["","","","","","",{"$error":"#VALUE!"},{"$error":"#VALUE!"}]
["","","","","","",{"$error":"#VALUE!"},{"$error":"#VALUE!"}]
["","","","","","",{"$error":"#VALUE!"},{"$error":"#VALUE!"}]
["","","","","","",{"$error":"#VALUE!"},{"$error":"#VALUE!"}]
["","","","","","",{"$error":"#VALUE!"},{"$error":"#VALUE!"}]
["","","","","","",{"$error":"#VALUE!"},{"$error":"#VALUE!"}]
["","","","","","",{"$error":"#VALUE!"},{"$error":"#VALUE!"}]
["","","","","","",{"$error":"#VALUE!"},{"$error":"#VALUE!"}]
["","","","","","",{"$error":"#VALUE!"},{"$error":"#VALUE!"}]
["","","","","","",{"$error":"#VALUE!"},{"$error":"#VALUE!"}]
["","","","","","",{"$error":"#VALUE!"},{"$error":"#VALUE!"}]
["","","","","","",{"$error":"#VALUE!"},{"$error":"#VALUE!"}]
["","","","","","",{"$error":"#VALUE!"},{"$error":"#VALUE!"}]
["","","","","","",{"$error":"#VALUE!"},{"$error":"#VALUE!"}]
["","","","","","",{"$error":"#VALUE!"},{"$error":"#VALUE!"}]
["","","","","","",{"$error":"#VALUE!"},{"$error":"#VALUE!"}]
["","","","","","",{"$error":"#VALUE!"},{"$error":"#VALUE!"}]
["","","","","","",{"$error":"#VALUE!"},{"$error":"#VALUE!"}]
["","","","","","",{"$error":"#VALUE!"},{"$error":"#VALUE!"}]
["","","","","","",{"$error":"#VALUE!"},{"$error":"#VALUE!"}]
["","","","","","",{"$error":"#VALUE!"},{"$error":"#VALUE!"}]
["","","","","","",{"$error":"#VALUE!"},{"$error":"#VALUE!"}]
["","","",{"$f":"IF(A469<>\"\",MOD(B469,24)/24,\"\")","v":""},"","",{"$f":"ABS(0.5*1.025*1*(F469^3))","v":{"$error":"#VALUE!"}},{"$f":"G469*$B$13","v":{"$error":"#VALUE!"}}]
[{"$f":"IF(IF(A469<>\"\",A469+1<=$B$16,0),A469+1,\"\")","v":""},{"$f":"IF(A470<>\"\",A470*$B$13,\"\")","v":""},{"$f":"IF(A470<>\"\",ROUNDDOWN(A470*$B$13/24,0),\"\")","v":""},"",{"$f":"IF(A470<>\"\",($B$4+$B$5)/2+($B$5-$B$4)/2*COS(2*PI()/$B$15*B470),\"\")","v":""},{"$f":"IF(A470<>\"\",E470*COS(2*PI()/$B$7*B470),\"\")","v":""},{"$error":"#VALUE!"},{"$error":"#VALUE!"}]
["","","","","","",{"$error":"#VALUE!"},{"$error":"#VALUE!"}]
["","","","","","",{"$error":"#VALUE!"},{"$error":"#VALUE!"}]
["","","","","","",{"$error":"#VALUE!"},{"$error":"#VALUE!"}]
["","","","","","",{"$error":"#VALUE!"},{"$error":"#VALUE!"}]
["","","","","","",{"$error":"#VALUE!"},{"$error":"#VALUE!"}]
["","","","","","",{"$error":"#VALUE!"},{"$error":"#VALUE!"}]
["","","","","","",{"$error":"#VALUE!"},{"$error":"#VALUE!"}]
["","","","","","",{"$error":"#VALUE!"},{"$error":"#VALUE!"}]
["","","","","","",{"$error":"#VALUE!"},{"$error":"#VALUE!"}]
["","","","","","",{"$error":"#VALUE!"},{"$error":"#VALUE!"}]
["","","","","","",{"$error":"#VALUE!"},{"$error":"#VALUE!"}]
["","","","","","",{"$error":"#VALUE!"},{"$error":"#VALUE!"}]
["","","","","","",{"$error":"#VALUE!"},{"$error":"#VALUE!"}]
["","","","","","",{"$error":"#VALUE!"},{"$error":"#VALUE!"}]
["","","","","","",{"$error":"#VALUE!"},{"$error":"#VALUE!"}]
["","","","","","",{"$error":"#VALUE!"},{"$error":"#VALUE!"}]
["","","","","","",{"$error":"#VALUE!"},{"$error":"#VALUE!"}]
["","","","","","",{"$error":"#VALUE!"},{"$error":"#VALUE!"}]
["","","","","","",{"$error":"#VALUE!"},{"$error":"#VALUE!"}]
["","","","","","",{"$error":"#VALUE!"},{"$error":"#VALUE!"}]
["","","","","","",{"$error":"#VALUE!"},{"$error":"#VALUE!"}]
["","","","","","",{"$error":"#VALUE!"},{"$error":"#VALUE!"}]
["","","","","","",{"$error":"#VALUE!"},{"$error":"#VALUE!"}]
["","","","","","",{"$error":"#VALUE!"},{"$error":"#VALUE!"}]
["","","","","","",{"$error":"#VALUE!"},{"$error":"#VALUE!"}]
["","","","","","",{"$error":"#VALUE!"},{"$error":"#VALUE!"}]
["","","","","","",{"$error":"#VALUE!"},{"$error":"#VALUE!"}]
["","","","","","",{"$error":"#VALUE!"},{"$error":"#VALUE!"}]
["","","","","","",{"$error":"#VALUE!"},{"$error":"#VALUE!"}]
["","","","","","",{"$error":"#VALUE!"},{"$error":"#VALUE!"}]
["","","","","","",{"$error":"#VALUE!"},{"$error":"#VALUE!"}]
["","","","","","",{"$error":"#VALUE!"},{"$error":"#VALUE!"}]
["","","","","","",{"$error":"#VALUE!"},{"$error":"#VALUE!"}]
["","","","","","",{"$error":"#VALUE!"},{"$error":"#VALUE!"}]
["","","","","","",{"$error":"#VALUE!"},{"$error":"#VALUE!"}]
["","","","","","",{"$error":"#VALUE!"},{"$error":"#VALUE!"}]
["","","","","","",{"$error":"#VALUE!"},{"$error":"#VALUE!"}]
["","","","","","",{"$error":"#VALUE!"},{"$error":"#VALUE!"}]
["","","","","","",{"$error":"#VALUE!"},{"$error":"#VALUE!"}]
["","","","","","",{"$error":"#VALUE!"},{"$error":"#VALUE!"}]
["","","","","","",{"$error":"#VALUE!"},{"$error":"#VALUE!"}]
["","","","","","",{"$error":"#VALUE!"},{"$error":"#VALUE!"}]
["","","","","","",{"$error":"#VALUE!"},{"$error":"#VALUE!"}]
["","","","","","",{"$error":"#VALUE!"},{"$error":"#VALUE!"}]
["","","","","","",{"$error":"#VALUE!"},{"$error":"#VALUE!"}]
["","","","","","",{"$error":"#VALUE!"},{"$error":"#VALUE!"}]
["","","","","","",{"$error":"#VALUE!"},{"$error":"#VALUE!"}]
["","","","","","",{"$error":"#VALUE!"},{"$error":"#VALUE!"}]
["","","","","","",{"$error":"#VALUE!"},{"$error":"#VALUE!"}]
["","","","","","",{"$error":"#VALUE!"},{"$error":"#VALUE!"}]
["","","","","","",{"$error":"#VALUE!"},{"$error":"#VALUE!"}]
["","","","","","",{"$error":"#VALUE!"},{"$error":"#VALUE!"}]
["","","","","","",{"$error":"#VALUE!"},{"$error":"#VALUE!"}]
["","","","","","",{"$error":"#VALUE!"},{"$error":"#VALUE!"}]
["","","","","","",{"$error":"#VALUE!"},{"$error":"#VALUE!"}]
["","","","","","",{"$error":"#VALUE!"},{"$error":"#VALUE!"}]
["","","","","","",{"$error":"#VALUE!"},{"$error":"#VALUE!"}]
["","","","","","",{"$error":"#VALUE!"},{"$error":"#VALUE!"}]
["","","","","","",{"$error":"#VALUE!"},{"$error":"#VALUE!"}]
["","","","","","",{"$error":"#VALUE!"},{"$error":"#VALUE!"}]
["","","","","","",{"$error":"#VALUE!"},{"$error":"#VALUE!"}]
["","","","","","",{"$error":"#VALUE!"},{"$error":"#VALUE!"}]
["","","",{"$f":"IF(A533<>\"\",MOD(B533,24)/24,\"\")","v":""},"","",{"$f":"ABS(0.5*1.025*1*(F533^3))","v":{"$error":"#VALUE!"}},{"$f":"G533*$B$13","v":{"$error":"#VALUE!"}}]
[{"$f":"IF(IF(A533<>\"\",A533+1<=$B$16,0),A533+1,\"\")","v":""},{"$f":"IF(A534<>\"\",A534*$B$13,\"\")","v":""},{"$f":"IF(A534<>\"\",ROUNDDOWN(A534*$B$13/24,0),\"\")","v":""},"",{"$f":"IF(A534<>\"\",($B$4+$B$5)/2+($B$5-$B$4)/2*COS(2*PI()/$B$15*B534),\"\")","v":""},{"$f":"IF(A534<>\"\",E534*COS(2*PI()/$B$7*B534),\"\")","v":""},{"$error":"#VALUE!"},{"$error":"#VALUE!"}]
["","","","","","",{"$error":"#VALUE!"},{"$error":"#VALUE!"}]
["","","","","","",{"$error":"#VALUE!"},{"$error":"#VALUE!"}]
["","","","","","",{"$error":"#VALUE!"},{"$error":"#VALUE!"}]
["","","","","","",{"$error":"#VALUE!"},{"$error":"#VALUE!"}]
["","","","","","",{"$error":"#VALUE!"},{"$error":"#VALUE!"}]
["","","","","","",{"$error":"#VALUE!"},{"$error":"#VALUE!"}]
["","","","","","",{"$error":"#VALUE!"},{"$error":"#VALUE!"}]
["","","","","","",{"$error":"#VALUE!"},{"$error":"#VALUE!"}]
["","","","","","",{"$error":"#VALUE!"},{"$error":"#VALUE!"}]
["","","","","","",{"$error":"#VALUE!"},{"$error":"#VALUE!"}]
["","","","","","",{"$error":"#VALUE!"},{"$error":"#VALUE!"}]
["","","","","","",{"$error":"#VALUE!"},{"$error":"#VALUE!"}]
["","","","","","",{"$error":"#VALUE!"},{"$error":"#VALUE!"}]
["","","","","","",{"$error":"#VALUE!"},{"$error":"#VALUE!"}]
["","","","","","",{"$error":"#VALUE!"},{"$error":"#VALUE!"}]
["","","","","","",{"$error":"#VALUE!"},{"$error":"#VALUE!"}]
["","","","","","",{"$error":"#VALUE!"},{"$error":"#VALUE!"}]
["","","","","","",{"$error":"#VALUE!"},{"$error":"#VALUE!"}]
["","","","","","",{"$error":"#VALUE!"},{"$error":"#VALUE!"}]
["","","","","","",{"$error":"#VALUE!"},{"$error":"#VALUE!"}]
["","","","","","",{"$error":"#VALUE!"},{"$error":"#VALUE!"}]
["","","","","","",{"$error":"#VALUE!"},{"$error":"#VALUE!"}]
["","","","","","",{"$error":"#VALUE!"},{"$error":"#VALUE!"}]
["","","","","","",{"$error":"#VALUE!"},{"$error":"#VALUE!"}]
["","","","","","",{"$error":"#VALUE!"},{"$error":"#VALUE!"}]
["","","","","","",{"$error":"#VALUE!"},{"$error":"#VALUE!"}]
["","","","","","",{"$error":"#VALUE!"},{"$error":"#VALUE!"}]
["","","","","","",{"$error":"#VALUE!"},{"$error":"#VALUE!"}]
["","","","","","",{"$error":"#VALUE!"},{"$error":"#VALUE!"}]
["","","","","","",{"$error":"#VALUE!"},{"$error":"#VALUE!"}]
["","","","","","",{"$error":"#VALUE!"},{"$error":"#VALUE!"}]
["","","","","","",{"$error":"#VALUE!"},{"$error":"#VALUE!"}]
["","","","","","",{"$error":"#VALUE!"},{"$error":"#VALUE!"}]
["","","","","","",{"$error":"#VALUE!"},{"$error":"#VALUE!"}]
["","","","","","",{"$error":"#VALUE!"},{"$error":"#VALUE!"}]
["","","","","","",{"$error":"#VALUE!"},{"$error":"#VALUE!"}]
["","","","","","",{"$error":"#VALUE!"},{"$error":"#VALUE!"}]
["","","","","","",{"$error":"#VALUE!"},{"$error":"#VALUE!"}]
["","","","","","",{"$error":"#VALUE!"},{"$error":"#VALUE!"}]
["","","","","","",{"$error":"#VALUE!"},{"$error":"#VALUE!"}]
["","","","","","",{"$error":"#VALUE!"},{"$error":"#VALUE!"}]
["","","","","","",{"$error":"#VALUE!"},{"$error":"#VALUE!"}]
["","","","","","",{"$error":"#VALUE!"},{"$error":"#VALUE!"}]
["","","","","","",{"$error":"#VALUE!"},{"$error":"#VALUE!"}]
["","","","","","",{"$error":"#VALUE!"},{"$error":"#VALUE!"}]
["","","","","","",{"$error":"#VALUE!"},{"$error":"#VALUE!"}]
["","","","","","",{"$error":"#VALUE!"},{"$error":"#VALUE!"}]
["","","","","","",{"$error":"#VALUE!"},{"$error":"#VALUE!"}]
["","","","","","",{"$error":"#VALUE!"},{"$error":"#VALUE!"}]
["","","","","","",{"$error":"#VALUE!"},{"$error":"#VALUE!"}]
["","","","","","",{"$error":"#VALUE!"},{"$error":"#VALUE!"}]
["","","","","","",{"$error":"#VALUE!"},{"$error":"#VALUE!"}]
["","","","","","",{"$error":"#VALUE!"},{"$error":"#VALUE!"}]
["","","","","","",{"$error":"#VALUE!"},{"$error":"#VALUE!"}]
["","","","","","",{"$error":"#VALUE!"},{"$error":"#VALUE!"}]
["","","","","","",{"$error":"#VALUE!"},{"$error":"#VALUE!"}]
["","","","","","",{"$error":"#VALUE!"},{"$error":"#VALUE!"}]
["","","","","","",{"$error":"#VALUE!"},{"$error":"#VALUE!"}]
["","","","","","",{"$error":"#VALUE!"},{"$error":"#VALUE!"}]
["","","","","","",{"$error":"#VALUE!"},{"$error":"#VALUE!"}]
["","","","","","",{"$error":"#VALUE!"},{"$error":"#VALUE!"}]
["","","","","","",{"$error":"#VALUE!"},{"$error":"#VALUE!"}]
["","","",{"$f":"IF(A597<>\"\",MOD(B597,24)/24,\"\")","v":""},"","",{"$f":"ABS(0.5*1.025*1*(F597^3))","v":{"$error":"#VALUE!"}},{"$f":"G597*$B$13","v":{"$error":"#VALUE!"}}]
[{"$f":"IF(IF(A597<>\"\",A597+1<=$B$16,0),A597+1,\"\")","v":""},{"$f":"IF(A598<>\"\",A598*$B$13,\"\")","v":""},{"$f":"IF(A598<>\"\",ROUNDDOWN(A598*$B$13/24,0),\"\")","v":""},"",{"$f":"IF(A598<>\"\",($B$4+$B$5)/2+($B$5-$B$4)/2*COS(2*PI()/$B$15*B598),\"\")","v":""},{"$f":"IF(A598<>\"\",E598*COS(2*PI()/$B$7*B598),\"\")","v":""},{"$error":"#VALUE!"},{"$error":"#VALUE!"}]
["","","","","","",{"$error":"#VALUE!"},{"$error":"#VALUE!"}]
["","","","","","",{"$error":"#VALUE!"},{"$error":"#VALUE!"}]
["","","","","","",{"$error":"#VALUE!"},{"$error":"#VALUE!"}]
["","","","","","",{"$error":"#VALUE!"},{"$error":"#VALUE!"}]
["","","","","","",{"$error":"#VALUE!"},{"$error":"#VALUE!"}]
["","","","","","",{"$error":"#VALUE!"},{"$error":"#VALUE!"}]
["","","","","","",{"$error":"#VALUE!"},{"$error":"#VALUE!"}]
["","","","","","",{"$error":"#VALUE!"},{"$error":"#VALUE!"}]
["","","","","","",{"$error":"#VALUE!"},{"$error":"#VALUE!"}]
["","","","","","",{"$error":"#VALUE!"},{"$error":"#VALUE!"}]
["","","","","","",{"$error":"#VALUE!"},{"$error":"#VALUE!"}]
["","","","","","",{"$error":"#VALUE!"},{"$error":"#VALUE!"}]
["","","","","","",{"$error":"#VALUE!"},{"$error":"#VALUE!"}]
["","","","","","",{"$error":"#VALUE!"},{"$error":"#VALUE!"}]
["","","","","","",{"$error":"#VALUE!"},{"$error":"#VALUE!"}]
["","","","","","",{"$error":"#VALUE!"},{"$error":"#VALUE!"}]
["","","","","","",{"$error":"#VALUE!"},{"$error":"#VALUE!"}]
["","","","","","",{"$error":"#VALUE!"},{"$error":"#VALUE!"}]
["","","","","","",{"$error":"#VALUE!"},{"$error":"#VALUE!"}]
["","","","","","",{"$error":"#VALUE!"},{"$error":"#VALUE!"}]
["","","","","","",{"$error":"#VALUE!"},{"$error":"#VALUE!"}]
["","","","","","",{"$error":"#VALUE!"},{"$error":"#VALUE!"}]
["","","","","","",{"$error":"#VALUE!"},{"$error":"#VALUE!"}]
["","","","","","",{"$error":"#VALUE!"},{"$error":"#VALUE!"}]
["","","","","","",{"$error":"#VALUE!"},{"$error":"#VALUE!"}]
["","","","","","",{"$error":"#VALUE!"},{"$error":"#VALUE!"}]
["","","","","","",{"$error":"#VALUE!"},{"$error":"#VALUE!"}]
["","","","","","",{"$error":"#VALUE!"},{"$error":"#VALUE!"}]
["","","","","","",{"$error":"#VALUE!"},{"$error":"#VALUE!"}]
["","","","","","",{"$error":"#VALUE!"},{"$error":"#VALUE!"}]
["","","","","","",{"$error":"#VALUE!"},{"$error":"#VALUE!"}]
["","","","","","",{"$error":"#VALUE!"},{"$error":"#VALUE!"}]
["","","","","","",{"$error":"#VALUE!"},{"$error":"#VALUE!"}]
["","","","","","",{"$error":"#VALUE!"},{"$error":"#VALUE!"}]
["","","","","","",{"$error":"#VALUE!"},{"$error":"#VALUE!"}]
["","","","","","",{"$error":"#VALUE!"},{"$error":"#VALUE!"}]
["","","","","","",{"$error":"#VALUE!"},{"$error":"#VALUE!"}]
["","","","","","",{"$error":"#VALUE!"},{"$error":"#VALUE!"}]
["","","","","","",{"$error":"#VALUE!"},{"$error":"#VALUE!"}]
["","","","","","",{"$error":"#VALUE!"},{"$error":"#VALUE!"}]
["","","","","","",{"$error":"#VALUE!"},{"$error":"#VALUE!"}]
["","","","","","",{"$error":"#VALUE!"},{"$error":"#VALUE!"}]
["","","","","","",{"$error":"#VALUE!"},{"$error":"#VALUE!"}]
["","","","","","",{"$error":"#VALUE!"},{"$error":"#VALUE!"}]
["","","","","","",{"$error":"#VALUE!"},{"$error":"#VALUE!"}]
["","","","","","",{"$error":"#VALUE!"},{"$error":"#VALUE!"}]
["","","","","","",{"$error":"#VALUE!"},{"$error":"#VALUE!"}]
["","","","","","",{"$error":"#VALUE!"},{"$error":"#VALUE!"}]
["","","","","","",{"$error":"#VALUE!"},{"$error":"#VALUE!"}]
["","","","","","",{"$error":"#VALUE!"},{"$error":"#VALUE!"}]
["","","","","","",{"$error":"#VALUE!"},{"$error":"#VALUE!"}]
["","","","","","",{"$error":"#VALUE!"},{"$error":"#VALUE!"}]
["","","","","","",{"$error":"#VALUE!"},{"$error":"#VALUE!"}]
["","","","","","",{"$error":"#VALUE!"},{"$error":"#VALUE!"}]
["","","","","","",{"$error":"#VALUE!"},{"$error":"#VALUE!"}]
["","","","","","",{"$error":"#VALUE!"},{"$error":"#VALUE!"}]
["","","","","","",{"$error":"#VALUE!"},{"$error":"#VALUE!"}]
["","","","","","",{"$error":"#VALUE!"},{"$error":"#VALUE!"}]
["","","","","","",{"$error":"#VALUE!"},{"$error":"#VALUE!"}]
["","","","","","",{"$error":"#VALUE!"},{"$error":"#VALUE!"}]
["","","","","","",{"$error":"#VALUE!"},{"$error":"#VALUE!"}]
["","","","","","",{"$error":"#VALUE!"},{"$error":"#VALUE!"}]
["","","",{"$f":"IF(A661<>\"\",MOD(B661,24)/24,\"\")","v":""},"","",{"$f":"ABS(0.5*1.025*1*(F661^3))","v":{"$error":"#VALUE!"}},{"$f":"G661*$B$13","v":{"$error":"#VALUE!"}}]
[{"$f":"IF(IF(A661<>\"\",A661+1<=$B$16,0),A661+1,\"\")","v":""},{"$f":"IF(A662<>\"\",A662*$B$13,\"\")","v":""},{"$f":"IF(A662<>\"\",ROUNDDOWN(A662*$B$13/24,0),\"\")","v":""},"",{"$f":"IF(A662<>\"\",($B$4+$B$5)/2+($B$5-$B$4)/2*COS(2*PI()/$B$15*B662),\"\")","v":""},{"$f":"IF(A662<>\"\",E662*COS(2*PI()/$B$7*B662),\"\")","v":""},{"$error":"#VALUE!"},{"$error":"#VALUE!"}]
["","","","","","",{"$error":"#VALUE!"},{"$error":"#VALUE!"}]
["","","","","","",{"$error":"#VALUE!"},{"$error":"#VALUE!"}]
["","","","","","",{"$error":"#VALUE!"},{"$error":"#VALUE!"}]
["","","","","","",{"$error":"#VALUE!"},{"$error":"#VALUE!"}]
["","","","","","",{"$error":"#VALUE!"},{"$error":"#VALUE!"}]
["","","","","","",{"$error":"#VALUE!"},{"$error":"#VALUE!"}]
["","","","","","",{"$error":"#VALUE!"},{"$error":"#VALUE!"}]
["","","","","","",{"$error":"#VALUE!"},{"$error":"#VALUE!"}]
["","","","","","",{"$error":"#VALUE!"},{"$error":"#VALUE!"}]
["","","","","","",{"$error":"#VALUE!"},{"$error":"#VALUE!"}]
["","","","","","",{"$error":"#VALUE!"},{"$error":"#VALUE!"}]
["","","","","","",{"$error":"#VALUE!"},{"$error":"#VALUE!"}]
["","","","","","",{"$error":"#VALUE!"},{"$error":"#VALUE!"}]
["","","","","","",{"$error":"#VALUE!"},{"$error":"#VALUE!"}]
["","","","","","",{"$error":"#VALUE!"},{"$error":"#VALUE!"}]
["","","","","","",{"$error":"#VALUE!"},{"$error":"#VALUE!"}]
["","","","","","",{"$error":"#VALUE!"},{"$error":"#VALUE!"}]
["","","","","","",{"$error":"#VALUE!"},{"$error":"#VALUE!"}]
["","","","","","",{"$error":"#VALUE!"},{"$error":"#VALUE!"}]
["","","","","","",{"$error":"#VALUE!"},{"$error":"#VALUE!"}]
["","","","","","",{"$error":"#VALUE!"},{"$error":"#VALUE!"}]
["","","","","","",{"$error":"#VALUE!"},{"$error":"#VALUE!"}]
["","","","","","",{"$error":"#VALUE!"},{"$error":"#VALUE!"}]
["","","","","","",{"$error":"#VALUE!"},{"$error":"#VALUE!"}]
["","","","","","",{"$error":"#VALUE!"},{"$error":"#VALUE!"}]
["","","","","","",{"$error":"#VALUE!"},{"$error":"#VALUE!"}]
["","","","","","",{"$error":"#VALUE!"},{"$error":"#VALUE!"}]
["","","","","","",{"$error":"#VALUE!"},{"$error":"#VALUE!"}]
["","","","","","",{"$error":"#VALUE!"},{"$error":"#VALUE!"}]
["","","","","","",{"$error":"#VALUE!"},{"$error":"#VALUE!"}]
["","","","","","",{"$error":"#VALUE!"},{"$error":"#VALUE!"}]
["","","","","","",{"$error":"#VALUE!"},{"$error":"#VALUE!"}]
["","","","","","",{"$error":"#VALUE!"},{"$error":"#VALUE!"}]
["","","","","","",{"$error":"#VALUE!"},{"$error":"#VALUE!"}]
["","","","","","",{"$error":"#VALUE!"},{"$error":"#VALUE!"}]
["","","","","","",{"$error":"#VALUE!"},{"$error":"#VALUE!"}]
["","","","","","",{"$error":"#VALUE!"},{"$error":"#VALUE!"}]
["","","","","","",{"$error":"#VALUE!"},{"$error":"#VALUE!"}]
["","","","","","",{"$error":"#VALUE!"},{"$error":"#VALUE!"}]
["","","","","","",{"$error":"#VALUE!"},{"$error":"#VALUE!"}]
["","","","","","",{"$error":"#VALUE!"},{"$error":"#VALUE!"}]
["","","","","","",{"$error":"#VALUE!"},{"$error":"#VALUE!"}]
["","","","","","",{"$error":"#VALUE!"},{"$error":"#VALUE!"}]
["","","","","","",{"$error":"#VALUE!"},{"$error":"#VALUE!"}]
["","","","","","",{"$error":"#VALUE!"},{"$error":"#VALUE!"}]
["","","","","","",{"$error":"#VALUE!"},{"$error":"#VALUE!"}]
["","","","","","",{"$error":"#VALUE!"},{"$error":"#VALUE!"}]
["","","","","","",{"$error":"#VALUE!"},{"$error":"#VALUE!"}]
["","","","","","",{"$error":"#VALUE!"},{"$error":"#VALUE!"}]
["","","","","","",{"$error":"#VALUE!"},{"$error":"#VALUE!"}]
["","","","","","",{"$error":"#VALUE!"},{"$error":"#VALUE!"}]
["","","","","","",{"$error":"#VALUE!"},{"$error":"#VALUE!"}]
["","","","","","",{"$error":"#VALUE!"},{"$error":"#VALUE!"}]
["","","","","","",{"$error":"#VALUE!"},{"$error":"#VALUE!"}]
["","","","","","",{"$error":"#VALUE!"},{"$error":"#VALUE!"}]
["","","","","","",{"$error":"#VALUE!"},{"$error":"#VALUE!"}]
["","","","","","",{"$error":"#VALUE!"},{"$error":"#VALUE!"}]
["","","","","","",{"$error":"#VALUE!"},{"$error":"#VALUE!"}]
["","","","","","",{"$error":"#VALUE!"},{"$error":"#VALUE!"}]
["","","","","","",{"$error":"#VALUE!"},{"$error":"#VALUE!"}]
["","","","","","",{"$error":"#VALUE!"},{"$error":"#VALUE!"}]
["","","","","","",{"$error":"#VALUE!"},{"$error":"#VALUE!"}]
["","","",{"$f":"IF(A725<>\"\",MOD(B725,24)/24,\"\")","v":""},"","",{"$f":"ABS(0.5*1.025*1*(F725^3))","v":{"$error":"#VALUE!"}},{"$f":"G725*$B$13","v":{"$error":"#VALUE!"}}]
[{"$f":"IF(IF(A725<>\"\",A725+1<=$B$16,0),A725+1,\"\")","v":""},{"$f":"IF(A726<>\"\",A726*$B$13,\"\")","v":""},{"$f":"IF(A726<>\"\",ROUNDDOWN(A726*$B$13/24,0),\"\")","v":""},"",{"$f":"IF(A726<>\"\",($B$4+$B$5)/2+($B$5-$B$4)/2*COS(2*PI()/$B$15*B726),\"\")","v":""},{"$f":"IF(A726<>\"\",E726*COS(2*PI()/$B$7*B726),\"\")","v":""},{"$error":"#VALUE!"},{"$error":"#VALUE!"}]
["","","","","","",{"$error":"#VALUE!"},{"$error":"#VALUE!"}]
["","","","","","",{"$error":"#VALUE!"},{"$error":"#VALUE!"}]
["","","","","","",{"$error":"#VALUE!"},{"$error":"#VALUE!"}]
["","","","","","",{"$error":"#VALUE!"},{"$error":"#VALUE!"}]
["","","","","","",{"$error":"#VALUE!"},{"$error":"#VALUE!"}]
["","","","","","",{"$error":"#VALUE!"},{"$error":"#VALUE!"}]
["","","","","","",{"$error":"#VALUE!"},{"$error":"#VALUE!"}]
["","","","","","",{"$error":"#VALUE!"},{"$error":"#VALUE!"}]
["","","","","","",{"$error":"#VALUE!"},{"$error":"#VALUE!"}]
["","","","","","",{"$error":"#VALUE!"},{"$error":"#VALUE!"}]
["","","","","","",{"$error":"#VALUE!"},{"$error":"#VALUE!"}]
["","","","","","",{"$error":"#VALUE!"},{"$error":"#VALUE!"}]
["","","","","","",{"$error":"#VALUE!"},{"$error":"#VALUE!"}]
["","","","","","",{"$error":"#VALUE!"},{"$error":"#VALUE!"}]
["","","","","","",{"$error":"#VALUE!"},{"$error":"#VALUE!"}]
["","","","","","",{"$error":"#VALUE!"},{"$error":"#VALUE!"}]
["","","","","","",{"$error":"#VALUE!"},{"$error":"#VALUE!"}]
["","","","","","",{"$error":"#VALUE!"},{"$error":"#VALUE!"}]
["","","","","","",{"$error":"#VALUE!"},{"$error":"#VALUE!"}]
["","","","","","",{"$error":"#VALUE!"},{"$error":"#VALUE!"}]
["","","","","","",{"$error":"#VALUE!"},{"$error":"#VALUE!"}]
["","","","","","",{"$error":"#VALUE!"},{"$error":"#VALUE!"}]
["","","","","","",{"$error":"#VALUE!"},{"$error":"#VALUE!"}]
["","","","","","",{"$error":"#VALUE!"},{"$error":"#VALUE!"}]
["","","","","","",{"$error":"#VALUE!"},{"$error":"#VALUE!"}]
["","","","","","",{"$error":"#VALUE!"},{"$error":"#VALUE!"}]
["","","","","","",{"$error":"#VALUE!"},{"$error":"#VALUE!"}]
["","","","","","",{"$error":"#VALUE!"},{"$error":"#VALUE!"}]
["","","","","","",{"$error":"#VALUE!"},{"$error":"#VALUE!"}]
["","","","","","",{"$error":"#VALUE!"},{"$error":"#VALUE!"}]
["","","","","","",{"$error":"#VALUE!"},{"$error":"#VALUE!"}]
["","","","","","",{"$error":"#VALUE!"},{"$error":"#VALUE!"}]
["","","","","","",{"$error":"#VALUE!"},{"$error":"#VALUE!"}]
["","","","","","",{"$error":"#VALUE!"},{"$error":"#VALUE!"}]
["","","","","","",{"$error":"#VALUE!"},{"$error":"#VALUE!"}]
["","","","","","",{"$error":"#VALUE!"},{"$error":"#VALUE!"}]
["","","","","","",{"$error":"#VALUE!"},{"$error":"#VALUE!"}]
["","","","","","",{"$error":"#VALUE!"},{"$error":"#VALUE!"}]
["","","","","","",{"$error":"#VALUE!"},{"$error":"#VALUE!"}]
["","","","","","",{"$error":"#VALUE!"},{"$error":"#VALUE!"}]
["","","","","","",{"$error":"#VALUE!"},{"$error":"#VALUE!"}]
["","","","","","",{"$error":"#VALUE!"},{"$error":"#VALUE!"}]
["","","","","","",{"$error":"#VALUE!"},{"$error":"#VALUE!"}]
["","","","","","",{"$error":"#VALUE!"},{"$error":"#VALUE!"}]
["","","","","","",{"$error":"#VALUE!"},{"$error":"#VALUE!"}]
["","","","","","",{"$error":"#VALUE!"},{"$error":"#VALUE!"}]
["","","","","","",{"$error":"#VALUE!"},{"$error":"#VALUE!"}]
["","","","","","",{"$error":"#VALUE!"},{"$error":"#VALUE!"}]
["","","","","","",{"$error":"#VALUE!"},{"$error":"#VALUE!"}]
["","","","","","",{"$error":"#VALUE!"},{"$error":"#VALUE!"}]
["","","","","","",{"$error":"#VALUE!"},{"$error":"#VALUE!"}]
["","","","","","",{"$error":"#VALUE!"},{"$error":"#VALUE!"}]
["","","","","","",{"$error":"#VALUE!"},{"$error":"#VALUE!"}]
["","","","","","",{"$error":"#VALUE!"},{"$error":"#VALUE!"}]
["","","","","","",{"$error":"#VALUE!"},{"$error":"#VALUE!"}]
["","","","","","",{"$error":"#VALUE!"},{"$error":"#VALUE!"}]
["","","","","","",{"$error":"#VALUE!"},{"$error":"#VALUE!"}]
["","","","","","",{"$error":"#VALUE!"},{"$error":"#VALUE!"}]
["","","","","","",{"$error":"#VALUE!"},{"$error":"#VALUE!"}]
["","","","","","",{"$error":"#VALUE!"},{"$error":"#VALUE!"}]
["","","","","","",{"$error":"#VALUE!"},{"$error":"#VALUE!"}]
["","","","","","",{"$error":"#VALUE!"},{"$error":"#VALUE!"}]
["","","",{"$f":"IF(A789<>\"\",MOD(B789,24)/24,\"\")","v":""},"","",{"$f":"ABS(0.5*1.025*1*(F789^3))","v":{"$error":"#VALUE!"}},{"$f":"G789*$B$13","v":{"$error":"#VALUE!"}}]
[{"$f":"IF(IF(A789<>\"\",A789+1<=$B$16,0),A789+1,\"\")","v":""},{"$f":"IF(A790<>\"\",A790*$B$13,\"\")","v":""},{"$f":"IF(A790<>\"\",ROUNDDOWN(A790*$B$13/24,0),\"\")","v":""},"",{"$f":"IF(A790<>\"\",($B$4+$B$5)/2+($B$5-$B$4)/2*COS(2*PI()/$B$15*B790),\"\")","v":""},{"$f":"IF(A790<>\"\",E790*COS(2*PI()/$B$7*B790),\"\")","v":""},{"$error":"#VALUE!"},{"$error":"#VALUE!"}]
["","","","","","",{"$error":"#VALUE!"},{"$error":"#VALUE!"}]
["","","","","","",{"$error":"#VALUE!"},{"$error":"#VALUE!"}]
["","","","","","",{"$error":"#VALUE!"},{"$error":"#VALUE!"}]
["","","","","","",{"$error":"#VALUE!"},{"$error":"#VALUE!"}]
["","","","","","",{"$error":"#VALUE!"},{"$error":"#VALUE!"}]
["","","","","","",{"$error":"#VALUE!"},{"$error":"#VALUE!"}]
["","","","","","",{"$error":"#VALUE!"},{"$error":"#VALUE!"}]
["","","","","","",{"$error":"#VALUE!"},{"$error":"#VALUE!"}]
["","","","","","",{"$error":"#VALUE!"},{"$error":"#VALUE!"}]
["","","","","","",{"$error":"#VALUE!"},{"$error":"#VALUE!"}]
["","","","","","",{"$error":"#VALUE!"},{"$error":"#VALUE!"}]
["","","","","","",{"$error":"#VALUE!"},{"$error":"#VALUE!"}]
["","","","","","",{"$error":"#VALUE!"},{"$error":"#VALUE!"}]
["","","","","","",{"$error":"#VALUE!"},{"$error":"#VALUE!"}]
["","","","","","",{"$error":"#VALUE!"},{"$error":"#VALUE!"}]
["","","","","","",{"$error":"#VALUE!"},{"$error":"#VALUE!"}]
["","","","","","",{"$error":"#VALUE!"},{"$error":"#VALUE!"}]
["","","","","","",{"$error":"#VALUE!"},{"$error":"#VALUE!"}]
["","","","","","",{"$error":"#VALUE!"},{"$error":"#VALUE!"}]
["","","","","","",{"$error":"#VALUE!"},{"$error":"#VALUE!"}]
["","","","","","",{"$error":"#VALUE!"},{"$error":"#VALUE!"}]
["","","","","","",{"$error":"#VALUE!"},{"$error":"#VALUE!"}]
["","","","","","",{"$error":"#VALUE!"},{"$error":"#VALUE!"}]
["","","","","","",{"$error":"#VALUE!"},{"$error":"#VALUE!"}]
["","","","","","",{"$error":"#VALUE!"},{"$error":"#VALUE!"}]
["","","","","","",{"$error":"#VALUE!"},{"$error":"#VALUE!"}]
["","","","","","",{"$error":"#VALUE!"},{"$error":"#VALUE!"}]
["","","","","","",{"$error":"#VALUE!"},{"$error":"#VALUE!"}]
["","","","","","",{"$error":"#VALUE!"},{"$error":"#VALUE!"}]
["","","","","","",{"$error":"#VALUE!"},{"$error":"#VALUE!"}]
["","","","","","",{"$error":"#VALUE!"},{"$error":"#VALUE!"}]
["","","","","","",{"$error":"#VALUE!"},{"$error":"#VALUE!"}]
["","","","","","",{"$error":"#VALUE!"},{"$error":"#VALUE!"}]
["","","","","","",{"$error":"#VALUE!"},{"$error":"#VALUE!"}]
["","","","","","",{"$error":"#VALUE!"},{"$error":"#VALUE!"}]
["","","","","","",{"$error":"#VALUE!"},{"$error":"#VALUE!"}]
["","","","","","",{"$error":"#VALUE!"},{"$error":"#VALUE!"}]
["","","","","","",{"$error":"#VALUE!"},{"$error":"#VALUE!"}]
["","","","","","",{"$error":"#VALUE!"},{"$error":"#VALUE!"}]
["","","","","","",{"$error":"#VALUE!"},{"$error":"#VALUE!"}]
["","","","","","",{"$error":"#VALUE!"},{"$error":"#VALUE!"}]
["","","","","","",{"$error":"#VALUE!"},{"$error":"#VALUE!"}]
["","","","","","",{"$error":"#VALUE!"},{"$error":"#VALUE!"}]
["","","","","","",{"$error":"#VALUE!"},{"$error":"#VALUE!"}]
["","","","","","",{"$error":"#VALUE!"},{"$error":"#VALUE!"}]
["","","","","","",{"$error":"#VALUE!"},{"$error":"#VALUE!"}]
["","","","","","",{"$error":"#VALUE!"},{"$error":"#VALUE!"}]
["","","","","","",{"$error":"#VALUE!"},{"$error":"#VALUE!"}]
["","","","","","",{"$error":"#VALUE!"},{"$error":"#VALUE!"}]
["","","","","","",{"$error":"#VALUE!"},{"$error":"#VALUE!"}]
["","","","","","",{"$error":"#VALUE!"},{"$error":"#VALUE!"}]
["","","","","","",{"$error":"#VALUE!"},{"$error":"#VALUE!"}]
["","","","","","",{"$error":"#VALUE!"},{"$error":"#VALUE!"}]
["","","","","","",{"$error":"#VALUE!"},{"$error":"#VALUE!"}]
["","","","","","",{"$error":"#VALUE!"},{"$error":"#VALUE!"}]
["","","","","","",{"$error":"#VALUE!"},{"$error":"#VALUE!"}]
["","","","","","",{"$error":"#VALUE!"},{"$error":"#VALUE!"}]
["","","","","","",{"$error":"#VALUE!"},{"$error":"#VALUE!"}]
["","","","","","",{"$error":"#VALUE!"},{"$error":"#VALUE!"}]
["","","","","","",{"$error":"#VALUE!"},{"$error":"#VALUE!"}]
["","","","","","",{"$error":"#VALUE!"},{"$error":"#VALUE!"}]
["","","","","","",{"$error":"#VALUE!"},{"$error":"#VALUE!"}]
["","","",{"$f":"IF(A853<>\"\",MOD(B853,24)/24,\"\")","v":""},"","",{"$f":"ABS(0.5*1.025*1*(F853^3))","v":{"$error":"#VALUE!"}},{"$f":"G853*$B$13","v":{"$error":"#VALUE!"}}]
[{"$f":"IF(IF(A853<>\"\",A853+1<=$B$16,0),A853+1,\"\")","v":""},{"$f":"IF(A854<>\"\",A854*$B$13,\"\")","v":""},{"$f":"IF(A854<>\"\",ROUNDDOWN(A854*$B$13/24,0),\"\")","v":""},"",{"$f":"IF(A854<>\"\",($B$4+$B$5)/2+($B$5-$B$4)/2*COS(2*PI()/$B$15*B854),\"\")","v":""},{"$f":"IF(A854<>\"\",E854*COS(2*PI()/$B$7*B854),\"\")","v":""},{"$error":"#VALUE!"},{"$error":"#VALUE!"}]
["","","","","","",{"$error":"#VALUE!"},{"$error":"#VALUE!"}]
["","","","","","",{"$error":"#VALUE!"},{"$error":"#VALUE!"}]
["","","","","","",{"$error":"#VALUE!"},{"$error":"#VALUE!"}]
["","","","","","",{"$error":"#VALUE!"},{"$error":"#VALUE!"}]
["","","","","","",{"$error":"#VALUE!"},{"$error":"#VALUE!"}]
["","","","","","",{"$error":"#VALUE!"},{"$error":"#VALUE!"}]
["","","","","","",{"$error":"#VALUE!"},{"$error":"#VALUE!"}]
["","","","","","",{"$error":"#VALUE!"},{"$error":"#VALUE!"}]
["","","","","","",{"$error":"#VALUE!"},{"$error":"#VALUE!"}]
["","","","","","",{"$error":"#VALUE!"},{"$error":"#VALUE!"}]
["","","","","","",{"$error":"#VALUE!"},{"$error":"#VALUE!"}]
["","","","","","",{"$error":"#VALUE!"},{"$error":"#VALUE!"}]
["","","","","","",{"$error":"#VALUE!"},{"$error":"#VALUE!"}]
["","","","","","",{"$error":"#VALUE!"},{"$error":"#VALUE!"}]
["","","","","","",{"$error":"#VALUE!"},{"$error":"#VALUE!"}]
["","","","","","",{"$error":"#VALUE!"},{"$error":"#VALUE!"}]
["","","","","","",{"$error":"#VALUE!"},{"$error":"#VALUE!"}]
["","","","","","",{"$error":"#VALUE!"},{"$error":"#VALUE!"}]
["","","","","","",{"$error":"#VALUE!"},{"$error":"#VALUE!"}]
["","","","","","",{"$error":"#VALUE!"},{"$error":"#VALUE!"}]
["","","","","","",{"$error":"#VALUE!"},{"$error":"#VALUE!"}]
["","","","","","",{"$error":"#VALUE!"},{"$error":"#VALUE!"}]
["","","","","","",{"$error":"#VALUE!"},{"$error":"#VALUE!"}]
["","","","","","",{"$error":"#VALUE!"},{"$error":"#VALUE!"}]
["","","","","","",{"$error":"#VALUE!"},{"$error":"#VALUE!"}]
["","","","","","",{"$error":"#VALUE!"},{"$error":"#VALUE!"}]
["","","","","","",{"$error":"#VALUE!"},{"$error":"#VALUE!"}]
["","","","","","",{"$error":"#VALUE!"},{"$error":"#VALUE!"}]
["","","","","","",{"$error":"#VALUE!"},{"$error":"#VALUE!"}]
["","","","","","",{"$error":"#VALUE!"},{"$error":"#VALUE!"}]
["","","","","","",{"$error":"#VALUE!"},{"$error":"#VALUE!"}]
["","","","","","",{"$error":"#VALUE!"},{"$error":"#VALUE!"}]
["","","","","","",{"$error":"#VALUE!"},{"$error":"#VALUE!"}]
["","","","","","",{"$error":"#VALUE!"},{"$error":"#VALUE!"}]
["","","","","","",{"$error":"#VALUE!"},{"$error":"#VALUE!"}]
["","","","","","",{"$error":"#VALUE!"},{"$error":"#VALUE!"}]
["","","","","","",{"$error":"#VALUE!"},{"$error":"#VALUE!"}]
["","","","","","",{"$error":"#VALUE!"},{"$error":"#VALUE!"}]
["","","","","","",{"$error":"#VALUE!"},{"$error":"#VALUE!"}]
["","","","","","",{"$error":"#VALUE!"},{"$error":"#VALUE!"}]
["","","","","","",{"$error":"#VALUE!"},{"$error":"#VALUE!"}]
["","","","","","",{"$error":"#VALUE!"},{"$error":"#VALUE!"}]
["","","","","","",{"$error":"#VALUE!"},{"$error":"#VALUE!"}]
["","","","","","",{"$error":"#VALUE!"},{"$error":"#VALUE!"}]
["","","","","","",{"$error":"#VALUE!"},{"$error":"#VALUE!"}]
["","","","","","",{"$error":"#VALUE!"},{"$error":"#VALUE!"}]
["","","","","","",{"$error":"#VALUE!"},{"$error":"#VALUE!"}]
["","","","","","",{"$error":"#VALUE!"},{"$error":"#VALUE!"}]
["","","","","","",{"$error":"#VALUE!"},{"$error":"#VALUE!"}]
["","","","","","",{"$error":"#VALUE!"},{"$error":"#VALUE!"}]
["","","","","","",{"$error":"#VALUE!"},{"$error":"#VALUE!"}]
["","","","","","",{"$error":"#VALUE!"},{"$error":"#VALUE!"}]
["","","","","","",{"$error":"#VALUE!"},{"$error":"#VALUE!"}]
["","","","","","",{"$error":"#VALUE!"},{"$error":"#VALUE!"}]
["","","","","","",{"$error":"#VALUE!"},{"$error":"#VALUE!"}]
["","","","","","",{"$error":"#VALUE!"},{"$error":"#VALUE!"}]
["","","","","","",{"$error":"#VALUE!"},{"$error":"#VALUE!"}]
["","","","","","",{"$error":"#VALUE!"},{"$error":"#VALUE!"}]
["","","","","","",{"$error":"#VALUE!"},{"$error":"#VALUE!"}]
["","","","","","",{"$error":"#VALUE!"},{"$error":"#VALUE!"}]
["","","","","","",{"$error":"#VALUE!"},{"$error":"#VALUE!"}]
["","","","","","",{"$error":"#VALUE!"},{"$error":"#VALUE!"}]
["","","",{"$f":"IF(A917<>\"\",MOD(B917,24)/24,\"\")","v":""},"","",{"$f":"ABS(0.5*1.025*1*(F917^3))","v":{"$error":"#VALUE!"}},{"$f":"G917*$B$13","v":{"$error":"#VALUE!"}}]
[{"$f":"IF(IF(A917<>\"\",A917+1<=$B$16,0),A917+1,\"\")","v":""},{"$f":"IF(A918<>\"\",A918*$B$13,\"\")","v":""},{"$f":"IF(A918<>\"\",ROUNDDOWN(A918*$B$13/24,0),\"\")","v":""},"",{"$f":"IF(A918<>\"\",($B$4+$B$5)/2+($B$5-$B$4)/2*COS(2*PI()/$B$15*B918),\"\")","v":""},{"$f":"IF(A918<>\"\",E918*COS(2*PI()/$B$7*B918),\"\")","v":""},{"$error":"#VALUE!"},{"$error":"#VALUE!"}]
["","","","","","",{"$error":"#VALUE!"},{"$error":"#VALUE!"}]
["","","","","","",{"$error":"#VALUE!"},{"$error":"#VALUE!"}]
["","","","","","",{"$error":"#VALUE!"},{"$error":"#VALUE!"}]
["","","","","","",{"$error":"#VALUE!"},{"$error":"#VALUE!"}]
["","","","","","",{"$error":"#VALUE!"},{"$error":"#VALUE!"}]
["","","","","","",{"$error":"#VALUE!"},{"$error":"#VALUE!"}]
["","","","","","",{"$error":"#VALUE!"},{"$error":"#VALUE!"}]
["","","","","","",{"$error":"#VALUE!"},{"$error":"#VALUE!"}]
["","","","","","",{"$error":"#VALUE!"},{"$error":"#VALUE!"}]
["","","","","","",{"$error":"#VALUE!"},{"$error":"#VALUE!"}]
["","","","","","",{"$error":"#VALUE!"},{"$error":"#VALUE!"}]
["","","","","","",{"$error":"#VALUE!"},{"$error":"#VALUE!"}]
["","","","","","",{"$error":"#VALUE!"},{"$error":"#VALUE!"}]
["","","","","","",{"$error":"#VALUE!"},{"$error":"#VALUE!"}]
["","","","","","",{"$error":"#VALUE!"},{"$error":"#VALUE!"}]
["","","","","","",{"$error":"#VALUE!"},{"$error":"#VALUE!"}]
["","","","","","",{"$error":"#VALUE!"},{"$error":"#VALUE!"}]
["","","","","","",{"$error":"#VALUE!"},{"$error":"#VALUE!"}]
["","","","","","",{"$error":"#VALUE!"},{"$error":"#VALUE!"}]
["","","","","","",{"$error":"#VALUE!"},{"$error":"#VALUE!"}]
["","","","","","",{"$error":"#VALUE!"},{"$error":"#VALUE!"}]
["","","","","","",{"$error":"#VALUE!"},{"$error":"#VALUE!"}]
["","","","","","",{"$error":"#VALUE!"},{"$error":"#VALUE!"}]
["","","","","","",{"$error":"#VALUE!"},{"$error":"#VALUE!"}]
["","","","","","",{"$error":"#VALUE!"},{"$error":"#VALUE!"}]
["","","","","","",{"$error":"#VALUE!"},{"$error":"#VALUE!"}]
["","","","","","",{"$error":"#VALUE!"},{"$error":"#VALUE!"}]
["","","","","","",{"$error":"#VALUE!"},{"$error":"#VALUE!"}]
["","","","","","",{"$error":"#VALUE!"},{"$error":"#VALUE!"}]
["","","","","","",{"$error":"#VALUE!"},{"$error":"#VALUE!"}]
["","","","","","",{"$error":"#VALUE!"},{"$error":"#VALUE!"}]
["","","","","","",{"$error":"#VALUE!"},{"$error":"#VALUE!"}]
["","","","","","",{"$error":"#VALUE!"},{"$error":"#VALUE!"}]
["","","","","","",{"$error":"#VALUE!"},{"$error":"#VALUE!"}]
["","","","","","",{"$error":"#VALUE!"},{"$error":"#VALUE!"}]
["","","","","","",{"$error":"#VALUE!"},{"$error":"#VALUE!"}]
["","","","","","",{"$error":"#VALUE!"},{"$error":"#VALUE!"}]
["","","","","","",{"$error":"#VALUE!"},{"$error":"#VALUE!"}]
["","","","","","",{"$error":"#VALUE!"},{"$error":"#VALUE!"}]
["","","","","","",{"$error":"#VALUE!"},{"$error":"#VALUE!"}]
["","","","","","",{"$error":"#VALUE!"},{"$error":"#VALUE!"}]
["","","","","","",{"$error":"#VALUE!"},{"$error":"#VALUE!"}]
["","","","","","",{"$error":"#VALUE!"},{"$error":"#VALUE!"}]
["","","","","","",{"$error":"#VALUE!"},{"$error":"#VALUE!"}]
["","","","","","",{"$error":"#VALUE!"},{"$error":"#VALUE!"}]
["","","","","","",{"$error":"#VALUE!"},{"$error":"#VALUE!"}]
["","","","","","",{"$error":"#VALUE!"},{"$error":"#VALUE!"}]
["","","","","","",{"$error":"#VALUE!"},{"$error":"#VALUE!"}]
["","","","","","",{"$error":"#VALUE!"},{"$error":"#VALUE!"}]
["","","","","","",{"$error":"#VALUE!"},{"$error":"#VALUE!"}]
["","","","","","",{"$error":"#VALUE!"},{"$error":"#VALUE!"}]
["","","","","","",{"$error":"#VALUE!"},{"$error":"#VALUE!"}]
["","","","","","",{"$error":"#VALUE!"},{"$error":"#VALUE!"}]
["","","","","","",{"$error":"#VALUE!"},{"$error":"#VALUE!"}]
["","","","","","",{"$error":"#VALUE!"},{"$error":"#VALUE!"}]
["","","","","","",{"$error":"#VALUE!"},{"$error":"#VALUE!"}]
["","","","","","",{"$error":"#VALUE!"},{"$error":"#VALUE!"}]
["","","","","","",{"$error":"#VALUE!"},{"$error":"#VALUE!"}]
["","","","","","",{"$error":"#VALUE!"},{"$error":"#VALUE!"}]
["","","","","","",{"$error":"#VALUE!"},{"$error":"#VALUE!"}]
["","","","","","",{"$error":"#VALUE!"},{"$error":"#VALUE!"}]
["","","","","","",{"$error":"#VALUE!"},{"$error":"#VALUE!"}]
["","","",{"$f":"IF(A981<>\"\",MOD(B981,24)/24,\"\")","v":""},"","",{"$f":"ABS(0.5*1.025*1*(F981^3))","v":{"$error":"#VALUE!"}},{"$f":"G981*$B$13","v":{"$error":"#VALUE!"}}]
[{"$f":"IF(IF(A981<>\"\",A981+1<=$B$16,0),A981+1,\"\")","v":""},{"$f":"IF(A982<>\"\",A982*$B$13,\"\")","v":""},{"$f":"IF(A982<>\"\",ROUNDDOWN(A982*$B$13/24,0),\"\")","v":""},"",{"$f":"IF(A982<>\"\",($B$4+$B$5)/2+($B$5-$B$4)/2*COS(2*PI()/$B$15*B982),\"\")","v":""},{"$f":"IF(A982<>\"\",E982*COS(2*PI()/$B$7*B982),\"\")","v":""},{"$error":"#VALUE!"},{"$error":"#VALUE!"}]
["","","","","","",{"$error":"#VALUE!"},{"$error":"#VALUE!"}]
["","","","","","",{"$error":"#VALUE!"},{"$error":"#VALUE!"}]
["","","","","","",{"$error":"#VALUE!"},{"$error":"#VALUE!"}]
["","","","","","",{"$error":"#VALUE!"},{"$error":"#VALUE!"}]
["","","","","","",{"$error":"#VALUE!"},{"$error":"#VALUE!"}]
["","","","","","",{"$error":"#VALUE!"},{"$error":"#VALUE!"}]
["","","","","","",{"$error":"#VALUE!"},{"$error":"#VALUE!"}]
["","","","","","",{"$error":"#VALUE!"},{"$error":"#VALUE!"}]
["","","","","","",{"$error":"#VALUE!"},{"$error":"#VALUE!"}]
["","","","","","",{"$error":"#VALUE!"},{"$error":"#VALUE!"}]
["","","","","","",{"$error":"#VALUE!"},{"$error":"#VALUE!"}]
["","","","","","",{"$error":"#VALUE!"},{"$error":"#VALUE!"}]
["","","","","","",{"$error":"#VALUE!"},{"$error":"#VALUE!"}]
["","","","","","",{"$error":"#VALUE!"},{"$error":"#VALUE!"}]
["","","","","","",{"$error":"#VALUE!"},{"$error":"#VALUE!"}]
["","","","","","",{"$error":"#VALUE!"},{"$error":"#VALUE!"}]
["","","","","","",{"$error":"#VALUE!"},{"$error":"#VALUE!"}]
["","","","","","",{"$error":"#VALUE!"},{"$error":"#VALUE!"}]
["","","","","","",{"$error":"#VALUE!"},{"$error":"#VALUE!"}]
["","","","","","",{"$error":"#VALUE!"},{"$error":"#VALUE!"}]
["","","","","","",{"$error":"#VALUE!"},{"$error":"#VALUE!"}]
["","","","","","",{"$error":"#VALUE!"},{"$error":"#VALUE!"}]
["","","","","","",{"$error":"#VALUE!"},{"$error":"#VALUE!"}]
["","","","","","",{"$error":"#VALUE!"},{"$error":"#VALUE!"}]
["","","","","","",{"$error":"#VALUE!"},{"$error":"#VALUE!"}]
["","","","","","",{"$error":"#VALUE!"},{"$error":"#VALUE!"}]
["","","","","","",{"$error":"#VALUE!"},{"$error":"#VALUE!"}]
["","","","","","",{"$error":"#VALUE!"},{"$error":"#VALUE!"}]
["","","","","","",{"$error":"#VALUE!"},{"$error":"#VALUE!"}]
["","","","","","",{"$error":"#VALUE!"},{"$error":"#VALUE!"}]
["","","","","","",{"$error":"#VALUE!"},{"$error":"#VALUE!"}]
["","","","","","",{"$error":"#VALUE!"},{"$error":"#VALUE!"}]
["","","","","","",{"$error":"#VALUE!"},{"$error":"#VALUE!"}]
["","","","","","",{"$error":"#VALUE!"},{"$error":"#VALUE!"}]
["","","","","","",{"$error":"#VALUE!"},{"$error":"#VALUE!"}]
["","","","","","",{"$error":"#VALUE!"},{"$error":"#VALUE!"}]
["","","","","","",{"$error":"#VALUE!"},{"$error":"#VALUE!"}]
["","","","","","",{"$error":"#VALUE!"},{"$error":"#VALUE!"}]
["","","","","","",{"$error":"#VALUE!"},{"$error":"#VALUE!"}]
["","","","","","",{"$error":"#VALUE!"},{"$error":"#VALUE!"}]
["","","","","","",{"$error":"#VALUE!"},{"$error":"#VALUE!"}]
["","","","","","",{"$error":"#VALUE!"},{"$error":"#VALUE!"}]
["","","","","","",{"$error":"#VALUE!"},{"$error":"#VALUE!"}]
["","","","","","",{"$error":"#VALUE!"},{"$error":"#VALUE!"}]
["","","","","","",{"$error":"#VALUE!"},{"$error":"#VALUE!"}]
["","","","","","",{"$error":"#VALUE!"},{"$error":"#VALUE!"}]
["","","","","","",{"$error":"#VALUE!"},{"$error":"#VALUE!"}]
["","","","","","",{"$error":"#VALUE!"},{"$error":"#VALUE!"}]
["","","","","","",{"$error":"#VALUE!"},{"$error":"#VALUE!"}]
["","","","","","",{"$error":"#VALUE!"},{"$error":"#VALUE!"}]
["","","","","","",{"$error":"#VALUE!"},{"$error":"#VALUE!"}]
["","","","","","",{"$error":"#VALUE!"},{"$error":"#VALUE!"}]
["","","","","","",{"$error":"#VALUE!"},{"$error":"#VALUE!"}]
["","","","","","",{"$error":"#VALUE!"},{"$error":"#VALUE!"}]
["","","","","","",{"$error":"#VALUE!"},{"$error":"#VALUE!"}]
["","","","","","",{"$error":"#VALUE!"},{"$error":"#VALUE!"}]
["","","","","","",{"$error":"#VALUE!"},{"$error":"#VALUE!"}]
["","","","","","",{"$error":"#VALUE!"},{"$error":"#VALUE!"}]
["","","","","","",{"$error":"#VALUE!"},{"$error":"#VALUE!"}]
["","","","","","",{"$error":"#VALUE!"},{"$error":"#VALUE!"}]
["","","","","","",{"$error":"#VALUE!"},{"$error":"#VALUE!"}]
["","","","","","",{"$error":"#VALUE!"},{"$error":"#VALUE!"}]
["","","",{"$f":"IF(A1045<>\"\",MOD(B1045,24)/24,\"\")","v":""},"","",{"$f":"ABS(0.5*1.025*1*(F1045^3))","v":{"$error":"#VALUE!"}},{"$f":"G1045*$B$13","v":{"$error":"#VALUE!"}}]
[{"$f":"IF(IF(A1045<>\"\",A1045+1<=$B$16,0),A1045+1,\"\")","v":""},{"$f":"IF(A1046<>\"\",A1046*$B$13,\"\")","v":""},{"$f":"IF(A1046<>\"\",ROUNDDOWN(A1046*$B$13/24,0),\"\")","v":""},"",{"$f":"IF(A1046<>\"\",($B$4+$B$5)/2+($B$5-$B$4)/2*COS(2*PI()/$B$15*B1046),\"\")","v":""},{"$f":"IF(A1046<>\"\",E1046*COS(2*PI()/$B$7*B1046),\"\")","v":""},{"$error":"#VALUE!"},{"$error":"#VALUE!"}]
["","","","","","",{"$error":"#VALUE!"},{"$error":"#VALUE!"}]
["","","","","","",{"$error":"#VALUE!"},{"$error":"#VALUE!"}]
["","","","","","",{"$error":"#VALUE!"},{"$error":"#VALUE!"}]
["","","","","","",{"$error":"#VALUE!"},{"$error":"#VALUE!"}]
["","","","","","",{"$error":"#VALUE!"},{"$error":"#VALUE!"}]
["","","","","","",{"$error":"#VALUE!"},{"$error":"#VALUE!"}]
["","","","","","",{"$error":"#VALUE!"},{"$error":"#VALUE!"}]
["","","","","","",{"$error":"#VALUE!"},{"$error":"#VALUE!"}]
["","","","","","",{"$error":"#VALUE!"},{"$error":"#VALUE!"}]
["","","","","","",{"$error":"#VALUE!"},{"$error":"#VALUE!"}]
["","","","","","",{"$error":"#VALUE!"},{"$error":"#VALUE!"}]
["","","","","","",{"$error":"#VALUE!"},{"$error":"#VALUE!"}]
["","","","","","",{"$error":"#VALUE!"},{"$error":"#VALUE!"}]
["","","","","","",{"$error":"#VALUE!"},{"$error":"#VALUE!"}]
["","","","","","",{"$error":"#VALUE!"},{"$error":"#VALUE!"}]
["","","","","","",{"$error":"#VALUE!"},{"$error":"#VALUE!"}]
["","","","","","",{"$error":"#VALUE!"},{"$error":"#VALUE!"}]
["","","","","","",{"$error":"#VALUE!"},{"$error":"#VALUE!"}]
["","","","","","",{"$error":"#VALUE!"},{"$error":"#VALUE!"}]
["","","","","","",{"$error":"#VALUE!"},{"$error":"#VALUE!"}]
["","","","","","",{"$error":"#VALUE!"},{"$error":"#VALUE!"}]
["","","","","","",{"$error":"#VALUE!"},{"$error":"#VALUE!"}]
["","","","","","",{"$error":"#VALUE!"},{"$error":"#VALUE!"}]
["","","","","","",{"$error":"#VALUE!"},{"$error":"#VALUE!"}]
["","","","","","",{"$error":"#VALUE!"},{"$error":"#VALUE!"}]
["","","","","","",{"$error":"#VALUE!"},{"$error":"#VALUE!"}]
["","","","","","",{"$error":"#VALUE!"},{"$error":"#VALUE!"}]
["","","","","","",{"$error":"#VALUE!"},{"$error":"#VALUE!"}]
["","","","","","",{"$error":"#VALUE!"},{"$error":"#VALUE!"}]
["","","","","","",{"$error":"#VALUE!"},{"$error":"#VALUE!"}]
["","","","","","",{"$error":"#VALUE!"},{"$error":"#VALUE!"}]
["","","","","","",{"$error":"#VALUE!"},{"$error":"#VALUE!"}]
["","","","","","",{"$error":"#VALUE!"},{"$error":"#VALUE!"}]
["","","","","","",{"$error":"#VALUE!"},{"$error":"#VALUE!"}]
["","","","","","",{"$error":"#VALUE!"},{"$error":"#VALUE!"}]
["","","","","","",{"$error":"#VALUE!"},{"$error":"#VALUE!"}]
["","","","","","",{"$error":"#VALUE!"},{"$error":"#VALUE!"}]
["","","","","","",{"$error":"#VALUE!"},{"$error":"#VALUE!"}]
["","","","","","",{"$error":"#VALUE!"},{"$error":"#VALUE!"}]
["","","","","","",{"$error":"#VALUE!"},{"$error":"#VALUE!"}]
["","","","","","",{"$error":"#VALUE!"},{"$error":"#VALUE!"}]
["","","","","","",{"$error":"#VALUE!"},{"$error":"#VALUE!"}]
["","","","","","",{"$error":"#VALUE!"},{"$error":"#VALUE!"}]
["","","","","","",{"$error":"#VALUE!"},{"$error":"#VALUE!"}]
["","","","","","",{"$error":"#VALUE!"},{"$error":"#VALUE!"}]
["","","","","","",{"$error":"#VALUE!"},{"$error":"#VALUE!"}]
["","","","","","",{"$error":"#VALUE!"},{"$error":"#VALUE!"}]
["","","","","","",{"$error":"#VALUE!"},{"$error":"#VALUE!"}]
["","","","","","",{"$error":"#VALUE!"},{"$error":"#VALUE!"}]
["","","","","","",{"$error":"#VALUE!"},{"$error":"#VALUE!"}]
["","","","","","",{"$error":"#VALUE!"},{"$error":"#VALUE!"}]
["","","","","","",{"$error":"#VALUE!"},{"$error":"#VALUE!"}]
["","","","","","",{"$error":"#VALUE!"},{"$error":"#VALUE!"}]
["","","","","","",{"$error":"#VALUE!"},{"$error":"#VALUE!"}]
["","","","","","",{"$error":"#VALUE!"},{"$error":"#VALUE!"}]
["","","","","","",{"$error":"#VALUE!"},{"$error":"#VALUE!"}]
["","","","","","",{"$error":"#VALUE!"},{"$error":"#VALUE!"}]
["","","","","","",{"$error":"#VALUE!"},{"$error":"#VALUE!"}]
["","","","","","",{"$error":"#VALUE!"},{"$error":"#VALUE!"}]
["","","","","","",{"$error":"#VALUE!"},{"$error":"#VALUE!"}]
["","","","","","",{"$error":"#VALUE!"},{"$error":"#VALUE!"}]
["","","","","","",{"$error":"#VALUE!"},{"$error":"#VALUE!"}]
["","","",{"$f":"IF(A1109<>\"\",MOD(B1109,24)/24,\"\")","v":""},"","",{"$f":"ABS(0.5*1.025*1*(F1109^3))","v":{"$error":"#VALUE!"}},{"$f":"G1109*$B$13","v":{"$error":"#VALUE!"}}]
[{"$f":"IF(IF(A1109<>\"\",A1109+1<=$B$16,0),A1109+1,\"\")","v":""},{"$f":"IF(A1110<>\"\",A1110*$B$13,\"\")","v":""},{"$f":"IF(A1110<>\"\",ROUNDDOWN(A1110*$B$13/24,0),\"\")","v":""},"",{"$f":"IF(A1110<>\"\",($B$4+$B$5)/2+($B$5-$B$4)/2*COS(2*PI()/$B$15*B1110),\"\")","v":""},{"$f":"IF(A1110<>\"\",E1110*COS(2*PI()/$B$7*B1110),\"\")","v":""},{"$error":"#VALUE!"},{"$error":"#VALUE!"}]
["","","","","","",{"$error":"#VALUE!"},{"$error":"#VALUE!"}]
["","","","","","",{"$error":"#VALUE!"},{"$error":"#VALUE!"}]
["","","","","","",{"$error":"#VALUE!"},{"$error":"#VALUE!"}]
["","","","","","",{"$error":"#VALUE!"},{"$error":"#VALUE!"}]
["","","","","","",{"$error":"#VALUE!"},{"$error":"#VALUE!"}]
["","","","","","",{"$error":"#VALUE!"},{"$error":"#VALUE!"}]
["","","","","","",{"$error":"#VALUE!"},{"$error":"#VALUE!"}]
["","","","","","",{"$error":"#VALUE!"},{"$error":"#VALUE!"}]
["","","","","","",{"$error":"#VALUE!"},{"$error":"#VALUE!"}]
["","","","","","",{"$error":"#VALUE!"},{"$error":"#VALUE!"}]
["","","","","","",{"$error":"#VALUE!"},{"$error":"#VALUE!"}]
["","","","","","",{"$error":"#VALUE!"},{"$error":"#VALUE!"}]
["","","","","","",{"$error":"#VALUE!"},{"$error":"#VALUE!"}]
["","","","","","",{"$error":"#VALUE!"},{"$error":"#VALUE!"}]
["","","","","","",{"$error":"#VALUE!"},{"$error":"#VALUE!"}]
["","","","","","",{"$error":"#VALUE!"},{"$error":"#VALUE!"}]
["","","","","","",{"$error":"#VALUE!"},{"$error":"#VALUE!"}]
["","","","","","",{"$error":"#VALUE!"},{"$error":"#VALUE!"}]
["","","","","","",{"$error":"#VALUE!"},{"$error":"#VALUE!"}]
["","","","","","",{"$error":"#VALUE!"},{"$error":"#VALUE!"}]
["","","","","","",{"$error":"#VALUE!"},{"$error":"#VALUE!"}]
["","","","","","",{"$error":"#VALUE!"},{"$error":"#VALUE!"}]
["","","","","","",{"$error":"#VALUE!"},{"$error":"#VALUE!"}]
["","","","","","",{"$error":"#VALUE!"},{"$error":"#VALUE!"}]
["","","","","","",{"$error":"#VALUE!"},{"$error":"#VALUE!"}]
["","","","","","",{"$error":"#VALUE!"},{"$error":"#VALUE!"}]
["","","","","","",{"$error":"#VALUE!"},{"$error":"#VALUE!"}]
["","","","","","",{"$error":"#VALUE!"},{"$error":"#VALUE!"}]
["","","","","","",{"$error":"#VALUE!"},{"$error":"#VALUE!"}]
["","","","","","",{"$error":"#VALUE!"},{"$error":"#VALUE!"}]
["","","","","","",{"$error":"#VALUE!"},{"$error":"#VALUE!"}]
["","","","","","",{"$error":"#VALUE!"},{"$error":"#VALUE!"}]
["","","","","","",{"$error":"#VALUE!"},{"$error":"#VALUE!"}]
["","","","","","",{"$error":"#VALUE!"},{"$error":"#VALUE!"}]
["","","","","","",{"$error":"#VALUE!"},{"$error":"#VALUE!"}]
["","","","","","",{"$error":"#VALUE!"},{"$error":"#VALUE!"}]
["","","","","","",{"$error":"#VALUE!"},{"$error":"#VALUE!"}]
["","","","","","",{"$error":"#VALUE!"},{"$error":"#VALUE!"}]
["","","","","","",{"$error":"#VALUE!"},{"$error":"#VALUE!"}]
["","","","","","",{"$error":"#VALUE!"},{"$error":"#VALUE!"}]
["","","","","","",{"$error":"#VALUE!"},{"$error":"#VALUE!"}]
["","","","","","",{"$error":"#VALUE!"},{"$error":"#VALUE!"}]
["","","","","","",{"$error":"#VALUE!"},{"$error":"#VALUE!"}]
["","","","","","",{"$error":"#VALUE!"},{"$error":"#VALUE!"}]
["","","","","","",{"$error":"#VALUE!"},{"$error":"#VALUE!"}]
["","","","","","",{"$error":"#VALUE!"},{"$error":"#VALUE!"}]
["","","","","","",{"$error":"#VALUE!"},{"$error":"#VALUE!"}]
["","","","","","",{"$error":"#VALUE!"},{"$error":"#VALUE!"}]
["","","","","","",{"$error":"#VALUE!"},{"$error":"#VALUE!"}]
["","","","","","",{"$error":"#VALUE!"},{"$error":"#VALUE!"}]
["","","","","","",{"$error":"#VALUE!"},{"$error":"#VALUE!"}]
["","","","","","",{"$error":"#VALUE!"},{"$error":"#VALUE!"}]
["","","","","","",{"$error":"#VALUE!"},{"$error":"#VALUE!"}]
["","","","","","",{"$error":"#VALUE!"},{"$error":"#VALUE!"}]
["","","","","","",{"$error":"#VALUE!"},{"$error":"#VALUE!"}]
["","","","","","",{"$error":"#VALUE!"},{"$error":"#VALUE!"}]
["","","","","","",{"$error":"#VALUE!"},{"$error":"#VALUE!"}]
["","","","","","",{"$error":"#VALUE!"},{"$error":"#VALUE!"}]
["","","","","","",{"$error":"#VALUE!"},{"$error":"#VALUE!"}]
["","","","","","",{"$error":"#VALUE!"},{"$error":"#VALUE!"}]
["","","","","","",{"$error":"#VALUE!"},{"$error":"#VALUE!"}]
["","","","","","",{"$error":"#VALUE!"},{"$error":"#VALUE!"}]
["","","",{"$f":"IF(A1173<>\"\",MOD(B1173,24)/24,\"\")","v":""},"","",{"$f":"ABS(0.5*1.025*1*(F1173^3))","v":{"$error":"#VALUE!"}},{"$f":"G1173*$B$13","v":{"$error":"#VALUE!"}}]
[{"$f":"IF(IF(A1173<>\"\",A1173+1<=$B$16,0),A1173+1,\"\")","v":""},{"$f":"IF(A1174<>\"\",A1174*$B$13,\"\")","v":""},{"$f":"IF(A1174<>\"\",ROUNDDOWN(A1174*$B$13/24,0),\"\")","v":""},"",{"$f":"IF(A1174<>\"\",($B$4+$B$5)/2+($B$5-$B$4)/2*COS(2*PI()/$B$15*B1174),\"\")","v":""},{"$f":"IF(A1174<>\"\",E1174*COS(2*PI()/$B$7*B1174),\"\")","v":""},{"$error":"#VALUE!"},{"$error":"#VALUE!"}]
["","","","","","",{"$error":"#VALUE!"},{"$error":"#VALUE!"}]
["","","","","","",{"$error":"#VALUE!"},{"$error":"#VALUE!"}]
["","","","","","",{"$error":"#VALUE!"},{"$error":"#VALUE!"}]
["","","","","","",{"$error":"#VALUE!"},{"$error":"#VALUE!"}]
["","","","","","",{"$error":"#VALUE!"},{"$error":"#VALUE!"}]
["","","","","","",{"$error":"#VALUE!"},{"$error":"#VALUE!"}]
["","","","","","",{"$error":"#VALUE!"},{"$error":"#VALUE!"}]
["","","","","","",{"$error":"#VALUE!"},{"$error":"#VALUE!"}]
["","","","","","",{"$error":"#VALUE!"},{"$error":"#VALUE!"}]
["","","","","","",{"$error":"#VALUE!"},{"$error":"#VALUE!"}]
["","","","","","",{"$error":"#VALUE!"},{"$error":"#VALUE!"}]
["","","","","","",{"$error":"#VALUE!"},{"$error":"#VALUE!"}]
["","","","","","",{"$error":"#VALUE!"},{"$error":"#VALUE!"}]
["","","","","","",{"$error":"#VALUE!"},{"$error":"#VALUE!"}]
["","","","","","",{"$error":"#VALUE!"},{"$error":"#VALUE!"}]
["","","","","","",{"$error":"#VALUE!"},{"$error":"#VALUE!"}]
["","","","","","",{"$error":"#VALUE!"},{"$error":"#VALUE!"}]
["","","","","","",{"$error":"#VALUE!"},{"$error":"#VALUE!"}]
["","","","","","",{"$error":"#VALUE!"},{"$error":"#VALUE!"}]
["","","","","","",{"$error":"#VALUE!"},{"$error":"#VALUE!"}]
["","","","","","",{"$error":"#VALUE!"},{"$error":"#VALUE!"}]
["","","","","","",{"$error":"#VALUE!"},{"$error":"#VALUE!"}]
["","","","","","",{"$error":"#VALUE!"},{"$error":"#VALUE!"}]
["","","","","","",{"$error":"#VALUE!"},{"$error":"#VALUE!"}]
["","","","","","",{"$error":"#VALUE!"},{"$error":"#VALUE!"}]
["","","","","","",{"$error":"#VALUE!"},{"$error":"#VALUE!"}]
["","","","","","",{"$error":"#VALUE!"},{"$error":"#VALUE!"}]
["","","","","","",{"$error":"#VALUE!"},{"$error":"#VALUE!"}]
["","","","","","",{"$error":"#VALUE!"},{"$error":"#VALUE!"}]
["","","","","","",{"$error":"#VALUE!"},{"$error":"#VALUE!"}]
["","","","","","",{"$error":"#VALUE!"},{"$error":"#VALUE!"}]
["","","","","","",{"$error":"#VALUE!"},{"$error":"#VALUE!"}]
["","","","","","",{"$error":"#VALUE!"},{"$error":"#VALUE!"}]
["","","","","","",{"$error":"#VALUE!"},{"$error":"#VALUE!"}]
["","","","","","",{"$error":"#VALUE!"},{"$error":"#VALUE!"}]
["","","","","","",{"$error":"#VALUE!"},{"$error":"#VALUE!"}]
["","","","","","",{"$error":"#VALUE!"},{"$error":"#VALUE!"}]
["","","","","","",{"$error":"#VALUE!"},{"$error":"#VALUE!"}]
["","","","","","",{"$error":"#VALUE!"},{"$error":"#VALUE!"}]
["","","","","","",{"$error":"#VALUE!"},{"$error":"#VALUE!"}]
["","","","","","",{"$error":"#VALUE!"},{"$error":"#VALUE!"}]
["","","","","","",{"$error":"#VALUE!"},{"$error":"#VALUE!"}]
["","","","","","",{"$error":"#VALUE!"},{"$error":"#VALUE!"}]
["","","","","","",{"$error":"#VALUE!"},{"$error":"#VALUE!"}]
["","","","","","",{"$error":"#VALUE!"},{"$error":"#VALUE!"}]
["","","","","","",{"$error":"#VALUE!"},{"$error":"#VALUE!"}]
["","","","","","",{"$error":"#VALUE!"},{"$error":"#VALUE!"}]
["","","","","","",{"$error":"#VALUE!"},{"$error":"#VALUE!"}]
["","","","","","",{"$error":"#VALUE!"},{"$error":"#VALUE!"}]
["","","","","","",{"$error":"#VALUE!"},{"$error":"#VALUE!"}]
["","","","","","",{"$error":"#VALUE!"},{"$error":"#VALUE!"}]
["","","","","","",{"$error":"#VALUE!"},{"$error":"#VALUE!"}]
["","","","","","",{"$error":"#VALUE!"},{"$error":"#VALUE!"}]
["","","","","","",{"$error":"#VALUE!"},{"$error":"#VALUE!"}]
["","","","","","",{"$error":"#VALUE!"},{"$error":"#VALUE!"}]
["","","","","","",{"$error":"#VALUE!"},{"$error":"#VALUE!"}]
["","","","","","",{"$error":"#VALUE!"},{"$error":"#VALUE!"}]
["","","","","","",{"$error":"#VALUE!"},{"$error":"#VALUE!"}]
["","","","","","",{"$error":"#VALUE!"},{"$error":"#VALUE!"}]
["","","","","","",{"$error":"#VALUE!"},{"$error":"#VALUE!"}]
["","","","","","",{"$error":"#VALUE!"},{"$error":"#VALUE!"}]
["","","","","","",{"$error":"#VALUE!"},{"$error":"#VALUE!"}]
["","","",{"$f":"IF(A1237<>\"\",MOD(B1237,24)/24,\"\")","v":""},"","",{"$f":"ABS(0.5*1.025*1*(F1237^3))","v":{"$error":"#VALUE!"}},{"$f":"G1237*$B$13","v":{"$error":"#VALUE!"}}]
[{"$f":"IF(IF(A1237<>\"\",A1237+1<=$B$16,0),A1237+1,\"\")","v":""},{"$f":"IF(A1238<>\"\",A1238*$B$13,\"\")","v":""},{"$f":"IF(A1238<>\"\",ROUNDDOWN(A1238*$B$13/24,0),\"\")","v":""},"",{"$f":"IF(A1238<>\"\",($B$4+$B$5)/2+($B$5-$B$4)/2*COS(2*PI()/$B$15*B1238),\"\")","v":""},{"$f":"IF(A1238<>\"\",E1238*COS(2*PI()/$B$7*B1238),\"\")","v":""},{"$error":"#VALUE!"},{"$error":"#VALUE!"}]
["","","","","","",{"$error":"#VALUE!"},{"$error":"#VALUE!"}]
["","","","","","",{"$error":"#VALUE!"},{"$error":"#VALUE!"}]
["","","","","","",{"$error":"#VALUE!"},{"$error":"#VALUE!"}]
["","","","","","",{"$error":"#VALUE!"},{"$error":"#VALUE!"}]
["","","","","","",{"$error":"#VALUE!"},{"$error":"#VALUE!"}]
["","","","","","",{"$error":"#VALUE!"},{"$error":"#VALUE!"}]
["","","","","","",{"$error":"#VALUE!"},{"$error":"#VALUE!"}]
["","","","","","",{"$error":"#VALUE!"},{"$error":"#VALUE!"}]
["","","","","","",{"$error":"#VALUE!"},{"$error":"#VALUE!"}]
["","","","","","",{"$error":"#VALUE!"},{"$error":"#VALUE!"}]
["","","","","","",{"$error":"#VALUE!"},{"$error":"#VALUE!"}]
["","","","","","",{"$error":"#VALUE!"},{"$error":"#VALUE!"}]
["","","","","","",{"$error":"#VALUE!"},{"$error":"#VALUE!"}]
["","","","","","",{"$error":"#VALUE!"},{"$error":"#VALUE!"}]
["","","","","","",{"$error":"#VALUE!"},{"$error":"#VALUE!"}]
["","","","","","",{"$error":"#VALUE!"},{"$error":"#VALUE!"}]
["","","","","","",{"$error":"#VALUE!"},{"$error":"#VALUE!"}]
["","","","","","",{"$error":"#VALUE!"},{"$error":"#VALUE!"}]
["","","","","","",{"$error":"#VALUE!"},{"$error":"#VALUE!"}]
["","","","","","",{"$error":"#VALUE!"},{"$error":"#VALUE!"}]
["","","","","","",{"$error":"#VALUE!"},{"$error":"#VALUE!"}]
["","","","","","",{"$error":"#VALUE!"},{"$error":"#VALUE!"}]
["","","","","","",{"$error":"#VALUE!"},{"$error":"#VALUE!"}]
["","","","","","",{"$error":"#VALUE!"},{"$error":"#VALUE!"}]
["","","","","","",{"$error":"#VALUE!"},{"$error":"#VALUE!"}]
["","","","","","",{"$error":"#VALUE!"},{"$error":"#VALUE!"}]
["","","","","","",{"$error":"#VALUE!"},{"$error":"#VALUE!"}]
["","","","","","",{"$error":"#VALUE!"},{"$error":"#VALUE!"}]
["","","","","","",{"$error":"#VALUE!"},{"$error":"#VALUE!"}]
["","","","","","",{"$error":"#VALUE!"},{"$error":"#VALUE!"}]
["","","","","","",{"$error":"#VALUE!"},{"$error":"#VALUE!"}]
["","","","","","",{"$error":"#VALUE!"},{"$error":"#VALUE!"}]
["","","","","","",{"$error":"#VALUE!"},{"$error":"#VALUE!"}]
["","","","","","",{"$error":"#VALUE!"},{"$error":"#VALUE!"}]
["","","","","","",{"$error":"#VALUE!"},{"$error":"#VALUE!"}]
["","","","","","",{"$error":"#VALUE!"},{"$error":"#VALUE!"}]
["","","","","","",{"$error":"#VALUE!"},{"$error":"#VALUE!"}]
["","","","","","",{"$error":"#VALUE!"},{"$error":"#VALUE!"}]
["","","","","","",{"$error":"#VALUE!"},{"$error":"#VALUE!"}]
["","","","","","",{"$error":"#VALUE!"},{"$error":"#VALUE!"}]
["","","","","","",{"$error":"#VALUE!"},{"$error":"#VALUE!"}]
["","","","","","",{"$error":"#VALUE!"},{"$error":"#VALUE!"}]
["","","","","","",{"$error":"#VALUE!"},{"$error":"#VALUE!"}]
["","","","","","",{"$error":"#VALUE!"},{"$error":"#VALUE!"}]
["","","","","","",{"$error":"#VALUE!"},{"$error":"#VALUE!"}]
["","","","","","",{"$error":"#VALUE!"},{"$error":"#VALUE!"}]
["","","","","","",{"$error":"#VALUE!"},{"$error":"#VALUE!"}]
["","","","","","",{"$error":"#VALUE!"},{"$error":"#VALUE!"}]
["","","","","","",{"$error":"#VALUE!"},{"$error":"#VALUE!"}]
["","","","","","",{"$error":"#VALUE!"},{"$error":"#VALUE!"}]
["","","","","","",{"$error":"#VALUE!"},{"$error":"#VALUE!"}]
["","","","","","",{"$error":"#VALUE!"},{"$error":"#VALUE!"}]
["","","","","","",{"$error":"#VALUE!"},{"$error":"#VALUE!"}]
["","","","","","",{"$error":"#VALUE!"},{"$error":"#VALUE!"}]
["","","","","","",{"$error":"#VALUE!"},{"$error":"#VALUE!"}]
["","","","","","",{"$error":"#VALUE!"},{"$error":"#VALUE!"}]
["","","","","","",{"$error":"#VALUE!"},{"$error":"#VALUE!"}]
["","","","","","",{"$error":"#VALUE!"},{"$error":"#VALUE!"}]
["","","","","","",{"$error":"#VALUE!"},{"$error":"#VALUE!"}]
["","","","","","",{"$error":"#VALUE!"},{"$error":"#VALUE!"}]
["","","","","","",{"$error":"#VALUE!"},{"$error":"#VALUE!"}]
["","","","","","",{"$error":"#VALUE!"},{"$error":"#VALUE!"}]
["","","",{"$f":"IF(A1301<>\"\",MOD(B1301,24)/24,\"\")","v":""},"","",{"$f":"ABS(0.5*1.025*1*(F1301^3))","v":{"$error":"#VALUE!"}},{"$f":"G1301*$B$13","v":{"$error":"#VALUE!"}}]
[{"$f":"IF(IF(A1301<>\"\",A1301+1<=$B$16,0),A1301+1,\"\")","v":""},{"$f":"IF(A1302<>\"\",A1302*$B$13,\"\")","v":""},{"$f":"IF(A1302<>\"\",ROUNDDOWN(A1302*$B$13/24,0),\"\")","v":""},"",{"$f":"IF(A1302<>\"\",($B$4+$B$5)/2+($B$5-$B$4)/2*COS(2*PI()/$B$15*B1302),\"\")","v":""},{"$f":"IF(A1302<>\"\",E1302*COS(2*PI()/$B$7*B1302),\"\")","v":""},{"$error":"#VALUE!"},{"$error":"#VALUE!"}]
["","","","","","",{"$error":"#VALUE!"},{"$error":"#VALUE!"}]
["","","","","","",{"$error":"#VALUE!"},{"$error":"#VALUE!"}]
["","","","","","",{"$error":"#VALUE!"},{"$error":"#VALUE!"}]
["","","","","","",{"$error":"#VALUE!"},{"$error":"#VALUE!"}]
["","","","","","",{"$error":"#VALUE!"},{"$error":"#VALUE!"}]
["","","","","","",{"$error":"#VALUE!"},{"$error":"#VALUE!"}]
["","","","","","",{"$error":"#VALUE!"},{"$error":"#VALUE!"}]
["","","","","","",{"$error":"#VALUE!"},{"$error":"#VALUE!"}]
["","","","","","",{"$error":"#VALUE!"},{"$error":"#VALUE!"}]
["","","","","","",{"$error":"#VALUE!"},{"$error":"#VALUE!"}]
["","","","","","",{"$error":"#VALUE!"},{"$error":"#VALUE!"}]
["","","","","","",{"$error":"#VALUE!"},{"$error":"#VALUE!"}]
["","","","","","",{"$error":"#VALUE!"},{"$error":"#VALUE!"}]
["","","","","","",{"$error":"#VALUE!"},{"$error":"#VALUE!"}]
["","","","","","",{"$error":"#VALUE!"},{"$error":"#VALUE!"}]
["","","","","","",{"$error":"#VALUE!"},{"$error":"#VALUE!"}]
["","","","","","",{"$error":"#VALUE!"},{"$error":"#VALUE!"}]
["","","","","","",{"$error":"#VALUE!"},{"$error":"#VALUE!"}]
["","","","","","",{"$error":"#VALUE!"},{"$error":"#VALUE!"}]
["","","","","","",{"$error":"#VALUE!"},{"$error":"#VALUE!"}]
["","","","","","",{"$error":"#VALUE!"},{"$error":"#VALUE!"}]
["","","","","","",{"$error":"#VALUE!"},{"$error":"#VALUE!"}]
["","","","","","",{"$error":"#VALUE!"},{"$error":"#VALUE!"}]
["","","","","","",{"$error":"#VALUE!"},{"$error":"#VALUE!"}]
["","","","","","",{"$error":"#VALUE!"},{"$error":"#VALUE!"}]
["","","","","","",{"$error":"#VALUE!"},{"$error":"#VALUE!"}]
["","","","","","",{"$error":"#VALUE!"},{"$error":"#VALUE!"}]
["","","","","","",{"$error":"#VALUE!"},{"$error":"#VALUE!"}]
["","","","","","",{"$error":"#VALUE!"},{"$error":"#VALUE!"}]
["","","","","","",{"$error":"#VALUE!"},{"$error":"#VALUE!"}]
["","","","","","",{"$error":"#VALUE!"},{"$error":"#VALUE!"}]
["","","","","","",{"$error":"#VALUE!"},{"$error":"#VALUE!"}]
["","","","","","",{"$error":"#VALUE!"},{"$error":"#VALUE!"}]
["","","","","","",{"$error":"#VALUE!"},{"$error":"#VALUE!"}]
["","","","","","",{"$error":"#VALUE!"},{"$error":"#VALUE!"}]
["","","","","","",{"$error":"#VALUE!"},{"$error":"#VALUE!"}]
["","","","","","",{"$error":"#VALUE!"},{"$error":"#VALUE!"}]
["","","","","","",{"$error":"#VALUE!"},{"$error":"#VALUE!"}]
["","","","","","",{"$error":"#VALUE!"},{"$error":"#VALUE!"}]
["","","","","","",{"$error":"#VALUE!"},{"$error":"#VALUE!"}]
["","","","","","",{"$error":"#VALUE!"},{"$error":"#VALUE!"}]
["","","","","","",{"$error":"#VALUE!"},{"$error":"#VALUE!"}]
["","","","","","",{"$error":"#VALUE!"},{"$error":"#VALUE!"}]
["","","","","","",{"$error":"#VALUE!"},{"$error":"#VALUE!"}]
["","","","","","",{"$error":"#VALUE!"},{"$error":"#VALUE!"}]
["","","","","","",{"$error":"#VALUE!"},{"$error":"#VALUE!"}]
["","","","","","",{"$error":"#VALUE!"},{"$error":"#VALUE!"}]
["","","","","","",{"$error":"#VALUE!"},{"$error":"#VALUE!"}]
["","","","","","",{"$error":"#VALUE!"},{"$error":"#VALUE!"}]
["","","","","","",{"$error":"#VALUE!"},{"$error":"#VALUE!"}]
["","","","","","",{"$error":"#VALUE!"},{"$error":"#VALUE!"}]
["","","","","","",{"$error":"#VALUE!"},{"$error":"#VALUE!"}]
["","","","","","",{"$error":"#VALUE!"},{"$error":"#VALUE!"}]
["","","","","","",{"$error":"#VALUE!"},{"$error":"#VALUE!"}]
["","","","","","",{"$error":"#VALUE!"},{"$error":"#VALUE!"}]
["","","","","","",{"$error":"#VALUE!"},{"$error":"#VALUE!"}]
["","","","","","",{"$error":"#VALUE!"},{"$error":"#VALUE!"}]
["","","","","","",{"$error":"#VALUE!"},{"$error":"#VALUE!"}]
["","","","","","",{"$error":"#VALUE!"},{"$error":"#VALUE!"}]
["","","","","","",{"$error":"#VALUE!"},{"$error":"#VALUE!"}]
["","","","","","",{"$error":"#VALUE!"},{"$error":"#VALUE!"}]
["","","","","","",{"$error":"#VALUE!"},{"$error":"#VALUE!"}]
["","","",{"$f":"IF(A1365<>\"\",MOD(B1365,24)/24,\"\")","v":""},"","",{"$f":"ABS(0.5*1.025*1*(F1365^3))","v":{"$error":"#VALUE!"}},{"$f":"G1365*$B$13","v":{"$error":"#VALUE!"}}]
[{"$f":"IF(IF(A1365<>\"\",A1365+1<=$B$16,0),A1365+1,\"\")","v":""},{"$f":"IF(A1366<>\"\",A1366*$B$13,\"\")","v":""},{"$f":"IF(A1366<>\"\",ROUNDDOWN(A1366*$B$13/24,0),\"\")","v":""},"",{"$f":"IF(A1366<>\"\",($B$4+$B$5)/2+($B$5-$B$4)/2*COS(2*PI()/$B$15*B1366),\"\")","v":""},{"$f":"IF(A1366<>\"\",E1366*COS(2*PI()/$B$7*B1366),\"\")","v":""},{"$error":"#VALUE!"},{"$error":"#VALUE!"}]
["","","","","","",{"$error":"#VALUE!"},{"$error":"#VALUE!"}]
["","","","","","",{"$error":"#VALUE!"},{"$error":"#VALUE!"}]
["","","","","","",{"$error":"#VALUE!"},{"$error":"#VALUE!"}]
["","","","","","",{"$error":"#VALUE!"},{"$error":"#VALUE!"}]
["","","","","","",{"$error":"#VALUE!"},{"$error":"#VALUE!"}]
["","","","","","",{"$error":"#VALUE!"},{"$error":"#VALUE!"}]
["","","","","","",{"$error":"#VALUE!"},{"$error":"#VALUE!"}]
["","","","","","",{"$error":"#VALUE!"},{"$error":"#VALUE!"}]
["","","","","","",{"$error":"#VALUE!"},{"$error":"#VALUE!"}]
["","","","","","",{"$error":"#VALUE!"},{"$error":"#VALUE!"}]
["","","","","","",{"$error":"#VALUE!"},{"$error":"#VALUE!"}]
["","","","","","",{"$error":"#VALUE!"},{"$error":"#VALUE!"}]
["","","","","","",{"$error":"#VALUE!"},{"$error":"#VALUE!"}]
["","","","","","",{"$error":"#VALUE!"},{"$error":"#VALUE!"}]
["","","","","","",{"$error":"#VALUE!"},{"$error":"#VALUE!"}]
["","","","","","",{"$error":"#VALUE!"},{"$error":"#VALUE!"}]
["","","","","","",{"$error":"#VALUE!"},{"$error":"#VALUE!"}]
["","","","","","",{"$error":"#VALUE!"},{"$error":"#VALUE!"}]
["","","","","","",{"$error":"#VALUE!"},{"$error":"#VALUE!"}]
["","","","","","",{"$error":"#VALUE!"},{"$error":"#VALUE!"}]
["","","","","","",{"$error":"#VALUE!"},{"$error":"#VALUE!"}]
["","","","","","",{"$error":"#VALUE!"},{"$error":"#VALUE!"}]
["","","","","","",{"$error":"#VALUE!"},{"$error":"#VALUE!"}]
["","","","","","",{"$error":"#VALUE!"},{"$error":"#VALUE!"}]
["","","","","","",{"$error":"#VALUE!"},{"$error":"#VALUE!"}]
["","","","","","",{"$error":"#VALUE!"},{"$error":"#VALUE!"}]
["","","","","","",{"$error":"#VALUE!"},{"$error":"#VALUE!"}]
["","","","","","",{"$error":"#VALUE!"},{"$error":"#VALUE!"}]
["","","","","","",{"$error":"#VALUE!"},{"$error":"#VALUE!"}]
["","","","","","",{"$error":"#VALUE!"},{"$error":"#VALUE!"}]
["","","","","","",{"$error":"#VALUE!"},{"$error":"#VALUE!"}]
["","","","","","",{"$error":"#VALUE!"},{"$error":"#VALUE!"}]
["","","","","","",{"$error":"#VALUE!"},{"$error":"#VALUE!"}]
["","","","","","",{"$error":"#VALUE!"},{"$error":"#VALUE!"}]
["","","","","","",{"$error":"#VALUE!"},{"$error":"#VALUE!"}]
["","","","","","",{"$error":"#VALUE!"},{"$error":"#VALUE!"}]
["","","","","","",{"$error":"#VALUE!"},{"$error":"#VALUE!"}]
["","","","","","",{"$error":"#VALUE!"},{"$error":"#VALUE!"}]
["","","","","","",{"$error":"#VALUE!"},{"$error":"#VALUE!"}]
["","","","","","",{"$error":"#VALUE!"},{"$error":"#VALUE!"}]
["","","","","","",{"$error":"#VALUE!"},{"$error":"#VALUE!"}]
["","","","","","",{"$error":"#VALUE!"},{"$error":"#VALUE!"}]
["","","","","","",{"$error":"#VALUE!"},{"$error":"#VALUE!"}]
["","","","","","",{"$error":"#VALUE!"},{"$error":"#VALUE!"}]
["","","","","","",{"$error":"#VALUE!"},{"$error":"#VALUE!"}]
["","","","","","",{"$error":"#VALUE!"},{"$error":"#VALUE!"}]
["","","","","","",{"$error":"#VALUE!"},{"$error":"#VALUE!"}]
["","","","","","",{"$error":"#VALUE!"},{"$error":"#VALUE!"}]
["","","","","","",{"$error":"#VALUE!"},{"$error":"#VALUE!"}]
["","","","","","",{"$error":"#VALUE!"},{"$error":"#VALUE!"}]
["","","","","","",{"$error":"#VALUE!"},{"$error":"#VALUE!"}]
["","","","","","",{"$error":"#VALUE!"},{"$error":"#VALUE!"}]
["","","","","","",{"$error":"#VALUE!"},{"$error":"#VALUE!"}]
["","","","","","",{"$error":"#VALUE!"},{"$error":"#VALUE!"}]
["","","","","","",{"$error":"#VALUE!"},{"$error":"#VALUE!"}]
["","","","","","",{"$error":"#VALUE!"},{"$error":"#VALUE!"}]
["","","","","","",{"$error":"#VALUE!"},{"$error":"#VALUE!"}]
["","","","","","",{"$error":"#VALUE!"},{"$error":"#VALUE!"}]
["","","","","","",{"$error":"#VALUE!"},{"$error":"#VALUE!"}]
["","","","","","",{"$error":"#VALUE!"},{"$error":"#VALUE!"}]
["","","","","","",{"$error":"#VALUE!"},{"$error":"#VALUE!"}]
["","","","","","",{"$error":"#VALUE!"},{"$error":"#VALUE!"}]
["","","",{"$f":"IF(A1429<>\"\",MOD(B1429,24)/24,\"\")","v":""},"","",{"$f":"ABS(0.5*1.025*1*(F1429^3))","v":{"$error":"#VALUE!"}},{"$f":"G1429*$B$13","v":{"$error":"#VALUE!"}}]
[{"$f":"IF(IF(A1429<>\"\",A1429+1<=$B$16,0),A1429+1,\"\")","v":""},{"$f":"IF(A1430<>\"\",A1430*$B$13,\"\")","v":""},{"$f":"IF(A1430<>\"\",ROUNDDOWN(A1430*$B$13/24,0),\"\")","v":""},"",{"$f":"IF(A1430<>\"\",($B$4+$B$5)/2+($B$5-$B$4)/2*COS(2*PI()/$B$15*B1430),\"\")","v":""},{"$f":"IF(A1430<>\"\",E1430*COS(2*PI()/$B$7*B1430),\"\")","v":""},{"$error":"#VALUE!"},{"$error":"#VALUE!"}]
["","","","","","",{"$error":"#VALUE!"},{"$error":"#VALUE!"}]
["","","","","","",{"$error":"#VALUE!"},{"$error":"#VALUE!"}]
["","","","","","",{"$error":"#VALUE!"},{"$error":"#VALUE!"}]
["","","","","","",{"$error":"#VALUE!"},{"$error":"#VALUE!"}]
["","","","","","",{"$error":"#VALUE!"},{"$error":"#VALUE!"}]
["","","","","","",{"$error":"#VALUE!"},{"$error":"#VALUE!"}]
["","","","","","",{"$error":"#VALUE!"},{"$error":"#VALUE!"}]
["","","","","","",{"$error":"#VALUE!"},{"$error":"#VALUE!"}]
["","","","","","",{"$error":"#VALUE!"},{"$error":"#VALUE!"}]
["","","","","","",{"$error":"#VALUE!"},{"$error":"#VALUE!"}]
["","","","","","",{"$error":"#VALUE!"},{"$error":"#VALUE!"}]
["","","","","","",{"$error":"#VALUE!"},{"$error":"#VALUE!"}]
["","","","","","",{"$error":"#VALUE!"},{"$error":"#VALUE!"}]
["","","","","","",{"$error":"#VALUE!"},{"$error":"#VALUE!"}]
["","","","","","",{"$error":"#VALUE!"},{"$error":"#VALUE!"}]
["","","","","","",{"$error":"#VALUE!"},{"$error":"#VALUE!"}]
["","","","","","",{"$error":"#VALUE!"},{"$error":"#VALUE!"}]
["","","","","","",{"$error":"#VALUE!"},{"$error":"#VALUE!"}]
["","","","","","",{"$error":"#VALUE!"},{"$error":"#VALUE!"}]
["","","","","","",{"$error":"#VALUE!"},{"$error":"#VALUE!"}]
["","","","","","",{"$error":"#VALUE!"},{"$error":"#VALUE!"}]
["","","","","","",{"$error":"#VALUE!"},{"$error":"#VALUE!"}]
["","","","","","",{"$error":"#VALUE!"},{"$error":"#VALUE!"}]
["","","","","","",{"$error":"#VALUE!"},{"$error":"#VALUE!"}]
["","","","","","",{"$error":"#VALUE!"},{"$error":"#VALUE!"}]
["","","","","","",{"$error":"#VALUE!"},{"$error":"#VALUE!"}]
["","","","","","",{"$error":"#VALUE!"},{"$error":"#VALUE!"}]
["","","","","","",{"$error":"#VALUE!"},{"$error":"#VALUE!"}]
["","","","","","",{"$error":"#VALUE!"},{"$error":"#VALUE!"}]
["","","","","","",{"$error":"#VALUE!"},{"$error":"#VALUE!"}]
["","","","","","",{"$error":"#VALUE!"},{"$error":"#VALUE!"}]
["","","","","","",{"$error":"#VALUE!"},{"$error":"#VALUE!"}]
["","","","","","",{"$error":"#VALUE!"},{"$error":"#VALUE!"}]
["","","","","","",{"$error":"#VALUE!"},{"$error":"#VALUE!"}]
["","","","","","",{"$error":"#VALUE!"},{"$error":"#VALUE!"}]
["","","","","","",{"$error":"#VALUE!"},{"$error":"#VALUE!"}]
["","","","","","",{"$error":"#VALUE!"},{"$error":"#VALUE!"}]
["","","","","","",{"$error":"#VALUE!"},{"$error":"#VALUE!"}]
["","","","","","",{"$error":"#VALUE!"},{"$error":"#VALUE!"}]
["","","","","","",{"$error":"#VALUE!"},{"$error":"#VALUE!"}]
["","","","","","",{"$error":"#VALUE!"},{"$error":"#VALUE!"}]
["","","","","","",{"$error":"#VALUE!"},{"$error":"#VALUE!"}]
["","","","","","",{"$error":"#VALUE!"},{"$error":"#VALUE!"}]
["","","","","","",{"$error":"#VALUE!"},{"$error":"#VALUE!"}]
["","","","","","",{"$error":"#VALUE!"},{"$error":"#VALUE!"}]
["","","","","","",{"$error":"#VALUE!"},{"$error":"#VALUE!"}]
["","","","","","",{"$error":"#VALUE!"},{"$error":"#VALUE!"}]
["","","","","","",{"$error":"#VALUE!"},{"$error":"#VALUE!"}]
["","","","","","",{"$error":"#VALUE!"},{"$error":"#VALUE!"}]
["","","","","","",{"$error":"#VALUE!"},{"$error":"#VALUE!"}]
["","","","","","",{"$error":"#VALUE!"},{"$error":"#VALUE!"}]
["","","","","","",{"$error":"#VALUE!"},{"$error":"#VALUE!"}]
["","","","","","",{"$error":"#VALUE!"},{"$error":"#VALUE!"}]
["","","","","","",{"$error":"#VALUE!"},{"$error":"#VALUE!"}]
["","","","","","",{"$error":"#VALUE!"},{"$error":"#VALUE!"}]
["","","","","","",{"$error":"#VALUE!"},{"$error":"#VALUE!"}]
["","","","","","",{"$error":"#VALUE!"},{"$error":"#VALUE!"}]
["","","","","","",{"$error":"#VALUE!"},{"$error":"#VALUE!"}]
["","","","","","",{"$error":"#VALUE!"},{"$error":"#VALUE!"}]
["","","","","","",{"$error":"#VALUE!"},{"$error":"#VALUE!"}]
["","","","","","",{"$error":"#VALUE!"},{"$error":"#VALUE!"}]
["","","","","","",{"$error":"#VALUE!"},{"$error":"#VALUE!"}]
["","","",{"$f":"IF(A1493<>\"\",MOD(B1493,24)/24,\"\")","v":""},"","",{"$f":"ABS(0.5*1.025*1*(F1493^3))","v":{"$error":"#VALUE!"}},{"$f":"G1493*$B$13","v":{"$error":"#VALUE!"}}]
[{"$f":"IF(IF(A1493<>\"\",A1493+1<=$B$16,0),A1493+1,\"\")","v":""},{"$f":"IF(A1494<>\"\",A1494*$B$13,\"\")","v":""},{"$f":"IF(A1494<>\"\",ROUNDDOWN(A1494*$B$13/24,0),\"\")","v":""},"",{"$f":"IF(A1494<>\"\",($B$4+$B$5)/2+($B$5-$B$4)/2*COS(2*PI()/$B$15*B1494),\"\")","v":""},{"$f":"IF(A1494<>\"\",E1494*COS(2*PI()/$B$7*B1494),\"\")","v":""},{"$error":"#VALUE!"},{"$error":"#VALUE!"}]
["","","","","","",{"$error":"#VALUE!"},{"$error":"#VALUE!"}]
["","","","","","",{"$error":"#VALUE!"},{"$error":"#VALUE!"}]
["","","","","","",{"$error":"#VALUE!"},{"$error":"#VALUE!"}]
["","","","","","",{"$error":"#VALUE!"},{"$error":"#VALUE!"}]
["","","","","","",{"$error":"#VALUE!"},{"$error":"#VALUE!"}]
["","","","","","",{"$error":"#VALUE!"},{"$error":"#VALUE!"}]
["","","","","","",{"$error":"#VALUE!"},{"$error":"#VALUE!"}]
["","","","","","",{"$error":"#VALUE!"},{"$error":"#VALUE!"}]
["","","","","","",{"$error":"#VALUE!"},{"$error":"#VALUE!"}]
["","","","","","",{"$error":"#VALUE!"},{"$error":"#VALUE!"}]
["","","","","","",{"$error":"#VALUE!"},{"$error":"#VALUE!"}]
["","","","","","",{"$error":"#VALUE!"},{"$error":"#VALUE!"}]
["","","","","","",{"$error":"#VALUE!"},{"$error":"#VALUE!"}]
["","","","","","",{"$error":"#VALUE!"},{"$error":"#VALUE!"}]
["","","","","","",{"$error":"#VALUE!"},{"$error":"#VALUE!"}]
["","","","","","",{"$error":"#VALUE!"},{"$error":"#VALUE!"}]
["","","","","","",{"$error":"#VALUE!"},{"$error":"#VALUE!"}]
["","","","","","",{"$error":"#VALUE!"},{"$error":"#VALUE!"}]
["","","","","","",{"$error":"#VALUE!"},{"$error":"#VALUE!"}]
["","","","","","",{"$error":"#VALUE!"},{"$error":"#VALUE!"}]
["","","","","","",{"$error":"#VALUE!"},{"$error":"#VALUE!"}]
["","","","","","",{"$error":"#VALUE!"},{"$error":"#VALUE!"}]
["","","","","","",{"$error":"#VALUE!"},{"$error":"#VALUE!"}]
["","","","","","",{"$error":"#VALUE!"},{"$error":"#VALUE!"}]
["","","","","","",{"$error":"#VALUE!"},{"$error":"#VALUE!"}]
["","","","","","",{"$error":"#VALUE!"},{"$error":"#VALUE!"}]
["","","","","","",{"$error":"#VALUE!"},{"$error":"#VALUE!"}]
["","","","","","",{"$error":"#VALUE!"},{"$error":"#VALUE!"}]
["","","","","","",{"$error":"#VALUE!"},{"$error":"#VALUE!"}]
["","","","","","",{"$error":"#VALUE!"},{"$error":"#VALUE!"}]
["","","","","","",{"$error":"#VALUE!"},{"$error":"#VALUE!"}]
["","","","","","",{"$error":"#VALUE!"},{"$error":"#VALUE!"}]
["","","","","","",{"$error":"#VALUE!"},{"$error":"#VALUE!"}]
["","","","","","",{"$error":"#VALUE!"},{"$error":"#VALUE!"}]
["","","","","","",{"$error":"#VALUE!"},{"$error":"#VALUE!"}]
["","","","","","",{"$error":"#VALUE!"},{"$error":"#VALUE!"}]
["","","","","","",{"$error":"#VALUE!"},{"$error":"#VALUE!"}]
["","","","","","",{"$error":"#VALUE!"},{"$error":"#VALUE!"}]
["","","","","","",{"$error":"#VALUE!"},{"$error":"#VALUE!"}]
["","","","","","",{"$error":"#VALUE!"},{"$error":"#VALUE!"}]
["","","","","","",{"$error":"#VALUE!"},{"$error":"#VALUE!"}]
["","","","","","",{"$error":"#VALUE!"},{"$error":"#VALUE!"}]
["","","","","","",{"$error":"#VALUE!"},{"$error":"#VALUE!"}]
["","","","","","",{"$error":"#VALUE!"},{"$error":"#VALUE!"}]
["","","","","","",{"$error":"#VALUE!"},{"$error":"#VALUE!"}]
["","","","","","",{"$error":"#VALUE!"},{"$error":"#VALUE!"}]
["","","","","","",{"$error":"#VALUE!"},{"$error":"#VALUE!"}]
["","","","","","",{"$error":"#VALUE!"},{"$error":"#VALUE!"}]
["","","","","","",{"$error":"#VALUE!"},{"$error":"#VALUE!"}]
["","","","","","",{"$error":"#VALUE!"},{"$error":"#VALUE!"}]
["","","","","","",{"$error":"#VALUE!"},{"$error":"#VALUE!"}]
["","","","","","",{"$error":"#VALUE!"},{"$error":"#VALUE!"}]
["","","","","","",{"$error":"#VALUE!"},{"$error":"#VALUE!"}]
["","","","","","",{"$error":"#VALUE!"},{"$error":"#VALUE!"}]
["","","","","","",{"$error":"#VALUE!"},{"$error":"#VALUE!"}]
["","","","","","",{"$error":"#VALUE!"},{"$error":"#VALUE!"}]
["","","","","","",{"$error":"#VALUE!"},{"$error":"#VALUE!"}]
["","","","","","",{"$error":"#VALUE!"},{"$error":"#VALUE!"}]
["","","","","","",{"$error":"#VALUE!"},{"$error":"#VALUE!"}]
["","","","","","",{"$error":"#VALUE!"},{"$error":"#VALUE!"}]
["","","","","","",{"$error":"#VALUE!"},{"$error":"#VALUE!"}]
["","","","","","",{"$error":"#VALUE!"},{"$error":"#VALUE!"}]
["","","",{"$f":"IF(A1557<>\"\",MOD(B1557,24)/24,\"\")","v":""},"","",{"$f":"ABS(0.5*1.025*1*(F1557^3))","v":{"$error":"#VALUE!"}},{"$f":"G1557*$B$13","v":{"$error":"#VALUE!"}}]
[{"$f":"IF(IF(A1557<>\"\",A1557+1<=$B$16,0),A1557+1,\"\")","v":""},{"$f":"IF(A1558<>\"\",A1558*$B$13,\"\")","v":""},{"$f":"IF(A1558<>\"\",ROUNDDOWN(A1558*$B$13/24,0),\"\")","v":""},"",{"$f":"IF(A1558<>\"\",($B$4+$B$5)/2+($B$5-$B$4)/2*COS(2*PI()/$B$15*B1558),\"\")","v":""},{"$f":"IF(A1558<>\"\",E1558*COS(2*PI()/$B$7*B1558),\"\")","v":""},{"$error":"#VALUE!"},{"$error":"#VALUE!"}]
["","","","","","",{"$error":"#VALUE!"},{"$error":"#VALUE!"}]
["","","","","","",{"$error":"#VALUE!"},{"$error":"#VALUE!"}]
["","","","","","",{"$error":"#VALUE!"},{"$error":"#VALUE!"}]
["","","","","","",{"$error":"#VALUE!"},{"$error":"#VALUE!"}]
["","","","","","",{"$error":"#VALUE!"},{"$error":"#VALUE!"}]
["","","","","","",{"$error":"#VALUE!"},{"$error":"#VALUE!"}]
["","","","","","",{"$error":"#VALUE!"},{"$error":"#VALUE!"}]
["","","","","","",{"$error":"#VALUE!"},{"$error":"#VALUE!"}]
["","","","","","",{"$error":"#VALUE!"},{"$error":"#VALUE!"}]
["","","","","","",{"$error":"#VALUE!"},{"$error":"#VALUE!"}]
["","","","","","",{"$error":"#VALUE!"},{"$error":"#VALUE!"}]
["","","","","","",{"$error":"#VALUE!"},{"$error":"#VALUE!"}]
["","","","","","",{"$error":"#VALUE!"},{"$error":"#VALUE!"}]
["","","","","","",{"$error":"#VALUE!"},{"$error":"#VALUE!"}]
["","","","","","",{"$error":"#VALUE!"},{"$error":"#VALUE!"}]
["","","","","","",{"$error":"#VALUE!"},{"$error":"#VALUE!"}]
["","","","","","",{"$error":"#VALUE!"},{"$error":"#VALUE!"}]
["","","","","","",{"$error":"#VALUE!"},{"$error":"#VALUE!"}]
["","","","","","",{"$error":"#VALUE!"},{"$error":"#VALUE!"}]
["","","","","","",{"$error":"#VALUE!"},{"$error":"#VALUE!"}]
["","","","","","",{"$error":"#VALUE!"},{"$error":"#VALUE!"}]
["","","","","","",{"$error":"#VALUE!"},{"$error":"#VALUE!"}]
["","","","","","",{"$error":"#VALUE!"},{"$error":"#VALUE!"}]
["","","","","","",{"$error":"#VALUE!"},{"$error":"#VALUE!"}]
["","","","","","",{"$error":"#VALUE!"},{"$error":"#VALUE!"}]
["","","","","","",{"$error":"#VALUE!"},{"$error":"#VALUE!"}]
["","","","","","",{"$error":"#VALUE!"},{"$error":"#VALUE!"}]
["","","","","","",{"$error":"#VALUE!"},{"$error":"#VALUE!"}]
["","","","","","",{"$error":"#VALUE!"},{"$error":"#VALUE!"}]
["","","","","","",{"$error":"#VALUE!"},{"$error":"#VALUE!"}]
["","","","","","",{"$error":"#VALUE!"},{"$error":"#VALUE!"}]
["","","","","","",{"$error":"#VALUE!"},{"$error":"#VALUE!"}]
["","","","","","",{"$error":"#VALUE!"},{"$error":"#VALUE!"}]
["","","","","","",{"$error":"#VALUE!"},{"$error":"#VALUE!"}]
["","","","","","",{"$error":"#VALUE!"},{"$error":"#VALUE!"}]
["","","","","","",{"$error":"#VALUE!"},{"$error":"#VALUE!"}]
["","","","","","",{"$error":"#VALUE!"},{"$error":"#VALUE!"}]
["","","","","","",{"$error":"#VALUE!"},{"$error":"#VALUE!"}]
["","","","","","",{"$error":"#VALUE!"},{"$error":"#VALUE!"}]
["","","","","","",{"$error":"#VALUE!"},{"$error":"#VALUE!"}]
["","","","","","",{"$error":"#VALUE!"},{"$error":"#VALUE!"}]
["","","","","","",{"$error":"#VALUE!"},{"$error":"#VALUE!"}]
["","","","","","",{"$error":"#VALUE!"},{"$error":"#VALUE!"}]
["","","","","","",{"$error":"#VALUE!"},{"$error":"#VALUE!"}]
["","","","","","",{"$error":"#VALUE!"},{"$error":"#VALUE!"}]
["","","","","","",{"$error":"#VALUE!"},{"$error":"#VALUE!"}]
["","","","","","",{"$error":"#VALUE!"},{"$error":"#VALUE!"}]
["","","","","","",{"$error":"#VALUE!"},{"$error":"#VALUE!"}]
["","","","","","",{"$error":"#VALUE!"},{"$error":"#VALUE!"}]
["","","","","","",{"$error":"#VALUE!"},{"$error":"#VALUE!"}]
["","","","","","",{"$error":"#VALUE!"},{"$error":"#VALUE!"}]
["","","","","","",{"$error":"#VALUE!"},{"$error":"#VALUE!"}]
["","","","","","",{"$error":"#VALUE!"},{"$error":"#VALUE!"}]
["","","","","","",{"$error":"#VALUE!"},{"$error":"#VALUE!"}]
["","","","","","",{"$error":"#VALUE!"},{"$error":"#VALUE!"}]
["","","","","","",{"$error":"#VALUE!"},{"$error":"#VALUE!"}]
["","","","","","",{"$error":"#VALUE!"},{"$error":"#VALUE!"}]
["","","","","","",{"$error":"#VALUE!"},{"$error":"#VALUE!"}]
["","","","","","",{"$error":"#VALUE!"},{"$error":"#VALUE!"}]
["","","","","","",{"$error":"#VALUE!"},{"$error":"#VALUE!"}]
["","","","","","",{"$error":"#VALUE!"},{"$error":"#VALUE!"}]
["","","","","","",{"$error":"#VALUE!"},{"$error":"#VALUE!"}]
["","","",{"$f":"IF(A1621<>\"\",MOD(B1621,24)/24,\"\")","v":""},"","",{"$f":"ABS(0.5*1.025*1*(F1621^3))","v":{"$error":"#VALUE!"}},{"$f":"G1621*$B$13","v":{"$error":"#VALUE!"}}]
[{"$f":"IF(IF(A1621<>\"\",A1621+1<=$B$16,0),A1621+1,\"\")","v":""},{"$f":"IF(A1622<>\"\",A1622*$B$13,\"\")","v":""},{"$f":"IF(A1622<>\"\",ROUNDDOWN(A1622*$B$13/24,0),\"\")","v":""},"",{"$f":"IF(A1622<>\"\",($B$4+$B$5)/2+($B$5-$B$4)/2*COS(2*PI()/$B$15*B1622),\"\")","v":""},{"$f":"IF(A1622<>\"\",E1622*COS(2*PI()/$B$7*B1622),\"\")","v":""},{"$error":"#VALUE!"},{"$error":"#VALUE!"}]
["","","","","","",{"$error":"#VALUE!"},{"$error":"#VALUE!"}]
["","","","","","",{"$error":"#VALUE!"},{"$error":"#VALUE!"}]
["","","","","","",{"$error":"#VALUE!"},{"$error":"#VALUE!"}]
["","","","","","",{"$error":"#VALUE!"},{"$error":"#VALUE!"}]
["","","","","","",{"$error":"#VALUE!"},{"$error":"#VALUE!"}]
["","","","","","",{"$error":"#VALUE!"},{"$error":"#VALUE!"}]
["","","","","","",{"$error":"#VALUE!"},{"$error":"#VALUE!"}]
["","","","","","",{"$error":"#VALUE!"},{"$error":"#VALUE!"}]
["","","","","","",{"$error":"#VALUE!"},{"$error":"#VALUE!"}]
["","","","","","",{"$error":"#VALUE!"},{"$error":"#VALUE!"}]
["","","","","","",{"$error":"#VALUE!"},{"$error":"#VALUE!"}]
["","","","","","",{"$error":"#VALUE!"},{"$error":"#VALUE!"}]
["","","","","","",{"$error":"#VALUE!"},{"$error":"#VALUE!"}]
["","","","","","",{"$error":"#VALUE!"},{"$error":"#VALUE!"}]
["","","","","","",{"$error":"#VALUE!"},{"$error":"#VALUE!"}]
["","","","","","",{"$error":"#VALUE!"},{"$error":"#VALUE!"}]
["","","","","","",{"$error":"#VALUE!"},{"$error":"#VALUE!"}]
["","","","","","",{"$error":"#VALUE!"},{"$error":"#VALUE!"}]
["","","","","","",{"$error":"#VALUE!"},{"$error":"#VALUE!"}]
["","","","","","",{"$error":"#VALUE!"},{"$error":"#VALUE!"}]
["","","","","","",{"$error":"#VALUE!"},{"$error":"#VALUE!"}]
["","","","","","",{"$error":"#VALUE!"},{"$error":"#VALUE!"}]
["","","","","","",{"$error":"#VALUE!"},{"$error":"#VALUE!"}]
["","","","","","",{"$error":"#VALUE!"},{"$error":"#VALUE!"}]
["","","","","","",{"$error":"#VALUE!"},{"$error":"#VALUE!"}]
["","","","","","",{"$error":"#VALUE!"},{"$error":"#VALUE!"}]
["","","","","","",{"$error":"#VALUE!"},{"$error":"#VALUE!"}]
["","","","","","",{"$error":"#VALUE!"},{"$error":"#VALUE!"}]
["","","","","","",{"$error":"#VALUE!"},{"$error":"#VALUE!"}]
["","","","","","",{"$error":"#VALUE!"},{"$error":"#VALUE!"}]
["","","","","","",{"$error":"#VALUE!"},{"$error":"#VALUE!"}]
["","","","","","",{"$error":"#VALUE!"},{"$error":"#VALUE!"}]
["","","","","","",{"$error":"#VALUE!"},{"$error":"#VALUE!"}]
["","","","","","",{"$error":"#VALUE!"},{"$error":"#VALUE!"}]
["","","","","","",{"$error":"#VALUE!"},{"$error":"#VALUE!"}]
["","","","","","",{"$error":"#VALUE!"},{"$error":"#VALUE!"}]
["","","","","","",{"$error":"#VALUE!"},{"$error":"#VALUE!"}]
["","","","","","",{"$error":"#VALUE!"},{"$error":"#VALUE!"}]
["","","","","","",{"$error":"#VALUE!"},{"$error":"#VALUE!"}]
["","","","","","",{"$error":"#VALUE!"},{"$error":"#VALUE!"}]
["","","","","","",{"$error":"#VALUE!"},{"$error":"#VALUE!"}]
["","","","","","",{"$error":"#VALUE!"},{"$error":"#VALUE!"}]
["","","","","","",{"$error":"#VALUE!"},{"$error":"#VALUE!"}]
["","","","","","",{"$error":"#VALUE!"},{"$error":"#VALUE!"}]
["","","","","","",{"$error":"#VALUE!"},{"$error":"#VALUE!"}]
["","","","","","",{"$error":"#VALUE!"},{"$error":"#VALUE!"}]
["","","","","","",{"$error":"#VALUE!"},{"$error":"#VALUE!"}]
["","","","","","",{"$error":"#VALUE!"},{"$error":"#VALUE!"}]
["","","","","","",{"$error":"#VALUE!"},{"$error":"#VALUE!"}]
["","","","","","",{"$error":"#VALUE!"},{"$error":"#VALUE!"}]
["","","","","","",{"$error":"#VALUE!"},{"$error":"#VALUE!"}]
["","","","","","",{"$error":"#VALUE!"},{"$error":"#VALUE!"}]
["","","","","","",{"$error":"#VALUE!"},{"$error":"#VALUE!"}]
["","","","","","",{"$error":"#VALUE!"},{"$error":"#VALUE!"}]
["","","","","","",{"$error":"#VALUE!"},{"$error":"#VALUE!"}]
["","","","","","",{"$error":"#VALUE!"},{"$error":"#VALUE!"}]
["","","","","","",{"$error":"#VALUE!"},{"$error":"#VALUE!"}]
["","","","","","",{"$error":"#VALUE!"},{"$error":"#VALUE!"}]
["","","","","","",{"$error":"#VALUE!"},{"$error":"#VALUE!"}]
["","","","","","",{"$error":"#VALUE!"},{"$error":"#VALUE!"}]
["","","","","","",{"$error":"#VALUE!"},{"$error":"#VALUE!"}]
["","","","","","",{"$error":"#VALUE!"},{"$error":"#VALUE!"}]
["","","",{"$f":"IF(A1685<>\"\",MOD(B1685,24)/24,\"\")","v":""},"","",{"$f":"ABS(0.5*1.025*1*(F1685^3))","v":{"$error":"#VALUE!"}},{"$f":"G1685*$B$13","v":{"$error":"#VALUE!"}}]
[{"$f":"IF(IF(A1685<>\"\",A1685+1<=$B$16,0),A1685+1,\"\")","v":""},{"$f":"IF(A1686<>\"\",A1686*$B$13,\"\")","v":""},{"$f":"IF(A1686<>\"\",ROUNDDOWN(A1686*$B$13/24,0),\"\")","v":""},"",{"$f":"IF(A1686<>\"\",($B$4+$B$5)/2+($B$5-$B$4)/2*COS(2*PI()/$B$15*B1686),\"\")","v":""},{"$f":"IF(A1686<>\"\",E1686*COS(2*PI()/$B$7*B1686),\"\")","v":""},{"$error":"#VALUE!"},{"$error":"#VALUE!"}]
["","","","","","",{"$error":"#VALUE!"},{"$error":"#VALUE!"}]
["","","","","","",{"$error":"#VALUE!"},{"$error":"#VALUE!"}]
["","","","","","",{"$error":"#VALUE!"},{"$error":"#VALUE!"}]
["","","","","","",{"$error":"#VALUE!"},{"$error":"#VALUE!"}]
["","","","","","",{"$error":"#VALUE!"},{"$error":"#VALUE!"}]
["","","","","","",{"$error":"#VALUE!"},{"$error":"#VALUE!"}]
["","","","","","",{"$error":"#VALUE!"},{"$error":"#VALUE!"}]
["","","","","","",{"$error":"#VALUE!"},{"$error":"#VALUE!"}]
["","","","","","",{"$error":"#VALUE!"},{"$error":"#VALUE!"}]
["","","","","","",{"$error":"#VALUE!"},{"$error":"#VALUE!"}]
["","","","","","",{"$error":"#VALUE!"},{"$error":"#VALUE!"}]
["","","","","","",{"$error":"#VALUE!"},{"$error":"#VALUE!"}]
["","","","","","",{"$error":"#VALUE!"},{"$error":"#VALUE!"}]
["","","","","","",{"$error":"#VALUE!"},{"$error":"#VALUE!"}]
["","","","","","",{"$error":"#VALUE!"},{"$error":"#VALUE!"}]
["","","","","","",{"$error":"#VALUE!"},{"$error":"#VALUE!"}]
["","","","","","",{"$error":"#VALUE!"},{"$error":"#VALUE!"}]
["","","","","","",{"$error":"#VALUE!"},{"$error":"#VALUE!"}]
["","","","","","",{"$error":"#VALUE!"},{"$error":"#VALUE!"}]
["","","","","","",{"$error":"#VALUE!"},{"$error":"#VALUE!"}]
["","","","","","",{"$error":"#VALUE!"},{"$error":"#VALUE!"}]
["","","","","","",{"$error":"#VALUE!"},{"$error":"#VALUE!"}]
["","","","","","",{"$error":"#VALUE!"},{"$error":"#VALUE!"}]
["","","","","","",{"$error":"#VALUE!"},{"$error":"#VALUE!"}]
["","","","","","",{"$error":"#VALUE!"},{"$error":"#VALUE!"}]
["","","","","","",{"$error":"#VALUE!"},{"$error":"#VALUE!"}]
["","","","","","",{"$error":"#VALUE!"},{"$error":"#VALUE!"}]
["","","","","","",{"$error":"#VALUE!"},{"$error":"#VALUE!"}]
["","","","","","",{"$error":"#VALUE!"},{"$error":"#VALUE!"}]
["","","","","","",{"$error":"#VALUE!"},{"$error":"#VALUE!"}]
["","","","","","",{"$error":"#VALUE!"},{"$error":"#VALUE!"}]
["","","","","","",{"$error":"#VALUE!"},{"$error":"#VALUE!"}]
["","","","","","",{"$error":"#VALUE!"},{"$error":"#VALUE!"}]
["","","","","","",{"$error":"#VALUE!"},{"$error":"#VALUE!"}]
["","","","","","",{"$error":"#VALUE!"},{"$error":"#VALUE!"}]
["","","","","","",{"$error":"#VALUE!"},{"$error":"#VALUE!"}]
["","","","","","",{"$error":"#VALUE!"},{"$error":"#VALUE!"}]
["","","","","","",{"$error":"#VALUE!"},{"$error":"#VALUE!"}]
["","","","","","",{"$error":"#VALUE!"},{"$error":"#VALUE!"}]
["","","","","","",{"$error":"#VALUE!"},{"$error":"#VALUE!"}]
["","","","","","",{"$error":"#VALUE!"},{"$error":"#VALUE!"}]
["","","","","","",{"$error":"#VALUE!"},{"$error":"#VALUE!"}]
["","","","","","",{"$error":"#VALUE!"},{"$error":"#VALUE!"}]
["","","","","","",{"$error":"#VALUE!"},{"$error":"#VALUE!"}]
["","","","","","",{"$error":"#VALUE!"},{"$error":"#VALUE!"}]
["","","","","","",{"$error":"#VALUE!"},{"$error":"#VALUE!"}]
["","","","","","",{"$error":"#VALUE!"},{"$error":"#VALUE!"}]
["","","","","","",{"$error":"#VALUE!"},{"$error":"#VALUE!"}]
["","","","","","",{"$error":"#VALUE!"},{"$error":"#VALUE!"}]
["","","","","","",{"$error":"#VALUE!"},{"$error":"#VALUE!"}]
["","","","","","",{"$error":"#VALUE!"},{"$error":"#VALUE!"}]
["","","","","","",{"$error":"#VALUE!"},{"$error":"#VALUE!"}]
["","","","","","",{"$error":"#VALUE!"},{"$error":"#VALUE!"}]
["","","","","","",{"$error":"#VALUE!"},{"$error":"#VALUE!"}]
["","","","","","",{"$error":"#VALUE!"},{"$error":"#VALUE!"}]
["","","","","","",{"$error":"#VALUE!"},{"$error":"#VALUE!"}]
["","","","","","",{"$error":"#VALUE!"},{"$error":"#VALUE!"}]
["","","","","","",{"$error":"#VALUE!"},{"$error":"#VALUE!"}]
["","","","","","",{"$error":"#VALUE!"},{"$error":"#VALUE!"}]
["","","","","","",{"$error":"#VALUE!"},{"$error":"#VALUE!"}]
["","","","","","",{"$error":"#VALUE!"},{"$error":"#VALUE!"}]
["","","","","","",{"$error":"#VALUE!"},{"$error":"#VALUE!"}]
["","","",{"$f":"IF(A1749<>\"\",MOD(B1749,24)/24,\"\")","v":""},"","",{"$f":"ABS(0.5*1.025*1*(F1749^3))","v":{"$error":"#VALUE!"}},{"$f":"G1749*$B$13","v":{"$error":"#VALUE!"}}]
[{"$f":"IF(IF(A1749<>\"\",A1749+1<=$B$16,0),A1749+1,\"\")","v":""},{"$f":"IF(A1750<>\"\",A1750*$B$13,\"\")","v":""},{"$f":"IF(A1750<>\"\",ROUNDDOWN(A1750*$B$13/24,0),\"\")","v":""},"",{"$f":"IF(A1750<>\"\",($B$4+$B$5)/2+($B$5-$B$4)/2*COS(2*PI()/$B$15*B1750),\"\")","v":""},{"$f":"IF(A1750<>\"\",E1750*COS(2*PI()/$B$7*B1750),\"\")","v":""},{"$error":"#VALUE!"},{"$error":"#VALUE!"}]
["","","","","","",{"$error":"#VALUE!"},{"$error":"#VALUE!"}]
["","","","","","",{"$error":"#VALUE!"},{"$error":"#VALUE!"}]
["","","","","","",{"$error":"#VALUE!"},{"$error":"#VALUE!"}]
["","","","","","",{"$error":"#VALUE!"},{"$error":"#VALUE!"}]
["","","","","","",{"$error":"#VALUE!"},{"$error":"#VALUE!"}]
["","","","","","",{"$error":"#VALUE!"},{"$error":"#VALUE!"}]
["","","","","","",{"$error":"#VALUE!"},{"$error":"#VALUE!"}]
["","","","","","",{"$error":"#VALUE!"},{"$error":"#VALUE!"}]
["","","","","","",{"$error":"#VALUE!"},{"$error":"#VALUE!"}]
["","","","","","",{"$error":"#VALUE!"},{"$error":"#VALUE!"}]
["","","","","","",{"$error":"#VALUE!"},{"$error":"#VALUE!"}]
["","","","","","",{"$error":"#VALUE!"},{"$error":"#VALUE!"}]
["","","","","","",{"$error":"#VALUE!"},{"$error":"#VALUE!"}]
["","","","","","",{"$error":"#VALUE!"},{"$error":"#VALUE!"}]
["","","","","","",{"$error":"#VALUE!"},{"$error":"#VALUE!"}]
["","","","","","",{"$error":"#VALUE!"},{"$error":"#VALUE!"}]
["","","","","","",{"$error":"#VALUE!"},{"$error":"#VALUE!"}]
["","","","","","",{"$error":"#VALUE!"},{"$error":"#VALUE!"}]
["","","","","","",{"$error":"#VALUE!"},{"$error":"#VALUE!"}]
["","","","","","",{"$error":"#VALUE!"},{"$error":"#VALUE!"}]
["","","","","","",{"$error":"#VALUE!"},{"$error":"#VALUE!"}]
["","","","","","",{"$error":"#VALUE!"},{"$error":"#VALUE!"}]
["","","","","","",{"$error":"#VALUE!"},{"$error":"#VALUE!"}]
["","","","","","",{"$error":"#VALUE!"},{"$error":"#VALUE!"}]
["","","","","","",{"$error":"#VALUE!"},{"$error":"#VALUE!"}]
["","","","","","",{"$error":"#VALUE!"},{"$error":"#VALUE!"}]
["","","","","","",{"$error":"#VALUE!"},{"$error":"#VALUE!"}]
["","","","","","",{"$error":"#VALUE!"},{"$error":"#VALUE!"}]
["","","","","","",{"$error":"#VALUE!"},{"$error":"#VALUE!"}]
["","","","","","",{"$error":"#VALUE!"},{"$error":"#VALUE!"}]
["","","","","","",{"$error":"#VALUE!"},{"$error":"#VALUE!"}]
["","","","","","",{"$error":"#VALUE!"},{"$error":"#VALUE!"}]
["","","","","","",{"$error":"#VALUE!"},{"$error":"#VALUE!"}]
["","","","","","",{"$error":"#VALUE!"},{"$error":"#VALUE!"}]
["","","","","","",{"$error":"#VALUE!"},{"$error":"#VALUE!"}]
["","","","","","",{"$error":"#VALUE!"},{"$error":"#VALUE!"}]
["","","","","","",{"$error":"#VALUE!"},{"$error":"#VALUE!"}]
["","","","","","",{"$error":"#VALUE!"},{"$error":"#VALUE!"}]
["","","","","","",{"$error":"#VALUE!"},{"$error":"#VALUE!"}]
["","","","","","",{"$error":"#VALUE!"},{"$error":"#VALUE!"}]
["","","","","","",{"$error":"#VALUE!"},{"$error":"#VALUE!"}]
["","","","","","",{"$error":"#VALUE!"},{"$error":"#VALUE!"}]
["","","","","","",{"$error":"#VALUE!"},{"$error":"#VALUE!"}]
["","","","","","",{"$error":"#VALUE!"},{"$error":"#VALUE!"}]
["","","","","","",{"$error":"#VALUE!"},{"$error":"#VALUE!"}]
["","","","","","",{"$error":"#VALUE!"},{"$error":"#VALUE!"}]
["","","","","","",{"$error":"#VALUE!"},{"$error":"#VALUE!"}]
["","","","","","",{"$error":"#VALUE!"},{"$error":"#VALUE!"}]
["","","","","","",{"$error":"#VALUE!"},{"$error":"#VALUE!"}]
["","","","","","",{"$error":"#VALUE!"},{"$error":"#VALUE!"}]
["","","","","","",{"$error":"#VALUE!"},{"$error":"#VALUE!"}]
["","","","","","",{"$error":"#VALUE!"},{"$error":"#VALUE!"}]
["","","","","","",{"$error":"#VALUE!"},{"$error":"#VALUE!"}]
["","","","","","",{"$error":"#VALUE!"},{"$error":"#VALUE!"}]
["","","","","","",{"$error":"#VALUE!"},{"$error":"#VALUE!"}]
["","","","","","",{"$error":"#VALUE!"},{"$error":"#VALUE!"}]
["","","","","","",{"$error":"#VALUE!"},{"$error":"#VALUE!"}]
["","","","","","",{"$error":"#VALUE!"},{"$error":"#VALUE!"}]
["","","","","","",{"$error":"#VALUE!"},{"$error":"#VALUE!"}]
["","","","","","",{"$error":"#VALUE!"},{"$error":"#VALUE!"}]
["","","","","","",{"$error":"#VALUE!"},{"$error":"#VALUE!"}]
["","","","","","",{"$error":"#VALUE!"},{"$error":"#VALUE!"}]
["","","",{"$f":"IF(A1813<>\"\",MOD(B1813,24)/24,\"\")","v":""},"","",{"$f":"ABS(0.5*1.025*1*(F1813^3))","v":{"$error":"#VALUE!"}},{"$f":"G1813*$B$13","v":{"$error":"#VALUE!"}}]
[{"$f":"IF(IF(A1813<>\"\",A1813+1<=$B$16,0),A1813+1,\"\")","v":""},{"$f":"IF(A1814<>\"\",A1814*$B$13,\"\")","v":""},{"$f":"IF(A1814<>\"\",ROUNDDOWN(A1814*$B$13/24,0),\"\")","v":""},"",{"$f":"IF(A1814<>\"\",($B$4+$B$5)/2+($B$5-$B$4)/2*COS(2*PI()/$B$15*B1814),\"\")","v":""},{"$f":"IF(A1814<>\"\",E1814*COS(2*PI()/$B$7*B1814),\"\")","v":""},{"$error":"#VALUE!"},{"$error":"#VALUE!"}]
["","","","","","",{"$error":"#VALUE!"},{"$error":"#VALUE!"}]
["","","","","","",{"$error":"#VALUE!"},{"$error":"#VALUE!"}]
["","","","","","",{"$error":"#VALUE!"},{"$error":"#VALUE!"}]
["","","","","","",{"$error":"#VALUE!"},{"$error":"#VALUE!"}]
["","","","","","",{"$error":"#VALUE!"},{"$error":"#VALUE!"}]
["","","","","","",{"$error":"#VALUE!"},{"$error":"#VALUE!"}]
["","","","","","",{"$error":"#VALUE!"},{"$error":"#VALUE!"}]
["","","","","","",{"$error":"#VALUE!"},{"$error":"#VALUE!"}]
["","","","","","",{"$error":"#VALUE!"},{"$error":"#VALUE!"}]
["","","","","","",{"$error":"#VALUE!"},{"$error":"#VALUE!"}]
["","","","","","",{"$error":"#VALUE!"},{"$error":"#VALUE!"}]
["","","","","","",{"$error":"#VALUE!"},{"$error":"#VALUE!"}]
["","","","","","",{"$error":"#VALUE!"},{"$error":"#VALUE!"}]
["","","","","","",{"$error":"#VALUE!"},{"$error":"#VALUE!"}]
["","","","","","",{"$error":"#VALUE!"},{"$error":"#VALUE!"}]
["","","","","","",{"$error":"#VALUE!"},{"$error":"#VALUE!"}]
["","","","","","",{"$error":"#VALUE!"},{"$error":"#VALUE!"}]
["","","","","","",{"$error":"#VALUE!"},{"$error":"#VALUE!"}]
["","","","","","",{"$error":"#VALUE!"},{"$error":"#VALUE!"}]
["","","","","","",{"$error":"#VALUE!"},{"$error":"#VALUE!"}]
["","","","","","",{"$error":"#VALUE!"},{"$error":"#VALUE!"}]
["","","","","","",{"$error":"#VALUE!"},{"$error":"#VALUE!"}]
["","","","","","",{"$error":"#VALUE!"},{"$error":"#VALUE!"}]
["","","","","","",{"$error":"#VALUE!"},{"$error":"#VALUE!"}]
["","","","","","",{"$error":"#VALUE!"},{"$error":"#VALUE!"}]
["","","","","","",{"$error":"#VALUE!"},{"$error":"#VALUE!"}]
["","","","","","",{"$error":"#VALUE!"},{"$error":"#VALUE!"}]
["","","","","","",{"$error":"#VALUE!"},{"$error":"#VALUE!"}]
["","","","","","",{"$error":"#VALUE!"},{"$error":"#VALUE!"}]
["","","","","","",{"$error":"#VALUE!"},{"$error":"#VALUE!"}]
["","","","","","",{"$error":"#VALUE!"},{"$error":"#VALUE!"}]
["","","","","","",{"$error":"#VALUE!"},{"$error":"#VALUE!"}]
["","","","","","",{"$error":"#VALUE!"},{"$error":"#VALUE!"}]
["","","","","","",{"$error":"#VALUE!"},{"$error":"#VALUE!"}]
["","","","","","",{"$error":"#VALUE!"},{"$error":"#VALUE!"}]
["","","","","","",{"$error":"#VALUE!"},{"$error":"#VALUE!"}]
["","","","","","",{"$error":"#VALUE!"},{"$error":"#VALUE!"}]
["","","","","","",{"$error":"#VALUE!"},{"$error":"#VALUE!"}]
["","","","","","",{"$error":"#VALUE!"},{"$error":"#VALUE!"}]
["","","","","","",{"$error":"#VALUE!"},{"$error":"#VALUE!"}]
["","","","","","",{"$error":"#VALUE!"},{"$error":"#VALUE!"}]
["","","","","","",{"$error":"#VALUE!"},{"$error":"#VALUE!"}]
["","","","","","",{"$error":"#VALUE!"},{"$error":"#VALUE!"}]
["","","","","","",{"$error":"#VALUE!"},{"$error":"#VALUE!"}]
["","","","","","",{"$error":"#VALUE!"},{"$error":"#VALUE!"}]
["","","","","","",{"$error":"#VALUE!"},{"$error":"#VALUE!"}]
["","","","","","",{"$error":"#VALUE!"},{"$error":"#VALUE!"}]
["","","","","","",{"$error":"#VALUE!"},{"$error":"#VALUE!"}]
["","","","","","",{"$error":"#VALUE!"},{"$error":"#VALUE!"}]
["","","","","","",{"$error":"#VALUE!"},{"$error":"#VALUE!"}]
["","","","","","",{"$error":"#VALUE!"},{"$error":"#VALUE!"}]
["","","","","","",{"$error":"#VALUE!"},{"$error":"#VALUE!"}]
["","","","","","",{"$error":"#VALUE!"},{"$error":"#VALUE!"}]
["","","","","","",{"$error":"#VALUE!"},{"$error":"#VALUE!"}]
["","","","","","",{"$error":"#VALUE!"},{"$error":"#VALUE!"}]
["","","","","","",{"$error":"#VALUE!"},{"$error":"#VALUE!"}]
["","","","","","",{"$error":"#VALUE!"},{"$error":"#VALUE!"}]
["","","","","","",{"$error":"#VALUE!"},{"$error":"#VALUE!"}]
["","","","","","",{"$error":"#VALUE!"},{"$error":"#VALUE!"}]
["","","","","","",{"$error":"#VALUE!"},{"$error":"#VALUE!"}]
["","","","","","",{"$error":"#VALUE!"},{"$error":"#VALUE!"}]
["","","","","","",{"$error":"#VALUE!"},{"$error":"#VALUE!"}]
["","","",{"$f":"IF(A1877<>\"\",MOD(B1877,24)/24,\"\")","v":""},"","",{"$f":"ABS(0.5*1.025*1*(F1877^3))","v":{"$error":"#VALUE!"}},{"$f":"G1877*$B$13","v":{"$error":"#VALUE!"}}]
[{"$f":"IF(IF(A1877<>\"\",A1877+1<=$B$16,0),A1877+1,\"\")","v":""},{"$f":"IF(A1878<>\"\",A1878*$B$13,\"\")","v":""},{"$f":"IF(A1878<>\"\",ROUNDDOWN(A1878*$B$13/24,0),\"\")","v":""},"",{"$f":"IF(A1878<>\"\",($B$4+$B$5)/2+($B$5-$B$4)/2*COS(2*PI()/$B$15*B1878),\"\")","v":""},{"$f":"IF(A1878<>\"\",E1878*COS(2*PI()/$B$7*B1878),\"\")","v":""},{"$error":"#VALUE!"},{"$error":"#VALUE!"}]
["","","","","","",{"$error":"#VALUE!"},{"$error":"#VALUE!"}]
["","","","","","",{"$error":"#VALUE!"},{"$error":"#VALUE!"}]
["","","","","","",{"$error":"#VALUE!"},{"$error":"#VALUE!"}]
["","","","","","",{"$error":"#VALUE!"},{"$error":"#VALUE!"}]
["","","","","","",{"$error":"#VALUE!"},{"$error":"#VALUE!"}]
["","","","","","",{"$error":"#VALUE!"},{"$error":"#VALUE!"}]
["","","","","","",{"$error":"#VALUE!"},{"$error":"#VALUE!"}]
["","","","","","",{"$error":"#VALUE!"},{"$error":"#VALUE!"}]
["","","","","","",{"$error":"#VALUE!"},{"$error":"#VALUE!"}]
["","","","","","",{"$error":"#VALUE!"},{"$error":"#VALUE!"}]
["","","","","","",{"$error":"#VALUE!"},{"$error":"#VALUE!"}]
["","","","","","",{"$error":"#VALUE!"},{"$error":"#VALUE!"}]
["","","","","","",{"$error":"#VALUE!"},{"$error":"#VALUE!"}]
["","","","","","",{"$error":"#VALUE!"},{"$error":"#VALUE!"}]
["","","","","","",{"$error":"#VALUE!"},{"$error":"#VALUE!"}]
["","","","","","",{"$error":"#VALUE!"},{"$error":"#VALUE!"}]
["","","","","","",{"$error":"#VALUE!"},{"$error":"#VALUE!"}]
["","","","","","",{"$error":"#VALUE!"},{"$error":"#VALUE!"}]
["","","","","","",{"$error":"#VALUE!"},{"$error":"#VALUE!"}]
["","","","","","",{"$error":"#VALUE!"},{"$error":"#VALUE!"}]
["","","","","","",{"$error":"#VALUE!"},{"$error":"#VALUE!"}]
["","","","","","",{"$error":"#VALUE!"},{"$error":"#VALUE!"}]
["","","","","","",{"$error":"#VALUE!"},{"$error":"#VALUE!"}]
["","","","","","",{"$error":"#VALUE!"},{"$error":"#VALUE!"}]
["","","","","","",{"$error":"#VALUE!"},{"$error":"#VALUE!"}]
["","","","","","",{"$error":"#VALUE!"},{"$error":"#VALUE!"}]
["","","","","","",{"$error":"#VALUE!"},{"$error":"#VALUE!"}]
["","","","","","",{"$error":"#VALUE!"},{"$error":"#VALUE!"}]
["","","","","","",{"$error":"#VALUE!"},{"$error":"#VALUE!"}]
["","","","","","",{"$error":"#VALUE!"},{"$error":"#VALUE!"}]
["","","","","","",{"$error":"#VALUE!"},{"$error":"#VALUE!"}]
["","","","","","",{"$error":"#VALUE!"},{"$error":"#VALUE!"}]
["","","","","","",{"$error":"#VALUE!"},{"$error":"#VALUE!"}]
["","","","","","",{"$error":"#VALUE!"},{"$error":"#VALUE!"}]
["","","","","","",{"$error":"#VALUE!"},{"$error":"#VALUE!"}]
["","","","","","",{"$error":"#VALUE!"},{"$error":"#VALUE!"}]
["","","","","","",{"$error":"#VALUE!"},{"$error":"#VALUE!"}]
["","","","","","",{"$error":"#VALUE!"},{"$error":"#VALUE!"}]
["","","","","","",{"$error":"#VALUE!"},{"$error":"#VALUE!"}]
["","","","","","",{"$error":"#VALUE!"},{"$error":"#VALUE!"}]
["","","","","","",{"$error":"#VALUE!"},{"$error":"#VALUE!"}]
["","","","","","",{"$error":"#VALUE!"},{"$error":"#VALUE!"}]
["","","","","","",{"$error":"#VALUE!"},{"$error":"#VALUE!"}]
["","","","","","",{"$error":"#VALUE!"},{"$error":"#VALUE!"}]
["","","","","","",{"$error":"#VALUE!"},{"$error":"#VALUE!"}]
["","","","","","",{"$error":"#VALUE!"},{"$error":"#VALUE!"}]
["","","","","","",{"$error":"#VALUE!"},{"$error":"#VALUE!"}]
["","","","","","",{"$error":"#VALUE!"},{"$error":"#VALUE!"}]
["","","","","","",{"$error":"#VALUE!"},{"$error":"#VALUE!"}]
["","","","","","",{"$error":"#VALUE!"},{"$error":"#VALUE!"}]
["","","","","","",{"$error":"#VALUE!"},{"$error":"#VALUE!"}]
["","","","","","",{"$error":"#VALUE!"},{"$error":"#VALUE!"}]
["","","","","","",{"$error":"#VALUE!"},{"$error":"#VALUE!"}]
["","","","","","",{"$error":"#VALUE!"},{"$error":"#VALUE!"}]
["","","","","","",{"$error":"#VALUE!"},{"$error":"#VALUE!"}]
["","","","","","",{"$error":"#VALUE!"},{"$error":"#VALUE!"}]
["","","","","","",{"$error":"#VALUE!"},{"$error":"#VALUE!"}]
["","","","","","",{"$error":"#VALUE!"},{"$error":"#VALUE!"}]
["","","","","","",{"$error":"#VALUE!"},{"$error":"#VALUE!"}]
["","","","","","",{"$error":"#VALUE!"},{"$error":"#VALUE!"}]
["","","","","","",{"$error":"#VALUE!"},{"$error":"#VALUE!"}]
["","","","","","",{"$error":"#VALUE!"},{"$error":"#VALUE!"}]
["","","",{"$f":"IF(A1941<>\"\",MOD(B1941,24)/24,\"\")","v":""},"","",{"$f":"ABS(0.5*1.025*1*(F1941^3))","v":{"$error":"#VALUE!"}},{"$f":"G1941*$B$13","v":{"$error":"#VALUE!"}}]
[{"$f":"IF(IF(A1941<>\"\",A1941+1<=$B$16,0),A1941+1,\"\")","v":""},{"$f":"IF(A1942<>\"\",A1942*$B$13,\"\")","v":""},{"$f":"IF(A1942<>\"\",ROUNDDOWN(A1942*$B$13/24,0),\"\")","v":""},"",{"$f":"IF(A1942<>\"\",($B$4+$B$5)/2+($B$5-$B$4)/2*COS(2*PI()/$B$15*B1942),\"\")","v":""},{"$f":"IF(A1942<>\"\",E1942*COS(2*PI()/$B$7*B1942),\"\")","v":""},{"$error":"#VALUE!"},{"$error":"#VALUE!"}]
["","","","","","",{"$error":"#VALUE!"},{"$error":"#VALUE!"}]
["","","","","","",{"$error":"#VALUE!"},{"$error":"#VALUE!"}]
["","","","","","",{"$error":"#VALUE!"},{"$error":"#VALUE!"}]
["","","","","","",{"$error":"#VALUE!"},{"$error":"#VALUE!"}]
["","","","","","",{"$error":"#VALUE!"},{"$error":"#VALUE!"}]
["","","","","","",{"$error":"#VALUE!"},{"$error":"#VALUE!"}]
["","","","","","",{"$error":"#VALUE!"},{"$error":"#VALUE!"}]
["","","","","","",{"$error":"#VALUE!"},{"$error":"#VALUE!"}]
["","","","","","",{"$error":"#VALUE!"},{"$error":"#VALUE!"}]
["","","","","","",{"$error":"#VALUE!"},{"$error":"#VALUE!"}]
["","","","","","",{"$error":"#VALUE!"},{"$error":"#VALUE!"}]
["","","","","","",{"$error":"#VALUE!"},{"$error":"#VALUE!"}]
["","","","","","",{"$error":"#VALUE!"},{"$error":"#VALUE!"}]
["","","","","","",{"$error":"#VALUE!"},{"$error":"#VALUE!"}]
["","","","","","",{"$error":"#VALUE!"},{"$error":"#VALUE!"}]
["","","","","","",{"$error":"#VALUE!"},{"$error":"#VALUE!"}]
["","","","","","",{"$error":"#VALUE!"},{"$error":"#VALUE!"}]
["","","","","","",{"$error":"#VALUE!"},{"$error":"#VALUE!"}]
["","","","","","",{"$error":"#VALUE!"},{"$error":"#VALUE!"}]
["","","","","","",{"$error":"#VALUE!"},{"$error":"#VALUE!"}]
["","","","","","",{"$error":"#VALUE!"},{"$error":"#VALUE!"}]
["","","","","","",{"$error":"#VALUE!"},{"$error":"#VALUE!"}]
["","","","","","",{"$error":"#VALUE!"},{"$error":"#VALUE!"}]
["","","","","","",{"$error":"#VALUE!"},{"$error":"#VALUE!"}]
["","","","","","",{"$error":"#VALUE!"},{"$error":"#VALUE!"}]
["","","","","","",{"$error":"#VALUE!"},{"$error":"#VALUE!"}]
["","","","","","",{"$error":"#VALUE!"},{"$error":"#VALUE!"}]
["","","","","","",{"$error":"#VALUE!"},{"$error":"#VALUE!"}]
["","","","","","",{"$error":"#VALUE!"},{"$error":"#VALUE!"}]
["","","","","","",{"$error":"#VALUE!"},{"$error":"#VALUE!"}]
["","","","","","",{"$error":"#VALUE!"},{"$error":"#VALUE!"}]
["","","","","","",{"$error":"#VALUE!"},{"$error":"#VALUE!"}]
["","","","","","",{"$error":"#VALUE!"},{"$error":"#VALUE!"}]
["","","","","","",{"$error":"#VALUE!"},{"$error":"#VALUE!"}]
["","","","","","",{"$error":"#VALUE!"},{"$error":"#VALUE!"}]
["","","","","","",{"$error":"#VALUE!"},{"$error":"#VALUE!"}]
["","","","","","",{"$error":"#VALUE!"},{"$error":"#VALUE!"}]
["","","","","","",{"$error":"#VALUE!"},{"$error":"#VALUE!"}]
["","","","","","",{"$error":"#VALUE!"},{"$error":"#VALUE!"}]
["","","","","","",{"$error":"#VALUE!"},{"$error":"#VALUE!"}]
["","","","","","",{"$error":"#VALUE!"},{"$error":"#VALUE!"}]
["","","","","","",{"$error":"#VALUE!"},{"$error":"#VALUE!"}]
["","","","","","",{"$error":"#VALUE!"},{"$error":"#VALUE!"}]
["","","","","","",{"$error":"#VALUE!"},{"$error":"#VALUE!"}]
["","","","","","",{"$error":"#VALUE!"},{"$error":"#VALUE!"}]
["","","","","","",{"$error":"#VALUE!"},{"$error":"#VALUE!"}]
["","","","","","",{"$error":"#VALUE!"},{"$error":"#VALUE!"}]
["","","","","","",{"$error":"#VALUE!"},{"$error":"#VALUE!"}]
["","","","","","",{"$error":"#VALUE!"},{"$error":"#VALUE!"}]
["","","","","","",{"$error":"#VALUE!"},{"$error":"#VALUE!"}]
["","","","","","",{"$error":"#VALUE!"},{"$error":"#VALUE!"}]
["","","","","","",{"$error":"#VALUE!"},{"$error":"#VALUE!"}]
["","","","","","",{"$error":"#VALUE!"},{"$error":"#VALUE!"}]
["","","","","","",{"$error":"#VALUE!"},{"$error":"#VALUE!"}]
["","","","","","",{"$error":"#VALUE!"},{"$error":"#VALUE!"}]
["","","","","","",{"$error":"#VALUE!"},{"$error":"#VALUE!"}]
["","","","","","",{"$error":"#VALUE!"},{"$error":"#VALUE!"}]
["","","","","","",{"$error":"#VALUE!"},{"$error":"#VALUE!"}]
["","","","","","",{"$error":"#VALUE!"},{"$error":"#VALUE!"}]
["","","","","","",{"$error":"#VALUE!"},{"$error":"#VALUE!"}]
["","","","","","",{"$error":"#VALUE!"},{"$error":"#VALUE!"}]
["","","","","","",{"$error":"#VALUE!"},{"$error":"#VALUE!"}]
["","","",{"$f":"IF(A2005<>\"\",MOD(B2005,24)/24,\"\")","v":""},"","",{"$f":"ABS(0.5*1.025*1*(F2005^3))","v":{"$error":"#VALUE!"}},{"$f":"G2005*$B$13","v":{"$error":"#VALUE!"}}]
[{"$f":"IF(IF(A2005<>\"\",A2005+1<=$B$16,0),A2005+1,\"\")","v":""},{"$f":"IF(A2006<>\"\",A2006*$B$13,\"\")","v":""},{"$f":"IF(A2006<>\"\",ROUNDDOWN(A2006*$B$13/24,0),\"\")","v":""},"",{"$f":"IF(A2006<>\"\",($B$4+$B$5)/2+($B$5-$B$4)/2*COS(2*PI()/$B$15*B2006),\"\")","v":""},{"$f":"IF(A2006<>\"\",E2006*COS(2*PI()/$B$7*B2006),\"\")","v":""},{"$error":"#VALUE!"},{"$error":"#VALUE!"}]
["","","","","","",{"$error":"#VALUE!"},{"$error":"#VALUE!"}]
["","","","","","",{"$error":"#VALUE!"},{"$error":"#VALUE!"}]
["","","","","","",{"$error":"#VALUE!"},{"$error":"#VALUE!"}]
["","","","","","",{"$error":"#VALUE!"},{"$error":"#VALUE!"}]
["","","","","","",{"$error":"#VALUE!"},{"$error":"#VALUE!"}]
["","","","","","",{"$error":"#VALUE!"},{"$error":"#VALUE!"}]
["","","","","","",{"$error":"#VALUE!"},{"$error":"#VALUE!"}]
["","","","","","",{"$error":"#VALUE!"},{"$error":"#VALUE!"}]
["","","","","","",{"$error":"#VALUE!"},{"$error":"#VALUE!"}]
["","","","","","",{"$error":"#VALUE!"},{"$error":"#VALUE!"}]
["","","","","","",{"$error":"#VALUE!"},{"$error":"#VALUE!"}]
["","","","","","",{"$error":"#VALUE!"},{"$error":"#VALUE!"}]
["","","","","","",{"$error":"#VALUE!"},{"$error":"#VALUE!"}]
["","","","","","",{"$error":"#VALUE!"},{"$error":"#VALUE!"}]
["","","","","","",{"$error":"#VALUE!"},{"$error":"#VALUE!"}]
["","","","","","",{"$error":"#VALUE!"},{"$error":"#VALUE!"}]
["","","","","","",{"$error":"#VALUE!"},{"$error":"#VALUE!"}]
["","","","","","",{"$error":"#VALUE!"},{"$error":"#VALUE!"}]
["","","","","","",{"$error":"#VALUE!"},{"$error":"#VALUE!"}]
["","","","","","",{"$error":"#VALUE!"},{"$error":"#VALUE!"}]
["","","","","","",{"$error":"#VALUE!"},{"$error":"#VALUE!"}]
["","","","","","",{"$error":"#VALUE!"},{"$error":"#VALUE!"}]
["","","","","","",{"$error":"#VALUE!"},{"$error":"#VALUE!"}]
["","","","","","",{"$error":"#VALUE!"},{"$error":"#VALUE!"}]
["","","","","","",{"$error":"#VALUE!"},{"$error":"#VALUE!"}]
["","","","","","",{"$error":"#VALUE!"},{"$error":"#VALUE!"}]
["","","","","","",{"$error":"#VALUE!"},{"$error":"#VALUE!"}]
["","","","","","",{"$error":"#VALUE!"},{"$error":"#VALUE!"}]
["","","","","","",{"$error":"#VALUE!"},{"$error":"#VALUE!"}]
["","","","","","",{"$error":"#VALUE!"},{"$error":"#VALUE!"}]
["","","","","","",{"$error":"#VALUE!"},{"$error":"#VALUE!"}]
["","","","","","",{"$error":"#VALUE!"},{"$error":"#VALUE!"}]
["","","","","","",{"$error":"#VALUE!"},{"$error":"#VALUE!"}]
["","","","","","",{"$error":"#VALUE!"},{"$error":"#VALUE!"}]
["","","","","","",{"$error":"#VALUE!"},{"$error":"#VALUE!"}]
["","","","","","",{"$error":"#VALUE!"},{"$error":"#VALUE!"}]
["","","","","","",{"$error":"#VALUE!"},{"$error":"#VALUE!"}]
["","","","","","",{"$error":"#VALUE!"},{"$error":"#VALUE!"}]
["","","","","","",{"$error":"#VALUE!"},{"$error":"#VALUE!"}]
["","","","","","",{"$error":"#VALUE!"},{"$error":"#VALUE!"}]
["","","","","","",{"$error":"#VALUE!"},{"$error":"#VALUE!"}]
["","","","","","",{"$error":"#VALUE!"},{"$error":"#VALUE!"}]
["","","","","","",{"$error":"#VALUE!"},{"$error":"#VALUE!"}]
["","","","","","",{"$error":"#VALUE!"},{"$error":"#VALUE!"}]
["","","","","","",{"$error":"#VALUE!"},{"$error":"#VALUE!"}]
["","","","","","",{"$error":"#VALUE!"},{"$error":"#VALUE!"}]
["","","","","","",{"$error":"#VALUE!"},{"$error":"#VALUE!"}]
["","","","","","",{"$error":"#VALUE!"},{"$error":"#VALUE!"}]
["","","","","","",{"$error":"#VALUE!"},{"$error":"#VALUE!"}]
["","","","","","",{"$error":"#VALUE!"},{"$error":"#VALUE!"}]
["","","","","","",{"$error":"#VALUE!"},{"$error":"#VALUE!"}]
["","","","","","",{"$error":"#VALUE!"},{"$error":"#VALUE!"}]
["","","","","","",{"$error":"#VALUE!"},{"$error":"#VALUE!"}]
["","","","","","",{"$error":"#VALUE!"},{"$error":"#VALUE!"}]
["","","","","","",{"$error":"#VALUE!"},{"$error":"#VALUE!"}]
["","","","","","",{"$error":"#VALUE!"},{"$error":"#VALUE!"}]
["","","","","","",{"$error":"#VALUE!"},{"$error":"#VALUE!"}]
["","","","","","",{"$error":"#VALUE!"},{"$error":"#VALUE!"}]
["","","","","","",{"$error":"#VALUE!"},{"$error":"#VALUE!"}]
["","","","","","",{"$error":"#VALUE!"},{"$error":"#VALUE!"}]
["","","","","","",{"$error":"#VALUE!"},{"$error":"#VALUE!"}]
["","","","","","",{"$error":"#VALUE!"},{"$error":"#VALUE!"}]
["","","",{"$f":"IF(A2069<>\"\",MOD(B2069,24)/24,\"\")","v":""},"","",{"$f":"ABS(0.5*1.025*1*(F2069^3))","v":{"$error":"#VALUE!"}},{"$f":"G2069*$B$13","v":{"$error":"#VALUE!"}}]
[{"$f":"IF(IF(A2069<>\"\",A2069+1<=$B$16,0),A2069+1,\"\")","v":""},{"$f":"IF(A2070<>\"\",A2070*$B$13,\"\")","v":""},{"$f":"IF(A2070<>\"\",ROUNDDOWN(A2070*$B$13/24,0),\"\")","v":""},"",{"$f":"IF(A2070<>\"\",($B$4+$B$5)/2+($B$5-$B$4)/2*COS(2*PI()/$B$15*B2070),\"\")","v":""},{"$f":"IF(A2070<>\"\",E2070*COS(2*PI()/$B$7*B2070),\"\")","v":""},{"$error":"#VALUE!"},{"$error":"#VALUE!"}]
["","","","","","",{"$error":"#VALUE!"},{"$error":"#VALUE!"}]
["","","","","","",{"$error":"#VALUE!"},{"$error":"#VALUE!"}]
["","","","","","",{"$error":"#VALUE!"},{"$error":"#VALUE!"}]
["","","","","","",{"$error":"#VALUE!"},{"$error":"#VALUE!"}]
["","","","","","",{"$error":"#VALUE!"},{"$error":"#VALUE!"}]
["","","","","","",{"$error":"#VALUE!"},{"$error":"#VALUE!"}]
["","","","","","",{"$error":"#VALUE!"},{"$error":"#VALUE!"}]
["","","","","","",{"$error":"#VALUE!"},{"$error":"#VALUE!"}]
["","","","","","",{"$error":"#VALUE!"},{"$error":"#VALUE!"}]
["","","","","","",{"$error":"#VALUE!"},{"$error":"#VALUE!"}]
["","","","","","",{"$error":"#VALUE!"},{"$error":"#VALUE!"}]
["","","","","","",{"$error":"#VALUE!"},{"$error":"#VALUE!"}]
["","","","","","",{"$error":"#VALUE!"},{"$error":"#VALUE!"}]
["","","","","","",{"$error":"#VALUE!"},{"$error":"#VALUE!"}]
["","","","","","",{"$error":"#VALUE!"},{"$error":"#VALUE!"}]
["","","","","","",{"$error":"#VALUE!"},{"$error":"#VALUE!"}]
["","","","","","",{"$error":"#VALUE!"},{"$error":"#VALUE!"}]
["","","","","","",{"$error":"#VALUE!"},{"$error":"#VALUE!"}]
["","","","","","",{"$error":"#VALUE!"},{"$error":"#VALUE!"}]
["","","","","","",{"$error":"#VALUE!"},{"$error":"#VALUE!"}]
["","","","","","",{"$error":"#VALUE!"},{"$error":"#VALUE!"}]
["","","","","","",{"$error":"#VALUE!"},{"$error":"#VALUE!"}]
["","","","","","",{"$error":"#VALUE!"},{"$error":"#VALUE!"}]
["","","","","","",{"$error":"#VALUE!"},{"$error":"#VALUE!"}]
["","","","","","",{"$error":"#VALUE!"},{"$error":"#VALUE!"}]
["","","","","","",{"$error":"#VALUE!"},{"$error":"#VALUE!"}]
["","","","","","",{"$error":"#VALUE!"},{"$error":"#VALUE!"}]
["","","","","","",{"$error":"#VALUE!"},{"$error":"#VALUE!"}]
["","","","","","",{"$error":"#VALUE!"},{"$error":"#VALUE!"}]
["","","","","","",{"$error":"#VALUE!"},{"$error":"#VALUE!"}]
["","","","","","",{"$error":"#VALUE!"},{"$error":"#VALUE!"}]
["","","","","","",{"$error":"#VALUE!"},{"$error":"#VALUE!"}]
["","","","","","",{"$error":"#VALUE!"},{"$error":"#VALUE!"}]
["","","","","","",{"$error":"#VALUE!"},{"$error":"#VALUE!"}]
["","","","","","",{"$error":"#VALUE!"},{"$error":"#VALUE!"}]
["","","","","","",{"$error":"#VALUE!"},{"$error":"#VALUE!"}]
["","","","","","",{"$error":"#VALUE!"},{"$error":"#VALUE!"}]
["","","","","","",{"$error":"#VALUE!"},{"$error":"#VALUE!"}]
["","","","","","",{"$error":"#VALUE!"},{"$error":"#VALUE!"}]
["","","","","","",{"$error":"#VALUE!"},{"$error":"#VALUE!"}]
["","","","","","",{"$error":"#VALUE!"},{"$error":"#VALUE!"}]
["","","","","","",{"$error":"#VALUE!"},{"$error":"#VALUE!"}]
["","","","","","",{"$error":"#VALUE!"},{"$error":"#VALUE!"}]
["","","","","","",{"$error":"#VALUE!"},{"$error":"#VALUE!"}]
["","","","","","",{"$error":"#VALUE!"},{"$error":"#VALUE!"}]
["","","","","","",{"$error":"#VALUE!"},{"$error":"#VALUE!"}]
["","","","","","",{"$error":"#VALUE!"},{"$error":"#VALUE!"}]
["","","","","","",{"$error":"#VALUE!"},{"$error":"#VALUE!"}]
["","","","","","",{"$error":"#VALUE!"},{"$error":"#VALUE!"}]
["","","","","","",{"$error":"#VALUE!"},{"$error":"#VALUE!"}]
["","","","","","",{"$error":"#VALUE!"},{"$error":"#VALUE!"}]
["","","","","","",{"$error":"#VALUE!"},{"$error":"#VALUE!"}]
["","","","","","",{"$error":"#VALUE!"},{"$error":"#VALUE!"}]
["","","","","","",{"$error":"#VALUE!"},{"$error":"#VALUE!"}]
["","","","","","",{"$error":"#VALUE!"},{"$error":"#VALUE!"}]
["","","","","","",{"$error":"#VALUE!"},{"$error":"#VALUE!"}]
["","","","","","",{"$error":"#VALUE!"},{"$error":"#VALUE!"}]
["","","","","","",{"$error":"#VALUE!"},{"$error":"#VALUE!"}]
["","","","","","",{"$error":"#VALUE!"},{"$error":"#VALUE!"}]
["","","","","","",{"$error":"#VALUE!"},{"$error":"#VALUE!"}]
["","","","","","",{"$error":"#VALUE!"},{"$error":"#VALUE!"}]
["","","","","","",{"$error":"#VALUE!"},{"$error":"#VALUE!"}]
["","","",{"$f":"IF(A2133<>\"\",MOD(B2133,24)/24,\"\")","v":""},"","",{"$f":"ABS(0.5*1.025*1*(F2133^3))","v":{"$error":"#VALUE!"}},{"$f":"G2133*$B$13","v":{"$error":"#VALUE!"}}]
[{"$f":"IF(IF(A2133<>\"\",A2133+1<=$B$16,0),A2133+1,\"\")","v":""},{"$f":"IF(A2134<>\"\",A2134*$B$13,\"\")","v":""},{"$f":"IF(A2134<>\"\",ROUNDDOWN(A2134*$B$13/24,0),\"\")","v":""},"",{"$f":"IF(A2134<>\"\",($B$4+$B$5)/2+($B$5-$B$4)/2*COS(2*PI()/$B$15*B2134),\"\")","v":""},{"$f":"IF(A2134<>\"\",E2134*COS(2*PI()/$B$7*B2134),\"\")","v":""},{"$error":"#VALUE!"},{"$error":"#VALUE!"}]
["","","","","","",{"$error":"#VALUE!"},{"$error":"#VALUE!"}]
["","","","","","",{"$error":"#VALUE!"},{"$error":"#VALUE!"}]
["","","","","","",{"$error":"#VALUE!"},{"$error":"#VALUE!"}]
["","","","","","",{"$error":"#VALUE!"},{"$error":"#VALUE!"}]
["","","","","","",{"$error":"#VALUE!"},{"$error":"#VALUE!"}]
["","","","","","",{"$error":"#VALUE!"},{"$error":"#VALUE!"}]
["","","","","","",{"$error":"#VALUE!"},{"$error":"#VALUE!"}]
["","","","","","",{"$error":"#VALUE!"},{"$error":"#VALUE!"}]
["","","","","","",{"$error":"#VALUE!"},{"$error":"#VALUE!"}]
["","","","","","",{"$error":"#VALUE!"},{"$error":"#VALUE!"}]
["","","","","","",{"$error":"#VALUE!"},{"$error":"#VALUE!"}]
["","","","","","",{"$error":"#VALUE!"},{"$error":"#VALUE!"}]
["","","","","","",{"$error":"#VALUE!"},{"$error":"#VALUE!"}]
["","","","","","",{"$error":"#VALUE!"},{"$error":"#VALUE!"}]
["","","","","","",{"$error":"#VALUE!"},{"$error":"#VALUE!"}]
["","","","","","",{"$error":"#VALUE!"},{"$error":"#VALUE!"}]
["","","","","","",{"$error":"#VALUE!"},{"$error":"#VALUE!"}]
["","","","","","",{"$error":"#VALUE!"},{"$error":"#VALUE!"}]
["","","","","","",{"$error":"#VALUE!"},{"$error":"#VALUE!"}]
["","","","","","",{"$error":"#VALUE!"},{"$error":"#VALUE!"}]
["","","","","","",{"$error":"#VALUE!"},{"$error":"#VALUE!"}]
["","","","","","",{"$error":"#VALUE!"},{"$error":"#VALUE!"}]
["","","","","","",{"$error":"#VALUE!"},{"$error":"#VALUE!"}]
["","","","","","",{"$error":"#VALUE!"},{"$error":"#VALUE!"}]
["","","","","","",{"$error":"#VALUE!"},{"$error":"#VALUE!"}]
["","","","","","",{"$error":"#VALUE!"},{"$error":"#VALUE!"}]
["","","","","","",{"$error":"#VALUE!"},{"$error":"#VALUE!"}]
["","","","","","",{"$error":"#VALUE!"},{"$error":"#VALUE!"}]
["","","","","","",{"$error":"#VALUE!"},{"$error":"#VALUE!"}]
["","","","","","",{"$error":"#VALUE!"},{"$error":"#VALUE!"}]
["","","","","","",{"$error":"#VALUE!"},{"$error":"#VALUE!"}]
["","","","","","",{"$error":"#VALUE!"},{"$error":"#VALUE!"}]
["","","","","","",{"$error":"#VALUE!"},{"$error":"#VALUE!"}]
["","","","","","",{"$error":"#VALUE!"},{"$error":"#VALUE!"}]
["","","","","","",{"$error":"#VALUE!"},{"$error":"#VALUE!"}]
["","","","","","",{"$error":"#VALUE!"},{"$error":"#VALUE!"}]
["","","","","","",{"$error":"#VALUE!"},{"$error":"#VALUE!"}]
["","","","","","",{"$error":"#VALUE!"},{"$error":"#VALUE!"}]
["","","","","","",{"$error":"#VALUE!"},{"$error":"#VALUE!"}]
["","","","","","",{"$error":"#VALUE!"},{"$error":"#VALUE!"}]
["","","","","","",{"$error":"#VALUE!"},{"$error":"#VALUE!"}]
["","","","","","",{"$error":"#VALUE!"},{"$error":"#VALUE!"}]
["","","","","","",{"$error":"#VALUE!"},{"$error":"#VALUE!"}]
["","","","","","",{"$error":"#VALUE!"},{"$error":"#VALUE!"}]
["","","","","","",{"$error":"#VALUE!"},{"$error":"#VALUE!"}]
["","","","","","",{"$error":"#VALUE!"},{"$error":"#VALUE!"}]
["","","","","","",{"$error":"#VALUE!"},{"$error":"#VALUE!"}]
["","","","","","",{"$error":"#VALUE!"},{"$error":"#VALUE!"}]
["","","","","","",{"$error":"#VALUE!"},{"$error":"#VALUE!"}]
["","","","","","",{"$error":"#VALUE!"},{"$error":"#VALUE!"}]
["","","","","","",{"$error":"#VALUE!"},{"$error":"#VALUE!"}]
["","","","","","",{"$error":"#VALUE!"},{"$error":"#VALUE!"}]
["","","","","","",{"$error":"#VALUE!"},{"$error":"#VALUE!"}]
["","","","","","",{"$error":"#VALUE!"},{"$error":"#VALUE!"}]
["","","","","","",{"$error":"#VALUE!"},{"$error":"#VALUE!"}]
["","","","","","",{"$error":"#VALUE!"},{"$error":"#VALUE!"}]
["","","","","","",{"$error":"#VALUE!"},{"$error":"#VALUE!"}]
["","","","","","",{"$error":"#VALUE!"},{"$error":"#VALUE!"}]
["","","","","","",{"$error":"#VALUE!"},{"$error":"#VALUE!"}]
["","","","","","",{"$error":"#VALUE!"},{"$error":"#VALUE!"}]
["","","","","","",{"$error":"#VALUE!"},{"$error":"#VALUE!"}]
["","","","","","",{"$error":"#VALUE!"},{"$error":"#VALUE!"}]
["","","",{"$f":"IF(A2197<>\"\",MOD(B2197,24)/24,\"\")","v":""},"","",{"$f":"ABS(0.5*1.025*1*(F2197^3))","v":{"$error":"#VALUE!"}},{"$f":"G2197*$B$13","v":{"$error":"#VALUE!"}}]
[{"$f":"IF(IF(A2197<>\"\",A2197+1<=$B$16,0),A2197+1,\"\")","v":""},{"$f":"IF(A2198<>\"\",A2198*$B$13,\"\")","v":""},{"$f":"IF(A2198<>\"\",ROUNDDOWN(A2198*$B$13/24,0),\"\")","v":""},"",{"$f":"IF(A2198<>\"\",($B$4+$B$5)/2+($B$5-$B$4)/2*COS(2*PI()/$B$15*B2198),\"\")","v":""},{"$f":"IF(A2198<>\"\",E2198*COS(2*PI()/$B$7*B2198),\"\")","v":""},{"$error":"#VALUE!"},{"$error":"#VALUE!"}]
["","","","","","",{"$error":"#VALUE!"},{"$error":"#VALUE!"}]
["","","","","","",{"$error":"#VALUE!"},{"$error":"#VALUE!"}]
["","","","","","",{"$error":"#VALUE!"},{"$error":"#VALUE!"}]
["","","","","","",{"$error":"#VALUE!"},{"$error":"#VALUE!"}]
["","","","","","",{"$error":"#VALUE!"},{"$error":"#VALUE!"}]
["","","","","","",{"$error":"#VALUE!"},{"$error":"#VALUE!"}]
["","","","","","",{"$error":"#VALUE!"},{"$error":"#VALUE!"}]
["","","","","","",{"$error":"#VALUE!"},{"$error":"#VALUE!"}]
["","","","","","",{"$error":"#VALUE!"},{"$error":"#VALUE!"}]
["","","","","","",{"$error":"#VALUE!"},{"$error":"#VALUE!"}]
["","","","","","",{"$error":"#VALUE!"},{"$error":"#VALUE!"}]
["","","","","","",{"$error":"#VALUE!"},{"$error":"#VALUE!"}]
["","","","","","",{"$error":"#VALUE!"},{"$error":"#VALUE!"}]
["","","","","","",{"$error":"#VALUE!"},{"$error":"#VALUE!"}]
["","","","","","",{"$error":"#VALUE!"},{"$error":"#VALUE!"}]
["","","","","","",{"$error":"#VALUE!"},{"$error":"#VALUE!"}]
["","","","","","",{"$error":"#VALUE!"},{"$error":"#VALUE!"}]
["","","","","","",{"$error":"#VALUE!"},{"$error":"#VALUE!"}]
["","","","","","",{"$error":"#VALUE!"},{"$error":"#VALUE!"}]
["","","","","","",{"$error":"#VALUE!"},{"$error":"#VALUE!"}]
["","","","","","",{"$error":"#VALUE!"},{"$error":"#VALUE!"}]
["","","","","","",{"$error":"#VALUE!"},{"$error":"#VALUE!"}]
["","","","","","",{"$error":"#VALUE!"},{"$error":"#VALUE!"}]
["","","","","","",{"$error":"#VALUE!"},{"$error":"#VALUE!"}]
["","","","","","",{"$error":"#VALUE!"},{"$error":"#VALUE!"}]
["","","","","","",{"$error":"#VALUE!"},{"$error":"#VALUE!"}]
["","","","","","",{"$error":"#VALUE!"},{"$error":"#VALUE!"}]
["","","","","","",{"$error":"#VALUE!"},{"$error":"#VALUE!"}]
["","","","","","",{"$error":"#VALUE!"},{"$error":"#VALUE!"}]
["","","","","","",{"$error":"#VALUE!"},{"$error":"#VALUE!"}]
["","","","","","",{"$error":"#VALUE!"},{"$error":"#VALUE!"}]
["","","","","","",{"$error":"#VALUE!"},{"$error":"#VALUE!"}]
["","","","","","",{"$error":"#VALUE!"},{"$error":"#VALUE!"}]
["","","","","","",{"$error":"#VALUE!"},{"$error":"#VALUE!"}]
["","","","","","",{"$error":"#VALUE!"},{"$error":"#VALUE!"}]
["","","","","","",{"$error":"#VALUE!"},{"$error":"#VALUE!"}]
["","","","","","",{"$error":"#VALUE!"},{"$error":"#VALUE!"}]
["","","","","","",{"$error":"#VALUE!"},{"$error":"#VALUE!"}]
["","","","","","",{"$error":"#VALUE!"},{"$error":"#VALUE!"}]
["","","","","","",{"$error":"#VALUE!"},{"$error":"#VALUE!"}]
["","","","","","",{"$error":"#VALUE!"},{"$error":"#VALUE!"}]
["","","","","","",{"$error":"#VALUE!"},{"$error":"#VALUE!"}]
["","","","","","",{"$error":"#VALUE!"},{"$error":"#VALUE!"}]
["","","","","","",{"$error":"#VALUE!"},{"$error":"#VALUE!"}]
["","","","","","",{"$error":"#VALUE!"},{"$error":"#VALUE!"}]
["","","","","","",{"$error":"#VALUE!"},{"$error":"#VALUE!"}]
["","","","","","",{"$error":"#VALUE!"},{"$error":"#VALUE!"}]
["","","","","","",{"$error":"#VALUE!"},{"$error":"#VALUE!"}]
["","","","","","",{"$error":"#VALUE!"},{"$error":"#VALUE!"}]
["","","","","","",{"$error":"#VALUE!"},{"$error":"#VALUE!"}]
["","","","","","",{"$error":"#VALUE!"},{"$error":"#VALUE!"}]
["","","","","","",{"$error":"#VALUE!"},{"$error":"#VALUE!"}]
["","","","","","",{"$error":"#VALUE!"},{"$error":"#VALUE!"}]
["","","","","","",{"$error":"#VALUE!"},{"$error":"#VALUE!"}]
["","","","","","",{"$error":"#VALUE!"},{"$error":"#VALUE!"}]
["","","","","","",{"$error":"#VALUE!"},{"$error":"#VALUE!"}]
["","","","","","",{"$error":"#VALUE!"},{"$error":"#VALUE!"}]
["","","","","","",{"$error":"#VALUE!"},{"$error":"#VALUE!"}]
["","","","","","",{"$error":"#VALUE!"},{"$error":"#VALUE!"}]
["","","","","","",{"$error":"#VALUE!"},{"$error":"#VALUE!"}]
["","","","","","",{"$error":"#VALUE!"},{"$error":"#VALUE!"}]
["","","","","","",{"$error":"#VALUE!"},{"$error":"#VALUE!"}]
["","","",{"$f":"IF(A2261<>\"\",MOD(B2261,24)/24,\"\")","v":""},"","",{"$f":"ABS(0.5*1.025*1*(F2261^3))","v":{"$error":"#VALUE!"}},{"$f":"G2261*$B$13","v":{"$error":"#VALUE!"}}]
[{"$f":"IF(IF(A2261<>\"\",A2261+1<=$B$16,0),A2261+1,\"\")","v":""},{"$f":"IF(A2262<>\"\",A2262*$B$13,\"\")","v":""},{"$f":"IF(A2262<>\"\",ROUNDDOWN(A2262*$B$13/24,0),\"\")","v":""},"",{"$f":"IF(A2262<>\"\",($B$4+$B$5)/2+($B$5-$B$4)/2*COS(2*PI()/$B$15*B2262),\"\")","v":""},{"$f":"IF(A2262<>\"\",E2262*COS(2*PI()/$B$7*B2262),\"\")","v":""},{"$error":"#VALUE!"},{"$error":"#VALUE!"}]
["","","","","","",{"$error":"#VALUE!"},{"$error":"#VALUE!"}]
["","","","","","",{"$error":"#VALUE!"},{"$error":"#VALUE!"}]
["","","","","","",{"$error":"#VALUE!"},{"$error":"#VALUE!"}]
["","","","","","",{"$error":"#VALUE!"},{"$error":"#VALUE!"}]
["","","","","","",{"$error":"#VALUE!"},{"$error":"#VALUE!"}]
["","","","","","",{"$error":"#VALUE!"},{"$error":"#VALUE!"}]
["","","","","","",{"$error":"#VALUE!"},{"$error":"#VALUE!"}]
["","","","","","",{"$error":"#VALUE!"},{"$error":"#VALUE!"}]
["","","","","","",{"$error":"#VALUE!"},{"$error":"#VALUE!"}]
["","","","","","",{"$error":"#VALUE!"},{"$error":"#VALUE!"}]
["","","","","","",{"$error":"#VALUE!"},{"$error":"#VALUE!"}]
["","","","","","",{"$error":"#VALUE!"},{"$error":"#VALUE!"}]
["","","","","","",{"$error":"#VALUE!"},{"$error":"#VALUE!"}]
["","","","","","",{"$error":"#VALUE!"},{"$error":"#VALUE!"}]
["","","","","","",{"$error":"#VALUE!"},{"$error":"#VALUE!"}]
["","","","","","",{"$error":"#VALUE!"},{"$error":"#VALUE!"}]
["","","","","","",{"$error":"#VALUE!"},{"$error":"#VALUE!"}]
["","","","","","",{"$error":"#VALUE!"},{"$error":"#VALUE!"}]
["","","","","","",{"$error":"#VALUE!"},{"$error":"#VALUE!"}]
["","","","","","",{"$error":"#VALUE!"},{"$error":"#VALUE!"}]
["","","","","","",{"$error":"#VALUE!"},{"$error":"#VALUE!"}]
["","","","","","",{"$error":"#VALUE!"},{"$error":"#VALUE!"}]
["","","","","","",{"$error":"#VALUE!"},{"$error":"#VALUE!"}]
["","","","","","",{"$error":"#VALUE!"},{"$error":"#VALUE!"}]
["","","","","","",{"$error":"#VALUE!"},{"$error":"#VALUE!"}]
["","","","","","",{"$error":"#VALUE!"},{"$error":"#VALUE!"}]
["","","","","","",{"$error":"#VALUE!"},{"$error":"#VALUE!"}]
["","","","","","",{"$error":"#VALUE!"},{"$error":"#VALUE!"}]
["","","","","","",{"$error":"#VALUE!"},{"$error":"#VALUE!"}]
["","","","","","",{"$error":"#VALUE!"},{"$error":"#VALUE!"}]
["","","","","","",{"$error":"#VALUE!"},{"$error":"#VALUE!"}]
["","","","","","",{"$error":"#VALUE!"},{"$error":"#VALUE!"}]
["","","","","","",{"$error":"#VALUE!"},{"$error":"#VALUE!"}]
["","","","","","",{"$error":"#VALUE!"},{"$error":"#VALUE!"}]
["","","","","","",{"$error":"#VALUE!"},{"$error":"#VALUE!"}]
["","","","","","",{"$error":"#VALUE!"},{"$error":"#VALUE!"}]
["","","","","","",{"$error":"#VALUE!"},{"$error":"#VALUE!"}]
["","","","","","",{"$error":"#VALUE!"},{"$error":"#VALUE!"}]
["","","","","","",{"$error":"#VALUE!"},{"$error":"#VALUE!"}]
["","","","","","",{"$error":"#VALUE!"},{"$error":"#VALUE!"}]
["","","","","","",{"$error":"#VALUE!"},{"$error":"#VALUE!"}]
["","","","","","",{"$error":"#VALUE!"},{"$error":"#VALUE!"}]
["","","","","","",{"$error":"#VALUE!"},{"$error":"#VALUE!"}]
["","","","","","",{"$error":"#VALUE!"},{"$error":"#VALUE!"}]
["","","","","","",{"$error":"#VALUE!"},{"$error":"#VALUE!"}]
["","","","","","",{"$error":"#VALUE!"},{"$error":"#VALUE!"}]
["","","","","","",{"$error":"#VALUE!"},{"$error":"#VALUE!"}]
["","","","","","",{"$error":"#VALUE!"},{"$error":"#VALUE!"}]
["","","","","","",{"$error":"#VALUE!"},{"$error":"#VALUE!"}]
["","","","","","",{"$error":"#VALUE!"},{"$error":"#VALUE!"}]
["","","","","","",{"$error":"#VALUE!"},{"$error":"#VALUE!"}]
["","","","","","",{"$error":"#VALUE!"},{"$error":"#VALUE!"}]
["","","","","","",{"$error":"#VALUE!"},{"$error":"#VALUE!"}]
["","","","","","",{"$error":"#VALUE!"},{"$error":"#VALUE!"}]
["","","","","","",{"$error":"#VALUE!"},{"$error":"#VALUE!"}]
["","","","","","",{"$error":"#VALUE!"},{"$error":"#VALUE!"}]
["","","","","","",{"$error":"#VALUE!"},{"$error":"#VALUE!"}]
["","","","","","",{"$error":"#VALUE!"},{"$error":"#VALUE!"}]
["","","","","","",{"$error":"#VALUE!"},{"$error":"#VALUE!"}]
["","","","","","",{"$error":"#VALUE!"},{"$error":"#VALUE!"}]
["","","","","","",{"$error":"#VALUE!"},{"$error":"#VALUE!"}]
["","","","","","",{"$error":"#VALUE!"},{"$error":"#VALUE!"}]
["","","",{"$f":"IF(A2325<>\"\",MOD(B2325,24)/24,\"\")","v":""},"","",{"$f":"ABS(0.5*1.025*1*(F2325^3))","v":{"$error":"#VALUE!"}},{"$f":"G2325*$B$13","v":{"$error":"#VALUE!"}}]
[{"$f":"IF(IF(A2325<>\"\",A2325+1<=$B$16,0),A2325+1,\"\")","v":""},{"$f":"IF(A2326<>\"\",A2326*$B$13,\"\")","v":""},{"$f":"IF(A2326<>\"\",ROUNDDOWN(A2326*$B$13/24,0),\"\")","v":""},"",{"$f":"IF(A2326<>\"\",($B$4+$B$5)/2+($B$5-$B$4)/2*COS(2*PI()/$B$15*B2326),\"\")","v":""},{"$f":"IF(A2326<>\"\",E2326*COS(2*PI()/$B$7*B2326),\"\")","v":""},{"$error":"#VALUE!"},{"$error":"#VALUE!"}]
["","","","","","",{"$error":"#VALUE!"},{"$error":"#VALUE!"}]
["","","","","","",{"$error":"#VALUE!"},{"$error":"#VALUE!"}]
["","","","","","",{"$error":"#VALUE!"},{"$error":"#VALUE!"}]
["","","","","","",{"$error":"#VALUE!"},{"$error":"#VALUE!"}]
["","","","","","",{"$error":"#VALUE!"},{"$error":"#VALUE!"}]
["","","","","","",{"$error":"#VALUE!"},{"$error":"#VALUE!"}]
["","","","","","",{"$error":"#VALUE!"},{"$error":"#VALUE!"}]
["","","","","","",{"$error":"#VALUE!"},{"$error":"#VALUE!"}]
["","","","","","",{"$error":"#VALUE!"},{"$error":"#VALUE!"}]
["","","","","","",{"$error":"#VALUE!"},{"$error":"#VALUE!"}]
["","","","","","",{"$error":"#VALUE!"},{"$error":"#VALUE!"}]
["","","","","","",{"$error":"#VALUE!"},{"$error":"#VALUE!"}]
["","","","","","",{"$error":"#VALUE!"},{"$error":"#VALUE!"}]
["","","","","","",{"$error":"#VALUE!"},{"$error":"#VALUE!"}]
["","","","","","",{"$error":"#VALUE!"},{"$error":"#VALUE!"}]
["","","","","","",{"$error":"#VALUE!"},{"$error":"#VALUE!"}]
["","","","","","",{"$error":"#VALUE!"},{"$error":"#VALUE!"}]
["","","","","","",{"$error":"#VALUE!"},{"$error":"#VALUE!"}]
["","","","","","",{"$error":"#VALUE!"},{"$error":"#VALUE!"}]
["","","","","","",{"$error":"#VALUE!"},{"$error":"#VALUE!"}]
["","","","","","",{"$error":"#VALUE!"},{"$error":"#VALUE!"}]
["","","","","","",{"$error":"#VALUE!"},{"$error":"#VALUE!"}]
["","","","","","",{"$error":"#VALUE!"},{"$error":"#VALUE!"}]
["","","","","","",{"$error":"#VALUE!"},{"$error":"#VALUE!"}]
["","","","","","",{"$error":"#VALUE!"},{"$error":"#VALUE!"}]
["","","","","","",{"$error":"#VALUE!"},{"$error":"#VALUE!"}]
["","","","","","",{"$error":"#VALUE!"},{"$error":"#VALUE!"}]
["","","","","","",{"$error":"#VALUE!"},{"$error":"#VALUE!"}]
["","","","","","",{"$error":"#VALUE!"},{"$error":"#VALUE!"}]
["","","","","","",{"$error":"#VALUE!"},{"$error":"#VALUE!"}]
["","","","","","",{"$error":"#VALUE!"},{"$error":"#VALUE!"}]
["","","","","","",{"$error":"#VALUE!"},{"$error":"#VALUE!"}]
["","","","","","",{"$error":"#VALUE!"},{"$error":"#VALUE!"}]
["","","","","","",{"$error":"#VALUE!"},{"$error":"#VALUE!"}]
["","","","","","",{"$error":"#VALUE!"},{"$error":"#VALUE!"}]
["","","","","","",{"$error":"#VALUE!"},{"$error":"#VALUE!"}]
["","","","","","",{"$error":"#VALUE!"},{"$error":"#VALUE!"}]
["","","","","","",{"$error":"#VALUE!"},{"$error":"#VALUE!"}]
["","","","","","",{"$error":"#VALUE!"},{"$error":"#VALUE!"}]
["","","","","","",{"$error":"#VALUE!"},{"$error":"#VALUE!"}]
["","","","","","",{"$error":"#VALUE!"},{"$error":"#VALUE!"}]
["","","","","","",{"$error":"#VALUE!"},{"$error":"#VALUE!"}]
["","","","","","",{"$error":"#VALUE!"},{"$error":"#VALUE!"}]
["","","","","","",{"$error":"#VALUE!"},{"$error":"#VALUE!"}]
["","","","","","",{"$error":"#VALUE!"},{"$error":"#VALUE!"}]
["","","","","","",{"$error":"#VALUE!"},{"$error":"#VALUE!"}]
["","","","","","",{"$error":"#VALUE!"},{"$error":"#VALUE!"}]
["","","","","","",{"$error":"#VALUE!"},{"$error":"#VALUE!"}]
["","","","","","",{"$error":"#VALUE!"},{"$error":"#VALUE!"}]
["","","","","","",{"$error":"#VALUE!"},{"$error":"#VALUE!"}]
["","","","","","",{"$error":"#VALUE!"},{"$error":"#VALUE!"}]
["","","","","","",{"$error":"#VALUE!"},{"$error":"#VALUE!"}]
["","","","","","",{"$error":"#VALUE!"},{"$error":"#VALUE!"}]
["","","","","","",{"$error":"#VALUE!"},{"$error":"#VALUE!"}]
["","","","","","",{"$error":"#VALUE!"},{"$error":"#VALUE!"}]
["","","","","","",{"$error":"#VALUE!"},{"$error":"#VALUE!"}]
["","","","","","",{"$error":"#VALUE!"},{"$error":"#VALUE!"}]
["","","","","","",{"$error":"#VALUE!"},{"$error":"#VALUE!"}]
["","","","","","",{"$error":"#VALUE!"},{"$error":"#VALUE!"}]
["","","","","","",{"$error":"#VALUE!"},{"$error":"#VALUE!"}]
["","","","","","",{"$error":"#VALUE!"},{"$error":"#VALUE!"}]
["","","","","","",{"$error":"#VALUE!"},{"$error":"#VALUE!"}]
["","","",{"$f":"IF(A2389<>\"\",MOD(B2389,24)/24,\"\")","v":""},"","",{"$f":"ABS(0.5*1.025*1*(F2389^3))","v":{"$error":"#VALUE!"}},{"$f":"G2389*$B$13","v":{"$error":"#VALUE!"}}]
[{"$f":"IF(IF(A2389<>\"\",A2389+1<=$B$16,0),A2389+1,\"\")","v":""},{"$f":"IF(A2390<>\"\",A2390*$B$13,\"\")","v":""},{"$f":"IF(A2390<>\"\",ROUNDDOWN(A2390*$B$13/24,0),\"\")","v":""},"",{"$f":"IF(A2390<>\"\",($B$4+$B$5)/2+($B$5-$B$4)/2*COS(2*PI()/$B$15*B2390),\"\")","v":""},{"$f":"IF(A2390<>\"\",E2390*COS(2*PI()/$B$7*B2390),\"\")","v":""},{"$error":"#VALUE!"},{"$error":"#VALUE!"}]
["","","","","","",{"$error":"#VALUE!"},{"$error":"#VALUE!"}]
["","","","","","",{"$error":"#VALUE!"},{"$error":"#VALUE!"}]
["","","","","","",{"$error":"#VALUE!"},{"$error":"#VALUE!"}]
["","","","","","",{"$error":"#VALUE!"},{"$error":"#VALUE!"}]
["","","","","","",{"$error":"#VALUE!"},{"$error":"#VALUE!"}]
["","","","","","",{"$error":"#VALUE!"},{"$error":"#VALUE!"}]
["","","","","","",{"$error":"#VALUE!"},{"$error":"#VALUE!"}]
["","","","","","",{"$error":"#VALUE!"},{"$error":"#VALUE!"}]
["","","","","","",{"$error":"#VALUE!"},{"$error":"#VALUE!"}]
["","","","","","",{"$error":"#VALUE!"},{"$error":"#VALUE!"}]
["","","","","","",{"$error":"#VALUE!"},{"$error":"#VALUE!"}]
["","","","","","",{"$error":"#VALUE!"},{"$error":"#VALUE!"}]
["","","","","","",{"$error":"#VALUE!"},{"$error":"#VALUE!"}]
["","","","","","",{"$error":"#VALUE!"},{"$error":"#VALUE!"}]
["","","","","","",{"$error":"#VALUE!"},{"$error":"#VALUE!"}]
["","","","","","",{"$error":"#VALUE!"},{"$error":"#VALUE!"}]
["","","","","","",{"$error":"#VALUE!"},{"$error":"#VALUE!"}]
["","","","","","",{"$error":"#VALUE!"},{"$error":"#VALUE!"}]
["","","","","","",{"$error":"#VALUE!"},{"$error":"#VALUE!"}]
["","","","","","",{"$error":"#VALUE!"},{"$error":"#VALUE!"}]
["","","","","","",{"$error":"#VALUE!"},{"$error":"#VALUE!"}]
["","","","","","",{"$error":"#VALUE!"},{"$error":"#VALUE!"}]
["","","","","","",{"$error":"#VALUE!"},{"$error":"#VALUE!"}]
["","","","","","",{"$error":"#VALUE!"},{"$error":"#VALUE!"}]
["","","","","","",{"$error":"#VALUE!"},{"$error":"#VALUE!"}]
["","","","","","",{"$error":"#VALUE!"},{"$error":"#VALUE!"}]
["","","","","","",{"$error":"#VALUE!"},{"$error":"#VALUE!"}]
["","","","","","",{"$error":"#VALUE!"},{"$error":"#VALUE!"}]
["","","","","","",{"$error":"#VALUE!"},{"$error":"#VALUE!"}]
["","","","","","",{"$error":"#VALUE!"},{"$error":"#VALUE!"}]
["","","","","","",{"$error":"#VALUE!"},{"$error":"#VALUE!"}]
["","","","","","",{"$error":"#VALUE!"},{"$error":"#VALUE!"}]
["","","","","","",{"$error":"#VALUE!"},{"$error":"#VALUE!"}]
["","","","","","",{"$error":"#VALUE!"},{"$error":"#VALUE!"}]
["","","","","","",{"$error":"#VALUE!"},{"$error":"#VALUE!"}]
["","","","","","",{"$error":"#VALUE!"},{"$error":"#VALUE!"}]
["","","","","","",{"$error":"#VALUE!"},{"$error":"#VALUE!"}]
["","","","","","",{"$error":"#VALUE!"},{"$error":"#VALUE!"}]
["","","","","","",{"$error":"#VALUE!"},{"$error":"#VALUE!"}]
["","","","","","",{"$error":"#VALUE!"},{"$error":"#VALUE!"}]
["","","","","","",{"$error":"#VALUE!"},{"$error":"#VALUE!"}]
["","","","","","",{"$error":"#VALUE!"},{"$error":"#VALUE!"}]
["","","","","","",{"$error":"#VALUE!"},{"$error":"#VALUE!"}]
["","","","","","",{"$error":"#VALUE!"},{"$error":"#VALUE!"}]
["","","","","","",{"$error":"#VALUE!"},{"$error":"#VALUE!"}]
["","","","","","",{"$error":"#VALUE!"},{"$error":"#VALUE!"}]
["","","","","","",{"$error":"#VALUE!"},{"$error":"#VALUE!"}]
["","","","","","",{"$error":"#VALUE!"},{"$error":"#VALUE!"}]
["","","","","","",{"$error":"#VALUE!"},{"$error":"#VALUE!"}]
["","","","","","",{"$error":"#VALUE!"},{"$error":"#VALUE!"}]
["","","","","","",{"$error":"#VALUE!"},{"$error":"#VALUE!"}]
["","","","","","",{"$error":"#VALUE!"},{"$error":"#VALUE!"}]
["","","","","","",{"$error":"#VALUE!"},{"$error":"#VALUE!"}]
["","","","","","",{"$error":"#VALUE!"},{"$error":"#VALUE!"}]
["","","","","","",{"$error":"#VALUE!"},{"$error":"#VALUE!"}]
["","","","","","",{"$error":"#VALUE!"},{"$error":"#VALUE!"}]
["","","","","","",{"$error":"#VALUE!"},{"$error":"#VALUE!"}]
["","","","","","",{"$error":"#VALUE!"},{"$error":"#VALUE!"}]
["","","","","","",{"$error":"#VALUE!"},{"$error":"#VALUE!"}]
["","","","","","",{"$error":"#VALUE!"},{"$error":"#VALUE!"}]
["","","","","","",{"$error":"#VALUE!"},{"$error":"#VALUE!"}]
["","","","","","",{"$error":"#VALUE!"},{"$error":"#VALUE!"}]
["","","",{"$f":"IF(A2453<>\"\",MOD(B2453,24)/24,\"\")","v":""},"","",{"$f":"ABS(0.5*1.025*1*(F2453^3))","v":{"$error":"#VALUE!"}},{"$f":"G2453*$B$13","v":{"$error":"#VALUE!"}}]
[{"$f":"IF(IF(A2453<>\"\",A2453+1<=$B$16,0),A2453+1,\"\")","v":""},{"$f":"IF(A2454<>\"\",A2454*$B$13,\"\")","v":""},{"$f":"IF(A2454<>\"\",ROUNDDOWN(A2454*$B$13/24,0),\"\")","v":""},"",{"$f":"IF(A2454<>\"\",($B$4+$B$5)/2+($B$5-$B$4)/2*COS(2*PI()/$B$15*B2454),\"\")","v":""},{"$f":"IF(A2454<>\"\",E2454*COS(2*PI()/$B$7*B2454),\"\")","v":""},{"$error":"#VALUE!"},{"$error":"#VALUE!"}]
["","","","","","",{"$error":"#VALUE!"},{"$error":"#VALUE!"}]
["","","","","","",{"$error":"#VALUE!"},{"$error":"#VALUE!"}]
["","","","","","",{"$error":"#VALUE!"},{"$error":"#VALUE!"}]
["","","","","","",{"$error":"#VALUE!"},{"$error":"#VALUE!"}]
["","","","","","",{"$error":"#VALUE!"},{"$error":"#VALUE!"}]
["","","","","","",{"$error":"#VALUE!"},{"$error":"#VALUE!"}]
["","","","","","",{"$error":"#VALUE!"},{"$error":"#VALUE!"}]
["","","","","","",{"$error":"#VALUE!"},{"$error":"#VALUE!"}]
["","","","","","",{"$error":"#VALUE!"},{"$error":"#VALUE!"}]
["","","","","","",{"$error":"#VALUE!"},{"$error":"#VALUE!"}]
["","","","","","",{"$error":"#VALUE!"},{"$error":"#VALUE!"}]
["","","","","","",{"$error":"#VALUE!"},{"$error":"#VALUE!"}]
["","","","","","",{"$error":"#VALUE!"},{"$error":"#VALUE!"}]
["","","","","","",{"$error":"#VALUE!"},{"$error":"#VALUE!"}]
["","","","","","",{"$error":"#VALUE!"},{"$error":"#VALUE!"}]
["","","","","","",{"$error":"#VALUE!"},{"$error":"#VALUE!"}]
["","","","","","",{"$error":"#VALUE!"},{"$error":"#VALUE!"}]
["","","","","","",{"$error":"#VALUE!"},{"$error":"#VALUE!"}]
["","","","","","",{"$error":"#VALUE!"},{"$error":"#VALUE!"}]
["","","","","","",{"$error":"#VALUE!"},{"$error":"#VALUE!"}]
["","","","","","",{"$error":"#VALUE!"},{"$error":"#VALUE!"}]
["","","","","","",{"$error":"#VALUE!"},{"$error":"#VALUE!"}]
["","","","","","",{"$error":"#VALUE!"},{"$error":"#VALUE!"}]
["","","","","","",{"$error":"#VALUE!"},{"$error":"#VALUE!"}]
["","","","","","",{"$error":"#VALUE!"},{"$error":"#VALUE!"}]
["","","","","","",{"$error":"#VALUE!"},{"$error":"#VALUE!"}]
["","","","","","",{"$error":"#VALUE!"},{"$error":"#VALUE!"}]
["","","","","","",{"$error":"#VALUE!"},{"$error":"#VALUE!"}]
["","","","","","",{"$error":"#VALUE!"},{"$error":"#VALUE!"}]
["","","","","","",{"$error":"#VALUE!"},{"$error":"#VALUE!"}]
["","","","","","",{"$error":"#VALUE!"},{"$error":"#VALUE!"}]
["","","","","","",{"$error":"#VALUE!"},{"$error":"#VALUE!"}]
["","","","","","",{"$error":"#VALUE!"},{"$error":"#VALUE!"}]
["","","","","","",{"$error":"#VALUE!"},{"$error":"#VALUE!"}]
["","","","","","",{"$error":"#VALUE!"},{"$error":"#VALUE!"}]
["","","","","","",{"$error":"#VALUE!"},{"$error":"#VALUE!"}]
["","","","","","",{"$error":"#VALUE!"},{"$error":"#VALUE!"}]
["","","","","","",{"$error":"#VALUE!"},{"$error":"#VALUE!"}]
["","","","","","",{"$error":"#VALUE!"},{"$error":"#VALUE!"}]
["","","","","","",{"$error":"#VALUE!"},{"$error":"#VALUE!"}]
["","","","","","",{"$error":"#VALUE!"},{"$error":"#VALUE!"}]
["","","","","","",{"$error":"#VALUE!"},{"$error":"#VALUE!"}]
["","","","","","",{"$error":"#VALUE!"},{"$error":"#VALUE!"}]
["","","","","","",{"$error":"#VALUE!"},{"$error":"#VALUE!"}]
["","","","","","",{"$error":"#VALUE!"},{"$error":"#VALUE!"}]
["","","","","","",{"$error":"#VALUE!"},{"$error":"#VALUE!"}]
["","","","","","",{"$error":"#VALUE!"},{"$error":"#VALUE!"}]
["","","","","","",{"$error":"#VALUE!"},{"$error":"#VALUE!"}]
["","","","","","",{"$error":"#VALUE!"},{"$error":"#VALUE!"}]
["","","","","","",{"$error":"#VALUE!"},{"$error":"#VALUE!"}]
["","","","","","",{"$error":"#VALUE!"},{"$error":"#VALUE!"}]
["","","","","","",{"$error":"#VALUE!"},{"$error":"#VALUE!"}]
["","","","","","",{"$error":"#VALUE!"},{"$error":"#VALUE!"}]
["","","","","","",{"$error":"#VALUE!"},{"$error":"#VALUE!"}]
["","","","","","",{"$error":"#VALUE!"},{"$error":"#VALUE!"}]
["","","","","","",{"$error":"#VALUE!"},{"$error":"#VALUE!"}]
["","","","","","",{"$error":"#VALUE!"},{"$error":"#VALUE!"}]
["","","","","","",{"$error":"#VALUE!"},{"$error":"#VALUE!"}]
["","","","","","",{"$error":"#VALUE!"},{"$error":"#VALUE!"}]
["","","","","","",{"$error":"#VALUE!"},{"$error":"#VALUE!"}]
["","","","","","",{"$error":"#VALUE!"},{"$error":"#VALUE!"}]
["","","","","","",{"$error":"#VALUE!"},{"$error":"#VALUE!"}]
["","","",{"$f":"IF(A2517<>\"\",MOD(B2517,24)/24,\"\")","v":""},"","",{"$f":"ABS(0.5*1.025*1*(F2517^3))","v":{"$error":"#VALUE!"}},{"$f":"G2517*$B$13","v":{"$error":"#VALUE!"}}]
[{"$f":"IF(IF(A2517<>\"\",A2517+1<=$B$16,0),A2517+1,\"\")","v":""},{"$f":"IF(A2518<>\"\",A2518*$B$13,\"\")","v":""},{"$f":"IF(A2518<>\"\",ROUNDDOWN(A2518*$B$13/24,0),\"\")","v":""},"",{"$f":"IF(A2518<>\"\",($B$4+$B$5)/2+($B$5-$B$4)/2*COS(2*PI()/$B$15*B2518),\"\")","v":""},{"$f":"IF(A2518<>\"\",E2518*COS(2*PI()/$B$7*B2518),\"\")","v":""},{"$error":"#VALUE!"},{"$error":"#VALUE!"}]
["","","","","","",{"$error":"#VALUE!"},{"$error":"#VALUE!"}]
["","","","","","",{"$error":"#VALUE!"},{"$error":"#VALUE!"}]
["","","","","","",{"$error":"#VALUE!"},{"$error":"#VALUE!"}]
["","","","","","",{"$error":"#VALUE!"},{"$error":"#VALUE!"}]
["","","","","","",{"$error":"#VALUE!"},{"$error":"#VALUE!"}]
["","","","","","",{"$error":"#VALUE!"},{"$error":"#VALUE!"}]
["","","","","","",{"$error":"#VALUE!"},{"$error":"#VALUE!"}]
["","","","","","",{"$error":"#VALUE!"},{"$error":"#VALUE!"}]
["","","","","","",{"$error":"#VALUE!"},{"$error":"#VALUE!"}]
["","","","","","",{"$error":"#VALUE!"},{"$error":"#VALUE!"}]
["","","","","","",{"$error":"#VALUE!"},{"$error":"#VALUE!"}]
["","","","","","",{"$error":"#VALUE!"},{"$error":"#VALUE!"}]
["","","","","","",{"$error":"#VALUE!"},{"$error":"#VALUE!"}]
["","","","","","",{"$error":"#VALUE!"},{"$error":"#VALUE!"}]
["","","","","","",{"$error":"#VALUE!"},{"$error":"#VALUE!"}]
["","","","","","",{"$error":"#VALUE!"},{"$error":"#VALUE!"}]
["","","","","","",{"$error":"#VALUE!"},{"$error":"#VALUE!"}]
["","","","","","",{"$error":"#VALUE!"},{"$error":"#VALUE!"}]
["","","","","","",{"$error":"#VALUE!"},{"$error":"#VALUE!"}]
["","","","","","",{"$error":"#VALUE!"},{"$error":"#VALUE!"}]
["","","","","","",{"$error":"#VALUE!"},{"$error":"#VALUE!"}]
["","","","","","",{"$error":"#VALUE!"},{"$error":"#VALUE!"}]
["","","","","","",{"$error":"#VALUE!"},{"$error":"#VALUE!"}]
["","","","","","",{"$error":"#VALUE!"},{"$error":"#VALUE!"}]
["","","","","","",{"$error":"#VALUE!"},{"$error":"#VALUE!"}]
["","","","","","",{"$error":"#VALUE!"},{"$error":"#VALUE!"}]
["","","","","","",{"$error":"#VALUE!"},{"$error":"#VALUE!"}]
["","","","","","",{"$error":"#VALUE!"},{"$error":"#VALUE!"}]
["","","","","","",{"$error":"#VALUE!"},{"$error":"#VALUE!"}]
["","","","","","",{"$error":"#VALUE!"},{"$error":"#VALUE!"}]
["","","","","","",{"$error":"#VALUE!"},{"$error":"#VALUE!"}]
["","","","","","",{"$error":"#VALUE!"},{"$error":"#VALUE!"}]
["","","","","","",{"$error":"#VALUE!"},{"$error":"#VALUE!"}]
["","","","","","",{"$error":"#VALUE!"},{"$error":"#VALUE!"}]
["","","","","","",{"$error":"#VALUE!"},{"$error":"#VALUE!"}]
["","","","","","",{"$error":"#VALUE!"},{"$error":"#VALUE!"}]
["","","","","","",{"$error":"#VALUE!"},{"$error":"#VALUE!"}]
["","","","","","",{"$error":"#VALUE!"},{"$error":"#VALUE!"}]
["","","","","","",{"$error":"#VALUE!"},{"$error":"#VALUE!"}]
["","","","","","",{"$error":"#VALUE!"},{"$error":"#VALUE!"}]
["","","","","","",{"$error":"#VALUE!"},{"$error":"#VALUE!"}]
["","","","","","",{"$error":"#VALUE!"},{"$error":"#VALUE!"}]
["","","","","","",{"$error":"#VALUE!"},{"$error":"#VALUE!"}]
["","","","","","",{"$error":"#VALUE!"},{"$error":"#VALUE!"}]
["","","","","","",{"$error":"#VALUE!"},{"$error":"#VALUE!"}]
["","","","","","",{"$error":"#VALUE!"},{"$error":"#VALUE!"}]
["","","","","","",{"$error":"#VALUE!"},{"$error":"#VALUE!"}]
["","","","","","",{"$error":"#VALUE!"},{"$error":"#VALUE!"}]
["","","","","","",{"$error":"#VALUE!"},{"$error":"#VALUE!"}]
["","","","","","",{"$error":"#VALUE!"},{"$error":"#VALUE!"}]
["","","","","","",{"$error":"#VALUE!"},{"$error":"#VALUE!"}]
["","","","","","",{"$error":"#VALUE!"},{"$error":"#VALUE!"}]
["","","","","","",{"$error":"#VALUE!"},{"$error":"#VALUE!"}]
["","","","","","",{"$error":"#VALUE!"},{"$error":"#VALUE!"}]
["","","","","","",{"$error":"#VALUE!"},{"$error":"#VALUE!"}]
["","","","","","",{"$error":"#VALUE!"},{"$error":"#VALUE!"}]
["","","","","","",{"$error":"#VALUE!"},{"$error":"#VALUE!"}]
["","","","","","",{"$error":"#VALUE!"},{"$error":"#VALUE!"}]
["","","","","","",{"$error":"#VALUE!"},{"$error":"#VALUE!"}]
["","","","","","",{"$error":"#VALUE!"},{"$error":"#VALUE!"}]
["","","","","","",{"$error":"#VALUE!"},{"$error":"#VALUE!"}]
["","","","","","",{"$error":"#VALUE!"},{"$error":"#VALUE!"}]
["","","",{"$f":"IF(A2581<>\"\",MOD(B2581,24)/24,\"\")","v":""},"","",{"$f":"ABS(0.5*1.025*1*(F2581^3))","v":{"$error":"#VALUE!"}},{"$f":"G2581*$B$13","v":{"$error":"#VALUE!"}}]
[{"$f":"IF(IF(A2581<>\"\",A2581+1<=$B$16,0),A2581+1,\"\")","v":""},{"$f":"IF(A2582<>\"\",A2582*$B$13,\"\")","v":""},{"$f":"IF(A2582<>\"\",ROUNDDOWN(A2582*$B$13/24,0),\"\")","v":""},"",{"$f":"IF(A2582<>\"\",($B$4+$B$5)/2+($B$5-$B$4)/2*COS(2*PI()/$B$15*B2582),\"\")","v":""},{"$f":"IF(A2582<>\"\",E2582*COS(2*PI()/$B$7*B2582),\"\")","v":""},{"$error":"#VALUE!"},{"$error":"#VALUE!"}]
["","","","","","",{"$error":"#VALUE!"},{"$error":"#VALUE!"}]
["","","","","","",{"$error":"#VALUE!"},{"$error":"#VALUE!"}]
["","","","","","",{"$error":"#VALUE!"},{"$error":"#VALUE!"}]
["","","","","","",{"$error":"#VALUE!"},{"$error":"#VALUE!"}]
["","","","","","",{"$error":"#VALUE!"},{"$error":"#VALUE!"}]
["","","","","","",{"$error":"#VALUE!"},{"$error":"#VALUE!"}]
["","","","","","",{"$error":"#VALUE!"},{"$error":"#VALUE!"}]
["","","","","","",{"$error":"#VALUE!"},{"$error":"#VALUE!"}]
["","","","","","",{"$error":"#VALUE!"},{"$error":"#VALUE!"}]
["","","","","","",{"$error":"#VALUE!"},{"$error":"#VALUE!"}]
["","","","","","",{"$error":"#VALUE!"},{"$error":"#VALUE!"}]
["","","","","","",{"$error":"#VALUE!"},{"$error":"#VALUE!"}]
["","","","","","",{"$error":"#VALUE!"},{"$error":"#VALUE!"}]
["","","","","","",{"$error":"#VALUE!"},{"$error":"#VALUE!"}]
["","","","","","",{"$error":"#VALUE!"},{"$error":"#VALUE!"}]
["","","","","","",{"$error":"#VALUE!"},{"$error":"#VALUE!"}]
["","","","","","",{"$error":"#VALUE!"},{"$error":"#VALUE!"}]
["","","","","","",{"$error":"#VALUE!"},{"$error":"#VALUE!"}]
["","","","","","",{"$error":"#VALUE!"},{"$error":"#VALUE!"}]
["","","","","","",{"$error":"#VALUE!"},{"$error":"#VALUE!"}]
["","","","","","",{"$error":"#VALUE!"},{"$error":"#VALUE!"}]
["","","","","","",{"$error":"#VALUE!"},{"$error":"#VALUE!"}]
["","","","","","",{"$error":"#VALUE!"},{"$error":"#VALUE!"}]
["","","","","","",{"$error":"#VALUE!"},{"$error":"#VALUE!"}]
["","","","","","",{"$error":"#VALUE!"},{"$error":"#VALUE!"}]
["","","","","","",{"$error":"#VALUE!"},{"$error":"#VALUE!"}]
["","","","","","",{"$error":"#VALUE!"},{"$error":"#VALUE!"}]
["","","","","","",{"$error":"#VALUE!"},{"$error":"#VALUE!"}]
["","","","","","",{"$error":"#VALUE!"},{"$error":"#VALUE!"}]
["","","","","","",{"$error":"#VALUE!"},{"$error":"#VALUE!"}]
["","","","","","",{"$error":"#VALUE!"},{"$error":"#VALUE!"}]
["","","","","","",{"$error":"#VALUE!"},{"$error":"#VALUE!"}]
["","","","","","",{"$error":"#VALUE!"},{"$error":"#VALUE!"}]
["","","","","","",{"$error":"#VALUE!"},{"$error":"#VALUE!"}]
["","","","","","",{"$error":"#VALUE!"},{"$error":"#VALUE!"}]
["","","","","","",{"$error":"#VALUE!"},{"$error":"#VALUE!"}]
["","","","","","",{"$error":"#VALUE!"},{"$error":"#VALUE!"}]
["","","","","","",{"$error":"#VALUE!"},{"$error":"#VALUE!"}]
["","","","","","",{"$error":"#VALUE!"},{"$error":"#VALUE!"}]
["","","","","","",{"$error":"#VALUE!"},{"$error":"#VALUE!"}]
["","","","","","",{"$error":"#VALUE!"},{"$error":"#VALUE!"}]
["","","","","","",{"$error":"#VALUE!"},{"$error":"#VALUE!"}]
["","","","","","",{"$error":"#VALUE!"},{"$error":"#VALUE!"}]
["","","","","","",{"$error":"#VALUE!"},{"$error":"#VALUE!"}]
["","","","","","",{"$error":"#VALUE!"},{"$error":"#VALUE!"}]
["","","","","","",{"$error":"#VALUE!"},{"$error":"#VALUE!"}]
["","","","","","",{"$error":"#VALUE!"},{"$error":"#VALUE!"}]
["","","","","","",{"$error":"#VALUE!"},{"$error":"#VALUE!"}]
["","","","","","",{"$error":"#VALUE!"},{"$error":"#VALUE!"}]
["","","","","","",{"$error":"#VALUE!"},{"$error":"#VALUE!"}]
["","","","","","",{"$error":"#VALUE!"},{"$error":"#VALUE!"}]
["","","","","","",{"$error":"#VALUE!"},{"$error":"#VALUE!"}]
["","","","","","",{"$error":"#VALUE!"},{"$error":"#VALUE!"}]
["","","","","","",{"$error":"#VALUE!"},{"$error":"#VALUE!"}]
["","","","","","",{"$error":"#VALUE!"},{"$error":"#VALUE!"}]
["","","","","","",{"$error":"#VALUE!"},{"$error":"#VALUE!"}]
["","","","","","",{"$error":"#VALUE!"},{"$error":"#VALUE!"}]
["","","","","","",{"$error":"#VALUE!"},{"$error":"#VALUE!"}]
["","","","","","",{"$error":"#VALUE!"},{"$error":"#VALUE!"}]
["","","","","","",{"$error":"#VALUE!"},{"$error":"#VALUE!"}]
["","","","","","",{"$error":"#VALUE!"},{"$error":"#VALUE!"}]
["","","","","","",{"$error":"#VALUE!"},{"$error":"#VALUE!"}]
["","","",{"$f":"IF(A2645<>\"\",MOD(B2645,24)/24,\"\")","v":""},"","",{"$f":"ABS(0.5*1.025*1*(F2645^3))","v":{"$error":"#VALUE!"}},{"$f":"G2645*$B$13","v":{"$error":"#VALUE!"}}]
[{"$f":"IF(IF(A2645<>\"\",A2645+1<=$B$16,0),A2645+1,\"\")","v":""},{"$f":"IF(A2646<>\"\",A2646*$B$13,\"\")","v":""},{"$f":"IF(A2646<>\"\",ROUNDDOWN(A2646*$B$13/24,0),\"\")","v":""},"",{"$f":"IF(A2646<>\"\",($B$4+$B$5)/2+($B$5-$B$4)/2*COS(2*PI()/$B$15*B2646),\"\")","v":""},{"$f":"IF(A2646<>\"\",E2646*COS(2*PI()/$B$7*B2646),\"\")","v":""},{"$error":"#VALUE!"},{"$error":"#VALUE!"}]
["","","","","","",{"$error":"#VALUE!"},{"$error":"#VALUE!"}]
["","","","","","",{"$error":"#VALUE!"},{"$error":"#VALUE!"}]
["","","","","","",{"$error":"#VALUE!"},{"$error":"#VALUE!"}]
["","","","","","",{"$error":"#VALUE!"},{"$error":"#VALUE!"}]
["","","","","","",{"$error":"#VALUE!"},{"$error":"#VALUE!"}]
["","","","","","",{"$error":"#VALUE!"},{"$error":"#VALUE!"}]
["","","","","","",{"$error":"#VALUE!"},{"$error":"#VALUE!"}]
["","","","","","",{"$error":"#VALUE!"},{"$error":"#VALUE!"}]
["","","","","","",{"$error":"#VALUE!"},{"$error":"#VALUE!"}]
["","","","","","",{"$error":"#VALUE!"},{"$error":"#VALUE!"}]
["","","","","","",{"$error":"#VALUE!"},{"$error":"#VALUE!"}]
["","","","","","",{"$error":"#VALUE!"},{"$error":"#VALUE!"}]
["","","","","","",{"$error":"#VALUE!"},{"$error":"#VALUE!"}]
["","","","","","",{"$error":"#VALUE!"},{"$error":"#VALUE!"}]
["","","","","","",{"$error":"#VALUE!"},{"$error":"#VALUE!"}]
["","","","","","",{"$error":"#VALUE!"},{"$error":"#VALUE!"}]
["","","","","","",{"$error":"#VALUE!"},{"$error":"#VALUE!"}]
["","","","","","",{"$error":"#VALUE!"},{"$error":"#VALUE!"}]
["","","","","","",{"$error":"#VALUE!"},{"$error":"#VALUE!"}]
["","","","","","",{"$error":"#VALUE!"},{"$error":"#VALUE!"}]
["","","","","","",{"$error":"#VALUE!"},{"$error":"#VALUE!"}]
["","","","","","",{"$error":"#VALUE!"},{"$error":"#VALUE!"}]
["","","","","","",{"$error":"#VALUE!"},{"$error":"#VALUE!"}]
["","","","","","",{"$error":"#VALUE!"},{"$error":"#VALUE!"}]
["","","","","","",{"$error":"#VALUE!"},{"$error":"#VALUE!"}]
["","","","","","",{"$error":"#VALUE!"},{"$error":"#VALUE!"}]
["","","","","","",{"$error":"#VALUE!"},{"$error":"#VALUE!"}]
["","","","","","",{"$error":"#VALUE!"},{"$error":"#VALUE!"}]
["","","","","","",{"$error":"#VALUE!"},{"$error":"#VALUE!"}]
["","","","","","",{"$error":"#VALUE!"},{"$error":"#VALUE!"}]
["","","","","","",{"$error":"#VALUE!"},{"$error":"#VALUE!"}]
["","","","","","",{"$error":"#VALUE!"},{"$error":"#VALUE!"}]
["","","","","","",{"$error":"#VALUE!"},{"$error":"#VALUE!"}]
["","","","","","",{"$error":"#VALUE!"},{"$error":"#VALUE!"}]
["","","","","","",{"$error":"#VALUE!"},{"$error":"#VALUE!"}]
["","","","","","",{"$error":"#VALUE!"},{"$error":"#VALUE!"}]
["","","","","","",{"$error":"#VALUE!"},{"$error":"#VALUE!"}]
["","","","","","",{"$error":"#VALUE!"},{"$error":"#VALUE!"}]
["","","","","","",{"$error":"#VALUE!"},{"$error":"#VALUE!"}]
["","","","","","",{"$error":"#VALUE!"},{"$error":"#VALUE!"}]
["","","","","","",{"$error":"#VALUE!"},{"$error":"#VALUE!"}]
["","","","","","",{"$error":"#VALUE!"},{"$error":"#VALUE!"}]
["","","","","","",{"$error":"#VALUE!"},{"$error":"#VALUE!"}]
["","","","","","",{"$error":"#VALUE!"},{"$error":"#VALUE!"}]
["","","","","","",{"$error":"#VALUE!"},{"$error":"#VALUE!"}]
["","","","","","",{"$error":"#VALUE!"},{"$error":"#VALUE!"}]
["","","","","","",{"$error":"#VALUE!"},{"$error":"#VALUE!"}]
["","","","","","",{"$error":"#VALUE!"},{"$error":"#VALUE!"}]
["","","","","","",{"$error":"#VALUE!"},{"$error":"#VALUE!"}]
["","","","","","",{"$error":"#VALUE!"},{"$error":"#VALUE!"}]
["","","","","","",{"$error":"#VALUE!"},{"$error":"#VALUE!"}]
["","","","","","",{"$error":"#VALUE!"},{"$error":"#VALUE!"}]
["","","","","","",{"$error":"#VALUE!"},{"$error":"#VALUE!"}]
["","","","","","",{"$error":"#VALUE!"},{"$error":"#VALUE!"}]
["","","","","","",{"$error":"#VALUE!"},{"$error":"#VALUE!"}]
["","","","","","",{"$error":"#VALUE!"},{"$error":"#VALUE!"}]
["","","","","","",{"$error":"#VALUE!"},{"$error":"#VALUE!"}]
["","","","","","",{"$error":"#VALUE!"},{"$error":"#VALUE!"}]
["","","","","","",{"$error":"#VALUE!"},{"$error":"#VALUE!"}]
["","","","","","",{"$error":"#VALUE!"},{"$error":"#VALUE!"}]
["","","","","","",{"$error":"#VALUE!"},{"$error":"#VALUE!"}]
["","","","","","",{"$error":"#VALUE!"},{"$error":"#VALUE!"}]
["","","",{"$f":"IF(A2709<>\"\",MOD(B2709,24)/24,\"\")","v":""},"","",{"$f":"ABS(0.5*1.025*1*(F2709^3))","v":{"$error":"#VALUE!"}},{"$f":"G2709*$B$13","v":{"$error":"#VALUE!"}}]
[{"$f":"IF(IF(A2709<>\"\",A2709+1<=$B$16,0),A2709+1,\"\")","v":""},{"$f":"IF(A2710<>\"\",A2710*$B$13,\"\")","v":""},{"$f":"IF(A2710<>\"\",ROUNDDOWN(A2710*$B$13/24,0),\"\")","v":""},"",{"$f":"IF(A2710<>\"\",($B$4+$B$5)/2+($B$5-$B$4)/2*COS(2*PI()/$B$15*B2710),\"\")","v":""},{"$f":"IF(A2710<>\"\",E2710*COS(2*PI()/$B$7*B2710),\"\")","v":""},{"$error":"#VALUE!"},{"$error":"#VALUE!"}]
["","","","","","",{"$error":"#VALUE!"},{"$error":"#VALUE!"}]
["","","","","","",{"$error":"#VALUE!"},{"$error":"#VALUE!"}]
["","","","","","",{"$error":"#VALUE!"},{"$error":"#VALUE!"}]
["","","","","","",{"$error":"#VALUE!"},{"$error":"#VALUE!"}]
["","","","","","",{"$error":"#VALUE!"},{"$error":"#VALUE!"}]
["","","","","","",{"$error":"#VALUE!"},{"$error":"#VALUE!"}]
["","","","","","",{"$error":"#VALUE!"},{"$error":"#VALUE!"}]
["","","","","","",{"$error":"#VALUE!"},{"$error":"#VALUE!"}]
["","","","","","",{"$error":"#VALUE!"},{"$error":"#VALUE!"}]
["","","","","","",{"$error":"#VALUE!"},{"$error":"#VALUE!"}]
["","","","","","",{"$error":"#VALUE!"},{"$error":"#VALUE!"}]
["","","","","","",{"$error":"#VALUE!"},{"$error":"#VALUE!"}]
["","","","","","",{"$error":"#VALUE!"},{"$error":"#VALUE!"}]
["","","","","","",{"$error":"#VALUE!"},{"$error":"#VALUE!"}]
["","","","","","",{"$error":"#VALUE!"},{"$error":"#VALUE!"}]
["","","","","","",{"$error":"#VALUE!"},{"$error":"#VALUE!"}]
["","","","","","",{"$error":"#VALUE!"},{"$error":"#VALUE!"}]
["","","","","","",{"$error":"#VALUE!"},{"$error":"#VALUE!"}]
["","","","","","",{"$error":"#VALUE!"},{"$error":"#VALUE!"}]
["","","","","","",{"$error":"#VALUE!"},{"$error":"#VALUE!"}]
["","","","","","",{"$error":"#VALUE!"},{"$error":"#VALUE!"}]
["","","","","","",{"$error":"#VALUE!"},{"$error":"#VALUE!"}]
["","","","","","",{"$error":"#VALUE!"},{"$error":"#VALUE!"}]
["","","","","","",{"$error":"#VALUE!"},{"$error":"#VALUE!"}]
["","","","","","",{"$error":"#VALUE!"},{"$error":"#VALUE!"}]
["","","","","","",{"$error":"#VALUE!"},{"$error":"#VALUE!"}]
["","","","","","",{"$error":"#VALUE!"},{"$error":"#VALUE!"}]
["","","","","","",{"$error":"#VALUE!"},{"$error":"#VALUE!"}]
["","","","","","",{"$error":"#VALUE!"},{"$error":"#VALUE!"}]
["","","","","","",{"$error":"#VALUE!"},{"$error":"#VALUE!"}]
["","","","","","",{"$error":"#VALUE!"},{"$error":"#VALUE!"}]
["","","","","","",{"$error":"#VALUE!"},{"$error":"#VALUE!"}]
["","","","","","",{"$error":"#VALUE!"},{"$error":"#VALUE!"}]
["","","","","","",{"$error":"#VALUE!"},{"$error":"#VALUE!"}]
["","","","","","",{"$error":"#VALUE!"},{"$error":"#VALUE!"}]
["","","","","","",{"$error":"#VALUE!"},{"$error":"#VALUE!"}]
["","","","","","",{"$error":"#VALUE!"},{"$error":"#VALUE!"}]
["","","","","","",{"$error":"#VALUE!"},{"$error":"#VALUE!"}]
["","","","","","",{"$error":"#VALUE!"},{"$error":"#VALUE!"}]
["","","","","","",{"$error":"#VALUE!"},{"$error":"#VALUE!"}]
["","","","","","",{"$error":"#VALUE!"},{"$error":"#VALUE!"}]
["","","","","","",{"$error":"#VALUE!"},{"$error":"#VALUE!"}]
["","","","","","",{"$error":"#VALUE!"},{"$error":"#VALUE!"}]
["","","","","","",{"$error":"#VALUE!"},{"$error":"#VALUE!"}]
["","","","","","",{"$error":"#VALUE!"},{"$error":"#VALUE!"}]
["","","","","","",{"$error":"#VALUE!"},{"$error":"#VALUE!"}]
["","","","","","",{"$error":"#VALUE!"},{"$error":"#VALUE!"}]
["","","","","","",{"$error":"#VALUE!"},{"$error":"#VALUE!"}]
["","","","","","",{"$error":"#VALUE!"},{"$error":"#VALUE!"}]
["","","","","","",{"$error":"#VALUE!"},{"$error":"#VALUE!"}]
["","","","","","",{"$error":"#VALUE!"},{"$error":"#VALUE!"}]
["","","","","","",{"$error":"#VALUE!"},{"$error":"#VALUE!"}]
["","","","","","",{"$error":"#VALUE!"},{"$error":"#VALUE!"}]
["","","","","","",{"$error":"#VALUE!"},{"$error":"#VALUE!"}]
["","","","","","",{"$error":"#VALUE!"},{"$error":"#VALUE!"}]
["","","","","","",{"$error":"#VALUE!"},{"$error":"#VALUE!"}]
["","","","","","",{"$error":"#VALUE!"},{"$error":"#VALUE!"}]
["","","","","","",{"$error":"#VALUE!"},{"$error":"#VALUE!"}]
["","","","","","",{"$error":"#VALUE!"},{"$error":"#VALUE!"}]
[{"$f":"IF(IF(A2769<>\"\",A2769+1<=$B$16,0),A2769+1,\"\")","v":""},{"$f":"IF(A2770<>\"\",A2770*$B$13,\"\")","v":""},{"$f":"IF(A2770<>\"\",ROUNDDOWN(A2770*$B$13/24,0),\"\")","v":""},"",{"$f":"IF(A2770<>\"\",($B$4+$B$5)/2+($B$5-$B$4)/2*COS(2*PI()/$B$15*B2770),\"\")","v":""},{"$f":"IF(A2770<>\"\",E2770*COS(2*PI()/$B$7*B2770),\"\")","v":""},{"$error":"#VALUE!"},{"$error":"#VALUE!"}]
[{"$f":"IF(IF(A2770<>\"\",A2770+1<=$B$16,0),A2770+1,\"\")","v":""},{"$f":"IF(A2771<>\"\",A2771*$B$13,\"\")","v":""},{"$f":"IF(A2771<>\"\",ROUNDDOWN(A2771*$B$13/24,0),\"\")","v":""},"",{"$f":"IF(A2771<>\"\",($B$4+$B$5)/2+($B$5-$B$4)/2*COS(2*PI()/$B$15*B2771),\"\")","v":""},{"$f":"IF(A2771<>\"\",E2771*COS(2*PI()/$B$7*B2771),\"\")","v":""},{"$error":"#VALUE!"},{"$error":"#VALUE!"}]
["","","","","","",{"$error":"#VALUE!"},{"$error":"#VALUE!"}]
["","","",{"$f":"IF(A2773<>\"\",MOD(B2773,24)/24,\"\")","v":""},"","",{"$f":"ABS(0.5*1.025*1*(F2773^3))","v":{"$error":"#VALUE!"}},{"$f":"G2773*$B$13","v":{"$error":"#VALUE!"}}]
["","","","","","",{"$error":"#VALUE!"},{"$error":"#VALUE!"}]
["","","","","","",{"$error":"#VALUE!"},{"$error":"#VALUE!"}]
["","","","","","",{"$error":"#VALUE!"},{"$error":"#VALUE!"}]
["","","","","","",{"$error":"#VALUE!"},{"$error":"#VALUE!"}]
["","","","","","",{"$error":"#VALUE!"},{"$error":"#VALUE!"}]
["","","","","","",{"$error":"#VALUE!"},{"$error":"#VALUE!"}]
[null,null,null,null,"Total Energy (kWh/m^2)",null,"-",{"$f":"IF(ISERROR(SUM(H20:H2779)),\"\",SUM(H20:H2779))","v":""},"per lunar cycle"]
[null,null,null,null,null,null,"-",{"$f":"IF(ISERROR(H2780*(365/$B$6)),\"\",(H2780*(365/$B$6)))","v":""},"per year"]
[null,null,null,null,"Average Power (kW/m^2)",null,{"$f":"IF(ISERROR(AVERAGE(G20:G2779)),\"\",(AVERAGE(G20:G2779)))","v":""},"-"]

{"sheet":"Tidal Stream 3","index":5,"n_rows":2782,"n_cols":9,"rows_kept":2782,"cut":false,"hidden":false,"merged":[[2781,4,2781,5],[17,0,18,0],[17,1,17,3],[2779,4,2780,5],[2,1,2,2],[7,1,7,2],[8,1,8,2],[9,1,9,2],[10,1,10,2],[13,0,14,0]]}
["Tidal Stream Resource"]
[]
[{"$f":"Input!A45","v":"Site Name"},{"$f":"IF(Input!B65<>\"\",Input!B65,\"-\")","v":"[Enter Name]"},{"$f":"Input!C45","v":0},null,null,null,null,null,"Plots:"]
[{"$f":"Input!A46","v":"Peak Flow (Springs)"},{"$f":"IF((AND(Input!B66<>\"\",Input!B66<>\"[Enter Value]\")),Input!B66,\"0\")","v":"0"},{"$f":"Input!C46","v":"m/s"}]
[{"$f":"Input!A47","v":"Peak Flow (Neaps)"},{"$f":"IF((AND(Input!B67<>\"\",Input!B67<>\"[Enter Value]\")),Input!B67,\"0\")","v":"0"},{"$f":"Input!C47","v":"m/s"}]
[{"$f":"Input!A48","v":"Lunar Cycle Period"},{"$f":"IF((AND(Input!B68<>\"\",Input!B68<>\"[Enter Value]\")),Input!B68,\"0\")","v":"0"},{"$f":"Input!C48","v":"days"}]
[{"$f":"Input!A49","v":"Tidal Period"},{"$f":"IF((AND(Input!B69<>\"\",Input!B69<>\"[Enter Value]\")),Input!B69,\"0\")","v":"0"},{"$f":"Input!C49","v":"hours"}]
[{"$f":"Input!A50","v":"Proximity to Grid Connection"},{"$f":"IF(Input!B70<>\"\",Input!B70,\"-\")","v":"[Select Value]"}]
[{"$f":"Input!A51","v":"Average Water Depth"},{"$f":"IF(Input!B71<>\"\",Input!B71,\"-\")","v":"[Select Value]"}]
[{"$f":"Input!A52","v":"Seabed Topography"},{"$f":"IF(Input!B72<>\"\",Input!B72,\"-\")","v":"[Select Value]"}]
[{"$f":"Input!A53","v":"Accessibility"},{"$f":"IF(Input!B73<>\"\",Input!B73,\"-\")","v":"[Select Value]"}]
[]
["Time Step",0.25,"hours"]
["Period",{"$f":"B6/2","v":0},"days"]
[null,{"$f":"B14*24","v":0},"hours"]
["Number of Steps",{"$f":"B15/B13*2","v":0},"-"]
[]
["No.","Time",null,null,"Amplitude","Current","Power","Energy"]
[null,"Hours","Day","Time","m/s","m/s","kW/(m^2)","kWh/(m^2)"]
[0,{"$f":"A20*$B$13","v":0},{"$f":"ROUNDDOWN(A20*$B$1/24,0)","v":0},{"$f":"MOD(B20,24)/24","v":0},{"$f":"IF(A20<>\"\",($B$4+$B$5)/2+($B$5-$B$4)/2*COS(2*PI()/$B$15*B20),\"\")","v":{"$error":"#DIV/0!"}},{"$f":"IF(A20<>\"\",E20*COS(2*PI()/$B$7*B20),\"\")","v":{"$error":"#DIV/0!"}},{"$f":"ABS(0.5*1.025*1*(F20^3))","v":{"$error":"#DIV/0!"}},{"$f":"G20*$B$13","v":{"$error":"#DIV/0!"}}]
[{"$f":"IF(IF(A20<>\"\",A20+1<=$B$16,0),A20+1,\"\")","v":""},{"$f":"IF(A21<>\"\",A21*$B$13,\"\")","v":""},{"$f":"IF(A21<>\"\",ROUNDDOWN(A21*$B$13/24,0),\"\")","v":""},{"$f":"IF(A21<>\"\",MOD(B21,24)/24,\"\")","v":""},{"$f":"IF(A21<>\"\",($B$4+$B$5)/2+($B$5-$B$4)/2*COS(2*PI()/$B$15*B21),\"\")","v":""},{"$f":"IF(A21<>\"\",E21*COS(2*PI()/$B$7*B21),\"\")","v":""},{"$f":"ABS(0.5*1.025*1*(F21^3))","v":{"$error":"#VALUE!"}},{"$f":"G21*$B$13","v":{"$error":"#VALUE!"}}]
[{"$f":"IF(IF(A21<>\"\",A21+1<=$B$16,0),A21+1,\"\")","v":""},{"$f":"IF(A22<>\"\",A22*$B$13,\"\")","v":""},{"$f":"IF(A22<>\"\",ROUNDDOWN(A22*$B$13/24,0),\"\")","v":""},"",{"$f":"IF(A22<>\"\",($B$4+$B$5)/2+($B$5-$B$4)/2*COS(2*PI()/$B$15*B22),\"\")","v":""},{"$f":"IF(A22<>\"\",E22*COS(2*PI()/$B$7*B22),\"\")","v":""},{"$error":"#VALUE!"},{"$error":"#VALUE!"}]
["","","","","","",{"$error":"#VALUE!"},{"$error":"#VALUE!"}]
["","","","","","",{"$error":"#VALUE!"},{"$error":"#VALUE!"}]
["","","","","","",{"$error":"#VALUE!"},{"$error":"#VALUE!"}]
["","","","","","",{"$error":"#VALUE!"},{"$error":"#VALUE!"}]
["","","","","","",{"$error":"#VALUE!"},{"$error":"#VALUE!"}]
["","","","","","",{"$error":"#VALUE!"},{"$error":"#VALUE!"}]
["","","","","","",{"$error":"#VALUE!"},{"$error":"#VALUE!"}]
["","","","","","",{"$error":"#VALUE!"},{"$error":"#VALUE!"}]
["","","","","","",{"$error":"#VALUE!"},{"$error":"#VALUE!"}]
["","","","","","",{"$error":"#VALUE!"},{"$error":"#VALUE!"}]
["","","","","","",{"$error":"#VALUE!"},{"$error":"#VALUE!"}]
["","","","","","",{"$error":"#VALUE!"},{"$error":"#VALUE!"}]
["","","","","","",{"$error":"#VALUE!"},{"$error":"#VALUE!"}]
["","","","","","",{"$error":"#VALUE!"},{"$error":"#VALUE!"}]
["","","","","","",{"$error":"#VALUE!"},{"$error":"#VALUE!"}]
["","","","","","",{"$error":"#VALUE!"},{"$error":"#VALUE!"}]
["","","","","","",{"$error":"#VALUE!"},{"$error":"#VALUE!"}]
["","","","","","",{"$error":"#VALUE!"},{"$error":"#VALUE!"}]
["","","","","","",{"$error":"#VALUE!"},{"$error":"#VALUE!"}]
["","","","","","",{"$error":"#VALUE!"},{"$error":"#VALUE!"}]
["","","","","","",{"$error":"#VALUE!"},{"$error":"#VALUE!"}]
["","","","","","",{"$error":"#VALUE!"},{"$error":"#VALUE!"}]
["","","","","","",{"$error":"#VALUE!"},{"$error":"#VALUE!"}]
["","","","","","",{"$error":"#VALUE!"},{"$error":"#VALUE!"}]
["","","","","","",{"$error":"#VALUE!"},{"$error":"#VALUE!"}]
["","","","","","",{"$error":"#VALUE!"},{"$error":"#VALUE!"}]
["","","","","","",{"$error":"#VALUE!"},{"$error":"#VALUE!"}]
["","","","","","",{"$error":"#VALUE!"},{"$error":"#VALUE!"}]
["","","","","","",{"$error":"#VALUE!"},{"$error":"#VALUE!"}]
["","","","","","",{"$error":"#VALUE!"},{"$error":"#VALUE!"}]
["","","","","","",{"$error":"#VALUE!"},{"$error":"#VALUE!"}]
["","","","","","",{"$error":"#VALUE!"},{"$error":"#VALUE!"}]
["","","","","","",{"$error":"#VALUE!"},{"$error":"#VALUE!"}]
["","","","","","",{"$error":"#VALUE!"},{"$error":"#VALUE!"}]
["","","","","","",{"$error":"#VALUE!"},{"$error":"#VALUE!"}]
["","","","","","",{"$error":"#VALUE!"},{"$error":"#VALUE!"}]
["","","","","","",{"$error":"#VALUE!"},{"$error":"#VALUE!"}]
["","","","","","",{"$error":"#VALUE!"},{"$error":"#VALUE!"}]
["","","","","","",{"$error":"#VALUE!"},{"$error":"#VALUE!"}]
["","","","","","",{"$error":"#VALUE!"},{"$error":"#VALUE!"}]
["","","","","","",{"$error":"#VALUE!"},{"$error":"#VALUE!"}]
["","","","","","",{"$error":"#VALUE!"},{"$error":"#VALUE!"}]
["","","","","","",{"$error":"#VALUE!"},{"$error":"#VALUE!"}]
["","","","","","",{"$error":"#VALUE!"},{"$error":"#VALUE!"}]
["","","","","","",{"$error":"#VALUE!"},{"$error":"#VALUE!"}]
["","","","","","",{"$error":"#VALUE!"},{"$error":"#VALUE!"}]
["","","","","","",{"$error":"#VALUE!"},{"$error":"#VALUE!"}]
["","","","","","",{"$error":"#VALUE!"},{"$error":"#VALUE!"}]
["","","","","","",{"$error":"#VALUE!"},{"$error":"#VALUE!"}]
["","","","","","",{"$error":"#VALUE!"},{"$error":"#VALUE!"}]
["","","","","","",{"$error":"#VALUE!"},{"$error":"#VALUE!"}]
["","","","","","",{"$error":"#VALUE!"},{"$error":"#VALUE!"}]
["","","","","","",{"$error":"#VALUE!"},{"$error":"#VALUE!"}]
["","","","","","",{"$error":"#VALUE!"},{"$error":"#VALUE!"}]
["","","","","","",{"$error":"#VALUE!"},{"$error":"#VALUE!"}]
["","","","","","",{"$error":"#VALUE!"},{"$error":"#VALUE!"}]
["","","","","","",{"$error":"#VALUE!"},{"$error":"#VALUE!"}]
["","","","","","",{"$error":"#VALUE!"},{"$error":"#VALUE!"}]
["","","","","","",{"$error":"#VALUE!"},{"$error":"#VALUE!"}]
["","","","","","",{"$error":"#VALUE!"},{"$error":"#VALUE!"}]
["","","","","","",{"$error":"#VALUE!"},{"$error":"#VALUE!"}]
["","","","","","",{"$error":"#VALUE!"},{"$error":"#VALUE!"}]
["","","",{"$f":"IF(A85<>\"\",MOD(B85,24)/24,\"\")","v":""},"","",{"$f":"ABS(0.5*1.025*1*(F85^3))","v":{"$error":"#VALUE!"}},{"$f":"G85*$B$13","v":{"$error":"#VALUE!"}}]
[{"$f":"IF(IF(A85<>\"\",A85+1<=$B$16,0),A85+1,\"\")","v":""},{"$f":"IF(A86<>\"\",A86*$B$13,\"\")","v":""},{"$f":"IF(A86<>\"\",ROUNDDOWN(A86*$B$13/24,0),\"\")","v":""},"",{"$f":"IF(A86<>\"\",($B$4+$B$5)/2+($B$5-$B$4)/2*COS(2*PI()/$B$15*B86),\"\")","v":""},{"$f":"IF(A86<>\"\",E86*COS(2*PI()/$B$7*B86),\"\")","v":""},{"$error":"#VALUE!"},{"$error":"#VALUE!"}]
["","","","","","",{"$error":"#VALUE!"},{"$error":"#VALUE!"}]
["","","","","","",{"$error":"#VALUE!"},{"$error":"#VALUE!"}]
["","","","","","",{"$error":"#VALUE!"},{"$error":"#VALUE!"}]
["","","","","","",{"$error":"#VALUE!"},{"$error":"#VALUE!"}]
["","","","","","",{"$error":"#VALUE!"},{"$error":"#VALUE!"}]
["","","","","","",{"$error":"#VALUE!"},{"$error":"#VALUE!"}]
["","","","","","",{"$error":"#VALUE!"},{"$error":"#VALUE!"}]
["","","","","","",{"$error":"#VALUE!"},{"$error":"#VALUE!"}]
["","","","","","",{"$error":"#VALUE!"},{"$error":"#VALUE!"}]
["","","","","","",{"$error":"#VALUE!"},{"$error":"#VALUE!"}]
["","","","","","",{"$error":"#VALUE!"},{"$error":"#VALUE!"}]
["","","","","","",{"$error":"#VALUE!"},{"$error":"#VALUE!"}]
["","","","","","",{"$error":"#VALUE!"},{"$error":"#VALUE!"}]
["","","","","","",{"$error":"#VALUE!"},{"$error":"#VALUE!"}]
["","","","","","",{"$error":"#VALUE!"},{"$error":"#VALUE!"}]
["","","","","","",{"$error":"#VALUE!"},{"$error":"#VALUE!"}]
["","","","","","",{"$error":"#VALUE!"},{"$error":"#VALUE!"}]
["","","","","","",{"$error":"#VALUE!"},{"$error":"#VALUE!"}]
["","","","","","",{"$error":"#VALUE!"},{"$error":"#VALUE!"}]
["","","","","","",{"$error":"#VALUE!"},{"$error":"#VALUE!"}]
["","","","","","",{"$error":"#VALUE!"},{"$error":"#VALUE!"}]
["","","","","","",{"$error":"#VALUE!"},{"$error":"#VALUE!"}]
["","","","","","",{"$error":"#VALUE!"},{"$error":"#VALUE!"}]
["","","","","","",{"$error":"#VALUE!"},{"$error":"#VALUE!"}]
["","","","","","",{"$error":"#VALUE!"},{"$error":"#VALUE!"}]
["","","","","","",{"$error":"#VALUE!"},{"$error":"#VALUE!"}]
["","","","","","",{"$error":"#VALUE!"},{"$error":"#VALUE!"}]
["","","","","","",{"$error":"#VALUE!"},{"$error":"#VALUE!"}]
["","","","","","",{"$error":"#VALUE!"},{"$error":"#VALUE!"}]
["","","","","","",{"$error":"#VALUE!"},{"$error":"#VALUE!"}]
["","","","","","",{"$error":"#VALUE!"},{"$error":"#VALUE!"}]
["","","","","","",{"$error":"#VALUE!"},{"$error":"#VALUE!"}]
["","","","","","",{"$error":"#VALUE!"},{"$error":"#VALUE!"}]
["","","","","","",{"$error":"#VALUE!"},{"$error":"#VALUE!"}]
["","","","","","",{"$error":"#VALUE!"},{"$error":"#VALUE!"}]
["","","","","","",{"$error":"#VALUE!"},{"$error":"#VALUE!"}]
["","","","","","",{"$error":"#VALUE!"},{"$error":"#VALUE!"}]
["","","","","","",{"$error":"#VALUE!"},{"$error":"#VALUE!"}]
["","","","","","",{"$error":"#VALUE!"},{"$error":"#VALUE!"}]
["","","","","","",{"$error":"#VALUE!"},{"$error":"#VALUE!"}]
["","","","","","",{"$error":"#VALUE!"},{"$error":"#VALUE!"}]
["","","","","","",{"$error":"#VALUE!"},{"$error":"#VALUE!"}]
["","","","","","",{"$error":"#VALUE!"},{"$error":"#VALUE!"}]
["","","","","","",{"$error":"#VALUE!"},{"$error":"#VALUE!"}]
["","","","","","",{"$error":"#VALUE!"},{"$error":"#VALUE!"}]
["","","","","","",{"$error":"#VALUE!"},{"$error":"#VALUE!"}]
["","","","","","",{"$error":"#VALUE!"},{"$error":"#VALUE!"}]
["","","","","","",{"$error":"#VALUE!"},{"$error":"#VALUE!"}]
["","","","","","",{"$error":"#VALUE!"},{"$error":"#VALUE!"}]
["","","","","","",{"$error":"#VALUE!"},{"$error":"#VALUE!"}]
["","","","","","",{"$error":"#VALUE!"},{"$error":"#VALUE!"}]
["","","","","","",{"$error":"#VALUE!"},{"$error":"#VALUE!"}]
["","","","","","",{"$error":"#VALUE!"},{"$error":"#VALUE!"}]
["","","","","","",{"$error":"#VALUE!"},{"$error":"#VALUE!"}]
["","","","","","",{"$error":"#VALUE!"},{"$error":"#VALUE!"}]
["","","","","","",{"$error":"#VALUE!"},{"$error":"#VALUE!"}]
["","","","","","",{"$error":"#VALUE!"},{"$error":"#VALUE!"}]
["","","","","","",{"$error":"#VALUE!"},{"$error":"#VALUE!"}]
["","","","","","",{"$error":"#VALUE!"},{"$error":"#VALUE!"}]
["","","","","","",{"$error":"#VALUE!"},{"$error":"#VALUE!"}]
["","","","","","",{"$error":"#VALUE!"},{"$error":"#VALUE!"}]
["","","","","","",{"$error":"#VALUE!"},{"$error":"#VALUE!"}]
["","","",{"$f":"IF(A149<>\"\",MOD(B149,24)/24,\"\")","v":""},"","",{"$f":"ABS(0.5*1.025*1*(F149^3))","v":{"$error":"#VALUE!"}},{"$f":"G149*$B$13","v":{"$error":"#VALUE!"}}]
[{"$f":"IF(IF(A149<>\"\",A149+1<=$B$16,0),A149+1,\"\")","v":""},{"$f":"IF(A150<>\"\",A150*$B$13,\"\")","v":""},{"$f":"IF(A150<>\"\",ROUNDDOWN(A150*$B$13/24,0),\"\")","v":""},"",{"$f":"IF(A150<>\"\",($B$4+$B$5)/2+($B$5-$B$4)/2*COS(2*PI()/$B$15*B150),\"\")","v":""},{"$f":"IF(A150<>\"\",E150*COS(2*PI()/$B$7*B150),\"\")","v":""},{"$error":"#VALUE!"},{"$error":"#VALUE!"}]
["","","","","","",{"$error":"#VALUE!"},{"$error":"#VALUE!"}]
["","","","","","",{"$error":"#VALUE!"},{"$error":"#VALUE!"}]
["","","","","","",{"$error":"#VALUE!"},{"$error":"#VALUE!"}]
["","","","","","",{"$error":"#VALUE!"},{"$error":"#VALUE!"}]
["","","","","","",{"$error":"#VALUE!"},{"$error":"#VALUE!"}]
["","","","","","",{"$error":"#VALUE!"},{"$error":"#VALUE!"}]
["","","","","","",{"$error":"#VALUE!"},{"$error":"#VALUE!"}]
["","","","","","",{"$error":"#VALUE!"},{"$error":"#VALUE!"}]
["","","","","","",{"$error":"#VALUE!"},{"$error":"#VALUE!"}]
["","","","","","",{"$error":"#VALUE!"},{"$error":"#VALUE!"}]
["","","","","","",{"$error":"#VALUE!"},{"$error":"#VALUE!"}]
["","","","","","",{"$error":"#VALUE!"},{"$error":"#VALUE!"}]
["","","","","","",{"$error":"#VALUE!"},{"$error":"#VALUE!"}]
["","","","","","",{"$error":"#VALUE!"},{"$error":"#VALUE!"}]
["","","","","","",{"$error":"#VALUE!"},{"$error":"#VALUE!"}]
["","","","","","",{"$error":"#VALUE!"},{"$error":"#VALUE!"}]
["","","","","","",{"$error":"#VALUE!"},{"$error":"#VALUE!"}]
["","","","","","",{"$error":"#VALUE!"},{"$error":"#VALUE!"}]
["","","","","","",{"$error":"#VALUE!"},{"$error":"#VALUE!"}]
["","","","","","",{"$error":"#VALUE!"},{"$error":"#VALUE!"}]
["","","","","","",{"$error":"#VALUE!"},{"$error":"#VALUE!"}]
["","","","","","",{"$error":"#VALUE!"},{"$error":"#VALUE!"}]
["","","","","","",{"$error":"#VALUE!"},{"$error":"#VALUE!"}]
["","","","","","",{"$error":"#VALUE!"},{"$error":"#VALUE!"}]
["","","","","","",{"$error":"#VALUE!"},{"$error":"#VALUE!"}]
["","","","","","",{"$error":"#VALUE!"},{"$error":"#VALUE!"}]
["","","","","","",{"$error":"#VALUE!"},{"$error":"#VALUE!"}]
["","","","","","",{"$error":"#VALUE!"},{"$error":"#VALUE!"}]
["","","","","","",{"$error":"#VALUE!"},{"$error":"#VALUE!"}]
["","","","","","",{"$error":"#VALUE!"},{"$error":"#VALUE!"}]
["","","","","","",{"$error":"#VALUE!"},{"$error":"#VALUE!"}]
["","","","","","",{"$error":"#VALUE!"},{"$error":"#VALUE!"}]
["","","","","","",{"$error":"#VALUE!"},{"$error":"#VALUE!"}]
["","","","","","",{"$error":"#VALUE!"},{"$error":"#VALUE!"}]
["","","","","","",{"$error":"#VALUE!"},{"$error":"#VALUE!"}]
["","","","","","",{"$error":"#VALUE!"},{"$error":"#VALUE!"}]
["","","","","","",{"$error":"#VALUE!"},{"$error":"#VALUE!"}]
["","","","","","",{"$error":"#VALUE!"},{"$error":"#VALUE!"}]
["","","","","","",{"$error":"#VALUE!"},{"$error":"#VALUE!"}]
["","","","","","",{"$error":"#VALUE!"},{"$error":"#VALUE!"}]
["","","","","","",{"$error":"#VALUE!"},{"$error":"#VALUE!"}]
["","","","","","",{"$error":"#VALUE!"},{"$error":"#VALUE!"}]
["","","","","","",{"$error":"#VALUE!"},{"$error":"#VALUE!"}]
["","","","","","",{"$error":"#VALUE!"},{"$error":"#VALUE!"}]
["","","","","","",{"$error":"#VALUE!"},{"$error":"#VALUE!"}]
["","","","","","",{"$error":"#VALUE!"},{"$error":"#VALUE!"}]
["","","","","","",{"$error":"#VALUE!"},{"$error":"#VALUE!"}]
["","","","","","",{"$error":"#VALUE!"},{"$error":"#VALUE!"}]
["","","","","","",{"$error":"#VALUE!"},{"$error":"#VALUE!"}]
["","","","","","",{"$error":"#VALUE!"},{"$error":"#VALUE!"}]
["","","","","","",{"$error":"#VALUE!"},{"$error":"#VALUE!"}]
["","","","","","",{"$error":"#VALUE!"},{"$error":"#VALUE!"}]
["","","","","","",{"$error":"#VALUE!"},{"$error":"#VALUE!"}]
["","","","","","",{"$error":"#VALUE!"},{"$error":"#VALUE!"}]
["","","","","","",{"$error":"#VALUE!"},{"$error":"#VALUE!"}]
["","","","","","",{"$error":"#VALUE!"},{"$error":"#VALUE!"}]
["","","","","","",{"$error":"#VALUE!"},{"$error":"#VALUE!"}]
["","","","","","",{"$error":"#VALUE!"},{"$error":"#VALUE!"}]
["","","","","","",{"$error":"#VALUE!"},{"$error":"#VALUE!"}]
["","","","","","",{"$error":"#VALUE!"},{"$error":"#VALUE!"}]
["","","","","","",{"$error":"#VALUE!"},{"$error":"#VALUE!"}]
["","","","","","",{"$error":"#VALUE!"},{"$error":"#VALUE!"}]
["","","",{"$f":"IF(A213<>\"\",MOD(B213,24)/24,\"\")","v":""},"","",{"$f":"ABS(0.5*1.025*1*(F213^3))","v":{"$error":"#VALUE!"}},{"$f":"G213*$B$13","v":{"$error":"#VALUE!"}}]
[{"$f":"IF(IF(A213<>\"\",A213+1<=$B$16,0),A213+1,\"\")","v":""},{"$f":"IF(A214<>\"\",A214*$B$13,\"\")","v":""},{"$f":"IF(A214<>\"\",ROUNDDOWN(A214*$B$13/24,0),\"\")","v":""},"",{"$f":"IF(A214<>\"\",($B$4+$B$5)/2+($B$5-$B$4)/2*COS(2*PI()/$B$15*B214),\"\")","v":""},{"$f":"IF(A214<>\"\",E214*COS(2*PI()/$B$7*B214),\"\")","v":""},{"$error":"#VALUE!"},{"$error":"#VALUE!"}]
["","","","","","",{"$error":"#VALUE!"},{"$error":"#VALUE!"}]
["","","","","","",{"$error":"#VALUE!"},{"$error":"#VALUE!"}]
["","","","","","",{"$error":"#VALUE!"},{"$error":"#VALUE!"}]
["","","","","","",{"$error":"#VALUE!"},{"$error":"#VALUE!"}]
["","","","","","",{"$error":"#VALUE!"},{"$error":"#VALUE!"}]
["","","","","","",{"$error":"#VALUE!"},{"$error":"#VALUE!"}]
["","","","","","",{"$error":"#VALUE!"},{"$error":"#VALUE!"}]
["","","","","","",{"$error":"#VALUE!"},{"$error":"#VALUE!"}]
["","","","","","",{"$error":"#VALUE!"},{"$error":"#VALUE!"}]
["","","","","","",{"$error":"#VALUE!"},{"$error":"#VALUE!"}]
["","","","","","",{"$error":"#VALUE!"},{"$error":"#VALUE!"}]
["","","","","","",{"$error":"#VALUE!"},{"$error":"#VALUE!"}]
["","","","","","",{"$error":"#VALUE!"},{"$error":"#VALUE!"}]
["","","","","","",{"$error":"#VALUE!"},{"$error":"#VALUE!"}]
["","","","","","",{"$error":"#VALUE!"},{"$error":"#VALUE!"}]
["","","","","","",{"$error":"#VALUE!"},{"$error":"#VALUE!"}]
["","","","","","",{"$error":"#VALUE!"},{"$error":"#VALUE!"}]
["","","","","","",{"$error":"#VALUE!"},{"$error":"#VALUE!"}]
["","","","","","",{"$error":"#VALUE!"},{"$error":"#VALUE!"}]
["","","","","","",{"$error":"#VALUE!"},{"$error":"#VALUE!"}]
["","","","","","",{"$error":"#VALUE!"},{"$error":"#VALUE!"}]
["","","","","","",{"$error":"#VALUE!"},{"$error":"#VALUE!"}]
["","","","","","",{"$error":"#VALUE!"},{"$error":"#VALUE!"}]
["","","","","","",{"$error":"#VALUE!"},{"$error":"#VALUE!"}]
["","","","","","",{"$error":"#VALUE!"},{"$error":"#VALUE!"}]
["","","","","","",{"$error":"#VALUE!"},{"$error":"#VALUE!"}]
["","","","","","",{"$error":"#VALUE!"},{"$error":"#VALUE!"}]
["","","","","","",{"$error":"#VALUE!"},{"$error":"#VALUE!"}]
["","","","","","",{"$error":"#VALUE!"},{"$error":"#VALUE!"}]
["","","","","","",{"$error":"#VALUE!"},{"$error":"#VALUE!"}]
["","","","","","",{"$error":"#VALUE!"},{"$error":"#VALUE!"}]
["","","","","","",{"$error":"#VALUE!"},{"$error":"#VALUE!"}]
["","","","","","",{"$error":"#VALUE!"},{"$error":"#VALUE!"}]
["","","","","","",{"$error":"#VALUE!"},{"$error":"#VALUE!"}]
["","","","","","",{"$error":"#VALUE!"},{"$error":"#VALUE!"}]
["","","","","","",{"$error":"#VALUE!"},{"$error":"#VALUE!"}]
["","","","","","",{"$error":"#VALUE!"},{"$error":"#VALUE!"}]
["","","","","","",{"$error":"#VALUE!"},{"$error":"#VALUE!"}]
["","","","","","",{"$error":"#VALUE!"},{"$error":"#VALUE!"}]
["","","","","","",{"$error":"#VALUE!"},{"$error":"#VALUE!"}]
["","","","","","",{"$error":"#VALUE!"},{"$error":"#VALUE!"}]
["","","","","","",{"$error":"#VALUE!"},{"$error":"#VALUE!"}]
["","","","","","",{"$error":"#VALUE!"},{"$error":"#VALUE!"}]
["","","","","","",{"$error":"#VALUE!"},{"$error":"#VALUE!"}]
["","","","","","",{"$error":"#VALUE!"},{"$error":"#VALUE!"}]
["","","","","","",{"$error":"#VALUE!"},{"$error":"#VALUE!"}]
["","","","","","",{"$error":"#VALUE!"},{"$error":"#VALUE!"}]
["","","","","","",{"$error":"#VALUE!"},{"$error":"#VALUE!"}]
["","","","","","",{"$error":"#VALUE!"},{"$error":"#VALUE!"}]
["","","","","","",{"$error":"#VALUE!"},{"$error":"#VALUE!"}]
["","","","","","",{"$error":"#VALUE!"},{"$error":"#VALUE!"}]
["","","","","","",{"$error":"#VALUE!"},{"$error":"#VALUE!"}]
["","","","","","",{"$error":"#VALUE!"},{"$error":"#VALUE!"}]
["","","","","","",{"$error":"#VALUE!"},{"$error":"#VALUE!"}]
["","","","","","",{"$error":"#VALUE!"},{"$error":"#VALUE!"}]
["","","","","","",{"$error":"#VALUE!"},{"$error":"#VALUE!"}]
["","","","","","",{"$error":"#VALUE!"},{"$error":"#VALUE!"}]
["","","","","","",{"$error":"#VALUE!"},{"$error":"#VALUE!"}]
["","","","","","",{"$error":"#VALUE!"},{"$error":"#VALUE!"}]
["","","","","","",{"$error":"#VALUE!"},{"$error":"#VALUE!"}]
["","","","","","",{"$error":"#VALUE!"},{"$error":"#VALUE!"}]
["","","","","","",{"$error":"#VALUE!"},{"$error":"#VALUE!"}]
["","","",{"$f":"IF(A277<>\"\",MOD(B277,24)/24,\"\")","v":""},"","",{"$f":"ABS(0.5*1.025*1*(F277^3))","v":{"$error":"#VALUE!"}},{"$f":"G277*$B$13","v":{"$error":"#VALUE!"}}]
[{"$f":"IF(IF(A277<>\"\",A277+1<=$B$16,0),A277+1,\"\")","v":""},{"$f":"IF(A278<>\"\",A278*$B$13,\"\")","v":""},{"$f":"IF(A278<>\"\",ROUNDDOWN(A278*$B$13/24,0),\"\")","v":""},"",{"$f":"IF(A278<>\"\",($B$4+$B$5)/2+($B$5-$B$4)/2*COS(2*PI()/$B$15*B278),\"\")","v":""},{"$f":"IF(A278<>\"\",E278*COS(2*PI()/$B$7*B278),\"\")","v":""},{"$error":"#VALUE!"},{"$error":"#VALUE!"}]
["","","","","","",{"$error":"#VALUE!"},{"$error":"#VALUE!"}]
["","","","","","",{"$error":"#VALUE!"},{"$error":"#VALUE!"}]
["","","","","","",{"$error":"#VALUE!"},{"$error":"#VALUE!"}]
["","","","","","",{"$error":"#VALUE!"},{"$error":"#VALUE!"}]
["","","","","","",{"$error":"#VALUE!"},{"$error":"#VALUE!"}]
["","","","","","",{"$error":"#VALUE!"},{"$error":"#VALUE!"}]
["","","","","","",{"$error":"#VALUE!"},{"$error":"#VALUE!"}]
["","","","","","",{"$error":"#VALUE!"},{"$error":"#VALUE!"}]
["","","","","","",{"$error":"#VALUE!"},{"$error":"#VALUE!"}]
["","","","","","",{"$error":"#VALUE!"},{"$error":"#VALUE!"}]
["","","","","","",{"$error":"#VALUE!"},{"$error":"#VALUE!"}]
["","","","","","",{"$error":"#VALUE!"},{"$error":"#VALUE!"}]
["","","","","","",{"$error":"#VALUE!"},{"$error":"#VALUE!"}]
["","","","","","",{"$error":"#VALUE!"},{"$error":"#VALUE!"}]
["","","","","","",{"$error":"#VALUE!"},{"$error":"#VALUE!"}]
["","","","","","",{"$error":"#VALUE!"},{"$error":"#VALUE!"}]
["","","","","","",{"$error":"#VALUE!"},{"$error":"#VALUE!"}]
["","","","","","",{"$error":"#VALUE!"},{"$error":"#VALUE!"}]
["","","","","","",{"$error":"#VALUE!"},{"$error":"#VALUE!"}]
["","","","","","",{"$error":"#VALUE!"},{"$error":"#VALUE!"}]
["","","","","","",{"$error":"#VALUE!"},{"$error":"#VALUE!"}]
["","","","","","",{"$error":"#VALUE!"},{"$error":"#VALUE!"}]
["","","","","","",{"$error":"#VALUE!"},{"$error":"#VALUE!"}]
["","","","","","",{"$error":"#VALUE!"},{"$error":"#VALUE!"}]
["","","","","","",{"$error":"#VALUE!"},{"$error":"#VALUE!"}]
["","","","","","",{"$error":"#VALUE!"},{"$error":"#VALUE!"}]
["","","","","","",{"$error":"#VALUE!"},{"$error":"#VALUE!"}]
["","","","","","",{"$error":"#VALUE!"},{"$error":"#VALUE!"}]
["","","","","","",{"$error":"#VALUE!"},{"$error":"#VALUE!"}]
["","","","","","",{"$error":"#VALUE!"},{"$error":"#VALUE!"}]
["","","","","","",{"$error":"#VALUE!"},{"$error":"#VALUE!"}]
["","","","","","",{"$error":"#VALUE!"},{"$error":"#VALUE!"}]
["","","","","","",{"$error":"#VALUE!"},{"$error":"#VALUE!"}]
["","","","","","",{"$error":"#VALUE!"},{"$error":"#VALUE!"}]
["","","","","","",{"$error":"#VALUE!"},{"$error":"#VALUE!"}]
["","","","","","",{"$error":"#VALUE!"},{"$error":"#VALUE!"}]
["","","","","","",{"$error":"#VALUE!"},{"$error":"#VALUE!"}]
["","","","","","",{"$error":"#VALUE!"},{"$error":"#VALUE!"}]
["","","","","","",{"$error":"#VALUE!"},{"$error":"#VALUE!"}]
["","","","","","",{"$error":"#VALUE!"},{"$error":"#VALUE!"}]
["","","","","","",{"$error":"#VALUE!"},{"$error":"#VALUE!"}]
["","","","","","",{"$error":"#VALUE!"},{"$error":"#VALUE!"}]
["","","","","","",{"$error":"#VALUE!"},{"$error":"#VALUE!"}]
["","","","","","",{"$error":"#VALUE!"},{"$error":"#VALUE!"}]
["","","","","","",{"$error":"#VALUE!"},{"$error":"#VALUE!"}]
["","","","","","",{"$error":"#VALUE!"},{"$error":"#VALUE!"}]
["","","","","","",{"$error":"#VALUE!"},{"$error":"#VALUE!"}]
["","","","","","",{"$error":"#VALUE!"},{"$error":"#VALUE!"}]
["","","","","","",{"$error":"#VALUE!"},{"$error":"#VALUE!"}]
["","","","","","",{"$error":"#VALUE!"},{"$error":"#VALUE!"}]
["","","","","","",{"$error":"#VALUE!"},{"$error":"#VALUE!"}]
["","","","","","",{"$error":"#VALUE!"},{"$error":"#VALUE!"}]
["","","","","","",{"$error":"#VALUE!"},{"$error":"#VALUE!"}]
["","","","","","",{"$error":"#VALUE!"},{"$error":"#VALUE!"}]
["","","","","","",{"$error":"#VALUE!"},{"$error":"#VALUE!"}]
["","","","","","",{"$error":"#VALUE!"},{"$error":"#VALUE!"}]
["","","","","","",{"$error":"#VALUE!"},{"$error":"#VALUE!"}]
["","","","","","",{"$error":"#VALUE!"},{"$error":"#VALUE!"}]
["","","","","","",{"$error":"#VALUE!"},{"$error":"#VALUE!"}]
["","","","","","",{"$error":"#VALUE!"},{"$error":"#VALUE!"}]
["","","","","","",{"$error":"#VALUE!"},{"$error":"#VALUE!"}]
["","","","","","",{"$error":"#VALUE!"},{"$error":"#VALUE!"}]
["","","",{"$f":"IF(A341<>\"\",MOD(B341,24)/24,\"\")","v":""},"","",{"$f":"ABS(0.5*1.025*1*(F341^3))","v":{"$error":"#VALUE!"}},{"$f":"G341*$B$13","v":{"$error":"#VALUE!"}}]
[{"$f":"IF(IF(A341<>\"\",A341+1<=$B$16,0),A341+1,\"\")","v":""},{"$f":"IF(A342<>\"\",A342*$B$13,\"\")","v":""},{"$f":"IF(A342<>\"\",ROUNDDOWN(A342*$B$13/24,0),\"\")","v":""},"",{"$f":"IF(A342<>\"\",($B$4+$B$5)/2+($B$5-$B$4)/2*COS(2*PI()/$B$15*B342),\"\")","v":""},{"$f":"IF(A342<>\"\",E342*COS(2*PI()/$B$7*B342),\"\")","v":""},{"$error":"#VALUE!"},{"$error":"#VALUE!"}]
["","","","","","",{"$error":"#VALUE!"},{"$error":"#VALUE!"}]
["","","","","","",{"$error":"#VALUE!"},{"$error":"#VALUE!"}]
["","","","","","",{"$error":"#VALUE!"},{"$error":"#VALUE!"}]
["","","","","","",{"$error":"#VALUE!"},{"$error":"#VALUE!"}]
["","","","","","",{"$error":"#VALUE!"},{"$error":"#VALUE!"}]
["","","","","","",{"$error":"#VALUE!"},{"$error":"#VALUE!"}]
["","","","","","",{"$error":"#VALUE!"},{"$error":"#VALUE!"}]
["","","","","","",{"$error":"#VALUE!"},{"$error":"#VALUE!"}]
["","","","","","",{"$error":"#VALUE!"},{"$error":"#VALUE!"}]
["","","","","","",{"$error":"#VALUE!"},{"$error":"#VALUE!"}]
["","","","","","",{"$error":"#VALUE!"},{"$error":"#VALUE!"}]
["","","","","","",{"$error":"#VALUE!"},{"$error":"#VALUE!"}]
["","","","","","",{"$error":"#VALUE!"},{"$error":"#VALUE!"}]
["","","","","","",{"$error":"#VALUE!"},{"$error":"#VALUE!"}]
["","","","","","",{"$error":"#VALUE!"},{"$error":"#VALUE!"}]
["","","","","","",{"$error":"#VALUE!"},{"$error":"#VALUE!"}]
["","","","","","",{"$error":"#VALUE!"},{"$error":"#VALUE!"}]
["","","","","","",{"$error":"#VALUE!"},{"$error":"#VALUE!"}]
["","","","","","",{"$error":"#VALUE!"},{"$error":"#VALUE!"}]
["","","","","","",{"$error":"#VALUE!"},{"$error":"#VALUE!"}]
["","","","","","",{"$error":"#VALUE!"},{"$error":"#VALUE!"}]
["","","","","","",{"$error":"#VALUE!"},{"$error":"#VALUE!"}]
["","","","","","",{"$error":"#VALUE!"},{"$error":"#VALUE!"}]
["","","","","","",{"$error":"#VALUE!"},{"$error":"#VALUE!"}]
["","","","","","",{"$error":"#VALUE!"},{"$error":"#VALUE!"}]
["","","","","","",{"$error":"#VALUE!"},{"$error":"#VALUE!"}]
["","","","","","",{"$error":"#VALUE!"},{"$error":"#VALUE!"}]
["","","","","","",{"$error":"#VALUE!"},{"$error":"#VALUE!"}]
["","","","","","",{"$error":"#VALUE!"},{"$error":"#VALUE!"}]
["","","","","","",{"$error":"#VALUE!"},{"$error":"#VALUE!"}]
["","","","","","",{"$error":"#VALUE!"},{"$error":"#VALUE!"}]
["","","","","","",{"$error":"#VALUE!"},{"$error":"#VALUE!"}]
["","","","","","",{"$error":"#VALUE!"},{"$error":"#VALUE!"}]
["","","","","","",{"$error":"#VALUE!"},{"$error":"#VALUE!"}]
["","","","","","",{"$error":"#VALUE!"},{"$error":"#VALUE!"}]
["","","","","","",{"$error":"#VALUE!"},{"$error":"#VALUE!"}]
["","","","","","",{"$error":"#VALUE!"},{"$error":"#VALUE!"}]
["","","","","","",{"$error":"#VALUE!"},{"$error":"#VALUE!"}]
["","","","","","",{"$error":"#VALUE!"},{"$error":"#VALUE!"}]
["","","","","","",{"$error":"#VALUE!"},{"$error":"#VALUE!"}]
["","","","","","",{"$error":"#VALUE!"},{"$error":"#VALUE!"}]
["","","","","","",{"$error":"#VALUE!"},{"$error":"#VALUE!"}]
["","","","","","",{"$error":"#VALUE!"},{"$error":"#VALUE!"}]
["","","","","","",{"$error":"#VALUE!"},{"$error":"#VALUE!"}]
["","","","","","",{"$error":"#VALUE!"},{"$error":"#VALUE!"}]
["","","","","","",{"$error":"#VALUE!"},{"$error":"#VALUE!"}]
["","","","","","",{"$error":"#VALUE!"},{"$error":"#VALUE!"}]
["","","","","","",{"$error":"#VALUE!"},{"$error":"#VALUE!"}]
["","","","","","",{"$error":"#VALUE!"},{"$error":"#VALUE!"}]
["","","","","","",{"$error":"#VALUE!"},{"$error":"#VALUE!"}]
["","","","","","",{"$error":"#VALUE!"},{"$error":"#VALUE!"}]
["","","","","","",{"$error":"#VALUE!"},{"$error":"#VALUE!"}]
["","","","","","",{"$error":"#VALUE!"},{"$error":"#VALUE!"}]
["","","","","","",{"$error":"#VALUE!"},{"$error":"#VALUE!"}]
["","","","","","",{"$error":"#VALUE!"},{"$error":"#VALUE!"}]
["","","","","","",{"$error":"#VALUE!"},{"$error":"#VALUE!"}]
["","","","","","",{"$error":"#VALUE!"},{"$error":"#VALUE!"}]
["","","","","","",{"$error":"#VALUE!"},{"$error":"#VALUE!"}]
["","","","","","",{"$error":"#VALUE!"},{"$error":"#VALUE!"}]
["","","","","","",{"$error":"#VALUE!"},{"$error":"#VALUE!"}]
["","","","","","",{"$error":"#VALUE!"},{"$error":"#VALUE!"}]
["","","","","","",{"$error":"#VALUE!"},{"$error":"#VALUE!"}]
["","","",{"$f":"IF(A405<>\"\",MOD(B405,24)/24,\"\")","v":""},"","",{"$f":"ABS(0.5*1.025*1*(F405^3))","v":{"$error":"#VALUE!"}},{"$f":"G405*$B$13","v":{"$error":"#VALUE!"}}]
[{"$f":"IF(IF(A405<>\"\",A405+1<=$B$16,0),A405+1,\"\")","v":""},{"$f":"IF(A406<>\"\",A406*$B$13,\"\")","v":""},{"$f":"IF(A406<>\"\",ROUNDDOWN(A406*$B$13/24,0),\"\")","v":""},"",{"$f":"IF(A406<>\"\",($B$4+$B$5)/2+($B$5-$B$4)/2*COS(2*PI()/$B$15*B406),\"\")","v":""},{"$f":"IF(A406<>\"\",E406*COS(2*PI()/$B$7*B406),\"\")","v":""},{"$error":"#VALUE!"},{"$error":"#VALUE!"}]
["","","","","","",{"$error":"#VALUE!"},{"$error":"#VALUE!"}]
["","","","","","",{"$error":"#VALUE!"},{"$error":"#VALUE!"}]
["","","","","","",{"$error":"#VALUE!"},{"$error":"#VALUE!"}]
["","","","","","",{"$error":"#VALUE!"},{"$error":"#VALUE!"}]
["","","","","","",{"$error":"#VALUE!"},{"$error":"#VALUE!"}]
["","","","","","",{"$error":"#VALUE!"},{"$error":"#VALUE!"}]
["","","","","","",{"$error":"#VALUE!"},{"$error":"#VALUE!"}]
["","","","","","",{"$error":"#VALUE!"},{"$error":"#VALUE!"}]
["","","","","","",{"$error":"#VALUE!"},{"$error":"#VALUE!"}]
["","","","","","",{"$error":"#VALUE!"},{"$error":"#VALUE!"}]
["","","","","","",{"$error":"#VALUE!"},{"$error":"#VALUE!"}]
["","","","","","",{"$error":"#VALUE!"},{"$error":"#VALUE!"}]
["","","","","","",{"$error":"#VALUE!"},{"$error":"#VALUE!"}]
["","","","","","",{"$error":"#VALUE!"},{"$error":"#VALUE!"}]
["","","","","","",{"$error":"#VALUE!"},{"$error":"#VALUE!"}]
["","","","","","",{"$error":"#VALUE!"},{"$error":"#VALUE!"}]
["","","","","","",{"$error":"#VALUE!"},{"$error":"#VALUE!"}]
["","","","","","",{"$error":"#VALUE!"},{"$error":"#VALUE!"}]
["","","","","","",{"$error":"#VALUE!"},{"$error":"#VALUE!"}]
["","","","","","",{"$error":"#VALUE!"},{"$error":"#VALUE!"}]
["","","","","","",{"$error":"#VALUE!"},{"$error":"#VALUE!"}]
["","","","","","",{"$error":"#VALUE!"},{"$error":"#VALUE!"}]
["","","","","","",{"$error":"#VALUE!"},{"$error":"#VALUE!"}]
["","","","","","",{"$error":"#VALUE!"},{"$error":"#VALUE!"}]
["","","","","","",{"$error":"#VALUE!"},{"$error":"#VALUE!"}]
["","","","","","",{"$error":"#VALUE!"},{"$error":"#VALUE!"}]
["","","","","","",{"$error":"#VALUE!"},{"$error":"#VALUE!"}]
["","","","","","",{"$error":"#VALUE!"},{"$error":"#VALUE!"}]
["","","","","","",{"$error":"#VALUE!"},{"$error":"#VALUE!"}]
["","","","","","",{"$error":"#VALUE!"},{"$error":"#VALUE!"}]
["","","","","","",{"$error":"#VALUE!"},{"$error":"#VALUE!"}]
["","","","","","",{"$error":"#VALUE!"},{"$error":"#VALUE!"}]
["","","","","","",{"$error":"#VALUE!"},{"$error":"#VALUE!"}]
["","","","","","",{"$error":"#VALUE!"},{"$error":"#VALUE!"}]
["","","","","","",{"$error":"#VALUE!"},{"$error":"#VALUE!"}]
["","","","","","",{"$error":"#VALUE!"},{"$error":"#VALUE!"}]
["","","","","","",{"$error":"#VALUE!"},{"$error":"#VALUE!"}]
["","","","","","",{"$error":"#VALUE!"},{"$error":"#VALUE!"}]
["","","","","","",{"$error":"#VALUE!"},{"$error":"#VALUE!"}]
["","","","","","",{"$error":"#VALUE!"},{"$error":"#VALUE!"}]
["","","","","","",{"$error":"#VALUE!"},{"$error":"#VALUE!"}]
["","","","","","",{"$error":"#VALUE!"},{"$error":"#VALUE!"}]
["","","","","","",{"$error":"#VALUE!"},{"$error":"#VALUE!"}]
["","","","","","",{"$error":"#VALUE!"},{"$error":"#VALUE!"}]
["","","","","","",{"$error":"#VALUE!"},{"$error":"#VALUE!"}]
["","","","","","",{"$error":"#VALUE!"},{"$error":"#VALUE!"}]
["","","","","","",{"$error":"#VALUE!"},{"$error":"#VALUE!"}]
["","","","","","",{"$error":"#VALUE!"},{"$error":"#VALUE!"}]
["","","","","","",{"$error":"#VALUE!"},{"$error":"#VALUE!"}]
["","","","","","",{"$error":"#VALUE!"},{"$error":"#VALUE!"}]
["","","","","","",{"$error":"#VALUE!"},{"$error":"#VALUE!"}]
["","","","","","",{"$error":"#VALUE!"},{"$error":"#VALUE!"}]
["","","","","","",{"$error":"#VALUE!"},{"$error":"#VALUE!"}]
["","","","","","",{"$error":"#VALUE!"},{"$error":"#VALUE!"}]
["","","","","","",{"$error":"#VALUE!"},{"$error":"#VALUE!"}]
["","","","","","",{"$error":"#VALUE!"},{"$error":"#VALUE!"}]
["","","","","","",{"$error":"#VALUE!"},{"$error":"#VALUE!"}]
["","","","","","",{"$error":"#VALUE!"},{"$error":"#VALUE!"}]
["","","","","","",{"$error":"#VALUE!"},{"$error":"#VALUE!"}]
["","","","","","",{"$error":"#VALUE!"},{"$error":"#VALUE!"}]
["","","","","","",{"$error":"#VALUE!"},{"$error":"#VALUE!"}]
["","","","","","",{"$error":"#VALUE!"},{"$error":"#VALUE!"}]
["","","",{"$f":"IF(A469<>\"\",MOD(B469,24)/24,\"\")","v":""},"","",{"$f":"ABS(0.5*1.025*1*(F469^3))","v":{"$error":"#VALUE!"}},{"$f":"G469*$B$13","v":{"$error":"#VALUE!"}}]
[{"$f":"IF(IF(A469<>\"\",A469+1<=$B$16,0),A469+1,\"\")","v":""},{"$f":"IF(A470<>\"\",A470*$B$13,\"\")","v":""},{"$f":"IF(A470<>\"\",ROUNDDOWN(A470*$B$13/24,0),\"\")","v":""},"",{"$f":"IF(A470<>\"\",($B$4+$B$5)/2+($B$5-$B$4)/2*COS(2*PI()/$B$15*B470),\"\")","v":""},{"$f":"IF(A470<>\"\",E470*COS(2*PI()/$B$7*B470),\"\")","v":""},{"$error":"#VALUE!"},{"$error":"#VALUE!"}]
["","","","","","",{"$error":"#VALUE!"},{"$error":"#VALUE!"}]
["","","","","","",{"$error":"#VALUE!"},{"$error":"#VALUE!"}]
["","","","","","",{"$error":"#VALUE!"},{"$error":"#VALUE!"}]
["","","","","","",{"$error":"#VALUE!"},{"$error":"#VALUE!"}]
["","","","","","",{"$error":"#VALUE!"},{"$error":"#VALUE!"}]
["","","","","","",{"$error":"#VALUE!"},{"$error":"#VALUE!"}]
["","","","","","",{"$error":"#VALUE!"},{"$error":"#VALUE!"}]
["","","","","","",{"$error":"#VALUE!"},{"$error":"#VALUE!"}]
["","","","","","",{"$error":"#VALUE!"},{"$error":"#VALUE!"}]
["","","","","","",{"$error":"#VALUE!"},{"$error":"#VALUE!"}]
["","","","","","",{"$error":"#VALUE!"},{"$error":"#VALUE!"}]
["","","","","","",{"$error":"#VALUE!"},{"$error":"#VALUE!"}]
["","","","","","",{"$error":"#VALUE!"},{"$error":"#VALUE!"}]
["","","","","","",{"$error":"#VALUE!"},{"$error":"#VALUE!"}]
["","","","","","",{"$error":"#VALUE!"},{"$error":"#VALUE!"}]
["","","","","","",{"$error":"#VALUE!"},{"$error":"#VALUE!"}]
["","","","","","",{"$error":"#VALUE!"},{"$error":"#VALUE!"}]
["","","","","","",{"$error":"#VALUE!"},{"$error":"#VALUE!"}]
["","","","","","",{"$error":"#VALUE!"},{"$error":"#VALUE!"}]
["","","","","","",{"$error":"#VALUE!"},{"$error":"#VALUE!"}]
["","","","","","",{"$error":"#VALUE!"},{"$error":"#VALUE!"}]
["","","","","","",{"$error":"#VALUE!"},{"$error":"#VALUE!"}]
["","","","","","",{"$error":"#VALUE!"},{"$error":"#VALUE!"}]
["","","","","","",{"$error":"#VALUE!"},{"$error":"#VALUE!"}]
["","","","","","",{"$error":"#VALUE!"},{"$error":"#VALUE!"}]
["","","","","","",{"$error":"#VALUE!"},{"$error":"#VALUE!"}]
["","","","","","",{"$error":"#VALUE!"},{"$error":"#VALUE!"}]
["","","","","","",{"$error":"#VALUE!"},{"$error":"#VALUE!"}]
["","","","","","",{"$error":"#VALUE!"},{"$error":"#VALUE!"}]
["","","","","","",{"$error":"#VALUE!"},{"$error":"#VALUE!"}]
["","","","","","",{"$error":"#VALUE!"},{"$error":"#VALUE!"}]
["","","","","","",{"$error":"#VALUE!"},{"$error":"#VALUE!"}]
["","","","","","",{"$error":"#VALUE!"},{"$error":"#VALUE!"}]
["","","","","","",{"$error":"#VALUE!"},{"$error":"#VALUE!"}]
["","","","","","",{"$error":"#VALUE!"},{"$error":"#VALUE!"}]
["","","","","","",{"$error":"#VALUE!"},{"$error":"#VALUE!"}]
["","","","","","",{"$error":"#VALUE!"},{"$error":"#VALUE!"}]
["","","","","","",{"$error":"#VALUE!"},{"$error":"#VALUE!"}]
["","","","","","",{"$error":"#VALUE!"},{"$error":"#VALUE!"}]
["","","","","","",{"$error":"#VALUE!"},{"$error":"#VALUE!"}]
["","","","","","",{"$error":"#VALUE!"},{"$error":"#VALUE!"}]
["","","","","","",{"$error":"#VALUE!"},{"$error":"#VALUE!"}]
["","","","","","",{"$error":"#VALUE!"},{"$error":"#VALUE!"}]
["","","","","","",{"$error":"#VALUE!"},{"$error":"#VALUE!"}]
["","","","","","",{"$error":"#VALUE!"},{"$error":"#VALUE!"}]
["","","","","","",{"$error":"#VALUE!"},{"$error":"#VALUE!"}]
["","","","","","",{"$error":"#VALUE!"},{"$error":"#VALUE!"}]
["","","","","","",{"$error":"#VALUE!"},{"$error":"#VALUE!"}]
["","","","","","",{"$error":"#VALUE!"},{"$error":"#VALUE!"}]
["","","","","","",{"$error":"#VALUE!"},{"$error":"#VALUE!"}]
["","","","","","",{"$error":"#VALUE!"},{"$error":"#VALUE!"}]
["","","","","","",{"$error":"#VALUE!"},{"$error":"#VALUE!"}]
["","","","","","",{"$error":"#VALUE!"},{"$error":"#VALUE!"}]
["","","","","","",{"$error":"#VALUE!"},{"$error":"#VALUE!"}]
["","","","","","",{"$error":"#VALUE!"},{"$error":"#VALUE!"}]
["","","","","","",{"$error":"#VALUE!"},{"$error":"#VALUE!"}]
["","","","","","",{"$error":"#VALUE!"},{"$error":"#VALUE!"}]
["","","","","","",{"$error":"#VALUE!"},{"$error":"#VALUE!"}]
["","","","","","",{"$error":"#VALUE!"},{"$error":"#VALUE!"}]
["","","","","","",{"$error":"#VALUE!"},{"$error":"#VALUE!"}]
["","","","","","",{"$error":"#VALUE!"},{"$error":"#VALUE!"}]
["","","","","","",{"$error":"#VALUE!"},{"$error":"#VALUE!"}]
["","","",{"$f":"IF(A533<>\"\",MOD(B533,24)/24,\"\")","v":""},"","",{"$f":"ABS(0.5*1.025*1*(F533^3))","v":{"$error":"#VALUE!"}},{"$f":"G533*$B$13","v":{"$error":"#VALUE!"}}]
[{"$f":"IF(IF(A533<>\"\",A533+1<=$B$16,0),A533+1,\"\")","v":""},{"$f":"IF(A534<>\"\",A534*$B$13,\"\")","v":""},{"$f":"IF(A534<>\"\",ROUNDDOWN(A534*$B$13/24,0),\"\")","v":""},"",{"$f":"IF(A534<>\"\",($B$4+$B$5)/2+($B$5-$B$4)/2*COS(2*PI()/$B$15*B534),\"\")","v":""},{"$f":"IF(A534<>\"\",E534*COS(2*PI()/$B$7*B534),\"\")","v":""},{"$error":"#VALUE!"},{"$error":"#VALUE!"}]
["","","","","","",{"$error":"#VALUE!"},{"$error":"#VALUE!"}]
["","","","","","",{"$error":"#VALUE!"},{"$error":"#VALUE!"}]
["","","","","","",{"$error":"#VALUE!"},{"$error":"#VALUE!"}]
["","","","","","",{"$error":"#VALUE!"},{"$error":"#VALUE!"}]
["","","","","","",{"$error":"#VALUE!"},{"$error":"#VALUE!"}]
["","","","","","",{"$error":"#VALUE!"},{"$error":"#VALUE!"}]
["","","","","","",{"$error":"#VALUE!"},{"$error":"#VALUE!"}]
["","","","","","",{"$error":"#VALUE!"},{"$error":"#VALUE!"}]
["","","","","","",{"$error":"#VALUE!"},{"$error":"#VALUE!"}]
["","","","","","",{"$error":"#VALUE!"},{"$error":"#VALUE!"}]
["","","","","","",{"$error":"#VALUE!"},{"$error":"#VALUE!"}]
["","","","","","",{"$error":"#VALUE!"},{"$error":"#VALUE!"}]
["","","","","","",{"$error":"#VALUE!"},{"$error":"#VALUE!"}]
["","","","","","",{"$error":"#VALUE!"},{"$error":"#VALUE!"}]
["","","","","","",{"$error":"#VALUE!"},{"$error":"#VALUE!"}]
["","","","","","",{"$error":"#VALUE!"},{"$error":"#VALUE!"}]
["","","","","","",{"$error":"#VALUE!"},{"$error":"#VALUE!"}]
["","","","","","",{"$error":"#VALUE!"},{"$error":"#VALUE!"}]
["","","","","","",{"$error":"#VALUE!"},{"$error":"#VALUE!"}]
["","","","","","",{"$error":"#VALUE!"},{"$error":"#VALUE!"}]
["","","","","","",{"$error":"#VALUE!"},{"$error":"#VALUE!"}]
["","","","","","",{"$error":"#VALUE!"},{"$error":"#VALUE!"}]
["","","","","","",{"$error":"#VALUE!"},{"$error":"#VALUE!"}]
["","","","","","",{"$error":"#VALUE!"},{"$error":"#VALUE!"}]
["","","","","","",{"$error":"#VALUE!"},{"$error":"#VALUE!"}]
["","","","","","",{"$error":"#VALUE!"},{"$error":"#VALUE!"}]
["","","","","","",{"$error":"#VALUE!"},{"$error":"#VALUE!"}]
["","","","","","",{"$error":"#VALUE!"},{"$error":"#VALUE!"}]
["","","","","","",{"$error":"#VALUE!"},{"$error":"#VALUE!"}]
["","","","","","",{"$error":"#VALUE!"},{"$error":"#VALUE!"}]
["","","","","","",{"$error":"#VALUE!"},{"$error":"#VALUE!"}]
["","","","","","",{"$error":"#VALUE!"},{"$error":"#VALUE!"}]
["","","","","","",{"$error":"#VALUE!"},{"$error":"#VALUE!"}]
["","","","","","",{"$error":"#VALUE!"},{"$error":"#VALUE!"}]
["","","","","","",{"$error":"#VALUE!"},{"$error":"#VALUE!"}]
["","","","","","",{"$error":"#VALUE!"},{"$error":"#VALUE!"}]
["","","","","","",{"$error":"#VALUE!"},{"$error":"#VALUE!"}]
["","","","","","",{"$error":"#VALUE!"},{"$error":"#VALUE!"}]
["","","","","","",{"$error":"#VALUE!"},{"$error":"#VALUE!"}]
["","","","","","",{"$error":"#VALUE!"},{"$error":"#VALUE!"}]
["","","","","","",{"$error":"#VALUE!"},{"$error":"#VALUE!"}]
["","","","","","",{"$error":"#VALUE!"},{"$error":"#VALUE!"}]
["","","","","","",{"$error":"#VALUE!"},{"$error":"#VALUE!"}]
["","","","","","",{"$error":"#VALUE!"},{"$error":"#VALUE!"}]
["","","","","","",{"$error":"#VALUE!"},{"$error":"#VALUE!"}]
["","","","","","",{"$error":"#VALUE!"},{"$error":"#VALUE!"}]
["","","","","","",{"$error":"#VALUE!"},{"$error":"#VALUE!"}]
["","","","","","",{"$error":"#VALUE!"},{"$error":"#VALUE!"}]
["","","","","","",{"$error":"#VALUE!"},{"$error":"#VALUE!"}]
["","","","","","",{"$error":"#VALUE!"},{"$error":"#VALUE!"}]
["","","","","","",{"$error":"#VALUE!"},{"$error":"#VALUE!"}]
["","","","","","",{"$error":"#VALUE!"},{"$error":"#VALUE!"}]
["","","","","","",{"$error":"#VALUE!"},{"$error":"#VALUE!"}]
["","","","","","",{"$error":"#VALUE!"},{"$error":"#VALUE!"}]
["","","","","","",{"$error":"#VALUE!"},{"$error":"#VALUE!"}]
["","","","","","",{"$error":"#VALUE!"},{"$error":"#VALUE!"}]
["","","","","","",{"$error":"#VALUE!"},{"$error":"#VALUE!"}]
["","","","","","",{"$error":"#VALUE!"},{"$error":"#VALUE!"}]
["","","","","","",{"$error":"#VALUE!"},{"$error":"#VALUE!"}]
["","","","","","",{"$error":"#VALUE!"},{"$error":"#VALUE!"}]
["","","","","","",{"$error":"#VALUE!"},{"$error":"#VALUE!"}]
["","","","","","",{"$error":"#VALUE!"},{"$error":"#VALUE!"}]
["","","",{"$f":"IF(A597<>\"\",MOD(B597,24)/24,\"\")","v":""},"","",{"$f":"ABS(0.5*1.025*1*(F597^3))","v":{"$error":"#VALUE!"}},{"$f":"G597*$B$13","v":{"$error":"#VALUE!"}}]
[{"$f":"IF(IF(A597<>\"\",A597+1<=$B$16,0),A597+1,\"\")","v":""},{"$f":"IF(A598<>\"\",A598*$B$13,\"\")","v":""},{"$f":"IF(A598<>\"\",ROUNDDOWN(A598*$B$13/24,0),\"\")","v":""},"",{"$f":"IF(A598<>\"\",($B$4+$B$5)/2+($B$5-$B$4)/2*COS(2*PI()/$B$15*B598),\"\")","v":""},{"$f":"IF(A598<>\"\",E598*COS(2*PI()/$B$7*B598),\"\")","v":""},{"$error":"#VALUE!"},{"$error":"#VALUE!"}]
["","","","","","",{"$error":"#VALUE!"},{"$error":"#VALUE!"}]
["","","","","","",{"$error":"#VALUE!"},{"$error":"#VALUE!"}]
["","","","","","",{"$error":"#VALUE!"},{"$error":"#VALUE!"}]
["","","","","","",{"$error":"#VALUE!"},{"$error":"#VALUE!"}]
["","","","","","",{"$error":"#VALUE!"},{"$error":"#VALUE!"}]
["","","","","","",{"$error":"#VALUE!"},{"$error":"#VALUE!"}]
["","","","","","",{"$error":"#VALUE!"},{"$error":"#VALUE!"}]
["","","","","","",{"$error":"#VALUE!"},{"$error":"#VALUE!"}]
["","","","","","",{"$error":"#VALUE!"},{"$error":"#VALUE!"}]
["","","","","","",{"$error":"#VALUE!"},{"$error":"#VALUE!"}]
["","","","","","",{"$error":"#VALUE!"},{"$error":"#VALUE!"}]
["","","","","","",{"$error":"#VALUE!"},{"$error":"#VALUE!"}]
["","","","","","",{"$error":"#VALUE!"},{"$error":"#VALUE!"}]
["","","","","","",{"$error":"#VALUE!"},{"$error":"#VALUE!"}]
["","","","","","",{"$error":"#VALUE!"},{"$error":"#VALUE!"}]
["","","","","","",{"$error":"#VALUE!"},{"$error":"#VALUE!"}]
["","","","","","",{"$error":"#VALUE!"},{"$error":"#VALUE!"}]
["","","","","","",{"$error":"#VALUE!"},{"$error":"#VALUE!"}]
["","","","","","",{"$error":"#VALUE!"},{"$error":"#VALUE!"}]
["","","","","","",{"$error":"#VALUE!"},{"$error":"#VALUE!"}]
["","","","","","",{"$error":"#VALUE!"},{"$error":"#VALUE!"}]
["","","","","","",{"$error":"#VALUE!"},{"$error":"#VALUE!"}]
["","","","","","",{"$error":"#VALUE!"},{"$error":"#VALUE!"}]
["","","","","","",{"$error":"#VALUE!"},{"$error":"#VALUE!"}]
["","","","","","",{"$error":"#VALUE!"},{"$error":"#VALUE!"}]
["","","","","","",{"$error":"#VALUE!"},{"$error":"#VALUE!"}]
["","","","","","",{"$error":"#VALUE!"},{"$error":"#VALUE!"}]
["","","","","","",{"$error":"#VALUE!"},{"$error":"#VALUE!"}]
["","","","","","",{"$error":"#VALUE!"},{"$error":"#VALUE!"}]
["","","","","","",{"$error":"#VALUE!"},{"$error":"#VALUE!"}]
["","","","","","",{"$error":"#VALUE!"},{"$error":"#VALUE!"}]
["","","","","","",{"$error":"#VALUE!"},{"$error":"#VALUE!"}]
["","","","","","",{"$error":"#VALUE!"},{"$error":"#VALUE!"}]
["","","","","","",{"$error":"#VALUE!"},{"$error":"#VALUE!"}]
["","","","","","",{"$error":"#VALUE!"},{"$error":"#VALUE!"}]
["","","","","","",{"$error":"#VALUE!"},{"$error":"#VALUE!"}]
["","","","","","",{"$error":"#VALUE!"},{"$error":"#VALUE!"}]
["","","","","","",{"$error":"#VALUE!"},{"$error":"#VALUE!"}]
["","","","","","",{"$error":"#VALUE!"},{"$error":"#VALUE!"}]
["","","","","","",{"$error":"#VALUE!"},{"$error":"#VALUE!"}]
["","","","","","",{"$error":"#VALUE!"},{"$error":"#VALUE!"}]
["","","","","","",{"$error":"#VALUE!"},{"$error":"#VALUE!"}]
["","","","","","",{"$error":"#VALUE!"},{"$error":"#VALUE!"}]
["","","","","","",{"$error":"#VALUE!"},{"$error":"#VALUE!"}]
["","","","","","",{"$error":"#VALUE!"},{"$error":"#VALUE!"}]
["","","","","","",{"$error":"#VALUE!"},{"$error":"#VALUE!"}]
["","","","","","",{"$error":"#VALUE!"},{"$error":"#VALUE!"}]
["","","","","","",{"$error":"#VALUE!"},{"$error":"#VALUE!"}]
["","","","","","",{"$error":"#VALUE!"},{"$error":"#VALUE!"}]
["","","","","","",{"$error":"#VALUE!"},{"$error":"#VALUE!"}]
["","","","","","",{"$error":"#VALUE!"},{"$error":"#VALUE!"}]
["","","","","","",{"$error":"#VALUE!"},{"$error":"#VALUE!"}]
["","","","","","",{"$error":"#VALUE!"},{"$error":"#VALUE!"}]
["","","","","","",{"$error":"#VALUE!"},{"$error":"#VALUE!"}]
["","","","","","",{"$error":"#VALUE!"},{"$error":"#VALUE!"}]
["","","","","","",{"$error":"#VALUE!"},{"$error":"#VALUE!"}]
["","","","","","",{"$error":"#VALUE!"},{"$error":"#VALUE!"}]
["","","","","","",{"$error":"#VALUE!"},{"$error":"#VALUE!"}]
["","","","","","",{"$error":"#VALUE!"},{"$error":"#VALUE!"}]
["","","","","","",{"$error":"#VALUE!"},{"$error":"#VALUE!"}]
["","","","","","",{"$error":"#VALUE!"},{"$error":"#VALUE!"}]
["","","","","","",{"$error":"#VALUE!"},{"$error":"#VALUE!"}]
["","","",{"$f":"IF(A661<>\"\",MOD(B661,24)/24,\"\")","v":""},"","",{"$f":"ABS(0.5*1.025*1*(F661^3))","v":{"$error":"#VALUE!"}},{"$f":"G661*$B$13","v":{"$error":"#VALUE!"}}]
[{"$f":"IF(IF(A661<>\"\",A661+1<=$B$16,0),A661+1,\"\")","v":""},{"$f":"IF(A662<>\"\",A662*$B$13,\"\")","v":""},{"$f":"IF(A662<>\"\",ROUNDDOWN(A662*$B$13/24,0),\"\")","v":""},"",{"$f":"IF(A662<>\"\",($B$4+$B$5)/2+($B$5-$B$4)/2*COS(2*PI()/$B$15*B662),\"\")","v":""},{"$f":"IF(A662<>\"\",E662*COS(2*PI()/$B$7*B662),\"\")","v":""},{"$error":"#VALUE!"},{"$error":"#VALUE!"}]
["","","","","","",{"$error":"#VALUE!"},{"$error":"#VALUE!"}]
["","","","","","",{"$error":"#VALUE!"},{"$error":"#VALUE!"}]
["","","","","","",{"$error":"#VALUE!"},{"$error":"#VALUE!"}]
["","","","","","",{"$error":"#VALUE!"},{"$error":"#VALUE!"}]
["","","","","","",{"$error":"#VALUE!"},{"$error":"#VALUE!"}]
["","","","","","",{"$error":"#VALUE!"},{"$error":"#VALUE!"}]
["","","","","","",{"$error":"#VALUE!"},{"$error":"#VALUE!"}]
["","","","","","",{"$error":"#VALUE!"},{"$error":"#VALUE!"}]
["","","","","","",{"$error":"#VALUE!"},{"$error":"#VALUE!"}]
["","","","","","",{"$error":"#VALUE!"},{"$error":"#VALUE!"}]
["","","","","","",{"$error":"#VALUE!"},{"$error":"#VALUE!"}]
["","","","","","",{"$error":"#VALUE!"},{"$error":"#VALUE!"}]
["","","","","","",{"$error":"#VALUE!"},{"$error":"#VALUE!"}]
["","","","","","",{"$error":"#VALUE!"},{"$error":"#VALUE!"}]
["","","","","","",{"$error":"#VALUE!"},{"$error":"#VALUE!"}]
["","","","","","",{"$error":"#VALUE!"},{"$error":"#VALUE!"}]
["","","","","","",{"$error":"#VALUE!"},{"$error":"#VALUE!"}]
["","","","","","",{"$error":"#VALUE!"},{"$error":"#VALUE!"}]
["","","","","","",{"$error":"#VALUE!"},{"$error":"#VALUE!"}]
["","","","","","",{"$error":"#VALUE!"},{"$error":"#VALUE!"}]
["","","","","","",{"$error":"#VALUE!"},{"$error":"#VALUE!"}]
["","","","","","",{"$error":"#VALUE!"},{"$error":"#VALUE!"}]
["","","","","","",{"$error":"#VALUE!"},{"$error":"#VALUE!"}]
["","","","","","",{"$error":"#VALUE!"},{"$error":"#VALUE!"}]
["","","","","","",{"$error":"#VALUE!"},{"$error":"#VALUE!"}]
["","","","","","",{"$error":"#VALUE!"},{"$error":"#VALUE!"}]
["","","","","","",{"$error":"#VALUE!"},{"$error":"#VALUE!"}]
["","","","","","",{"$error":"#VALUE!"},{"$error":"#VALUE!"}]
["","","","","","",{"$error":"#VALUE!"},{"$error":"#VALUE!"}]
["","","","","","",{"$error":"#VALUE!"},{"$error":"#VALUE!"}]
["","","","","","",{"$error":"#VALUE!"},{"$error":"#VALUE!"}]
["","","","","","",{"$error":"#VALUE!"},{"$error":"#VALUE!"}]
["","","","","","",{"$error":"#VALUE!"},{"$error":"#VALUE!"}]
["","","","","","",{"$error":"#VALUE!"},{"$error":"#VALUE!"}]
["","","","","","",{"$error":"#VALUE!"},{"$error":"#VALUE!"}]
["","","","","","",{"$error":"#VALUE!"},{"$error":"#VALUE!"}]
["","","","","","",{"$error":"#VALUE!"},{"$error":"#VALUE!"}]
["","","","","","",{"$error":"#VALUE!"},{"$error":"#VALUE!"}]
["","","","","","",{"$error":"#VALUE!"},{"$error":"#VALUE!"}]
["","","","","","",{"$error":"#VALUE!"},{"$error":"#VALUE!"}]
["","","","","","",{"$error":"#VALUE!"},{"$error":"#VALUE!"}]
["","","","","","",{"$error":"#VALUE!"},{"$error":"#VALUE!"}]
["","","","","","",{"$error":"#VALUE!"},{"$error":"#VALUE!"}]
["","","","","","",{"$error":"#VALUE!"},{"$error":"#VALUE!"}]
["","","","","","",{"$error":"#VALUE!"},{"$error":"#VALUE!"}]
["","","","","","",{"$error":"#VALUE!"},{"$error":"#VALUE!"}]
["","","","","","",{"$error":"#VALUE!"},{"$error":"#VALUE!"}]
["","","","","","",{"$error":"#VALUE!"},{"$error":"#VALUE!"}]
["","","","","","",{"$error":"#VALUE!"},{"$error":"#VALUE!"}]
["","","","","","",{"$error":"#VALUE!"},{"$error":"#VALUE!"}]
["","","","","","",{"$error":"#VALUE!"},{"$error":"#VALUE!"}]
["","","","","","",{"$error":"#VALUE!"},{"$error":"#VALUE!"}]
["","","","","","",{"$error":"#VALUE!"},{"$error":"#VALUE!"}]
["","","","","","",{"$error":"#VALUE!"},{"$error":"#VALUE!"}]
["","","","","","",{"$error":"#VALUE!"},{"$error":"#VALUE!"}]
["","","","","","",{"$error":"#VALUE!"},{"$error":"#VALUE!"}]
["","","","","","",{"$error":"#VALUE!"},{"$error":"#VALUE!"}]
["","","","","","",{"$error":"#VALUE!"},{"$error":"#VALUE!"}]
["","","","","","",{"$error":"#VALUE!"},{"$error":"#VALUE!"}]
["","","","","","",{"$error":"#VALUE!"},{"$error":"#VALUE!"}]
["","","","","","",{"$error":"#VALUE!"},{"$error":"#VALUE!"}]
["","","","","","",{"$error":"#VALUE!"},{"$error":"#VALUE!"}]
["","","",{"$f":"IF(A725<>\"\",MOD(B725,24)/24,\"\")","v":""},"","",{"$f":"ABS(0.5*1.025*1*(F725^3))","v":{"$error":"#VALUE!"}},{"$f":"G725*$B$13","v":{"$error":"#VALUE!"}}]
[{"$f":"IF(IF(A725<>\"\",A725+1<=$B$16,0),A725+1,\"\")","v":""},{"$f":"IF(A726<>\"\",A726*$B$13,\"\")","v":""},{"$f":"IF(A726<>\"\",ROUNDDOWN(A726*$B$13/24,0),\"\")","v":""},"",{"$f":"IF(A726<>\"\",($B$4+$B$5)/2+($B$5-$B$4)/2*COS(2*PI()/$B$15*B726),\"\")","v":""},{"$f":"IF(A726<>\"\",E726*COS(2*PI()/$B$7*B726),\"\")","v":""},{"$error":"#VALUE!"},{"$error":"#VALUE!"}]
["","","","","","",{"$error":"#VALUE!"},{"$error":"#VALUE!"}]
["","","","","","",{"$error":"#VALUE!"},{"$error":"#VALUE!"}]
["","","","","","",{"$error":"#VALUE!"},{"$error":"#VALUE!"}]
["","","","","","",{"$error":"#VALUE!"},{"$error":"#VALUE!"}]
["","","","","","",{"$error":"#VALUE!"},{"$error":"#VALUE!"}]
["","","","","","",{"$error":"#VALUE!"},{"$error":"#VALUE!"}]
["","","","","","",{"$error":"#VALUE!"},{"$error":"#VALUE!"}]
["","","","","","",{"$error":"#VALUE!"},{"$error":"#VALUE!"}]
["","","","","","",{"$error":"#VALUE!"},{"$error":"#VALUE!"}]
["","","","","","",{"$error":"#VALUE!"},{"$error":"#VALUE!"}]
["","","","","","",{"$error":"#VALUE!"},{"$error":"#VALUE!"}]
["","","","","","",{"$error":"#VALUE!"},{"$error":"#VALUE!"}]
["","","","","","",{"$error":"#VALUE!"},{"$error":"#VALUE!"}]
["","","","","","",{"$error":"#VALUE!"},{"$error":"#VALUE!"}]
["","","","","","",{"$error":"#VALUE!"},{"$error":"#VALUE!"}]
["","","","","","",{"$error":"#VALUE!"},{"$error":"#VALUE!"}]
["","","","","","",{"$error":"#VALUE!"},{"$error":"#VALUE!"}]
["","","","","","",{"$error":"#VALUE!"},{"$error":"#VALUE!"}]
["","","","","","",{"$error":"#VALUE!"},{"$error":"#VALUE!"}]
["","","","","","",{"$error":"#VALUE!"},{"$error":"#VALUE!"}]
["","","","","","",{"$error":"#VALUE!"},{"$error":"#VALUE!"}]
["","","","","","",{"$error":"#VALUE!"},{"$error":"#VALUE!"}]
["","","","","","",{"$error":"#VALUE!"},{"$error":"#VALUE!"}]
["","","","","","",{"$error":"#VALUE!"},{"$error":"#VALUE!"}]
["","","","","","",{"$error":"#VALUE!"},{"$error":"#VALUE!"}]
["","","","","","",{"$error":"#VALUE!"},{"$error":"#VALUE!"}]
["","","","","","",{"$error":"#VALUE!"},{"$error":"#VALUE!"}]
["","","","","","",{"$error":"#VALUE!"},{"$error":"#VALUE!"}]
["","","","","","",{"$error":"#VALUE!"},{"$error":"#VALUE!"}]
["","","","","","",{"$error":"#VALUE!"},{"$error":"#VALUE!"}]
["","","","","","",{"$error":"#VALUE!"},{"$error":"#VALUE!"}]
["","","","","","",{"$error":"#VALUE!"},{"$error":"#VALUE!"}]
["","","","","","",{"$error":"#VALUE!"},{"$error":"#VALUE!"}]
["","","","","","",{"$error":"#VALUE!"},{"$error":"#VALUE!"}]
["","","","","","",{"$error":"#VALUE!"},{"$error":"#VALUE!"}]
["","","","","","",{"$error":"#VALUE!"},{"$error":"#VALUE!"}]
["","","","","","",{"$error":"#VALUE!"},{"$error":"#VALUE!"}]
["","","","","","",{"$error":"#VALUE!"},{"$error":"#VALUE!"}]
["","","","","","",{"$error":"#VALUE!"},{"$error":"#VALUE!"}]
["","","","","","",{"$error":"#VALUE!"},{"$error":"#VALUE!"}]
["","","","","","",{"$error":"#VALUE!"},{"$error":"#VALUE!"}]
["","","","","","",{"$error":"#VALUE!"},{"$error":"#VALUE!"}]
["","","","","","",{"$error":"#VALUE!"},{"$error":"#VALUE!"}]
["","","","","","",{"$error":"#VALUE!"},{"$error":"#VALUE!"}]
["","","","","","",{"$error":"#VALUE!"},{"$error":"#VALUE!"}]
["","","","","","",{"$error":"#VALUE!"},{"$error":"#VALUE!"}]
["","","","","","",{"$error":"#VALUE!"},{"$error":"#VALUE!"}]
["","","","","","",{"$error":"#VALUE!"},{"$error":"#VALUE!"}]
["","","","","","",{"$error":"#VALUE!"},{"$error":"#VALUE!"}]
["","","","","","",{"$error":"#VALUE!"},{"$error":"#VALUE!"}]
["","","","","","",{"$error":"#VALUE!"},{"$error":"#VALUE!"}]
["","","","","","",{"$error":"#VALUE!"},{"$error":"#VALUE!"}]
["","","","","","",{"$error":"#VALUE!"},{"$error":"#VALUE!"}]
["","","","","","",{"$error":"#VALUE!"},{"$error":"#VALUE!"}]
["","","","","","",{"$error":"#VALUE!"},{"$error":"#VALUE!"}]
["","","","","","",{"$error":"#VALUE!"},{"$error":"#VALUE!"}]
["","","","","","",{"$error":"#VALUE!"},{"$error":"#VALUE!"}]
["","","","","","",{"$error":"#VALUE!"},{"$error":"#VALUE!"}]
["","","","","","",{"$error":"#VALUE!"},{"$error":"#VALUE!"}]
["","","","","","",{"$error":"#VALUE!"},{"$error":"#VALUE!"}]
["","","","","","",{"$error":"#VALUE!"},{"$error":"#VALUE!"}]
["","","","","","",{"$error":"#VALUE!"},{"$error":"#VALUE!"}]
["","","",{"$f":"IF(A789<>\"\",MOD(B789,24)/24,\"\")","v":""},"","",{"$f":"ABS(0.5*1.025*1*(F789^3))","v":{"$error":"#VALUE!"}},{"$f":"G789*$B$13","v":{"$error":"#VALUE!"}}]
[{"$f":"IF(IF(A789<>\"\",A789+1<=$B$16,0),A789+1,\"\")","v":""},{"$f":"IF(A790<>\"\",A790*$B$13,\"\")","v":""},{"$f":"IF(A790<>\"\",ROUNDDOWN(A790*$B$13/24,0),\"\")","v":""},"",{"$f":"IF(A790<>\"\",($B$4+$B$5)/2+($B$5-$B$4)/2*COS(2*PI()/$B$15*B790),\"\")","v":""},{"$f":"IF(A790<>\"\",E790*COS(2*PI()/$B$7*B790),\"\")","v":""},{"$error":"#VALUE!"},{"$error":"#VALUE!"}]
["","","","","","",{"$error":"#VALUE!"},{"$error":"#VALUE!"}]
["","","","","","",{"$error":"#VALUE!"},{"$error":"#VALUE!"}]
["","","","","","",{"$error":"#VALUE!"},{"$error":"#VALUE!"}]
["","","","","","",{"$error":"#VALUE!"},{"$error":"#VALUE!"}]
["","","","","","",{"$error":"#VALUE!"},{"$error":"#VALUE!"}]
["","","","","","",{"$error":"#VALUE!"},{"$error":"#VALUE!"}]
["","","","","","",{"$error":"#VALUE!"},{"$error":"#VALUE!"}]
["","","","","","",{"$error":"#VALUE!"},{"$error":"#VALUE!"}]
["","","","","","",{"$error":"#VALUE!"},{"$error":"#VALUE!"}]
["","","","","","",{"$error":"#VALUE!"},{"$error":"#VALUE!"}]
["","","","","","",{"$error":"#VALUE!"},{"$error":"#VALUE!"}]
["","","","","","",{"$error":"#VALUE!"},{"$error":"#VALUE!"}]
["","","","","","",{"$error":"#VALUE!"},{"$error":"#VALUE!"}]
["","","","","","",{"$error":"#VALUE!"},{"$error":"#VALUE!"}]
["","","","","","",{"$error":"#VALUE!"},{"$error":"#VALUE!"}]
["","","","","","",{"$error":"#VALUE!"},{"$error":"#VALUE!"}]
["","","","","","",{"$error":"#VALUE!"},{"$error":"#VALUE!"}]
["","","","","","",{"$error":"#VALUE!"},{"$error":"#VALUE!"}]
["","","","","","",{"$error":"#VALUE!"},{"$error":"#VALUE!"}]
["","","","","","",{"$error":"#VALUE!"},{"$error":"#VALUE!"}]
["","","","","","",{"$error":"#VALUE!"},{"$error":"#VALUE!"}]
["","","","","","",{"$error":"#VALUE!"},{"$error":"#VALUE!"}]
["","","","","","",{"$error":"#VALUE!"},{"$error":"#VALUE!"}]
["","","","","","",{"$error":"#VALUE!"},{"$error":"#VALUE!"}]
["","","","","","",{"$error":"#VALUE!"},{"$error":"#VALUE!"}]
["","","","","","",{"$error":"#VALUE!"},{"$error":"#VALUE!"}]
["","","","","","",{"$error":"#VALUE!"},{"$error":"#VALUE!"}]
["","","","","","",{"$error":"#VALUE!"},{"$error":"#VALUE!"}]
["","","","","","",{"$error":"#VALUE!"},{"$error":"#VALUE!"}]
["","","","","","",{"$error":"#VALUE!"},{"$error":"#VALUE!"}]
["","","","","","",{"$error":"#VALUE!"},{"$error":"#VALUE!"}]
["","","","","","",{"$error":"#VALUE!"},{"$error":"#VALUE!"}]
["","","","","","",{"$error":"#VALUE!"},{"$error":"#VALUE!"}]
["","","","","","",{"$error":"#VALUE!"},{"$error":"#VALUE!"}]
["","","","","","",{"$error":"#VALUE!"},{"$error":"#VALUE!"}]
["","","","","","",{"$error":"#VALUE!"},{"$error":"#VALUE!"}]
["","","","","","",{"$error":"#VALUE!"},{"$error":"#VALUE!"}]
["","","","","","",{"$error":"#VALUE!"},{"$error":"#VALUE!"}]
["","","","","","",{"$error":"#VALUE!"},{"$error":"#VALUE!"}]
["","","","","","",{"$error":"#VALUE!"},{"$error":"#VALUE!"}]
["","","","","","",{"$error":"#VALUE!"},{"$error":"#VALUE!"}]
["","","","","","",{"$error":"#VALUE!"},{"$error":"#VALUE!"}]
["","","","","","",{"$error":"#VALUE!"},{"$error":"#VALUE!"}]
["","","","","","",{"$error":"#VALUE!"},{"$error":"#VALUE!"}]
["","","","","","",{"$error":"#VALUE!"},{"$error":"#VALUE!"}]
["","","","","","",{"$error":"#VALUE!"},{"$error":"#VALUE!"}]
["","","","","","",{"$error":"#VALUE!"},{"$error":"#VALUE!"}]
["","","","","","",{"$error":"#VALUE!"},{"$error":"#VALUE!"}]
["","","","","","",{"$error":"#VALUE!"},{"$error":"#VALUE!"}]
["","","","","","",{"$error":"#VALUE!"},{"$error":"#VALUE!"}]
["","","","","","",{"$error":"#VALUE!"},{"$error":"#VALUE!"}]
["","","","","","",{"$error":"#VALUE!"},{"$error":"#VALUE!"}]
["","","","","","",{"$error":"#VALUE!"},{"$error":"#VALUE!"}]
["","","","","","",{"$error":"#VALUE!"},{"$error":"#VALUE!"}]
["","","","","","",{"$error":"#VALUE!"},{"$error":"#VALUE!"}]
["","","","","","",{"$error":"#VALUE!"},{"$error":"#VALUE!"}]
["","","","","","",{"$error":"#VALUE!"},{"$error":"#VALUE!"}]
["","","","","","",{"$error":"#VALUE!"},{"$error":"#VALUE!"}]
["","","","","","",{"$error":"#VALUE!"},{"$error":"#VALUE!"}]
["","","","","","",{"$error":"#VALUE!"},{"$error":"#VALUE!"}]
["","","","","","",{"$error":"#VALUE!"},{"$error":"#VALUE!"}]
["","","","","","",{"$error":"#VALUE!"},{"$error":"#VALUE!"}]
["","","",{"$f":"IF(A853<>\"\",MOD(B853,24)/24,\"\")","v":""},"","",{"$f":"ABS(0.5*1.025*1*(F853^3))","v":{"$error":"#VALUE!"}},{"$f":"G853*$B$13","v":{"$error":"#VALUE!"}}]
[{"$f":"IF(IF(A853<>\"\",A853+1<=$B$16,0),A853+1,\"\")","v":""},{"$f":"IF(A854<>\"\",A854*$B$13,\"\")","v":""},{"$f":"IF(A854<>\"\",ROUNDDOWN(A854*$B$13/24,0),\"\")","v":""},"",{"$f":"IF(A854<>\"\",($B$4+$B$5)/2+($B$5-$B$4)/2*COS(2*PI()/$B$15*B854),\"\")","v":""},{"$f":"IF(A854<>\"\",E854*COS(2*PI()/$B$7*B854),\"\")","v":""},{"$error":"#VALUE!"},{"$error":"#VALUE!"}]
["","","","","","",{"$error":"#VALUE!"},{"$error":"#VALUE!"}]
["","","","","","",{"$error":"#VALUE!"},{"$error":"#VALUE!"}]
["","","","","","",{"$error":"#VALUE!"},{"$error":"#VALUE!"}]
["","","","","","",{"$error":"#VALUE!"},{"$error":"#VALUE!"}]
["","","","","","",{"$error":"#VALUE!"},{"$error":"#VALUE!"}]
["","","","","","",{"$error":"#VALUE!"},{"$error":"#VALUE!"}]
["","","","","","",{"$error":"#VALUE!"},{"$error":"#VALUE!"}]
["","","","","","",{"$error":"#VALUE!"},{"$error":"#VALUE!"}]
["","","","","","",{"$error":"#VALUE!"},{"$error":"#VALUE!"}]
["","","","","","",{"$error":"#VALUE!"},{"$error":"#VALUE!"}]
["","","","","","",{"$error":"#VALUE!"},{"$error":"#VALUE!"}]
["","","","","","",{"$error":"#VALUE!"},{"$error":"#VALUE!"}]
["","","","","","",{"$error":"#VALUE!"},{"$error":"#VALUE!"}]
["","","","","","",{"$error":"#VALUE!"},{"$error":"#VALUE!"}]
["","","","","","",{"$error":"#VALUE!"},{"$error":"#VALUE!"}]
["","","","","","",{"$error":"#VALUE!"},{"$error":"#VALUE!"}]
["","","","","","",{"$error":"#VALUE!"},{"$error":"#VALUE!"}]
["","","","","","",{"$error":"#VALUE!"},{"$error":"#VALUE!"}]
["","","","","","",{"$error":"#VALUE!"},{"$error":"#VALUE!"}]
["","","","","","",{"$error":"#VALUE!"},{"$error":"#VALUE!"}]
["","","","","","",{"$error":"#VALUE!"},{"$error":"#VALUE!"}]
["","","","","","",{"$error":"#VALUE!"},{"$error":"#VALUE!"}]
["","","","","","",{"$error":"#VALUE!"},{"$error":"#VALUE!"}]
["","","","","","",{"$error":"#VALUE!"},{"$error":"#VALUE!"}]
["","","","","","",{"$error":"#VALUE!"},{"$error":"#VALUE!"}]
["","","","","","",{"$error":"#VALUE!"},{"$error":"#VALUE!"}]
["","","","","","",{"$error":"#VALUE!"},{"$error":"#VALUE!"}]
["","","","","","",{"$error":"#VALUE!"},{"$error":"#VALUE!"}]
["","","","","","",{"$error":"#VALUE!"},{"$error":"#VALUE!"}]
["","","","","","",{"$error":"#VALUE!"},{"$error":"#VALUE!"}]
["","","","","","",{"$error":"#VALUE!"},{"$error":"#VALUE!"}]
["","","","","","",{"$error":"#VALUE!"},{"$error":"#VALUE!"}]
["","","","","","",{"$error":"#VALUE!"},{"$error":"#VALUE!"}]
["","","","","","",{"$error":"#VALUE!"},{"$error":"#VALUE!"}]
["","","","","","",{"$error":"#VALUE!"},{"$error":"#VALUE!"}]
["","","","","","",{"$error":"#VALUE!"},{"$error":"#VALUE!"}]
["","","","","","",{"$error":"#VALUE!"},{"$error":"#VALUE!"}]
["","","","","","",{"$error":"#VALUE!"},{"$error":"#VALUE!"}]
["","","","","","",{"$error":"#VALUE!"},{"$error":"#VALUE!"}]
["","","","","","",{"$error":"#VALUE!"},{"$error":"#VALUE!"}]
["","","","","","",{"$error":"#VALUE!"},{"$error":"#VALUE!"}]
["","","","","","",{"$error":"#VALUE!"},{"$error":"#VALUE!"}]
["","","","","","",{"$error":"#VALUE!"},{"$error":"#VALUE!"}]
["","","","","","",{"$error":"#VALUE!"},{"$error":"#VALUE!"}]
["","","","","","",{"$error":"#VALUE!"},{"$error":"#VALUE!"}]
["","","","","","",{"$error":"#VALUE!"},{"$error":"#VALUE!"}]
["","","","","","",{"$error":"#VALUE!"},{"$error":"#VALUE!"}]
["","","","","","",{"$error":"#VALUE!"},{"$error":"#VALUE!"}]
["","","","","","",{"$error":"#VALUE!"},{"$error":"#VALUE!"}]
["","","","","","",{"$error":"#VALUE!"},{"$error":"#VALUE!"}]
["","","","","","",{"$error":"#VALUE!"},{"$error":"#VALUE!"}]
["","","","","","",{"$error":"#VALUE!"},{"$error":"#VALUE!"}]
["","","","","","",{"$error":"#VALUE!"},{"$error":"#VALUE!"}]
["","","","","","",{"$error":"#VALUE!"},{"$error":"#VALUE!"}]
["","","","","","",{"$error":"#VALUE!"},{"$error":"#VALUE!"}]
["","","","","","",{"$error":"#VALUE!"},{"$error":"#VALUE!"}]
["","","","","","",{"$error":"#VALUE!"},{"$error":"#VALUE!"}]
["","","","","","",{"$error":"#VALUE!"},{"$error":"#VALUE!"}]
["","","","","","",{"$error":"#VALUE!"},{"$error":"#VALUE!"}]
["","","","","","",{"$error":"#VALUE!"},{"$error":"#VALUE!"}]
["","","","","","",{"$error":"#VALUE!"},{"$error":"#VALUE!"}]
["","","","","","",{"$error":"#VALUE!"},{"$error":"#VALUE!"}]
["","","",{"$f":"IF(A917<>\"\",MOD(B917,24)/24,\"\")","v":""},"","",{"$f":"ABS(0.5*1.025*1*(F917^3))","v":{"$error":"#VALUE!"}},{"$f":"G917*$B$13","v":{"$error":"#VALUE!"}}]
[{"$f":"IF(IF(A917<>\"\",A917+1<=$B$16,0),A917+1,\"\")","v":""},{"$f":"IF(A918<>\"\",A918*$B$13,\"\")","v":""},{"$f":"IF(A918<>\"\",ROUNDDOWN(A918*$B$13/24,0),\"\")","v":""},"",{"$f":"IF(A918<>\"\",($B$4+$B$5)/2+($B$5-$B$4)/2*COS(2*PI()/$B$15*B918),\"\")","v":""},{"$f":"IF(A918<>\"\",E918*COS(2*PI()/$B$7*B918),\"\")","v":""},{"$error":"#VALUE!"},{"$error":"#VALUE!"}]
["","","","","","",{"$error":"#VALUE!"},{"$error":"#VALUE!"}]
["","","","","","",{"$error":"#VALUE!"},{"$error":"#VALUE!"}]
["","","","","","",{"$error":"#VALUE!"},{"$error":"#VALUE!"}]
["","","","","","",{"$error":"#VALUE!"},{"$error":"#VALUE!"}]
["","","","","","",{"$error":"#VALUE!"},{"$error":"#VALUE!"}]
["","","","","","",{"$error":"#VALUE!"},{"$error":"#VALUE!"}]
["","","","","","",{"$error":"#VALUE!"},{"$error":"#VALUE!"}]
["","","","","","",{"$error":"#VALUE!"},{"$error":"#VALUE!"}]
["","","","","","",{"$error":"#VALUE!"},{"$error":"#VALUE!"}]
["","","","","","",{"$error":"#VALUE!"},{"$error":"#VALUE!"}]
["","","","","","",{"$error":"#VALUE!"},{"$error":"#VALUE!"}]
["","","","","","",{"$error":"#VALUE!"},{"$error":"#VALUE!"}]
["","","","","","",{"$error":"#VALUE!"},{"$error":"#VALUE!"}]
["","","","","","",{"$error":"#VALUE!"},{"$error":"#VALUE!"}]
["","","","","","",{"$error":"#VALUE!"},{"$error":"#VALUE!"}]
["","","","","","",{"$error":"#VALUE!"},{"$error":"#VALUE!"}]
["","","","","","",{"$error":"#VALUE!"},{"$error":"#VALUE!"}]
["","","","","","",{"$error":"#VALUE!"},{"$error":"#VALUE!"}]
["","","","","","",{"$error":"#VALUE!"},{"$error":"#VALUE!"}]
["","","","","","",{"$error":"#VALUE!"},{"$error":"#VALUE!"}]
["","","","","","",{"$error":"#VALUE!"},{"$error":"#VALUE!"}]
["","","","","","",{"$error":"#VALUE!"},{"$error":"#VALUE!"}]
["","","","","","",{"$error":"#VALUE!"},{"$error":"#VALUE!"}]
["","","","","","",{"$error":"#VALUE!"},{"$error":"#VALUE!"}]
["","","","","","",{"$error":"#VALUE!"},{"$error":"#VALUE!"}]
["","","","","","",{"$error":"#VALUE!"},{"$error":"#VALUE!"}]
["","","","","","",{"$error":"#VALUE!"},{"$error":"#VALUE!"}]
["","","","","","",{"$error":"#VALUE!"},{"$error":"#VALUE!"}]
["","","","","","",{"$error":"#VALUE!"},{"$error":"#VALUE!"}]
["","","","","","",{"$error":"#VALUE!"},{"$error":"#VALUE!"}]
["","","","","","",{"$error":"#VALUE!"},{"$error":"#VALUE!"}]
["","","","","","",{"$error":"#VALUE!"},{"$error":"#VALUE!"}]
["","","","","","",{"$error":"#VALUE!"},{"$error":"#VALUE!"}]
["","","","","","",{"$error":"#VALUE!"},{"$error":"#VALUE!"}]
["","","","","","",{"$error":"#VALUE!"},{"$error":"#VALUE!"}]
["","","","","","",{"$error":"#VALUE!"},{"$error":"#VALUE!"}]
["","","","","","",{"$error":"#VALUE!"},{"$error":"#VALUE!"}]
["","","","","","",{"$error":"#VALUE!"},{"$error":"#VALUE!"}]
["","","","","","",{"$error":"#VALUE!"},{"$error":"#VALUE!"}]
["","","","","","",{"$error":"#VALUE!"},{"$error":"#VALUE!"}]
["","","","","","",{"$error":"#VALUE!"},{"$error":"#VALUE!"}]
["","","","","","",{"$error":"#VALUE!"},{"$error":"#VALUE!"}]
["","","","","","",{"$error":"#VALUE!"},{"$error":"#VALUE!"}]
["","","","","","",{"$error":"#VALUE!"},{"$error":"#VALUE!"}]
["","","","","","",{"$error":"#VALUE!"},{"$error":"#VALUE!"}]
["","","","","","",{"$error":"#VALUE!"},{"$error":"#VALUE!"}]
["","","","","","",{"$error":"#VALUE!"},{"$error":"#VALUE!"}]
["","","","","","",{"$error":"#VALUE!"},{"$error":"#VALUE!"}]
["","","","","","",{"$error":"#VALUE!"},{"$error":"#VALUE!"}]
["","","","","","",{"$error":"#VALUE!"},{"$error":"#VALUE!"}]
["","","","","","",{"$error":"#VALUE!"},{"$error":"#VALUE!"}]
["","","","","","",{"$error":"#VALUE!"},{"$error":"#VALUE!"}]
["","","","","","",{"$error":"#VALUE!"},{"$error":"#VALUE!"}]
["","","","","","",{"$error":"#VALUE!"},{"$error":"#VALUE!"}]
["","","","","","",{"$error":"#VALUE!"},{"$error":"#VALUE!"}]
["","","","","","",{"$error":"#VALUE!"},{"$error":"#VALUE!"}]
["","","","","","",{"$error":"#VALUE!"},{"$error":"#VALUE!"}]
["","","","","","",{"$error":"#VALUE!"},{"$error":"#VALUE!"}]
["","","","","","",{"$error":"#VALUE!"},{"$error":"#VALUE!"}]
["","","","","","",{"$error":"#VALUE!"},{"$error":"#VALUE!"}]
["","","","","","",{"$error":"#VALUE!"},{"$error":"#VALUE!"}]
["","","","","","",{"$error":"#VALUE!"},{"$error":"#VALUE!"}]
["","","",{"$f":"IF(A981<>\"\",MOD(B981,24)/24,\"\")","v":""},"","",{"$f":"ABS(0.5*1.025*1*(F981^3))","v":{"$error":"#VALUE!"}},{"$f":"G981*$B$13","v":{"$error":"#VALUE!"}}]
[{"$f":"IF(IF(A981<>\"\",A981+1<=$B$16,0),A981+1,\"\")","v":""},{"$f":"IF(A982<>\"\",A982*$B$13,\"\")","v":""},{"$f":"IF(A982<>\"\",ROUNDDOWN(A982*$B$13/24,0),\"\")","v":""},"",{"$f":"IF(A982<>\"\",($B$4+$B$5)/2+($B$5-$B$4)/2*COS(2*PI()/$B$15*B982),\"\")","v":""},{"$f":"IF(A982<>\"\",E982*COS(2*PI()/$B$7*B982),\"\")","v":""},{"$error":"#VALUE!"},{"$error":"#VALUE!"}]
["","","","","","",{"$error":"#VALUE!"},{"$error":"#VALUE!"}]
["","","","","","",{"$error":"#VALUE!"},{"$error":"#VALUE!"}]
["","","","","","",{"$error":"#VALUE!"},{"$error":"#VALUE!"}]
["","","","","","",{"$error":"#VALUE!"},{"$error":"#VALUE!"}]
["","","","","","",{"$error":"#VALUE!"},{"$error":"#VALUE!"}]
["","","","","","",{"$error":"#VALUE!"},{"$error":"#VALUE!"}]
["","","","","","",{"$error":"#VALUE!"},{"$error":"#VALUE!"}]
["","","","","","",{"$error":"#VALUE!"},{"$error":"#VALUE!"}]
["","","","","","",{"$error":"#VALUE!"},{"$error":"#VALUE!"}]
["","","","","","",{"$error":"#VALUE!"},{"$error":"#VALUE!"}]
["","","","","","",{"$error":"#VALUE!"},{"$error":"#VALUE!"}]
["","","","","","",{"$error":"#VALUE!"},{"$error":"#VALUE!"}]
["","","","","","",{"$error":"#VALUE!"},{"$error":"#VALUE!"}]
["","","","","","",{"$error":"#VALUE!"},{"$error":"#VALUE!"}]
["","","","","","",{"$error":"#VALUE!"},{"$error":"#VALUE!"}]
["","","","","","",{"$error":"#VALUE!"},{"$error":"#VALUE!"}]
["","","","","","",{"$error":"#VALUE!"},{"$error":"#VALUE!"}]
["","","","","","",{"$error":"#VALUE!"},{"$error":"#VALUE!"}]
["","","","","","",{"$error":"#VALUE!"},{"$error":"#VALUE!"}]
["","","","","","",{"$error":"#VALUE!"},{"$error":"#VALUE!"}]
["","","","","","",{"$error":"#VALUE!"},{"$error":"#VALUE!"}]
["","","","","","",{"$error":"#VALUE!"},{"$error":"#VALUE!"}]
["","","","","","",{"$error":"#VALUE!"},{"$error":"#VALUE!"}]
["","","","","","",{"$error":"#VALUE!"},{"$error":"#VALUE!"}]
["","","","","","",{"$error":"#VALUE!"},{"$error":"#VALUE!"}]
["","","","","","",{"$error":"#VALUE!"},{"$error":"#VALUE!"}]
["","","","","","",{"$error":"#VALUE!"},{"$error":"#VALUE!"}]
["","","","","","",{"$error":"#VALUE!"},{"$error":"#VALUE!"}]
["","","","","","",{"$error":"#VALUE!"},{"$error":"#VALUE!"}]
["","","","","","",{"$error":"#VALUE!"},{"$error":"#VALUE!"}]
["","","","","","",{"$error":"#VALUE!"},{"$error":"#VALUE!"}]
["","","","","","",{"$error":"#VALUE!"},{"$error":"#VALUE!"}]
["","","","","","",{"$error":"#VALUE!"},{"$error":"#VALUE!"}]
["","","","","","",{"$error":"#VALUE!"},{"$error":"#VALUE!"}]
["","","","","","",{"$error":"#VALUE!"},{"$error":"#VALUE!"}]
["","","","","","",{"$error":"#VALUE!"},{"$error":"#VALUE!"}]
["","","","","","",{"$error":"#VALUE!"},{"$error":"#VALUE!"}]
["","","","","","",{"$error":"#VALUE!"},{"$error":"#VALUE!"}]
["","","","","","",{"$error":"#VALUE!"},{"$error":"#VALUE!"}]
["","","","","","",{"$error":"#VALUE!"},{"$error":"#VALUE!"}]
["","","","","","",{"$error":"#VALUE!"},{"$error":"#VALUE!"}]
["","","","","","",{"$error":"#VALUE!"},{"$error":"#VALUE!"}]
["","","","","","",{"$error":"#VALUE!"},{"$error":"#VALUE!"}]
["","","","","","",{"$error":"#VALUE!"},{"$error":"#VALUE!"}]
["","","","","","",{"$error":"#VALUE!"},{"$error":"#VALUE!"}]
["","","","","","",{"$error":"#VALUE!"},{"$error":"#VALUE!"}]
["","","","","","",{"$error":"#VALUE!"},{"$error":"#VALUE!"}]
["","","","","","",{"$error":"#VALUE!"},{"$error":"#VALUE!"}]
["","","","","","",{"$error":"#VALUE!"},{"$error":"#VALUE!"}]
["","","","","","",{"$error":"#VALUE!"},{"$error":"#VALUE!"}]
["","","","","","",{"$error":"#VALUE!"},{"$error":"#VALUE!"}]
["","","","","","",{"$error":"#VALUE!"},{"$error":"#VALUE!"}]
["","","","","","",{"$error":"#VALUE!"},{"$error":"#VALUE!"}]
["","","","","","",{"$error":"#VALUE!"},{"$error":"#VALUE!"}]
["","","","","","",{"$error":"#VALUE!"},{"$error":"#VALUE!"}]
["","","","","","",{"$error":"#VALUE!"},{"$error":"#VALUE!"}]
["","","","","","",{"$error":"#VALUE!"},{"$error":"#VALUE!"}]
["","","","","","",{"$error":"#VALUE!"},{"$error":"#VALUE!"}]
["","","","","","",{"$error":"#VALUE!"},{"$error":"#VALUE!"}]
["","","","","","",{"$error":"#VALUE!"},{"$error":"#VALUE!"}]
["","","","","","",{"$error":"#VALUE!"},{"$error":"#VALUE!"}]
["","","","","","",{"$error":"#VALUE!"},{"$error":"#VALUE!"}]
["","","",{"$f":"IF(A1045<>\"\",MOD(B1045,24)/24,\"\")","v":""},"","",{"$f":"ABS(0.5*1.025*1*(F1045^3))","v":{"$error":"#VALUE!"}},{"$f":"G1045*$B$13","v":{"$error":"#VALUE!"}}]
[{"$f":"IF(IF(A1045<>\"\",A1045+1<=$B$16,0),A1045+1,\"\")","v":""},{"$f":"IF(A1046<>\"\",A1046*$B$13,\"\")","v":""},{"$f":"IF(A1046<>\"\",ROUNDDOWN(A1046*$B$13/24,0),\"\")","v":""},"",{"$f":"IF(A1046<>\"\",($B$4+$B$5)/2+($B$5-$B$4)/2*COS(2*PI()/$B$15*B1046),\"\")","v":""},{"$f":"IF(A1046<>\"\",E1046*COS(2*PI()/$B$7*B1046),\"\")","v":""},{"$error":"#VALUE!"},{"$error":"#VALUE!"}]
["","","","","","",{"$error":"#VALUE!"},{"$error":"#VALUE!"}]
["","","","","","",{"$error":"#VALUE!"},{"$error":"#VALUE!"}]
["","","","","","",{"$error":"#VALUE!"},{"$error":"#VALUE!"}]
["","","","","","",{"$error":"#VALUE!"},{"$error":"#VALUE!"}]
["","","","","","",{"$error":"#VALUE!"},{"$error":"#VALUE!"}]
["","","","","","",{"$error":"#VALUE!"},{"$error":"#VALUE!"}]
["","","","","","",{"$error":"#VALUE!"},{"$error":"#VALUE!"}]
["","","","","","",{"$error":"#VALUE!"},{"$error":"#VALUE!"}]
["","","","","","",{"$error":"#VALUE!"},{"$error":"#VALUE!"}]
["","","","","","",{"$error":"#VALUE!"},{"$error":"#VALUE!"}]
["","","","","","",{"$error":"#VALUE!"},{"$error":"#VALUE!"}]
["","","","","","",{"$error":"#VALUE!"},{"$error":"#VALUE!"}]
["","","","","","",{"$error":"#VALUE!"},{"$error":"#VALUE!"}]
["","","","","","",{"$error":"#VALUE!"},{"$error":"#VALUE!"}]
["","","","","","",{"$error":"#VALUE!"},{"$error":"#VALUE!"}]
["","","","","","",{"$error":"#VALUE!"},{"$error":"#VALUE!"}]
["","","","","","",{"$error":"#VALUE!"},{"$error":"#VALUE!"}]
["","","","","","",{"$error":"#VALUE!"},{"$error":"#VALUE!"}]
["","","","","","",{"$error":"#VALUE!"},{"$error":"#VALUE!"}]
["","","","","","",{"$error":"#VALUE!"},{"$error":"#VALUE!"}]
["","","","","","",{"$error":"#VALUE!"},{"$error":"#VALUE!"}]
["","","","","","",{"$error":"#VALUE!"},{"$error":"#VALUE!"}]
["","","","","","",{"$error":"#VALUE!"},{"$error":"#VALUE!"}]
["","","","","","",{"$error":"#VALUE!"},{"$error":"#VALUE!"}]
["","","","","","",{"$error":"#VALUE!"},{"$error":"#VALUE!"}]
["","","","","","",{"$error":"#VALUE!"},{"$error":"#VALUE!"}]
["","","","","","",{"$error":"#VALUE!"},{"$error":"#VALUE!"}]
["","","","","","",{"$error":"#VALUE!"},{"$error":"#VALUE!"}]
["","","","","","",{"$error":"#VALUE!"},{"$error":"#VALUE!"}]
["","","","","","",{"$error":"#VALUE!"},{"$error":"#VALUE!"}]
["","","","","","",{"$error":"#VALUE!"},{"$error":"#VALUE!"}]
["","","","","","",{"$error":"#VALUE!"},{"$error":"#VALUE!"}]
["","","","","","",{"$error":"#VALUE!"},{"$error":"#VALUE!"}]
["","","","","","",{"$error":"#VALUE!"},{"$error":"#VALUE!"}]
["","","","","","",{"$error":"#VALUE!"},{"$error":"#VALUE!"}]
["","","","","","",{"$error":"#VALUE!"},{"$error":"#VALUE!"}]
["","","","","","",{"$error":"#VALUE!"},{"$error":"#VALUE!"}]
["","","","","","",{"$error":"#VALUE!"},{"$error":"#VALUE!"}]
["","","","","","",{"$error":"#VALUE!"},{"$error":"#VALUE!"}]
["","","","","","",{"$error":"#VALUE!"},{"$error":"#VALUE!"}]
["","","","","","",{"$error":"#VALUE!"},{"$error":"#VALUE!"}]
["","","","","","",{"$error":"#VALUE!"},{"$error":"#VALUE!"}]
["","","","","","",{"$error":"#VALUE!"},{"$error":"#VALUE!"}]
["","","","","","",{"$error":"#VALUE!"},{"$error":"#VALUE!"}]
["","","","","","",{"$error":"#VALUE!"},{"$error":"#VALUE!"}]
["","","","","","",{"$error":"#VALUE!"},{"$error":"#VALUE!"}]
["","","","","","",{"$error":"#VALUE!"},{"$error":"#VALUE!"}]
["","","","","","",{"$error":"#VALUE!"},{"$error":"#VALUE!"}]
["","","","","","",{"$error":"#VALUE!"},{"$error":"#VALUE!"}]
["","","","","","",{"$error":"#VALUE!"},{"$error":"#VALUE!"}]
["","","","","","",{"$error":"#VALUE!"},{"$error":"#VALUE!"}]
["","","","","","",{"$error":"#VALUE!"},{"$error":"#VALUE!"}]
["","","","","","",{"$error":"#VALUE!"},{"$error":"#VALUE!"}]
["","","","","","",{"$error":"#VALUE!"},{"$error":"#VALUE!"}]
["","","","","","",{"$error":"#VALUE!"},{"$error":"#VALUE!"}]
["","","","","","",{"$error":"#VALUE!"},{"$error":"#VALUE!"}]
["","","","","","",{"$error":"#VALUE!"},{"$error":"#VALUE!"}]
["","","","","","",{"$error":"#VALUE!"},{"$error":"#VALUE!"}]
["","","","","","",{"$error":"#VALUE!"},{"$error":"#VALUE!"}]
["","","","","","",{"$error":"#VALUE!"},{"$error":"#VALUE!"}]
["","","","","","",{"$error":"#VALUE!"},{"$error":"#VALUE!"}]
["","","","","","",{"$error":"#VALUE!"},{"$error":"#VALUE!"}]
["","","",{"$f":"IF(A1109<>\"\",MOD(B1109,24)/24,\"\")","v":""},"","",{"$f":"ABS(0.5*1.025*1*(F1109^3))","v":{"$error":"#VALUE!"}},{"$f":"G1109*$B$13","v":{"$error":"#VALUE!"}}]
[{"$f":"IF(IF(A1109<>\"\",A1109+1<=$B$16,0),A1109+1,\"\")","v":""},{"$f":"IF(A1110<>\"\",A1110*$B$13,\"\")","v":""},{"$f":"IF(A1110<>\"\",ROUNDDOWN(A1110*$B$13/24,0),\"\")","v":""},"",{"$f":"IF(A1110<>\"\",($B$4+$B$5)/2+($B$5-$B$4)/2*COS(2*PI()/$B$15*B1110),\"\")","v":""},{"$f":"IF(A1110<>\"\",E1110*COS(2*PI()/$B$7*B1110),\"\")","v":""},{"$error":"#VALUE!"},{"$error":"#VALUE!"}]
["","","","","","",{"$error":"#VALUE!"},{"$error":"#VALUE!"}]
["","","","","","",{"$error":"#VALUE!"},{"$error":"#VALUE!"}]
["","","","","","",{"$error":"#VALUE!"},{"$error":"#VALUE!"}]
["","","","","","",{"$error":"#VALUE!"},{"$error":"#VALUE!"}]
["","","","","","",{"$error":"#VALUE!"},{"$error":"#VALUE!"}]
["","","","","","",{"$error":"#VALUE!"},{"$error":"#VALUE!"}]
["","","","","","",{"$error":"#VALUE!"},{"$error":"#VALUE!"}]
["","","","","","",{"$error":"#VALUE!"},{"$error":"#VALUE!"}]
["","","","","","",{"$error":"#VALUE!"},{"$error":"#VALUE!"}]
["","","","","","",{"$error":"#VALUE!"},{"$error":"#VALUE!"}]
["","","","","","",{"$error":"#VALUE!"},{"$error":"#VALUE!"}]
["","","","","","",{"$error":"#VALUE!"},{"$error":"#VALUE!"}]
["","","","","","",{"$error":"#VALUE!"},{"$error":"#VALUE!"}]
["","","","","","",{"$error":"#VALUE!"},{"$error":"#VALUE!"}]
["","","","","","",{"$error":"#VALUE!"},{"$error":"#VALUE!"}]
["","","","","","",{"$error":"#VALUE!"},{"$error":"#VALUE!"}]
["","","","","","",{"$error":"#VALUE!"},{"$error":"#VALUE!"}]
["","","","","","",{"$error":"#VALUE!"},{"$error":"#VALUE!"}]
["","","","","","",{"$error":"#VALUE!"},{"$error":"#VALUE!"}]
["","","","","","",{"$error":"#VALUE!"},{"$error":"#VALUE!"}]
["","","","","","",{"$error":"#VALUE!"},{"$error":"#VALUE!"}]
["","","","","","",{"$error":"#VALUE!"},{"$error":"#VALUE!"}]
["","","","","","",{"$error":"#VALUE!"},{"$error":"#VALUE!"}]
["","","","","","",{"$error":"#VALUE!"},{"$error":"#VALUE!"}]
["","","","","","",{"$error":"#VALUE!"},{"$error":"#VALUE!"}]
["","","","","","",{"$error":"#VALUE!"},{"$error":"#VALUE!"}]
["","","","","","",{"$error":"#VALUE!"},{"$error":"#VALUE!"}]
["","","","","","",{"$error":"#VALUE!"},{"$error":"#VALUE!"}]
["","","","","","",{"$error":"#VALUE!"},{"$error":"#VALUE!"}]
["","","","","","",{"$error":"#VALUE!"},{"$error":"#VALUE!"}]
["","","","","","",{"$error":"#VALUE!"},{"$error":"#VALUE!"}]
["","","","","","",{"$error":"#VALUE!"},{"$error":"#VALUE!"}]
["","","","","","",{"$error":"#VALUE!"},{"$error":"#VALUE!"}]
["","","","","","",{"$error":"#VALUE!"},{"$error":"#VALUE!"}]
["","","","","","",{"$error":"#VALUE!"},{"$error":"#VALUE!"}]
["","","","","","",{"$error":"#VALUE!"},{"$error":"#VALUE!"}]
["","","","","","",{"$error":"#VALUE!"},{"$error":"#VALUE!"}]
["","","","","","",{"$error":"#VALUE!"},{"$error":"#VALUE!"}]
["","","","","","",{"$error":"#VALUE!"},{"$error":"#VALUE!"}]
["","","","","","",{"$error":"#VALUE!"},{"$error":"#VALUE!"}]
["","","","","","",{"$error":"#VALUE!"},{"$error":"#VALUE!"}]
["","","","","","",{"$error":"#VALUE!"},{"$error":"#VALUE!"}]
["","","","","","",{"$error":"#VALUE!"},{"$error":"#VALUE!"}]
["","","","","","",{"$error":"#VALUE!"},{"$error":"#VALUE!"}]
["","","","","","",{"$error":"#VALUE!"},{"$error":"#VALUE!"}]
["","","","","","",{"$error":"#VALUE!"},{"$error":"#VALUE!"}]
["","","","","","",{"$error":"#VALUE!"},{"$error":"#VALUE!"}]
["","","","","","",{"$error":"#VALUE!"},{"$error":"#VALUE!"}]
["","","","","","",{"$error":"#VALUE!"},{"$error":"#VALUE!"}]
["","","","","","",{"$error":"#VALUE!"},{"$error":"#VALUE!"}]
["","","","","","",{"$error":"#VALUE!"},{"$error":"#VALUE!"}]
["","","","","","",{"$error":"#VALUE!"},{"$error":"#VALUE!"}]
["","","","","","",{"$error":"#VALUE!"},{"$error":"#VALUE!"}]
["","","","","","",{"$error":"#VALUE!"},{"$error":"#VALUE!"}]
["","","","","","",{"$error":"#VALUE!"},{"$error":"#VALUE!"}]
["","","","","","",{"$error":"#VALUE!"},{"$error":"#VALUE!"}]
["","","","","","",{"$error":"#VALUE!"},{"$error":"#VALUE!"}]
["","","","","","",{"$error":"#VALUE!"},{"$error":"#VALUE!"}]
["","","","","","",{"$error":"#VALUE!"},{"$error":"#VALUE!"}]
["","","","","","",{"$error":"#VALUE!"},{"$error":"#VALUE!"}]
["","","","","","",{"$error":"#VALUE!"},{"$error":"#VALUE!"}]
["","","","","","",{"$error":"#VALUE!"},{"$error":"#VALUE!"}]
["","","",{"$f":"IF(A1173<>\"\",MOD(B1173,24)/24,\"\")","v":""},"","",{"$f":"ABS(0.5*1.025*1*(F1173^3))","v":{"$error":"#VALUE!"}},{"$f":"G1173*$B$13","v":{"$error":"#VALUE!"}}]
[{"$f":"IF(IF(A1173<>\"\",A1173+1<=$B$16,0),A1173+1,\"\")","v":""},{"$f":"IF(A1174<>\"\",A1174*$B$13,\"\")","v":""},{"$f":"IF(A1174<>\"\",ROUNDDOWN(A1174*$B$13/24,0),\"\")","v":""},"",{"$f":"IF(A1174<>\"\",($B$4+$B$5)/2+($B$5-$B$4)/2*COS(2*PI()/$B$15*B1174),\"\")","v":""},{"$f":"IF(A1174<>\"\",E1174*COS(2*PI()/$B$7*B1174),\"\")","v":""},{"$error":"#VALUE!"},{"$error":"#VALUE!"}]
["","","","","","",{"$error":"#VALUE!"},{"$error":"#VALUE!"}]
["","","","","","",{"$error":"#VALUE!"},{"$error":"#VALUE!"}]
["","","","","","",{"$error":"#VALUE!"},{"$error":"#VALUE!"}]
["","","","","","",{"$error":"#VALUE!"},{"$error":"#VALUE!"}]
["","","","","","",{"$error":"#VALUE!"},{"$error":"#VALUE!"}]
["","","","","","",{"$error":"#VALUE!"},{"$error":"#VALUE!"}]
["","","","","","",{"$error":"#VALUE!"},{"$error":"#VALUE!"}]
["","","","","","",{"$error":"#VALUE!"},{"$error":"#VALUE!"}]
["","","","","","",{"$error":"#VALUE!"},{"$error":"#VALUE!"}]
["","","","","","",{"$error":"#VALUE!"},{"$error":"#VALUE!"}]
["","","","","","",{"$error":"#VALUE!"},{"$error":"#VALUE!"}]
["","","","","","",{"$error":"#VALUE!"},{"$error":"#VALUE!"}]
["","","","","","",{"$error":"#VALUE!"},{"$error":"#VALUE!"}]
["","","","","","",{"$error":"#VALUE!"},{"$error":"#VALUE!"}]
["","","","","","",{"$error":"#VALUE!"},{"$error":"#VALUE!"}]
["","","","","","",{"$error":"#VALUE!"},{"$error":"#VALUE!"}]
["","","","","","",{"$error":"#VALUE!"},{"$error":"#VALUE!"}]
["","","","","","",{"$error":"#VALUE!"},{"$error":"#VALUE!"}]
["","","","","","",{"$error":"#VALUE!"},{"$error":"#VALUE!"}]
["","","","","","",{"$error":"#VALUE!"},{"$error":"#VALUE!"}]
["","","","","","",{"$error":"#VALUE!"},{"$error":"#VALUE!"}]
["","","","","","",{"$error":"#VALUE!"},{"$error":"#VALUE!"}]
["","","","","","",{"$error":"#VALUE!"},{"$error":"#VALUE!"}]
["","","","","","",{"$error":"#VALUE!"},{"$error":"#VALUE!"}]
["","","","","","",{"$error":"#VALUE!"},{"$error":"#VALUE!"}]
["","","","","","",{"$error":"#VALUE!"},{"$error":"#VALUE!"}]
["","","","","","",{"$error":"#VALUE!"},{"$error":"#VALUE!"}]
["","","","","","",{"$error":"#VALUE!"},{"$error":"#VALUE!"}]
["","","","","","",{"$error":"#VALUE!"},{"$error":"#VALUE!"}]
["","","","","","",{"$error":"#VALUE!"},{"$error":"#VALUE!"}]
["","","","","","",{"$error":"#VALUE!"},{"$error":"#VALUE!"}]
["","","","","","",{"$error":"#VALUE!"},{"$error":"#VALUE!"}]
["","","","","","",{"$error":"#VALUE!"},{"$error":"#VALUE!"}]
["","","","","","",{"$error":"#VALUE!"},{"$error":"#VALUE!"}]
["","","","","","",{"$error":"#VALUE!"},{"$error":"#VALUE!"}]
["","","","","","",{"$error":"#VALUE!"},{"$error":"#VALUE!"}]
["","","","","","",{"$error":"#VALUE!"},{"$error":"#VALUE!"}]
["","","","","","",{"$error":"#VALUE!"},{"$error":"#VALUE!"}]
["","","","","","",{"$error":"#VALUE!"},{"$error":"#VALUE!"}]
["","","","","","",{"$error":"#VALUE!"},{"$error":"#VALUE!"}]
["","","","","","",{"$error":"#VALUE!"},{"$error":"#VALUE!"}]
["","","","","","",{"$error":"#VALUE!"},{"$error":"#VALUE!"}]
["","","","","","",{"$error":"#VALUE!"},{"$error":"#VALUE!"}]
["","","","","","",{"$error":"#VALUE!"},{"$error":"#VALUE!"}]
["","","","","","",{"$error":"#VALUE!"},{"$error":"#VALUE!"}]
["","","","","","",{"$error":"#VALUE!"},{"$error":"#VALUE!"}]
["","","","","","",{"$error":"#VALUE!"},{"$error":"#VALUE!"}]
["","","","","","",{"$error":"#VALUE!"},{"$error":"#VALUE!"}]
["","","","","","",{"$error":"#VALUE!"},{"$error":"#VALUE!"}]
["","","","","","",{"$error":"#VALUE!"},{"$error":"#VALUE!"}]
["","","","","","",{"$error":"#VALUE!"},{"$error":"#VALUE!"}]
["","","","","","",{"$error":"#VALUE!"},{"$error":"#VALUE!"}]
["","","","","","",{"$error":"#VALUE!"},{"$error":"#VALUE!"}]
["","","","","","",{"$error":"#VALUE!"},{"$error":"#VALUE!"}]
["","","","","","",{"$error":"#VALUE!"},{"$error":"#VALUE!"}]
["","","","","","",{"$error":"#VALUE!"},{"$error":"#VALUE!"}]
["","","","","","",{"$error":"#VALUE!"},{"$error":"#VALUE!"}]
["","","","","","",{"$error":"#VALUE!"},{"$error":"#VALUE!"}]
["","","","","","",{"$error":"#VALUE!"},{"$error":"#VALUE!"}]
["","","","","","",{"$error":"#VALUE!"},{"$error":"#VALUE!"}]
["","","","","","",{"$error":"#VALUE!"},{"$error":"#VALUE!"}]
["","","","","","",{"$error":"#VALUE!"},{"$error":"#VALUE!"}]
["","","",{"$f":"IF(A1237<>\"\",MOD(B1237,24)/24,\"\")","v":""},"","",{"$f":"ABS(0.5*1.025*1*(F1237^3))","v":{"$error":"#VALUE!"}},{"$f":"G1237*$B$13","v":{"$error":"#VALUE!"}}]
[{"$f":"IF(IF(A1237<>\"\",A1237+1<=$B$16,0),A1237+1,\"\")","v":""},{"$f":"IF(A1238<>\"\",A1238*$B$13,\"\")","v":""},{"$f":"IF(A1238<>\"\",ROUNDDOWN(A1238*$B$13/24,0),\"\")","v":""},"",{"$f":"IF(A1238<>\"\",($B$4+$B$5)/2+($B$5-$B$4)/2*COS(2*PI()/$B$15*B1238),\"\")","v":""},{"$f":"IF(A1238<>\"\",E1238*COS(2*PI()/$B$7*B1238),\"\")","v":""},{"$error":"#VALUE!"},{"$error":"#VALUE!"}]
["","","","","","",{"$error":"#VALUE!"},{"$error":"#VALUE!"}]
["","","","","","",{"$error":"#VALUE!"},{"$error":"#VALUE!"}]
["","","","","","",{"$error":"#VALUE!"},{"$error":"#VALUE!"}]
["","","","","","",{"$error":"#VALUE!"},{"$error":"#VALUE!"}]
["","","","","","",{"$error":"#VALUE!"},{"$error":"#VALUE!"}]
["","","","","","",{"$error":"#VALUE!"},{"$error":"#VALUE!"}]
["","","","","","",{"$error":"#VALUE!"},{"$error":"#VALUE!"}]
["","","","","","",{"$error":"#VALUE!"},{"$error":"#VALUE!"}]
["","","","","","",{"$error":"#VALUE!"},{"$error":"#VALUE!"}]
["","","","","","",{"$error":"#VALUE!"},{"$error":"#VALUE!"}]
["","","","","","",{"$error":"#VALUE!"},{"$error":"#VALUE!"}]
["","","","","","",{"$error":"#VALUE!"},{"$error":"#VALUE!"}]
["","","","","","",{"$error":"#VALUE!"},{"$error":"#VALUE!"}]
["","","","","","",{"$error":"#VALUE!"},{"$error":"#VALUE!"}]
["","","","","","",{"$error":"#VALUE!"},{"$error":"#VALUE!"}]
["","","","","","",{"$error":"#VALUE!"},{"$error":"#VALUE!"}]
["","","","","","",{"$error":"#VALUE!"},{"$error":"#VALUE!"}]
["","","","","","",{"$error":"#VALUE!"},{"$error":"#VALUE!"}]
["","","","","","",{"$error":"#VALUE!"},{"$error":"#VALUE!"}]
["","","","","","",{"$error":"#VALUE!"},{"$error":"#VALUE!"}]
["","","","","","",{"$error":"#VALUE!"},{"$error":"#VALUE!"}]
["","","","","","",{"$error":"#VALUE!"},{"$error":"#VALUE!"}]
["","","","","","",{"$error":"#VALUE!"},{"$error":"#VALUE!"}]
["","","","","","",{"$error":"#VALUE!"},{"$error":"#VALUE!"}]
["","","","","","",{"$error":"#VALUE!"},{"$error":"#VALUE!"}]
["","","","","","",{"$error":"#VALUE!"},{"$error":"#VALUE!"}]
["","","","","","",{"$error":"#VALUE!"},{"$error":"#VALUE!"}]
["","","","","","",{"$error":"#VALUE!"},{"$error":"#VALUE!"}]
["","","","","","",{"$error":"#VALUE!"},{"$error":"#VALUE!"}]
["","","","","","",{"$error":"#VALUE!"},{"$error":"#VALUE!"}]
["","","","","","",{"$error":"#VALUE!"},{"$error":"#VALUE!"}]
["","","","","","",{"$error":"#VALUE!"},{"$error":"#VALUE!"}]
["","","","","","",{"$error":"#VALUE!"},{"$error":"#VALUE!"}]
["","","","","","",{"$error":"#VALUE!"},{"$error":"#VALUE!"}]
["","","","","","",{"$error":"#VALUE!"},{"$error":"#VALUE!"}]
["","","","","","",{"$error":"#VALUE!"},{"$error":"#VALUE!"}]
["","","","","","",{"$error":"#VALUE!"},{"$error":"#VALUE!"}]
["","","","","","",{"$error":"#VALUE!"},{"$error":"#VALUE!"}]
["","","","","","",{"$error":"#VALUE!"},{"$error":"#VALUE!"}]
["","","","","","",{"$error":"#VALUE!"},{"$error":"#VALUE!"}]
["","","","","","",{"$error":"#VALUE!"},{"$error":"#VALUE!"}]
["","","","","","",{"$error":"#VALUE!"},{"$error":"#VALUE!"}]
["","","","","","",{"$error":"#VALUE!"},{"$error":"#VALUE!"}]
["","","","","","",{"$error":"#VALUE!"},{"$error":"#VALUE!"}]
["","","","","","",{"$error":"#VALUE!"},{"$error":"#VALUE!"}]
["","","","","","",{"$error":"#VALUE!"},{"$error":"#VALUE!"}]
["","","","","","",{"$error":"#VALUE!"},{"$error":"#VALUE!"}]
["","","","","","",{"$error":"#VALUE!"},{"$error":"#VALUE!"}]
["","","","","","",{"$error":"#VALUE!"},{"$error":"#VALUE!"}]
["","","","","","",{"$error":"#VALUE!"},{"$error":"#VALUE!"}]
["","","","","","",{"$error":"#VALUE!"},{"$error":"#VALUE!"}]
["","","","","","",{"$error":"#VALUE!"},{"$error":"#VALUE!"}]
["","","","","","",{"$error":"#VALUE!"},{"$error":"#VALUE!"}]
["","","","","","",{"$error":"#VALUE!"},{"$error":"#VALUE!"}]
["","","","","","",{"$error":"#VALUE!"},{"$error":"#VALUE!"}]
["","","","","","",{"$error":"#VALUE!"},{"$error":"#VALUE!"}]
["","","","","","",{"$error":"#VALUE!"},{"$error":"#VALUE!"}]
["","","","","","",{"$error":"#VALUE!"},{"$error":"#VALUE!"}]
["","","","","","",{"$error":"#VALUE!"},{"$error":"#VALUE!"}]
["","","","","","",{"$error":"#VALUE!"},{"$error":"#VALUE!"}]
["","","","","","",{"$error":"#VALUE!"},{"$error":"#VALUE!"}]
["","","","","","",{"$error":"#VALUE!"},{"$error":"#VALUE!"}]
["","","",{"$f":"IF(A1301<>\"\",MOD(B1301,24)/24,\"\")","v":""},"","",{"$f":"ABS(0.5*1.025*1*(F1301^3))","v":{"$error":"#VALUE!"}},{"$f":"G1301*$B$13","v":{"$error":"#VALUE!"}}]
[{"$f":"IF(IF(A1301<>\"\",A1301+1<=$B$16,0),A1301+1,\"\")","v":""},{"$f":"IF(A1302<>\"\",A1302*$B$13,\"\")","v":""},{"$f":"IF(A1302<>\"\",ROUNDDOWN(A1302*$B$13/24,0),\"\")","v":""},"",{"$f":"IF(A1302<>\"\",($B$4+$B$5)/2+($B$5-$B$4)/2*COS(2*PI()/$B$15*B1302),\"\")","v":""},{"$f":"IF(A1302<>\"\",E1302*COS(2*PI()/$B$7*B1302),\"\")","v":""},{"$error":"#VALUE!"},{"$error":"#VALUE!"}]
["","","","","","",{"$error":"#VALUE!"},{"$error":"#VALUE!"}]
["","","","","","",{"$error":"#VALUE!"},{"$error":"#VALUE!"}]
["","","","","","",{"$error":"#VALUE!"},{"$error":"#VALUE!"}]
["","","","","","",{"$error":"#VALUE!"},{"$error":"#VALUE!"}]
["","","","","","",{"$error":"#VALUE!"},{"$error":"#VALUE!"}]
["","","","","","",{"$error":"#VALUE!"},{"$error":"#VALUE!"}]
["","","","","","",{"$error":"#VALUE!"},{"$error":"#VALUE!"}]
["","","","","","",{"$error":"#VALUE!"},{"$error":"#VALUE!"}]
["","","","","","",{"$error":"#VALUE!"},{"$error":"#VALUE!"}]
["","","","","","",{"$error":"#VALUE!"},{"$error":"#VALUE!"}]
["","","","","","",{"$error":"#VALUE!"},{"$error":"#VALUE!"}]
["","","","","","",{"$error":"#VALUE!"},{"$error":"#VALUE!"}]
["","","","","","",{"$error":"#VALUE!"},{"$error":"#VALUE!"}]
["","","","","","",{"$error":"#VALUE!"},{"$error":"#VALUE!"}]
["","","","","","",{"$error":"#VALUE!"},{"$error":"#VALUE!"}]
["","","","","","",{"$error":"#VALUE!"},{"$error":"#VALUE!"}]
["","","","","","",{"$error":"#VALUE!"},{"$error":"#VALUE!"}]
["","","","","","",{"$error":"#VALUE!"},{"$error":"#VALUE!"}]
["","","","","","",{"$error":"#VALUE!"},{"$error":"#VALUE!"}]
["","","","","","",{"$error":"#VALUE!"},{"$error":"#VALUE!"}]
["","","","","","",{"$error":"#VALUE!"},{"$error":"#VALUE!"}]
["","","","","","",{"$error":"#VALUE!"},{"$error":"#VALUE!"}]
["","","","","","",{"$error":"#VALUE!"},{"$error":"#VALUE!"}]
["","","","","","",{"$error":"#VALUE!"},{"$error":"#VALUE!"}]
["","","","","","",{"$error":"#VALUE!"},{"$error":"#VALUE!"}]
["","","","","","",{"$error":"#VALUE!"},{"$error":"#VALUE!"}]
["","","","","","",{"$error":"#VALUE!"},{"$error":"#VALUE!"}]
["","","","","","",{"$error":"#VALUE!"},{"$error":"#VALUE!"}]
["","","","","","",{"$error":"#VALUE!"},{"$error":"#VALUE!"}]
["","","","","","",{"$error":"#VALUE!"},{"$error":"#VALUE!"}]
["","","","","","",{"$error":"#VALUE!"},{"$error":"#VALUE!"}]
["","","","","","",{"$error":"#VALUE!"},{"$error":"#VALUE!"}]
["","","","","","",{"$error":"#VALUE!"},{"$error":"#VALUE!"}]
["","","","","","",{"$error":"#VALUE!"},{"$error":"#VALUE!"}]
["","","","","","",{"$error":"#VALUE!"},{"$error":"#VALUE!"}]
["","","","","","",{"$error":"#VALUE!"},{"$error":"#VALUE!"}]
["","","","","","",{"$error":"#VALUE!"},{"$error":"#VALUE!"}]
["","","","","","",{"$error":"#VALUE!"},{"$error":"#VALUE!"}]
["","","","","","",{"$error":"#VALUE!"},{"$error":"#VALUE!"}]
["","","","","","",{"$error":"#VALUE!"},{"$error":"#VALUE!"}]
["","","","","","",{"$error":"#VALUE!"},{"$error":"#VALUE!"}]
["","","","","","",{"$error":"#VALUE!"},{"$error":"#VALUE!"}]
["","","","","","",{"$error":"#VALUE!"},{"$error":"#VALUE!"}]
["","","","","","",{"$error":"#VALUE!"},{"$error":"#VALUE!"}]
["","","","","","",{"$error":"#VALUE!"},{"$error":"#VALUE!"}]
["","","","","","",{"$error":"#VALUE!"},{"$error":"#VALUE!"}]
["","","","","","",{"$error":"#VALUE!"},{"$error":"#VALUE!"}]
["","","","","","",{"$error":"#VALUE!"},{"$error":"#VALUE!"}]
["","","","","","",{"$error":"#VALUE!"},{"$error":"#VALUE!"}]
["","","","","","",{"$error":"#VALUE!"},{"$error":"#VALUE!"}]
["","","","","","",{"$error":"#VALUE!"},{"$error":"#VALUE!"}]
["","","","","","",{"$error":"#VALUE!"},{"$error":"#VALUE!"}]
["","","","","","",{"$error":"#VALUE!"},{"$error":"#VALUE!"}]
["","","","","","",{"$error":"#VALUE!"},{"$error":"#VALUE!"}]
["","","","","","",{"$error":"#VALUE!"},{"$error":"#VALUE!"}]
["","","","","","",{"$error":"#VALUE!"},{"$error":"#VALUE!"}]
["","","","","","",{"$error":"#VALUE!"},{"$error":"#VALUE!"}]
["","","","","","",{"$error":"#VALUE!"},{"$error":"#VALUE!"}]
["","","","","","",{"$error":"#VALUE!"},{"$error":"#VALUE!"}]
["","","","","","",{"$error":"#VALUE!"},{"$error":"#VALUE!"}]
["","","","","","",{"$error":"#VALUE!"},{"$error":"#VALUE!"}]
["","","","","","",{"$error":"#VALUE!"},{"$error":"#VALUE!"}]
["","","",{"$f":"IF(A1365<>\"\",MOD(B1365,24)/24,\"\")","v":""},"","",{"$f":"ABS(0.5*1.025*1*(F1365^3))","v":{"$error":"#VALUE!"}},{"$f":"G1365*$B$13","v":{"$error":"#VALUE!"}}]
[{"$f":"IF(IF(A1365<>\"\",A1365+1<=$B$16,0),A1365+1,\"\")","v":""},{"$f":"IF(A1366<>\"\",A1366*$B$13,\"\")","v":""},{"$f":"IF(A1366<>\"\",ROUNDDOWN(A1366*$B$13/24,0),\"\")","v":""},"",{"$f":"IF(A1366<>\"\",($B$4+$B$5)/2+($B$5-$B$4)/2*COS(2*PI()/$B$15*B1366),\"\")","v":""},{"$f":"IF(A1366<>\"\",E1366*COS(2*PI()/$B$7*B1366),\"\")","v":""},{"$error":"#VALUE!"},{"$error":"#VALUE!"}]
["","","","","","",{"$error":"#VALUE!"},{"$error":"#VALUE!"}]
["","","","","","",{"$error":"#VALUE!"},{"$error":"#VALUE!"}]
["","","","","","",{"$error":"#VALUE!"},{"$error":"#VALUE!"}]
["","","","","","",{"$error":"#VALUE!"},{"$error":"#VALUE!"}]
["","","","","","",{"$error":"#VALUE!"},{"$error":"#VALUE!"}]
["","","","","","",{"$error":"#VALUE!"},{"$error":"#VALUE!"}]
["","","","","","",{"$error":"#VALUE!"},{"$error":"#VALUE!"}]
["","","","","","",{"$error":"#VALUE!"},{"$error":"#VALUE!"}]
["","","","","","",{"$error":"#VALUE!"},{"$error":"#VALUE!"}]
["","","","","","",{"$error":"#VALUE!"},{"$error":"#VALUE!"}]
["","","","","","",{"$error":"#VALUE!"},{"$error":"#VALUE!"}]
["","","","","","",{"$error":"#VALUE!"},{"$error":"#VALUE!"}]
["","","","","","",{"$error":"#VALUE!"},{"$error":"#VALUE!"}]
["","","","","","",{"$error":"#VALUE!"},{"$error":"#VALUE!"}]
["","","","","","",{"$error":"#VALUE!"},{"$error":"#VALUE!"}]
["","","","","","",{"$error":"#VALUE!"},{"$error":"#VALUE!"}]
["","","","","","",{"$error":"#VALUE!"},{"$error":"#VALUE!"}]
["","","","","","",{"$error":"#VALUE!"},{"$error":"#VALUE!"}]
["","","","","","",{"$error":"#VALUE!"},{"$error":"#VALUE!"}]
["","","","","","",{"$error":"#VALUE!"},{"$error":"#VALUE!"}]
["","","","","","",{"$error":"#VALUE!"},{"$error":"#VALUE!"}]
["","","","","","",{"$error":"#VALUE!"},{"$error":"#VALUE!"}]
["","","","","","",{"$error":"#VALUE!"},{"$error":"#VALUE!"}]
["","","","","","",{"$error":"#VALUE!"},{"$error":"#VALUE!"}]
["","","","","","",{"$error":"#VALUE!"},{"$error":"#VALUE!"}]
["","","","","","",{"$error":"#VALUE!"},{"$error":"#VALUE!"}]
["","","","","","",{"$error":"#VALUE!"},{"$error":"#VALUE!"}]
["","","","","","",{"$error":"#VALUE!"},{"$error":"#VALUE!"}]
["","","","","","",{"$error":"#VALUE!"},{"$error":"#VALUE!"}]
["","","","","","",{"$error":"#VALUE!"},{"$error":"#VALUE!"}]
["","","","","","",{"$error":"#VALUE!"},{"$error":"#VALUE!"}]
["","","","","","",{"$error":"#VALUE!"},{"$error":"#VALUE!"}]
["","","","","","",{"$error":"#VALUE!"},{"$error":"#VALUE!"}]
["","","","","","",{"$error":"#VALUE!"},{"$error":"#VALUE!"}]
["","","","","","",{"$error":"#VALUE!"},{"$error":"#VALUE!"}]
["","","","","","",{"$error":"#VALUE!"},{"$error":"#VALUE!"}]
["","","","","","",{"$error":"#VALUE!"},{"$error":"#VALUE!"}]
["","","","","","",{"$error":"#VALUE!"},{"$error":"#VALUE!"}]
["","","","","","",{"$error":"#VALUE!"},{"$error":"#VALUE!"}]
["","","","","","",{"$error":"#VALUE!"},{"$error":"#VALUE!"}]
["","","","","","",{"$error":"#VALUE!"},{"$error":"#VALUE!"}]
["","","","","","",{"$error":"#VALUE!"},{"$error":"#VALUE!"}]
["","","","","","",{"$error":"#VALUE!"},{"$error":"#VALUE!"}]
["","","","","","",{"$error":"#VALUE!"},{"$error":"#VALUE!"}]
["","","","","","",{"$error":"#VALUE!"},{"$error":"#VALUE!"}]
["","","","","","",{"$error":"#VALUE!"},{"$error":"#VALUE!"}]
["","","","","","",{"$error":"#VALUE!"},{"$error":"#VALUE!"}]
["","","","","","",{"$error":"#VALUE!"},{"$error":"#VALUE!"}]
["","","","","","",{"$error":"#VALUE!"},{"$error":"#VALUE!"}]
["","","","","","",{"$error":"#VALUE!"},{"$error":"#VALUE!"}]
["","","","","","",{"$error":"#VALUE!"},{"$error":"#VALUE!"}]
["","","","","","",{"$error":"#VALUE!"},{"$error":"#VALUE!"}]
["","","","","","",{"$error":"#VALUE!"},{"$error":"#VALUE!"}]
["","","","","","",{"$error":"#VALUE!"},{"$error":"#VALUE!"}]
["","","","","","",{"$error":"#VALUE!"},{"$error":"#VALUE!"}]
["","","","","","",{"$error":"#VALUE!"},{"$error":"#VALUE!"}]
["","","","","","",{"$error":"#VALUE!"},{"$error":"#VALUE!"}]
["","","","","","",{"$error":"#VALUE!"},{"$error":"#VALUE!"}]
["","","","","","",{"$error":"#VALUE!"},{"$error":"#VALUE!"}]
["","","","","","",{"$error":"#VALUE!"},{"$error":"#VALUE!"}]
["","","","","","",{"$error":"#VALUE!"},{"$error":"#VALUE!"}]
["","","","","","",{"$error":"#VALUE!"},{"$error":"#VALUE!"}]
["","","",{"$f":"IF(A1429<>\"\",MOD(B1429,24)/24,\"\")","v":""},"","",{"$f":"ABS(0.5*1.025*1*(F1429^3))","v":{"$error":"#VALUE!"}},{"$f":"G1429*$B$13","v":{"$error":"#VALUE!"}}]
[{"$f":"IF(IF(A1429<>\"\",A1429+1<=$B$16,0),A1429+1,\"\")","v":""},{"$f":"IF(A1430<>\"\",A1430*$B$13,\"\")","v":""},{"$f":"IF(A1430<>\"\",ROUNDDOWN(A1430*$B$13/24,0),\"\")","v":""},"",{"$f":"IF(A1430<>\"\",($B$4+$B$5)/2+($B$5-$B$4)/2*COS(2*PI()/$B$15*B1430),\"\")","v":""},{"$f":"IF(A1430<>\"\",E1430*COS(2*PI()/$B$7*B1430),\"\")","v":""},{"$error":"#VALUE!"},{"$error":"#VALUE!"}]
["","","","","","",{"$error":"#VALUE!"},{"$error":"#VALUE!"}]
["","","","","","",{"$error":"#VALUE!"},{"$error":"#VALUE!"}]
["","","","","","",{"$error":"#VALUE!"},{"$error":"#VALUE!"}]
["","","","","","",{"$error":"#VALUE!"},{"$error":"#VALUE!"}]
["","","","","","",{"$error":"#VALUE!"},{"$error":"#VALUE!"}]
["","","","","","",{"$error":"#VALUE!"},{"$error":"#VALUE!"}]
["","","","","","",{"$error":"#VALUE!"},{"$error":"#VALUE!"}]
["","","","","","",{"$error":"#VALUE!"},{"$error":"#VALUE!"}]
["","","","","","",{"$error":"#VALUE!"},{"$error":"#VALUE!"}]
["","","","","","",{"$error":"#VALUE!"},{"$error":"#VALUE!"}]
["","","","","","",{"$error":"#VALUE!"},{"$error":"#VALUE!"}]
["","","","","","",{"$error":"#VALUE!"},{"$error":"#VALUE!"}]
["","","","","","",{"$error":"#VALUE!"},{"$error":"#VALUE!"}]
["","","","","","",{"$error":"#VALUE!"},{"$error":"#VALUE!"}]
["","","","","","",{"$error":"#VALUE!"},{"$error":"#VALUE!"}]
["","","","","","",{"$error":"#VALUE!"},{"$error":"#VALUE!"}]
["","","","","","",{"$error":"#VALUE!"},{"$error":"#VALUE!"}]
["","","","","","",{"$error":"#VALUE!"},{"$error":"#VALUE!"}]
["","","","","","",{"$error":"#VALUE!"},{"$error":"#VALUE!"}]
["","","","","","",{"$error":"#VALUE!"},{"$error":"#VALUE!"}]
["","","","","","",{"$error":"#VALUE!"},{"$error":"#VALUE!"}]
["","","","","","",{"$error":"#VALUE!"},{"$error":"#VALUE!"}]
["","","","","","",{"$error":"#VALUE!"},{"$error":"#VALUE!"}]
["","","","","","",{"$error":"#VALUE!"},{"$error":"#VALUE!"}]
["","","","","","",{"$error":"#VALUE!"},{"$error":"#VALUE!"}]
["","","","","","",{"$error":"#VALUE!"},{"$error":"#VALUE!"}]
["","","","","","",{"$error":"#VALUE!"},{"$error":"#VALUE!"}]
["","","","","","",{"$error":"#VALUE!"},{"$error":"#VALUE!"}]
["","","","","","",{"$error":"#VALUE!"},{"$error":"#VALUE!"}]
["","","","","","",{"$error":"#VALUE!"},{"$error":"#VALUE!"}]
["","","","","","",{"$error":"#VALUE!"},{"$error":"#VALUE!"}]
["","","","","","",{"$error":"#VALUE!"},{"$error":"#VALUE!"}]
["","","","","","",{"$error":"#VALUE!"},{"$error":"#VALUE!"}]
["","","","","","",{"$error":"#VALUE!"},{"$error":"#VALUE!"}]
["","","","","","",{"$error":"#VALUE!"},{"$error":"#VALUE!"}]
["","","","","","",{"$error":"#VALUE!"},{"$error":"#VALUE!"}]
["","","","","","",{"$error":"#VALUE!"},{"$error":"#VALUE!"}]
["","","","","","",{"$error":"#VALUE!"},{"$error":"#VALUE!"}]
["","","","","","",{"$error":"#VALUE!"},{"$error":"#VALUE!"}]
["","","","","","",{"$error":"#VALUE!"},{"$error":"#VALUE!"}]
["","","","","","",{"$error":"#VALUE!"},{"$error":"#VALUE!"}]
["","","","","","",{"$error":"#VALUE!"},{"$error":"#VALUE!"}]
["","","","","","",{"$error":"#VALUE!"},{"$error":"#VALUE!"}]
["","","","","","",{"$error":"#VALUE!"},{"$error":"#VALUE!"}]
["","","","","","",{"$error":"#VALUE!"},{"$error":"#VALUE!"}]
["","","","","","",{"$error":"#VALUE!"},{"$error":"#VALUE!"}]
["","","","","","",{"$error":"#VALUE!"},{"$error":"#VALUE!"}]
["","","","","","",{"$error":"#VALUE!"},{"$error":"#VALUE!"}]
["","","","","","",{"$error":"#VALUE!"},{"$error":"#VALUE!"}]
["","","","","","",{"$error":"#VALUE!"},{"$error":"#VALUE!"}]
["","","","","","",{"$error":"#VALUE!"},{"$error":"#VALUE!"}]
["","","","","","",{"$error":"#VALUE!"},{"$error":"#VALUE!"}]
["","","","","","",{"$error":"#VALUE!"},{"$error":"#VALUE!"}]
["","","","","","",{"$error":"#VALUE!"},{"$error":"#VALUE!"}]
["","","","","","",{"$error":"#VALUE!"},{"$error":"#VALUE!"}]
["","","","","","",{"$error":"#VALUE!"},{"$error":"#VALUE!"}]
["","","","","","",{"$error":"#VALUE!"},{"$error":"#VALUE!"}]
["","","","","","",{"$error":"#VALUE!"},{"$error":"#VALUE!"}]
["","","","","","",{"$error":"#VALUE!"},{"$error":"#VALUE!"}]
["","","","","","",{"$error":"#VALUE!"},{"$error":"#VALUE!"}]
["","","","","","",{"$error":"#VALUE!"},{"$error":"#VALUE!"}]
["","","","","","",{"$error":"#VALUE!"},{"$error":"#VALUE!"}]
["","","",{"$f":"IF(A1493<>\"\",MOD(B1493,24)/24,\"\")","v":""},"","",{"$f":"ABS(0.5*1.025*1*(F1493^3))","v":{"$error":"#VALUE!"}},{"$f":"G1493*$B$13","v":{"$error":"#VALUE!"}}]
[{"$f":"IF(IF(A1493<>\"\",A1493+1<=$B$16,0),A1493+1,\"\")","v":""},{"$f":"IF(A1494<>\"\",A1494*$B$13,\"\")","v":""},{"$f":"IF(A1494<>\"\",ROUNDDOWN(A1494*$B$13/24,0),\"\")","v":""},"",{"$f":"IF(A1494<>\"\",($B$4+$B$5)/2+($B$5-$B$4)/2*COS(2*PI()/$B$15*B1494),\"\")","v":""},{"$f":"IF(A1494<>\"\",E1494*COS(2*PI()/$B$7*B1494),\"\")","v":""},{"$error":"#VALUE!"},{"$error":"#VALUE!"}]
["","","","","","",{"$error":"#VALUE!"},{"$error":"#VALUE!"}]
["","","","","","",{"$error":"#VALUE!"},{"$error":"#VALUE!"}]
["","","","","","",{"$error":"#VALUE!"},{"$error":"#VALUE!"}]
["","","","","","",{"$error":"#VALUE!"},{"$error":"#VALUE!"}]
["","","","","","",{"$error":"#VALUE!"},{"$error":"#VALUE!"}]
["","","","","","",{"$error":"#VALUE!"},{"$error":"#VALUE!"}]
["","","","","","",{"$error":"#VALUE!"},{"$error":"#VALUE!"}]
["","","","","","",{"$error":"#VALUE!"},{"$error":"#VALUE!"}]
["","","","","","",{"$error":"#VALUE!"},{"$error":"#VALUE!"}]
["","","","","","",{"$error":"#VALUE!"},{"$error":"#VALUE!"}]
["","","","","","",{"$error":"#VALUE!"},{"$error":"#VALUE!"}]
["","","","","","",{"$error":"#VALUE!"},{"$error":"#VALUE!"}]
["","","","","","",{"$error":"#VALUE!"},{"$error":"#VALUE!"}]
["","","","","","",{"$error":"#VALUE!"},{"$error":"#VALUE!"}]
["","","","","","",{"$error":"#VALUE!"},{"$error":"#VALUE!"}]
["","","","","","",{"$error":"#VALUE!"},{"$error":"#VALUE!"}]
["","","","","","",{"$error":"#VALUE!"},{"$error":"#VALUE!"}]
["","","","","","",{"$error":"#VALUE!"},{"$error":"#VALUE!"}]
["","","","","","",{"$error":"#VALUE!"},{"$error":"#VALUE!"}]
["","","","","","",{"$error":"#VALUE!"},{"$error":"#VALUE!"}]
["","","","","","",{"$error":"#VALUE!"},{"$error":"#VALUE!"}]
["","","","","","",{"$error":"#VALUE!"},{"$error":"#VALUE!"}]
["","","","","","",{"$error":"#VALUE!"},{"$error":"#VALUE!"}]
["","","","","","",{"$error":"#VALUE!"},{"$error":"#VALUE!"}]
["","","","","","",{"$error":"#VALUE!"},{"$error":"#VALUE!"}]
["","","","","","",{"$error":"#VALUE!"},{"$error":"#VALUE!"}]
["","","","","","",{"$error":"#VALUE!"},{"$error":"#VALUE!"}]
["","","","","","",{"$error":"#VALUE!"},{"$error":"#VALUE!"}]
["","","","","","",{"$error":"#VALUE!"},{"$error":"#VALUE!"}]
["","","","","","",{"$error":"#VALUE!"},{"$error":"#VALUE!"}]
["","","","","","",{"$error":"#VALUE!"},{"$error":"#VALUE!"}]
["","","","","","",{"$error":"#VALUE!"},{"$error":"#VALUE!"}]
["","","","","","",{"$error":"#VALUE!"},{"$error":"#VALUE!"}]
["","","","","","",{"$error":"#VALUE!"},{"$error":"#VALUE!"}]
["","","","","","",{"$error":"#VALUE!"},{"$error":"#VALUE!"}]
["","","","","","",{"$error":"#VALUE!"},{"$error":"#VALUE!"}]
["","","","","","",{"$error":"#VALUE!"},{"$error":"#VALUE!"}]
["","","","","","",{"$error":"#VALUE!"},{"$error":"#VALUE!"}]
["","","","","","",{"$error":"#VALUE!"},{"$error":"#VALUE!"}]
["","","","","","",{"$error":"#VALUE!"},{"$error":"#VALUE!"}]
["","","","","","",{"$error":"#VALUE!"},{"$error":"#VALUE!"}]
["","","","","","",{"$error":"#VALUE!"},{"$error":"#VALUE!"}]
["","","","","","",{"$error":"#VALUE!"},{"$error":"#VALUE!"}]
["","","","","","",{"$error":"#VALUE!"},{"$error":"#VALUE!"}]
["","","","","","",{"$error":"#VALUE!"},{"$error":"#VALUE!"}]
["","","","","","",{"$error":"#VALUE!"},{"$error":"#VALUE!"}]
["","","","","","",{"$error":"#VALUE!"},{"$error":"#VALUE!"}]
["","","","","","",{"$error":"#VALUE!"},{"$error":"#VALUE!"}]
["","","","","","",{"$error":"#VALUE!"},{"$error":"#VALUE!"}]
["","","","","","",{"$error":"#VALUE!"},{"$error":"#VALUE!"}]
["","","","","","",{"$error":"#VALUE!"},{"$error":"#VALUE!"}]
["","","","","","",{"$error":"#VALUE!"},{"$error":"#VALUE!"}]
["","","","","","",{"$error":"#VALUE!"},{"$error":"#VALUE!"}]
["","","","","","",{"$error":"#VALUE!"},{"$error":"#VALUE!"}]
["","","","","","",{"$error":"#VALUE!"},{"$error":"#VALUE!"}]
["","","","","","",{"$error":"#VALUE!"},{"$error":"#VALUE!"}]
["","","","","","",{"$error":"#VALUE!"},{"$error":"#VALUE!"}]
["","","","","","",{"$error":"#VALUE!"},{"$error":"#VALUE!"}]
["","","","","","",{"$error":"#VALUE!"},{"$error":"#VALUE!"}]
["","","","","","",{"$error":"#VALUE!"},{"$error":"#VALUE!"}]
["","","","","","",{"$error":"#VALUE!"},{"$error":"#VALUE!"}]
["","","","","","",{"$error":"#VALUE!"},{"$error":"#VALUE!"}]
["","","",{"$f":"IF(A1557<>\"\",MOD(B1557,24)/24,\"\")","v":""},"","",{"$f":"ABS(0.5*1.025*1*(F1557^3))","v":{"$error":"#VALUE!"}},{"$f":"G1557*$B$13","v":{"$error":"#VALUE!"}}]
[{"$f":"IF(IF(A1557<>\"\",A1557+1<=$B$16,0),A1557+1,\"\")","v":""},{"$f":"IF(A1558<>\"\",A1558*$B$13,\"\")","v":""},{"$f":"IF(A1558<>\"\",ROUNDDOWN(A1558*$B$13/24,0),\"\")","v":""},"",{"$f":"IF(A1558<>\"\",($B$4+$B$5)/2+($B$5-$B$4)/2*COS(2*PI()/$B$15*B1558),\"\")","v":""},{"$f":"IF(A1558<>\"\",E1558*COS(2*PI()/$B$7*B1558),\"\")","v":""},{"$error":"#VALUE!"},{"$error":"#VALUE!"}]
["","","","","","",{"$error":"#VALUE!"},{"$error":"#VALUE!"}]
["","","","","","",{"$error":"#VALUE!"},{"$error":"#VALUE!"}]
["","","","","","",{"$error":"#VALUE!"},{"$error":"#VALUE!"}]
["","","","","","",{"$error":"#VALUE!"},{"$error":"#VALUE!"}]
["","","","","","",{"$error":"#VALUE!"},{"$error":"#VALUE!"}]
["","","","","","",{"$error":"#VALUE!"},{"$error":"#VALUE!"}]
["","","","","","",{"$error":"#VALUE!"},{"$error":"#VALUE!"}]
["","","","","","",{"$error":"#VALUE!"},{"$error":"#VALUE!"}]
["","","","","","",{"$error":"#VALUE!"},{"$error":"#VALUE!"}]
["","","","","","",{"$error":"#VALUE!"},{"$error":"#VALUE!"}]
["","","","","","",{"$error":"#VALUE!"},{"$error":"#VALUE!"}]
["","","","","","",{"$error":"#VALUE!"},{"$error":"#VALUE!"}]
["","","","","","",{"$error":"#VALUE!"},{"$error":"#VALUE!"}]
["","","","","","",{"$error":"#VALUE!"},{"$error":"#VALUE!"}]
["","","","","","",{"$error":"#VALUE!"},{"$error":"#VALUE!"}]
["","","","","","",{"$error":"#VALUE!"},{"$error":"#VALUE!"}]
["","","","","","",{"$error":"#VALUE!"},{"$error":"#VALUE!"}]
["","","","","","",{"$error":"#VALUE!"},{"$error":"#VALUE!"}]
["","","","","","",{"$error":"#VALUE!"},{"$error":"#VALUE!"}]
["","","","","","",{"$error":"#VALUE!"},{"$error":"#VALUE!"}]
["","","","","","",{"$error":"#VALUE!"},{"$error":"#VALUE!"}]
["","","","","","",{"$error":"#VALUE!"},{"$error":"#VALUE!"}]
["","","","","","",{"$error":"#VALUE!"},{"$error":"#VALUE!"}]
["","","","","","",{"$error":"#VALUE!"},{"$error":"#VALUE!"}]
["","","","","","",{"$error":"#VALUE!"},{"$error":"#VALUE!"}]
["","","","","","",{"$error":"#VALUE!"},{"$error":"#VALUE!"}]
["","","","","","",{"$error":"#VALUE!"},{"$error":"#VALUE!"}]
["","","","","","",{"$error":"#VALUE!"},{"$error":"#VALUE!"}]
["","","","","","",{"$error":"#VALUE!"},{"$error":"#VALUE!"}]
["","","","","","",{"$error":"#VALUE!"},{"$error":"#VALUE!"}]
["","","","","","",{"$error":"#VALUE!"},{"$error":"#VALUE!"}]
["","","","","","",{"$error":"#VALUE!"},{"$error":"#VALUE!"}]
["","","","","","",{"$error":"#VALUE!"},{"$error":"#VALUE!"}]
["","","","","","",{"$error":"#VALUE!"},{"$error":"#VALUE!"}]
["","","","","","",{"$error":"#VALUE!"},{"$error":"#VALUE!"}]
["","","","","","",{"$error":"#VALUE!"},{"$error":"#VALUE!"}]
["","","","","","",{"$error":"#VALUE!"},{"$error":"#VALUE!"}]
["","","","","","",{"$error":"#VALUE!"},{"$error":"#VALUE!"}]
["","","","","","",{"$error":"#VALUE!"},{"$error":"#VALUE!"}]
["","","","","","",{"$error":"#VALUE!"},{"$error":"#VALUE!"}]
["","","","","","",{"$error":"#VALUE!"},{"$error":"#VALUE!"}]
["","","","","","",{"$error":"#VALUE!"},{"$error":"#VALUE!"}]
["","","","","","",{"$error":"#VALUE!"},{"$error":"#VALUE!"}]
["","","","","","",{"$error":"#VALUE!"},{"$error":"#VALUE!"}]
["","","","","","",{"$error":"#VALUE!"},{"$error":"#VALUE!"}]
["","","","","","",{"$error":"#VALUE!"},{"$error":"#VALUE!"}]
["","","","","","",{"$error":"#VALUE!"},{"$error":"#VALUE!"}]
["","","","","","",{"$error":"#VALUE!"},{"$error":"#VALUE!"}]
["","","","","","",{"$error":"#VALUE!"},{"$error":"#VALUE!"}]
["","","","","","",{"$error":"#VALUE!"},{"$error":"#VALUE!"}]
["","","","","","",{"$error":"#VALUE!"},{"$error":"#VALUE!"}]
["","","","","","",{"$error":"#VALUE!"},{"$error":"#VALUE!"}]
["","","","","","",{"$error":"#VALUE!"},{"$error":"#VALUE!"}]
["","","","","","",{"$error":"#VALUE!"},{"$error":"#VALUE!"}]
["","","","","","",{"$error":"#VALUE!"},{"$error":"#VALUE!"}]
["","","","","","",{"$error":"#VALUE!"},{"$error":"#VALUE!"}]
["","","","","","",{"$error":"#VALUE!"},{"$error":"#VALUE!"}]
["","","","","","",{"$error":"#VALUE!"},{"$error":"#VALUE!"}]
["","","","","","",{"$error":"#VALUE!"},{"$error":"#VALUE!"}]
["","","","","","",{"$error":"#VALUE!"},{"$error":"#VALUE!"}]
["","","","","","",{"$error":"#VALUE!"},{"$error":"#VALUE!"}]
["","","","","","",{"$error":"#VALUE!"},{"$error":"#VALUE!"}]
["","","",{"$f":"IF(A1621<>\"\",MOD(B1621,24)/24,\"\")","v":""},"","",{"$f":"ABS(0.5*1.025*1*(F1621^3))","v":{"$error":"#VALUE!"}},{"$f":"G1621*$B$13","v":{"$error":"#VALUE!"}}]
[{"$f":"IF(IF(A1621<>\"\",A1621+1<=$B$16,0),A1621+1,\"\")","v":""},{"$f":"IF(A1622<>\"\",A1622*$B$13,\"\")","v":""},{"$f":"IF(A1622<>\"\",ROUNDDOWN(A1622*$B$13/24,0),\"\")","v":""},"",{"$f":"IF(A1622<>\"\",($B$4+$B$5)/2+($B$5-$B$4)/2*COS(2*PI()/$B$15*B1622),\"\")","v":""},{"$f":"IF(A1622<>\"\",E1622*COS(2*PI()/$B$7*B1622),\"\")","v":""},{"$error":"#VALUE!"},{"$error":"#VALUE!"}]
["","","","","","",{"$error":"#VALUE!"},{"$error":"#VALUE!"}]
["","","","","","",{"$error":"#VALUE!"},{"$error":"#VALUE!"}]
["","","","","","",{"$error":"#VALUE!"},{"$error":"#VALUE!"}]
["","","","","","",{"$error":"#VALUE!"},{"$error":"#VALUE!"}]
["","","","","","",{"$error":"#VALUE!"},{"$error":"#VALUE!"}]
["","","","","","",{"$error":"#VALUE!"},{"$error":"#VALUE!"}]
["","","","","","",{"$error":"#VALUE!"},{"$error":"#VALUE!"}]
["","","","","","",{"$error":"#VALUE!"},{"$error":"#VALUE!"}]
["","","","","","",{"$error":"#VALUE!"},{"$error":"#VALUE!"}]
["","","","","","",{"$error":"#VALUE!"},{"$error":"#VALUE!"}]
["","","","","","",{"$error":"#VALUE!"},{"$error":"#VALUE!"}]
["","","","","","",{"$error":"#VALUE!"},{"$error":"#VALUE!"}]
["","","","","","",{"$error":"#VALUE!"},{"$error":"#VALUE!"}]
["","","","","","",{"$error":"#VALUE!"},{"$error":"#VALUE!"}]
["","","","","","",{"$error":"#VALUE!"},{"$error":"#VALUE!"}]
["","","","","","",{"$error":"#VALUE!"},{"$error":"#VALUE!"}]
["","","","","","",{"$error":"#VALUE!"},{"$error":"#VALUE!"}]
["","","","","","",{"$error":"#VALUE!"},{"$error":"#VALUE!"}]
["","","","","","",{"$error":"#VALUE!"},{"$error":"#VALUE!"}]
["","","","","","",{"$error":"#VALUE!"},{"$error":"#VALUE!"}]
["","","","","","",{"$error":"#VALUE!"},{"$error":"#VALUE!"}]
["","","","","","",{"$error":"#VALUE!"},{"$error":"#VALUE!"}]
["","","","","","",{"$error":"#VALUE!"},{"$error":"#VALUE!"}]
["","","","","","",{"$error":"#VALUE!"},{"$error":"#VALUE!"}]
["","","","","","",{"$error":"#VALUE!"},{"$error":"#VALUE!"}]
["","","","","","",{"$error":"#VALUE!"},{"$error":"#VALUE!"}]
["","","","","","",{"$error":"#VALUE!"},{"$error":"#VALUE!"}]
["","","","","","",{"$error":"#VALUE!"},{"$error":"#VALUE!"}]
["","","","","","",{"$error":"#VALUE!"},{"$error":"#VALUE!"}]
["","","","","","",{"$error":"#VALUE!"},{"$error":"#VALUE!"}]
["","","","","","",{"$error":"#VALUE!"},{"$error":"#VALUE!"}]
["","","","","","",{"$error":"#VALUE!"},{"$error":"#VALUE!"}]
["","","","","","",{"$error":"#VALUE!"},{"$error":"#VALUE!"}]
["","","","","","",{"$error":"#VALUE!"},{"$error":"#VALUE!"}]
["","","","","","",{"$error":"#VALUE!"},{"$error":"#VALUE!"}]
["","","","","","",{"$error":"#VALUE!"},{"$error":"#VALUE!"}]
["","","","","","",{"$error":"#VALUE!"},{"$error":"#VALUE!"}]
["","","","","","",{"$error":"#VALUE!"},{"$error":"#VALUE!"}]
["","","","","","",{"$error":"#VALUE!"},{"$error":"#VALUE!"}]
["","","","","","",{"$error":"#VALUE!"},{"$error":"#VALUE!"}]
["","","","","","",{"$error":"#VALUE!"},{"$error":"#VALUE!"}]
["","","","","","",{"$error":"#VALUE!"},{"$error":"#VALUE!"}]
["","","","","","",{"$error":"#VALUE!"},{"$error":"#VALUE!"}]
["","","","","","",{"$error":"#VALUE!"},{"$error":"#VALUE!"}]
["","","","","","",{"$error":"#VALUE!"},{"$error":"#VALUE!"}]
["","","","","","",{"$error":"#VALUE!"},{"$error":"#VALUE!"}]
["","","","","","",{"$error":"#VALUE!"},{"$error":"#VALUE!"}]
["","","","","","",{"$error":"#VALUE!"},{"$error":"#VALUE!"}]
["","","","","","",{"$error":"#VALUE!"},{"$error":"#VALUE!"}]
["","","","","","",{"$error":"#VALUE!"},{"$error":"#VALUE!"}]
["","","","","","",{"$error":"#VALUE!"},{"$error":"#VALUE!"}]
["","","","","","",{"$error":"#VALUE!"},{"$error":"#VALUE!"}]
["","","","","","",{"$error":"#VALUE!"},{"$error":"#VALUE!"}]
["","","","","","",{"$error":"#VALUE!"},{"$error":"#VALUE!"}]
["","","","","","",{"$error":"#VALUE!"},{"$error":"#VALUE!"}]
["","","","","","",{"$error":"#VALUE!"},{"$error":"#VALUE!"}]
["","","","","","",{"$error":"#VALUE!"},{"$error":"#VALUE!"}]
["","","","","","",{"$error":"#VALUE!"},{"$error":"#VALUE!"}]
["","","","","","",{"$error":"#VALUE!"},{"$error":"#VALUE!"}]
["","","","","","",{"$error":"#VALUE!"},{"$error":"#VALUE!"}]
["","","","","","",{"$error":"#VALUE!"},{"$error":"#VALUE!"}]
["","","","","","",{"$error":"#VALUE!"},{"$error":"#VALUE!"}]
["","","",{"$f":"IF(A1685<>\"\",MOD(B1685,24)/24,\"\")","v":""},"","",{"$f":"ABS(0.5*1.025*1*(F1685^3))","v":{"$error":"#VALUE!"}},{"$f":"G1685*$B$13","v":{"$error":"#VALUE!"}}]
[{"$f":"IF(IF(A1685<>\"\",A1685+1<=$B$16,0),A1685+1,\"\")","v":""},{"$f":"IF(A1686<>\"\",A1686*$B$13,\"\")","v":""},{"$f":"IF(A1686<>\"\",ROUNDDOWN(A1686*$B$13/24,0),\"\")","v":""},"",{"$f":"IF(A1686<>\"\",($B$4+$B$5)/2+($B$5-$B$4)/2*COS(2*PI()/$B$15*B1686),\"\")","v":""},{"$f":"IF(A1686<>\"\",E1686*COS(2*PI()/$B$7*B1686),\"\")","v":""},{"$error":"#VALUE!"},{"$error":"#VALUE!"}]
["","","","","","",{"$error":"#VALUE!"},{"$error":"#VALUE!"}]
["","","","","","",{"$error":"#VALUE!"},{"$error":"#VALUE!"}]
["","","","","","",{"$error":"#VALUE!"},{"$error":"#VALUE!"}]
["","","","","","",{"$error":"#VALUE!"},{"$error":"#VALUE!"}]
["","","","","","",{"$error":"#VALUE!"},{"$error":"#VALUE!"}]
["","","","","","",{"$error":"#VALUE!"},{"$error":"#VALUE!"}]
["","","","","","",{"$error":"#VALUE!"},{"$error":"#VALUE!"}]
["","","","","","",{"$error":"#VALUE!"},{"$error":"#VALUE!"}]
["","","","","","",{"$error":"#VALUE!"},{"$error":"#VALUE!"}]
["","","","","","",{"$error":"#VALUE!"},{"$error":"#VALUE!"}]
["","","","","","",{"$error":"#VALUE!"},{"$error":"#VALUE!"}]
["","","","","","",{"$error":"#VALUE!"},{"$error":"#VALUE!"}]
["","","","","","",{"$error":"#VALUE!"},{"$error":"#VALUE!"}]
["","","","","","",{"$error":"#VALUE!"},{"$error":"#VALUE!"}]
["","","","","","",{"$error":"#VALUE!"},{"$error":"#VALUE!"}]
["","","","","","",{"$error":"#VALUE!"},{"$error":"#VALUE!"}]
["","","","","","",{"$error":"#VALUE!"},{"$error":"#VALUE!"}]
["","","","","","",{"$error":"#VALUE!"},{"$error":"#VALUE!"}]
["","","","","","",{"$error":"#VALUE!"},{"$error":"#VALUE!"}]
["","","","","","",{"$error":"#VALUE!"},{"$error":"#VALUE!"}]
["","","","","","",{"$error":"#VALUE!"},{"$error":"#VALUE!"}]
["","","","","","",{"$error":"#VALUE!"},{"$error":"#VALUE!"}]
["","","","","","",{"$error":"#VALUE!"},{"$error":"#VALUE!"}]
["","","","","","",{"$error":"#VALUE!"},{"$error":"#VALUE!"}]
["","","","","","",{"$error":"#VALUE!"},{"$error":"#VALUE!"}]
["","","","","","",{"$error":"#VALUE!"},{"$error":"#VALUE!"}]
["","","","","","",{"$error":"#VALUE!"},{"$error":"#VALUE!"}]
["","","","","","",{"$error":"#VALUE!"},{"$error":"#VALUE!"}]
["","","","","","",{"$error":"#VALUE!"},{"$error":"#VALUE!"}]
["","","","","","",{"$error":"#VALUE!"},{"$error":"#VALUE!"}]
["","","","","","",{"$error":"#VALUE!"},{"$error":"#VALUE!"}]
["","","","","","",{"$error":"#VALUE!"},{"$error":"#VALUE!"}]
["","","","","","",{"$error":"#VALUE!"},{"$error":"#VALUE!"}]
["","","","","","",{"$error":"#VALUE!"},{"$error":"#VALUE!"}]
["","","","","","",{"$error":"#VALUE!"},{"$error":"#VALUE!"}]
["","","","","","",{"$error":"#VALUE!"},{"$error":"#VALUE!"}]
["","","","","","",{"$error":"#VALUE!"},{"$error":"#VALUE!"}]
["","","","","","",{"$error":"#VALUE!"},{"$error":"#VALUE!"}]
["","","","","","",{"$error":"#VALUE!"},{"$error":"#VALUE!"}]
["","","","","","",{"$error":"#VALUE!"},{"$error":"#VALUE!"}]
["","","","","","",{"$error":"#VALUE!"},{"$error":"#VALUE!"}]
["","","","","","",{"$error":"#VALUE!"},{"$error":"#VALUE!"}]
["","","","","","",{"$error":"#VALUE!"},{"$error":"#VALUE!"}]
["","","","","","",{"$error":"#VALUE!"},{"$error":"#VALUE!"}]
["","","","","","",{"$error":"#VALUE!"},{"$error":"#VALUE!"}]
["","","","","","",{"$error":"#VALUE!"},{"$error":"#VALUE!"}]
["","","","","","",{"$error":"#VALUE!"},{"$error":"#VALUE!"}]
["","","","","","",{"$error":"#VALUE!"},{"$error":"#VALUE!"}]
["","","","","","",{"$error":"#VALUE!"},{"$error":"#VALUE!"}]
["","","","","","",{"$error":"#VALUE!"},{"$error":"#VALUE!"}]
["","","","","","",{"$error":"#VALUE!"},{"$error":"#VALUE!"}]
["","","","","","",{"$error":"#VALUE!"},{"$error":"#VALUE!"}]
["","","","","","",{"$error":"#VALUE!"},{"$error":"#VALUE!"}]
["","","","","","",{"$error":"#VALUE!"},{"$error":"#VALUE!"}]
["","","","","","",{"$error":"#VALUE!"},{"$error":"#VALUE!"}]
["","","","","","",{"$error":"#VALUE!"},{"$error":"#VALUE!"}]
["","","","","","",{"$error":"#VALUE!"},{"$error":"#VALUE!"}]
["","","","","","",{"$error":"#VALUE!"},{"$error":"#VALUE!"}]
["","","","","","",{"$error":"#VALUE!"},{"$error":"#VALUE!"}]
["","","","","","",{"$error":"#VALUE!"},{"$error":"#VALUE!"}]
["","","","","","",{"$error":"#VALUE!"},{"$error":"#VALUE!"}]
["","","","","","",{"$error":"#VALUE!"},{"$error":"#VALUE!"}]
["","","",{"$f":"IF(A1749<>\"\",MOD(B1749,24)/24,\"\")","v":""},"","",{"$f":"ABS(0.5*1.025*1*(F1749^3))","v":{"$error":"#VALUE!"}},{"$f":"G1749*$B$13","v":{"$error":"#VALUE!"}}]
[{"$f":"IF(IF(A1749<>\"\",A1749+1<=$B$16,0),A1749+1,\"\")","v":""},{"$f":"IF(A1750<>\"\",A1750*$B$13,\"\")","v":""},{"$f":"IF(A1750<>\"\",ROUNDDOWN(A1750*$B$13/24,0),\"\")","v":""},"",{"$f":"IF(A1750<>\"\",($B$4+$B$5)/2+($B$5-$B$4)/2*COS(2*PI()/$B$15*B1750),\"\")","v":""},{"$f":"IF(A1750<>\"\",E1750*COS(2*PI()/$B$7*B1750),\"\")","v":""},{"$error":"#VALUE!"},{"$error":"#VALUE!"}]
["","","","","","",{"$error":"#VALUE!"},{"$error":"#VALUE!"}]
["","","","","","",{"$error":"#VALUE!"},{"$error":"#VALUE!"}]
["","","","","","",{"$error":"#VALUE!"},{"$error":"#VALUE!"}]
["","","","","","",{"$error":"#VALUE!"},{"$error":"#VALUE!"}]
["","","","","","",{"$error":"#VALUE!"},{"$error":"#VALUE!"}]
["","","","","","",{"$error":"#VALUE!"},{"$error":"#VALUE!"}]
["","","","","","",{"$error":"#VALUE!"},{"$error":"#VALUE!"}]
["","","","","","",{"$error":"#VALUE!"},{"$error":"#VALUE!"}]
["","","","","","",{"$error":"#VALUE!"},{"$error":"#VALUE!"}]
["","","","","","",{"$error":"#VALUE!"},{"$error":"#VALUE!"}]
["","","","","","",{"$error":"#VALUE!"},{"$error":"#VALUE!"}]
["","","","","","",{"$error":"#VALUE!"},{"$error":"#VALUE!"}]
["","","","","","",{"$error":"#VALUE!"},{"$error":"#VALUE!"}]
["","","","","","",{"$error":"#VALUE!"},{"$error":"#VALUE!"}]
["","","","","","",{"$error":"#VALUE!"},{"$error":"#VALUE!"}]
["","","","","","",{"$error":"#VALUE!"},{"$error":"#VALUE!"}]
["","","","","","",{"$error":"#VALUE!"},{"$error":"#VALUE!"}]
["","","","","","",{"$error":"#VALUE!"},{"$error":"#VALUE!"}]
["","","","","","",{"$error":"#VALUE!"},{"$error":"#VALUE!"}]
["","","","","","",{"$error":"#VALUE!"},{"$error":"#VALUE!"}]
["","","","","","",{"$error":"#VALUE!"},{"$error":"#VALUE!"}]
["","","","","","",{"$error":"#VALUE!"},{"$error":"#VALUE!"}]
["","","","","","",{"$error":"#VALUE!"},{"$error":"#VALUE!"}]
["","","","","","",{"$error":"#VALUE!"},{"$error":"#VALUE!"}]
["","","","","","",{"$error":"#VALUE!"},{"$error":"#VALUE!"}]
["","","","","","",{"$error":"#VALUE!"},{"$error":"#VALUE!"}]
["","","","","","",{"$error":"#VALUE!"},{"$error":"#VALUE!"}]
["","","","","","",{"$error":"#VALUE!"},{"$error":"#VALUE!"}]
["","","","","","",{"$error":"#VALUE!"},{"$error":"#VALUE!"}]
["","","","","","",{"$error":"#VALUE!"},{"$error":"#VALUE!"}]
["","","","","","",{"$error":"#VALUE!"},{"$error":"#VALUE!"}]
["","","","","","",{"$error":"#VALUE!"},{"$error":"#VALUE!"}]
["","","","","","",{"$error":"#VALUE!"},{"$error":"#VALUE!"}]
["","","","","","",{"$error":"#VALUE!"},{"$error":"#VALUE!"}]
["","","","","","",{"$error":"#VALUE!"},{"$error":"#VALUE!"}]
["","","","","","",{"$error":"#VALUE!"},{"$error":"#VALUE!"}]
["","","","","","",{"$error":"#VALUE!"},{"$error":"#VALUE!"}]
["","","","","","",{"$error":"#VALUE!"},{"$error":"#VALUE!"}]
["","","","","","",{"$error":"#VALUE!"},{"$error":"#VALUE!"}]
["","","","","","",{"$error":"#VALUE!"},{"$error":"#VALUE!"}]
["","","","","","",{"$error":"#VALUE!"},{"$error":"#VALUE!"}]
["","","","","","",{"$error":"#VALUE!"},{"$error":"#VALUE!"}]
["","","","","","",{"$error":"#VALUE!"},{"$error":"#VALUE!"}]
["","","","","","",{"$error":"#VALUE!"},{"$error":"#VALUE!"}]
["","","","","","",{"$error":"#VALUE!"},{"$error":"#VALUE!"}]
["","","","","","",{"$error":"#VALUE!"},{"$error":"#VALUE!"}]
["","","","","","",{"$error":"#VALUE!"},{"$error":"#VALUE!"}]
["","","","","","",{"$error":"#VALUE!"},{"$error":"#VALUE!"}]
["","","","","","",{"$error":"#VALUE!"},{"$error":"#VALUE!"}]
["","","","","","",{"$error":"#VALUE!"},{"$error":"#VALUE!"}]
["","","","","","",{"$error":"#VALUE!"},{"$error":"#VALUE!"}]
["","","","","","",{"$error":"#VALUE!"},{"$error":"#VALUE!"}]
["","","","","","",{"$error":"#VALUE!"},{"$error":"#VALUE!"}]
["","","","","","",{"$error":"#VALUE!"},{"$error":"#VALUE!"}]
["","","","","","",{"$error":"#VALUE!"},{"$error":"#VALUE!"}]
["","","","","","",{"$error":"#VALUE!"},{"$error":"#VALUE!"}]
["","","","","","",{"$error":"#VALUE!"},{"$error":"#VALUE!"}]
["","","","","","",{"$error":"#VALUE!"},{"$error":"#VALUE!"}]
["","","","","","",{"$error":"#VALUE!"},{"$error":"#VALUE!"}]
["","","","","","",{"$error":"#VALUE!"},{"$error":"#VALUE!"}]
["","","","","","",{"$error":"#VALUE!"},{"$error":"#VALUE!"}]
["","","","","","",{"$error":"#VALUE!"},{"$error":"#VALUE!"}]
["","","",{"$f":"IF(A1813<>\"\",MOD(B1813,24)/24,\"\")","v":""},"","",{"$f":"ABS(0.5*1.025*1*(F1813^3))","v":{"$error":"#VALUE!"}},{"$f":"G1813*$B$13","v":{"$error":"#VALUE!"}}]
[{"$f":"IF(IF(A1813<>\"\",A1813+1<=$B$16,0),A1813+1,\"\")","v":""},{"$f":"IF(A1814<>\"\",A1814*$B$13,\"\")","v":""},{"$f":"IF(A1814<>\"\",ROUNDDOWN(A1814*$B$13/24,0),\"\")","v":""},"",{"$f":"IF(A1814<>\"\",($B$4+$B$5)/2+($B$5-$B$4)/2*COS(2*PI()/$B$15*B1814),\"\")","v":""},{"$f":"IF(A1814<>\"\",E1814*COS(2*PI()/$B$7*B1814),\"\")","v":""},{"$error":"#VALUE!"},{"$error":"#VALUE!"}]
["","","","","","",{"$error":"#VALUE!"},{"$error":"#VALUE!"}]
["","","","","","",{"$error":"#VALUE!"},{"$error":"#VALUE!"}]
["","","","","","",{"$error":"#VALUE!"},{"$error":"#VALUE!"}]
["","","","","","",{"$error":"#VALUE!"},{"$error":"#VALUE!"}]
["","","","","","",{"$error":"#VALUE!"},{"$error":"#VALUE!"}]
["","","","","","",{"$error":"#VALUE!"},{"$error":"#VALUE!"}]
["","","","","","",{"$error":"#VALUE!"},{"$error":"#VALUE!"}]
["","","","","","",{"$error":"#VALUE!"},{"$error":"#VALUE!"}]
["","","","","","",{"$error":"#VALUE!"},{"$error":"#VALUE!"}]
["","","","","","",{"$error":"#VALUE!"},{"$error":"#VALUE!"}]
["","","","","","",{"$error":"#VALUE!"},{"$error":"#VALUE!"}]
["","","","","","",{"$error":"#VALUE!"},{"$error":"#VALUE!"}]
["","","","","","",{"$error":"#VALUE!"},{"$error":"#VALUE!"}]
["","","","","","",{"$error":"#VALUE!"},{"$error":"#VALUE!"}]
["","","","","","",{"$error":"#VALUE!"},{"$error":"#VALUE!"}]
["","","","","","",{"$error":"#VALUE!"},{"$error":"#VALUE!"}]
["","","","","","",{"$error":"#VALUE!"},{"$error":"#VALUE!"}]
["","","","","","",{"$error":"#VALUE!"},{"$error":"#VALUE!"}]
["","","","","","",{"$error":"#VALUE!"},{"$error":"#VALUE!"}]
["","","","","","",{"$error":"#VALUE!"},{"$error":"#VALUE!"}]
["","","","","","",{"$error":"#VALUE!"},{"$error":"#VALUE!"}]
["","","","","","",{"$error":"#VALUE!"},{"$error":"#VALUE!"}]
["","","","","","",{"$error":"#VALUE!"},{"$error":"#VALUE!"}]
["","","","","","",{"$error":"#VALUE!"},{"$error":"#VALUE!"}]
["","","","","","",{"$error":"#VALUE!"},{"$error":"#VALUE!"}]
["","","","","","",{"$error":"#VALUE!"},{"$error":"#VALUE!"}]
["","","","","","",{"$error":"#VALUE!"},{"$error":"#VALUE!"}]
["","","","","","",{"$error":"#VALUE!"},{"$error":"#VALUE!"}]
["","","","","","",{"$error":"#VALUE!"},{"$error":"#VALUE!"}]
["","","","","","",{"$error":"#VALUE!"},{"$error":"#VALUE!"}]
["","","","","","",{"$error":"#VALUE!"},{"$error":"#VALUE!"}]
["","","","","","",{"$error":"#VALUE!"},{"$error":"#VALUE!"}]
["","","","","","",{"$error":"#VALUE!"},{"$error":"#VALUE!"}]
["","","","","","",{"$error":"#VALUE!"},{"$error":"#VALUE!"}]
["","","","","","",{"$error":"#VALUE!"},{"$error":"#VALUE!"}]
["","","","","","",{"$error":"#VALUE!"},{"$error":"#VALUE!"}]
["","","","","","",{"$error":"#VALUE!"},{"$error":"#VALUE!"}]
["","","","","","",{"$error":"#VALUE!"},{"$error":"#VALUE!"}]
["","","","","","",{"$error":"#VALUE!"},{"$error":"#VALUE!"}]
["","","","","","",{"$error":"#VALUE!"},{"$error":"#VALUE!"}]
["","","","","","",{"$error":"#VALUE!"},{"$error":"#VALUE!"}]
["","","","","","",{"$error":"#VALUE!"},{"$error":"#VALUE!"}]
["","","","","","",{"$error":"#VALUE!"},{"$error":"#VALUE!"}]
["","","","","","",{"$error":"#VALUE!"},{"$error":"#VALUE!"}]
["","","","","","",{"$error":"#VALUE!"},{"$error":"#VALUE!"}]
["","","","","","",{"$error":"#VALUE!"},{"$error":"#VALUE!"}]
["","","","","","",{"$error":"#VALUE!"},{"$error":"#VALUE!"}]
["","","","","","",{"$error":"#VALUE!"},{"$error":"#VALUE!"}]
["","","","","","",{"$error":"#VALUE!"},{"$error":"#VALUE!"}]
["","","","","","",{"$error":"#VALUE!"},{"$error":"#VALUE!"}]
["","","","","","",{"$error":"#VALUE!"},{"$error":"#VALUE!"}]
["","","","","","",{"$error":"#VALUE!"},{"$error":"#VALUE!"}]
["","","","","","",{"$error":"#VALUE!"},{"$error":"#VALUE!"}]
["","","","","","",{"$error":"#VALUE!"},{"$error":"#VALUE!"}]
["","","","","","",{"$error":"#VALUE!"},{"$error":"#VALUE!"}]
["","","","","","",{"$error":"#VALUE!"},{"$error":"#VALUE!"}]
["","","","","","",{"$error":"#VALUE!"},{"$error":"#VALUE!"}]
["","","","","","",{"$error":"#VALUE!"},{"$error":"#VALUE!"}]
["","","","","","",{"$error":"#VALUE!"},{"$error":"#VALUE!"}]
["","","","","","",{"$error":"#VALUE!"},{"$error":"#VALUE!"}]
["","","","","","",{"$error":"#VALUE!"},{"$error":"#VALUE!"}]
["","","","","","",{"$error":"#VALUE!"},{"$error":"#VALUE!"}]
["","","",{"$f":"IF(A1877<>\"\",MOD(B1877,24)/24,\"\")","v":""},"","",{"$f":"ABS(0.5*1.025*1*(F1877^3))","v":{"$error":"#VALUE!"}},{"$f":"G1877*$B$13","v":{"$error":"#VALUE!"}}]
[{"$f":"IF(IF(A1877<>\"\",A1877+1<=$B$16,0),A1877+1,\"\")","v":""},{"$f":"IF(A1878<>\"\",A1878*$B$13,\"\")","v":""},{"$f":"IF(A1878<>\"\",ROUNDDOWN(A1878*$B$13/24,0),\"\")","v":""},"",{"$f":"IF(A1878<>\"\",($B$4+$B$5)/2+($B$5-$B$4)/2*COS(2*PI()/$B$15*B1878),\"\")","v":""},{"$f":"IF(A1878<>\"\",E1878*COS(2*PI()/$B$7*B1878),\"\")","v":""},{"$error":"#VALUE!"},{"$error":"#VALUE!"}]
["","","","","","",{"$error":"#VALUE!"},{"$error":"#VALUE!"}]
["","","","","","",{"$error":"#VALUE!"},{"$error":"#VALUE!"}]
["","","","","","",{"$error":"#VALUE!"},{"$error":"#VALUE!"}]
["","","","","","",{"$error":"#VALUE!"},{"$error":"#VALUE!"}]
["","","","","","",{"$error":"#VALUE!"},{"$error":"#VALUE!"}]
["","","","","","",{"$error":"#VALUE!"},{"$error":"#VALUE!"}]
["","","","","","",{"$error":"#VALUE!"},{"$error":"#VALUE!"}]
["","","","","","",{"$error":"#VALUE!"},{"$error":"#VALUE!"}]
["","","","","","",{"$error":"#VALUE!"},{"$error":"#VALUE!"}]
["","","","","","",{"$error":"#VALUE!"},{"$error":"#VALUE!"}]
["","","","","","",{"$error":"#VALUE!"},{"$error":"#VALUE!"}]
["","","","","","",{"$error":"#VALUE!"},{"$error":"#VALUE!"}]
["","","","","","",{"$error":"#VALUE!"},{"$error":"#VALUE!"}]
["","","","","","",{"$error":"#VALUE!"},{"$error":"#VALUE!"}]
["","","","","","",{"$error":"#VALUE!"},{"$error":"#VALUE!"}]
["","","","","","",{"$error":"#VALUE!"},{"$error":"#VALUE!"}]
["","","","","","",{"$error":"#VALUE!"},{"$error":"#VALUE!"}]
["","","","","","",{"$error":"#VALUE!"},{"$error":"#VALUE!"}]
["","","","","","",{"$error":"#VALUE!"},{"$error":"#VALUE!"}]
["","","","","","",{"$error":"#VALUE!"},{"$error":"#VALUE!"}]
["","","","","","",{"$error":"#VALUE!"},{"$error":"#VALUE!"}]
["","","","","","",{"$error":"#VALUE!"},{"$error":"#VALUE!"}]
["","","","","","",{"$error":"#VALUE!"},{"$error":"#VALUE!"}]
["","","","","","",{"$error":"#VALUE!"},{"$error":"#VALUE!"}]
["","","","","","",{"$error":"#VALUE!"},{"$error":"#VALUE!"}]
["","","","","","",{"$error":"#VALUE!"},{"$error":"#VALUE!"}]
["","","","","","",{"$error":"#VALUE!"},{"$error":"#VALUE!"}]
["","","","","","",{"$error":"#VALUE!"},{"$error":"#VALUE!"}]
["","","","","","",{"$error":"#VALUE!"},{"$error":"#VALUE!"}]
["","","","","","",{"$error":"#VALUE!"},{"$error":"#VALUE!"}]
["","","","","","",{"$error":"#VALUE!"},{"$error":"#VALUE!"}]
["","","","","","",{"$error":"#VALUE!"},{"$error":"#VALUE!"}]
["","","","","","",{"$error":"#VALUE!"},{"$error":"#VALUE!"}]
["","","","","","",{"$error":"#VALUE!"},{"$error":"#VALUE!"}]
["","","","","","",{"$error":"#VALUE!"},{"$error":"#VALUE!"}]
["","","","","","",{"$error":"#VALUE!"},{"$error":"#VALUE!"}]
["","","","","","",{"$error":"#VALUE!"},{"$error":"#VALUE!"}]
["","","","","","",{"$error":"#VALUE!"},{"$error":"#VALUE!"}]
["","","","","","",{"$error":"#VALUE!"},{"$error":"#VALUE!"}]
["","","","","","",{"$error":"#VALUE!"},{"$error":"#VALUE!"}]
["","","","","","",{"$error":"#VALUE!"},{"$error":"#VALUE!"}]
["","","","","","",{"$error":"#VALUE!"},{"$error":"#VALUE!"}]
["","","","","","",{"$error":"#VALUE!"},{"$error":"#VALUE!"}]
["","","","","","",{"$error":"#VALUE!"},{"$error":"#VALUE!"}]
["","","","","","",{"$error":"#VALUE!"},{"$error":"#VALUE!"}]
["","","","","","",{"$error":"#VALUE!"},{"$error":"#VALUE!"}]
["","","","","","",{"$error":"#VALUE!"},{"$error":"#VALUE!"}]
["","","","","","",{"$error":"#VALUE!"},{"$error":"#VALUE!"}]
["","","","","","",{"$error":"#VALUE!"},{"$error":"#VALUE!"}]
["","","","","","",{"$error":"#VALUE!"},{"$error":"#VALUE!"}]
["","","","","","",{"$error":"#VALUE!"},{"$error":"#VALUE!"}]
["","","","","","",{"$error":"#VALUE!"},{"$error":"#VALUE!"}]
["","","","","","",{"$error":"#VALUE!"},{"$error":"#VALUE!"}]
["","","","","","",{"$error":"#VALUE!"},{"$error":"#VALUE!"}]
["","","","","","",{"$error":"#VALUE!"},{"$error":"#VALUE!"}]
["","","","","","",{"$error":"#VALUE!"},{"$error":"#VALUE!"}]
["","","","","","",{"$error":"#VALUE!"},{"$error":"#VALUE!"}]
["","","","","","",{"$error":"#VALUE!"},{"$error":"#VALUE!"}]
["","","","","","",{"$error":"#VALUE!"},{"$error":"#VALUE!"}]
["","","","","","",{"$error":"#VALUE!"},{"$error":"#VALUE!"}]
["","","","","","",{"$error":"#VALUE!"},{"$error":"#VALUE!"}]
["","","","","","",{"$error":"#VALUE!"},{"$error":"#VALUE!"}]
["","","",{"$f":"IF(A1941<>\"\",MOD(B1941,24)/24,\"\")","v":""},"","",{"$f":"ABS(0.5*1.025*1*(F1941^3))","v":{"$error":"#VALUE!"}},{"$f":"G1941*$B$13","v":{"$error":"#VALUE!"}}]
[{"$f":"IF(IF(A1941<>\"\",A1941+1<=$B$16,0),A1941+1,\"\")","v":""},{"$f":"IF(A1942<>\"\",A1942*$B$13,\"\")","v":""},{"$f":"IF(A1942<>\"\",ROUNDDOWN(A1942*$B$13/24,0),\"\")","v":""},"",{"$f":"IF(A1942<>\"\",($B$4+$B$5)/2+($B$5-$B$4)/2*COS(2*PI()/$B$15*B1942),\"\")","v":""},{"$f":"IF(A1942<>\"\",E1942*COS(2*PI()/$B$7*B1942),\"\")","v":""},{"$error":"#VALUE!"},{"$error":"#VALUE!"}]
["","","","","","",{"$error":"#VALUE!"},{"$error":"#VALUE!"}]
["","","","","","",{"$error":"#VALUE!"},{"$error":"#VALUE!"}]
["","","","","","",{"$error":"#VALUE!"},{"$error":"#VALUE!"}]
["","","","","","",{"$error":"#VALUE!"},{"$error":"#VALUE!"}]
["","","","","","",{"$error":"#VALUE!"},{"$error":"#VALUE!"}]
["","","","","","",{"$error":"#VALUE!"},{"$error":"#VALUE!"}]
["","","","","","",{"$error":"#VALUE!"},{"$error":"#VALUE!"}]
["","","","","","",{"$error":"#VALUE!"},{"$error":"#VALUE!"}]
["","","","","","",{"$error":"#VALUE!"},{"$error":"#VALUE!"}]
["","","","","","",{"$error":"#VALUE!"},{"$error":"#VALUE!"}]
["","","","","","",{"$error":"#VALUE!"},{"$error":"#VALUE!"}]
["","","","","","",{"$error":"#VALUE!"},{"$error":"#VALUE!"}]
["","","","","","",{"$error":"#VALUE!"},{"$error":"#VALUE!"}]
["","","","","","",{"$error":"#VALUE!"},{"$error":"#VALUE!"}]
["","","","","","",{"$error":"#VALUE!"},{"$error":"#VALUE!"}]
["","","","","","",{"$error":"#VALUE!"},{"$error":"#VALUE!"}]
["","","","","","",{"$error":"#VALUE!"},{"$error":"#VALUE!"}]
["","","","","","",{"$error":"#VALUE!"},{"$error":"#VALUE!"}]
["","","","","","",{"$error":"#VALUE!"},{"$error":"#VALUE!"}]
["","","","","","",{"$error":"#VALUE!"},{"$error":"#VALUE!"}]
["","","","","","",{"$error":"#VALUE!"},{"$error":"#VALUE!"}]
["","","","","","",{"$error":"#VALUE!"},{"$error":"#VALUE!"}]
["","","","","","",{"$error":"#VALUE!"},{"$error":"#VALUE!"}]
["","","","","","",{"$error":"#VALUE!"},{"$error":"#VALUE!"}]
["","","","","","",{"$error":"#VALUE!"},{"$error":"#VALUE!"}]
["","","","","","",{"$error":"#VALUE!"},{"$error":"#VALUE!"}]
["","","","","","",{"$error":"#VALUE!"},{"$error":"#VALUE!"}]
["","","","","","",{"$error":"#VALUE!"},{"$error":"#VALUE!"}]
["","","","","","",{"$error":"#VALUE!"},{"$error":"#VALUE!"}]
["","","","","","",{"$error":"#VALUE!"},{"$error":"#VALUE!"}]
["","","","","","",{"$error":"#VALUE!"},{"$error":"#VALUE!"}]
["","","","","","",{"$error":"#VALUE!"},{"$error":"#VALUE!"}]
["","","","","","",{"$error":"#VALUE!"},{"$error":"#VALUE!"}]
["","","","","","",{"$error":"#VALUE!"},{"$error":"#VALUE!"}]
["","","","","","",{"$error":"#VALUE!"},{"$error":"#VALUE!"}]
["","","","","","",{"$error":"#VALUE!"},{"$error":"#VALUE!"}]
["","","","","","",{"$error":"#VALUE!"},{"$error":"#VALUE!"}]
["","","","","","",{"$error":"#VALUE!"},{"$error":"#VALUE!"}]
["","","","","","",{"$error":"#VALUE!"},{"$error":"#VALUE!"}]
["","","","","","",{"$error":"#VALUE!"},{"$error":"#VALUE!"}]
["","","","","","",{"$error":"#VALUE!"},{"$error":"#VALUE!"}]
["","","","","","",{"$error":"#VALUE!"},{"$error":"#VALUE!"}]
["","","","","","",{"$error":"#VALUE!"},{"$error":"#VALUE!"}]
["","","","","","",{"$error":"#VALUE!"},{"$error":"#VALUE!"}]
["","","","","","",{"$error":"#VALUE!"},{"$error":"#VALUE!"}]
["","","","","","",{"$error":"#VALUE!"},{"$error":"#VALUE!"}]
["","","","","","",{"$error":"#VALUE!"},{"$error":"#VALUE!"}]
["","","","","","",{"$error":"#VALUE!"},{"$error":"#VALUE!"}]
["","","","","","",{"$error":"#VALUE!"},{"$error":"#VALUE!"}]
["","","","","","",{"$error":"#VALUE!"},{"$error":"#VALUE!"}]
["","","","","","",{"$error":"#VALUE!"},{"$error":"#VALUE!"}]
["","","","","","",{"$error":"#VALUE!"},{"$error":"#VALUE!"}]
["","","","","","",{"$error":"#VALUE!"},{"$error":"#VALUE!"}]
["","","","","","",{"$error":"#VALUE!"},{"$error":"#VALUE!"}]
["","","","","","",{"$error":"#VALUE!"},{"$error":"#VALUE!"}]
["","","","","","",{"$error":"#VALUE!"},{"$error":"#VALUE!"}]
["","","","","","",{"$error":"#VALUE!"},{"$error":"#VALUE!"}]
["","","","","","",{"$error":"#VALUE!"},{"$error":"#VALUE!"}]
["","","","","","",{"$error":"#VALUE!"},{"$error":"#VALUE!"}]
["","","","","","",{"$error":"#VALUE!"},{"$error":"#VALUE!"}]
["","","","","","",{"$error":"#VALUE!"},{"$error":"#VALUE!"}]
["","","","","","",{"$error":"#VALUE!"},{"$error":"#VALUE!"}]
["","","",{"$f":"IF(A2005<>\"\",MOD(B2005,24)/24,\"\")","v":""},"","",{"$f":"ABS(0.5*1.025*1*(F2005^3))","v":{"$error":"#VALUE!"}},{"$f":"G2005*$B$13","v":{"$error":"#VALUE!"}}]
[{"$f":"IF(IF(A2005<>\"\",A2005+1<=$B$16,0),A2005+1,\"\")","v":""},{"$f":"IF(A2006<>\"\",A2006*$B$13,\"\")","v":""},{"$f":"IF(A2006<>\"\",ROUNDDOWN(A2006*$B$13/24,0),\"\")","v":""},"",{"$f":"IF(A2006<>\"\",($B$4+$B$5)/2+($B$5-$B$4)/2*COS(2*PI()/$B$15*B2006),\"\")","v":""},{"$f":"IF(A2006<>\"\",E2006*COS(2*PI()/$B$7*B2006),\"\")","v":""},{"$error":"#VALUE!"},{"$error":"#VALUE!"}]
["","","","","","",{"$error":"#VALUE!"},{"$error":"#VALUE!"}]
["","","","","","",{"$error":"#VALUE!"},{"$error":"#VALUE!"}]
["","","","","","",{"$error":"#VALUE!"},{"$error":"#VALUE!"}]
["","","","","","",{"$error":"#VALUE!"},{"$error":"#VALUE!"}]
["","","","","","",{"$error":"#VALUE!"},{"$error":"#VALUE!"}]
["","","","","","",{"$error":"#VALUE!"},{"$error":"#VALUE!"}]
["","","","","","",{"$error":"#VALUE!"},{"$error":"#VALUE!"}]
["","","","","","",{"$error":"#VALUE!"},{"$error":"#VALUE!"}]
["","","","","","",{"$error":"#VALUE!"},{"$error":"#VALUE!"}]
["","","","","","",{"$error":"#VALUE!"},{"$error":"#VALUE!"}]
["","","","","","",{"$error":"#VALUE!"},{"$error":"#VALUE!"}]
["","","","","","",{"$error":"#VALUE!"},{"$error":"#VALUE!"}]
["","","","","","",{"$error":"#VALUE!"},{"$error":"#VALUE!"}]
["","","","","","",{"$error":"#VALUE!"},{"$error":"#VALUE!"}]
["","","","","","",{"$error":"#VALUE!"},{"$error":"#VALUE!"}]
["","","","","","",{"$error":"#VALUE!"},{"$error":"#VALUE!"}]
["","","","","","",{"$error":"#VALUE!"},{"$error":"#VALUE!"}]
["","","","","","",{"$error":"#VALUE!"},{"$error":"#VALUE!"}]
["","","","","","",{"$error":"#VALUE!"},{"$error":"#VALUE!"}]
["","","","","","",{"$error":"#VALUE!"},{"$error":"#VALUE!"}]
["","","","","","",{"$error":"#VALUE!"},{"$error":"#VALUE!"}]
["","","","","","",{"$error":"#VALUE!"},{"$error":"#VALUE!"}]
["","","","","","",{"$error":"#VALUE!"},{"$error":"#VALUE!"}]
["","","","","","",{"$error":"#VALUE!"},{"$error":"#VALUE!"}]
["","","","","","",{"$error":"#VALUE!"},{"$error":"#VALUE!"}]
["","","","","","",{"$error":"#VALUE!"},{"$error":"#VALUE!"}]
["","","","","","",{"$error":"#VALUE!"},{"$error":"#VALUE!"}]
["","","","","","",{"$error":"#VALUE!"},{"$error":"#VALUE!"}]
["","","","","","",{"$error":"#VALUE!"},{"$error":"#VALUE!"}]
["","","","","","",{"$error":"#VALUE!"},{"$error":"#VALUE!"}]
["","","","","","",{"$error":"#VALUE!"},{"$error":"#VALUE!"}]
["","","","","","",{"$error":"#VALUE!"},{"$error":"#VALUE!"}]
["","","","","","",{"$error":"#VALUE!"},{"$error":"#VALUE!"}]
["","","","","","",{"$error":"#VALUE!"},{"$error":"#VALUE!"}]
["","","","","","",{"$error":"#VALUE!"},{"$error":"#VALUE!"}]
["","","","","","",{"$error":"#VALUE!"},{"$error":"#VALUE!"}]
["","","","","","",{"$error":"#VALUE!"},{"$error":"#VALUE!"}]
["","","","","","",{"$error":"#VALUE!"},{"$error":"#VALUE!"}]
["","","","","","",{"$error":"#VALUE!"},{"$error":"#VALUE!"}]
["","","","","","",{"$error":"#VALUE!"},{"$error":"#VALUE!"}]
["","","","","","",{"$error":"#VALUE!"},{"$error":"#VALUE!"}]
["","","","","","",{"$error":"#VALUE!"},{"$error":"#VALUE!"}]
["","","","","","",{"$error":"#VALUE!"},{"$error":"#VALUE!"}]
["","","","","","",{"$error":"#VALUE!"},{"$error":"#VALUE!"}]
["","","","","","",{"$error":"#VALUE!"},{"$error":"#VALUE!"}]
["","","","","","",{"$error":"#VALUE!"},{"$error":"#VALUE!"}]
["","","","","","",{"$error":"#VALUE!"},{"$error":"#VALUE!"}]
["","","","","","",{"$error":"#VALUE!"},{"$error":"#VALUE!"}]
["","","","","","",{"$error":"#VALUE!"},{"$error":"#VALUE!"}]
["","","","","","",{"$error":"#VALUE!"},{"$error":"#VALUE!"}]
["","","","","","",{"$error":"#VALUE!"},{"$error":"#VALUE!"}]
["","","","","","",{"$error":"#VALUE!"},{"$error":"#VALUE!"}]
["","","","","","",{"$error":"#VALUE!"},{"$error":"#VALUE!"}]
["","","","","","",{"$error":"#VALUE!"},{"$error":"#VALUE!"}]
["","","","","","",{"$error":"#VALUE!"},{"$error":"#VALUE!"}]
["","","","","","",{"$error":"#VALUE!"},{"$error":"#VALUE!"}]
["","","","","","",{"$error":"#VALUE!"},{"$error":"#VALUE!"}]
["","","","","","",{"$error":"#VALUE!"},{"$error":"#VALUE!"}]
["","","","","","",{"$error":"#VALUE!"},{"$error":"#VALUE!"}]
["","","","","","",{"$error":"#VALUE!"},{"$error":"#VALUE!"}]
["","","","","","",{"$error":"#VALUE!"},{"$error":"#VALUE!"}]
["","","","","","",{"$error":"#VALUE!"},{"$error":"#VALUE!"}]
["","","",{"$f":"IF(A2069<>\"\",MOD(B2069,24)/24,\"\")","v":""},"","",{"$f":"ABS(0.5*1.025*1*(F2069^3))","v":{"$error":"#VALUE!"}},{"$f":"G2069*$B$13","v":{"$error":"#VALUE!"}}]
[{"$f":"IF(IF(A2069<>\"\",A2069+1<=$B$16,0),A2069+1,\"\")","v":""},{"$f":"IF(A2070<>\"\",A2070*$B$13,\"\")","v":""},{"$f":"IF(A2070<>\"\",ROUNDDOWN(A2070*$B$13/24,0),\"\")","v":""},"",{"$f":"IF(A2070<>\"\",($B$4+$B$5)/2+($B$5-$B$4)/2*COS(2*PI()/$B$15*B2070),\"\")","v":""},{"$f":"IF(A2070<>\"\",E2070*COS(2*PI()/$B$7*B2070),\"\")","v":""},{"$error":"#VALUE!"},{"$error":"#VALUE!"}]
["","","","","","",{"$error":"#VALUE!"},{"$error":"#VALUE!"}]
["","","","","","",{"$error":"#VALUE!"},{"$error":"#VALUE!"}]
["","","","","","",{"$error":"#VALUE!"},{"$error":"#VALUE!"}]
["","","","","","",{"$error":"#VALUE!"},{"$error":"#VALUE!"}]
["","","","","","",{"$error":"#VALUE!"},{"$error":"#VALUE!"}]
["","","","","","",{"$error":"#VALUE!"},{"$error":"#VALUE!"}]
["","","","","","",{"$error":"#VALUE!"},{"$error":"#VALUE!"}]
["","","","","","",{"$error":"#VALUE!"},{"$error":"#VALUE!"}]
["","","","","","",{"$error":"#VALUE!"},{"$error":"#VALUE!"}]
["","","","","","",{"$error":"#VALUE!"},{"$error":"#VALUE!"}]
["","","","","","",{"$error":"#VALUE!"},{"$error":"#VALUE!"}]
["","","","","","",{"$error":"#VALUE!"},{"$error":"#VALUE!"}]
["","","","","","",{"$error":"#VALUE!"},{"$error":"#VALUE!"}]
["","","","","","",{"$error":"#VALUE!"},{"$error":"#VALUE!"}]
["","","","","","",{"$error":"#VALUE!"},{"$error":"#VALUE!"}]
["","","","","","",{"$error":"#VALUE!"},{"$error":"#VALUE!"}]
["","","","","","",{"$error":"#VALUE!"},{"$error":"#VALUE!"}]
["","","","","","",{"$error":"#VALUE!"},{"$error":"#VALUE!"}]
["","","","","","",{"$error":"#VALUE!"},{"$error":"#VALUE!"}]
["","","","","","",{"$error":"#VALUE!"},{"$error":"#VALUE!"}]
["","","","","","",{"$error":"#VALUE!"},{"$error":"#VALUE!"}]
["","","","","","",{"$error":"#VALUE!"},{"$error":"#VALUE!"}]
["","","","","","",{"$error":"#VALUE!"},{"$error":"#VALUE!"}]
["","","","","","",{"$error":"#VALUE!"},{"$error":"#VALUE!"}]
["","","","","","",{"$error":"#VALUE!"},{"$error":"#VALUE!"}]
["","","","","","",{"$error":"#VALUE!"},{"$error":"#VALUE!"}]
["","","","","","",{"$error":"#VALUE!"},{"$error":"#VALUE!"}]
["","","","","","",{"$error":"#VALUE!"},{"$error":"#VALUE!"}]
["","","","","","",{"$error":"#VALUE!"},{"$error":"#VALUE!"}]
["","","","","","",{"$error":"#VALUE!"},{"$error":"#VALUE!"}]
["","","","","","",{"$error":"#VALUE!"},{"$error":"#VALUE!"}]
["","","","","","",{"$error":"#VALUE!"},{"$error":"#VALUE!"}]
["","","","","","",{"$error":"#VALUE!"},{"$error":"#VALUE!"}]
["","","","","","",{"$error":"#VALUE!"},{"$error":"#VALUE!"}]
["","","","","","",{"$error":"#VALUE!"},{"$error":"#VALUE!"}]
["","","","","","",{"$error":"#VALUE!"},{"$error":"#VALUE!"}]
["","","","","","",{"$error":"#VALUE!"},{"$error":"#VALUE!"}]
["","","","","","",{"$error":"#VALUE!"},{"$error":"#VALUE!"}]
["","","","","","",{"$error":"#VALUE!"},{"$error":"#VALUE!"}]
["","","","","","",{"$error":"#VALUE!"},{"$error":"#VALUE!"}]
["","","","","","",{"$error":"#VALUE!"},{"$error":"#VALUE!"}]
["","","","","","",{"$error":"#VALUE!"},{"$error":"#VALUE!"}]
["","","","","","",{"$error":"#VALUE!"},{"$error":"#VALUE!"}]
["","","","","","",{"$error":"#VALUE!"},{"$error":"#VALUE!"}]
["","","","","","",{"$error":"#VALUE!"},{"$error":"#VALUE!"}]
["","","","","","",{"$error":"#VALUE!"},{"$error":"#VALUE!"}]
["","","","","","",{"$error":"#VALUE!"},{"$error":"#VALUE!"}]
["","","","","","",{"$error":"#VALUE!"},{"$error":"#VALUE!"}]
["","","","","","",{"$error":"#VALUE!"},{"$error":"#VALUE!"}]
["","","","","","",{"$error":"#VALUE!"},{"$error":"#VALUE!"}]
["","","","","","",{"$error":"#VALUE!"},{"$error":"#VALUE!"}]
["","","","","","",{"$error":"#VALUE!"},{"$error":"#VALUE!"}]
["","","","","","",{"$error":"#VALUE!"},{"$error":"#VALUE!"}]
["","","","","","",{"$error":"#VALUE!"},{"$error":"#VALUE!"}]
["","","","","","",{"$error":"#VALUE!"},{"$error":"#VALUE!"}]
["","","","","","",{"$error":"#VALUE!"},{"$error":"#VALUE!"}]
["","","","","","",{"$error":"#VALUE!"},{"$error":"#VALUE!"}]
["","","","","","",{"$error":"#VALUE!"},{"$error":"#VALUE!"}]
["","","","","","",{"$error":"#VALUE!"},{"$error":"#VALUE!"}]
["","","","","","",{"$error":"#VALUE!"},{"$error":"#VALUE!"}]
["","","","","","",{"$error":"#VALUE!"},{"$error":"#VALUE!"}]
["","","","","","",{"$error":"#VALUE!"},{"$error":"#VALUE!"}]
["","","",{"$f":"IF(A2133<>\"\",MOD(B2133,24)/24,\"\")","v":""},"","",{"$f":"ABS(0.5*1.025*1*(F2133^3))","v":{"$error":"#VALUE!"}},{"$f":"G2133*$B$13","v":{"$error":"#VALUE!"}}]
[{"$f":"IF(IF(A2133<>\"\",A2133+1<=$B$16,0),A2133+1,\"\")","v":""},{"$f":"IF(A2134<>\"\",A2134*$B$13,\"\")","v":""},{"$f":"IF(A2134<>\"\",ROUNDDOWN(A2134*$B$13/24,0),\"\")","v":""},"",{"$f":"IF(A2134<>\"\",($B$4+$B$5)/2+($B$5-$B$4)/2*COS(2*PI()/$B$15*B2134),\"\")","v":""},{"$f":"IF(A2134<>\"\",E2134*COS(2*PI()/$B$7*B2134),\"\")","v":""},{"$error":"#VALUE!"},{"$error":"#VALUE!"}]
["","","","","","",{"$error":"#VALUE!"},{"$error":"#VALUE!"}]
["","","","","","",{"$error":"#VALUE!"},{"$error":"#VALUE!"}]
["","","","","","",{"$error":"#VALUE!"},{"$error":"#VALUE!"}]
["","","","","","",{"$error":"#VALUE!"},{"$error":"#VALUE!"}]
["","","","","","",{"$error":"#VALUE!"},{"$error":"#VALUE!"}]
["","","","","","",{"$error":"#VALUE!"},{"$error":"#VALUE!"}]
["","","","","","",{"$error":"#VALUE!"},{"$error":"#VALUE!"}]
["","","","","","",{"$error":"#VALUE!"},{"$error":"#VALUE!"}]
["","","","","","",{"$error":"#VALUE!"},{"$error":"#VALUE!"}]
["","","","","","",{"$error":"#VALUE!"},{"$error":"#VALUE!"}]
["","","","","","",{"$error":"#VALUE!"},{"$error":"#VALUE!"}]
["","","","","","",{"$error":"#VALUE!"},{"$error":"#VALUE!"}]
["","","","","","",{"$error":"#VALUE!"},{"$error":"#VALUE!"}]
["","","","","","",{"$error":"#VALUE!"},{"$error":"#VALUE!"}]
["","","","","","",{"$error":"#VALUE!"},{"$error":"#VALUE!"}]
["","","","","","",{"$error":"#VALUE!"},{"$error":"#VALUE!"}]
["","","","","","",{"$error":"#VALUE!"},{"$error":"#VALUE!"}]
["","","","","","",{"$error":"#VALUE!"},{"$error":"#VALUE!"}]
["","","","","","",{"$error":"#VALUE!"},{"$error":"#VALUE!"}]
["","","","","","",{"$error":"#VALUE!"},{"$error":"#VALUE!"}]
["","","","","","",{"$error":"#VALUE!"},{"$error":"#VALUE!"}]
["","","","","","",{"$error":"#VALUE!"},{"$error":"#VALUE!"}]
["","","","","","",{"$error":"#VALUE!"},{"$error":"#VALUE!"}]
["","","","","","",{"$error":"#VALUE!"},{"$error":"#VALUE!"}]
["","","","","","",{"$error":"#VALUE!"},{"$error":"#VALUE!"}]
["","","","","","",{"$error":"#VALUE!"},{"$error":"#VALUE!"}]
["","","","","","",{"$error":"#VALUE!"},{"$error":"#VALUE!"}]
["","","","","","",{"$error":"#VALUE!"},{"$error":"#VALUE!"}]
["","","","","","",{"$error":"#VALUE!"},{"$error":"#VALUE!"}]
["","","","","","",{"$error":"#VALUE!"},{"$error":"#VALUE!"}]
["","","","","","",{"$error":"#VALUE!"},{"$error":"#VALUE!"}]
["","","","","","",{"$error":"#VALUE!"},{"$error":"#VALUE!"}]
["","","","","","",{"$error":"#VALUE!"},{"$error":"#VALUE!"}]
["","","","","","",{"$error":"#VALUE!"},{"$error":"#VALUE!"}]
["","","","","","",{"$error":"#VALUE!"},{"$error":"#VALUE!"}]
["","","","","","",{"$error":"#VALUE!"},{"$error":"#VALUE!"}]
["","","","","","",{"$error":"#VALUE!"},{"$error":"#VALUE!"}]
["","","","","","",{"$error":"#VALUE!"},{"$error":"#VALUE!"}]
["","","","","","",{"$error":"#VALUE!"},{"$error":"#VALUE!"}]
["","","","","","",{"$error":"#VALUE!"},{"$error":"#VALUE!"}]
["","","","","","",{"$error":"#VALUE!"},{"$error":"#VALUE!"}]
["","","","","","",{"$error":"#VALUE!"},{"$error":"#VALUE!"}]
["","","","","","",{"$error":"#VALUE!"},{"$error":"#VALUE!"}]
["","","","","","",{"$error":"#VALUE!"},{"$error":"#VALUE!"}]
["","","","","","",{"$error":"#VALUE!"},{"$error":"#VALUE!"}]
["","","","","","",{"$error":"#VALUE!"},{"$error":"#VALUE!"}]
["","","","","","",{"$error":"#VALUE!"},{"$error":"#VALUE!"}]
["","","","","","",{"$error":"#VALUE!"},{"$error":"#VALUE!"}]
["","","","","","",{"$error":"#VALUE!"},{"$error":"#VALUE!"}]
["","","","","","",{"$error":"#VALUE!"},{"$error":"#VALUE!"}]
["","","","","","",{"$error":"#VALUE!"},{"$error":"#VALUE!"}]
["","","","","","",{"$error":"#VALUE!"},{"$error":"#VALUE!"}]
["","","","","","",{"$error":"#VALUE!"},{"$error":"#VALUE!"}]
["","","","","","",{"$error":"#VALUE!"},{"$error":"#VALUE!"}]
["","","","","","",{"$error":"#VALUE!"},{"$error":"#VALUE!"}]
["","","","","","",{"$error":"#VALUE!"},{"$error":"#VALUE!"}]
["","","","","","",{"$error":"#VALUE!"},{"$error":"#VALUE!"}]
["","","","","","",{"$error":"#VALUE!"},{"$error":"#VALUE!"}]
["","","","","","",{"$error":"#VALUE!"},{"$error":"#VALUE!"}]
["","","","","","",{"$error":"#VALUE!"},{"$error":"#VALUE!"}]
["","","","","","",{"$error":"#VALUE!"},{"$error":"#VALUE!"}]
["","","","","","",{"$error":"#VALUE!"},{"$error":"#VALUE!"}]
["","","",{"$f":"IF(A2197<>\"\",MOD(B2197,24)/24,\"\")","v":""},"","",{"$f":"ABS(0.5*1.025*1*(F2197^3))","v":{"$error":"#VALUE!"}},{"$f":"G2197*$B$13","v":{"$error":"#VALUE!"}}]
[{"$f":"IF(IF(A2197<>\"\",A2197+1<=$B$16,0),A2197+1,\"\")","v":""},{"$f":"IF(A2198<>\"\",A2198*$B$13,\"\")","v":""},{"$f":"IF(A2198<>\"\",ROUNDDOWN(A2198*$B$13/24,0),\"\")","v":""},"",{"$f":"IF(A2198<>\"\",($B$4+$B$5)/2+($B$5-$B$4)/2*COS(2*PI()/$B$15*B2198),\"\")","v":""},{"$f":"IF(A2198<>\"\",E2198*COS(2*PI()/$B$7*B2198),\"\")","v":""},{"$error":"#VALUE!"},{"$error":"#VALUE!"}]
["","","","","","",{"$error":"#VALUE!"},{"$error":"#VALUE!"}]
["","","","","","",{"$error":"#VALUE!"},{"$error":"#VALUE!"}]
["","","","","","",{"$error":"#VALUE!"},{"$error":"#VALUE!"}]
["","","","","","",{"$error":"#VALUE!"},{"$error":"#VALUE!"}]
["","","","","","",{"$error":"#VALUE!"},{"$error":"#VALUE!"}]
["","","","","","",{"$error":"#VALUE!"},{"$error":"#VALUE!"}]
["","","","","","",{"$error":"#VALUE!"},{"$error":"#VALUE!"}]
["","","","","","",{"$error":"#VALUE!"},{"$error":"#VALUE!"}]
["","","","","","",{"$error":"#VALUE!"},{"$error":"#VALUE!"}]
["","","","","","",{"$error":"#VALUE!"},{"$error":"#VALUE!"}]
["","","","","","",{"$error":"#VALUE!"},{"$error":"#VALUE!"}]
["","","","","","",{"$error":"#VALUE!"},{"$error":"#VALUE!"}]
["","","","","","",{"$error":"#VALUE!"},{"$error":"#VALUE!"}]
["","","","","","",{"$error":"#VALUE!"},{"$error":"#VALUE!"}]
["","","","","","",{"$error":"#VALUE!"},{"$error":"#VALUE!"}]
["","","","","","",{"$error":"#VALUE!"},{"$error":"#VALUE!"}]
["","","","","","",{"$error":"#VALUE!"},{"$error":"#VALUE!"}]
["","","","","","",{"$error":"#VALUE!"},{"$error":"#VALUE!"}]
["","","","","","",{"$error":"#VALUE!"},{"$error":"#VALUE!"}]
["","","","","","",{"$error":"#VALUE!"},{"$error":"#VALUE!"}]
["","","","","","",{"$error":"#VALUE!"},{"$error":"#VALUE!"}]
["","","","","","",{"$error":"#VALUE!"},{"$error":"#VALUE!"}]
["","","","","","",{"$error":"#VALUE!"},{"$error":"#VALUE!"}]
["","","","","","",{"$error":"#VALUE!"},{"$error":"#VALUE!"}]
["","","","","","",{"$error":"#VALUE!"},{"$error":"#VALUE!"}]
["","","","","","",{"$error":"#VALUE!"},{"$error":"#VALUE!"}]
["","","","","","",{"$error":"#VALUE!"},{"$error":"#VALUE!"}]
["","","","","","",{"$error":"#VALUE!"},{"$error":"#VALUE!"}]
["","","","","","",{"$error":"#VALUE!"},{"$error":"#VALUE!"}]
["","","","","","",{"$error":"#VALUE!"},{"$error":"#VALUE!"}]
["","","","","","",{"$error":"#VALUE!"},{"$error":"#VALUE!"}]
["","","","","","",{"$error":"#VALUE!"},{"$error":"#VALUE!"}]
["","","","","","",{"$error":"#VALUE!"},{"$error":"#VALUE!"}]
["","","","","","",{"$error":"#VALUE!"},{"$error":"#VALUE!"}]
["","","","","","",{"$error":"#VALUE!"},{"$error":"#VALUE!"}]
["","","","","","",{"$error":"#VALUE!"},{"$error":"#VALUE!"}]
["","","","","","",{"$error":"#VALUE!"},{"$error":"#VALUE!"}]
["","","","","","",{"$error":"#VALUE!"},{"$error":"#VALUE!"}]
["","","","","","",{"$error":"#VALUE!"},{"$error":"#VALUE!"}]
["","","","","","",{"$error":"#VALUE!"},{"$error":"#VALUE!"}]
["","","","","","",{"$error":"#VALUE!"},{"$error":"#VALUE!"}]
["","","","","","",{"$error":"#VALUE!"},{"$error":"#VALUE!"}]
["","","","","","",{"$error":"#VALUE!"},{"$error":"#VALUE!"}]
["","","","","","",{"$error":"#VALUE!"},{"$error":"#VALUE!"}]
["","","","","","",{"$error":"#VALUE!"},{"$error":"#VALUE!"}]
["","","","","","",{"$error":"#VALUE!"},{"$error":"#VALUE!"}]
["","","","","","",{"$error":"#VALUE!"},{"$error":"#VALUE!"}]
["","","","","","",{"$error":"#VALUE!"},{"$error":"#VALUE!"}]
["","","","","","",{"$error":"#VALUE!"},{"$error":"#VALUE!"}]
["","","","","","",{"$error":"#VALUE!"},{"$error":"#VALUE!"}]
["","","","","","",{"$error":"#VALUE!"},{"$error":"#VALUE!"}]
["","","","","","",{"$error":"#VALUE!"},{"$error":"#VALUE!"}]
["","","","","","",{"$error":"#VALUE!"},{"$error":"#VALUE!"}]
["","","","","","",{"$error":"#VALUE!"},{"$error":"#VALUE!"}]
["","","","","","",{"$error":"#VALUE!"},{"$error":"#VALUE!"}]
["","","","","","",{"$error":"#VALUE!"},{"$error":"#VALUE!"}]
["","","","","","",{"$error":"#VALUE!"},{"$error":"#VALUE!"}]
["","","","","","",{"$error":"#VALUE!"},{"$error":"#VALUE!"}]
["","","","","","",{"$error":"#VALUE!"},{"$error":"#VALUE!"}]
["","","","","","",{"$error":"#VALUE!"},{"$error":"#VALUE!"}]
["","","","","","",{"$error":"#VALUE!"},{"$error":"#VALUE!"}]
["","","","","","",{"$error":"#VALUE!"},{"$error":"#VALUE!"}]
["","","",{"$f":"IF(A2261<>\"\",MOD(B2261,24)/24,\"\")","v":""},"","",{"$f":"ABS(0.5*1.025*1*(F2261^3))","v":{"$error":"#VALUE!"}},{"$f":"G2261*$B$13","v":{"$error":"#VALUE!"}}]
[{"$f":"IF(IF(A2261<>\"\",A2261+1<=$B$16,0),A2261+1,\"\")","v":""},{"$f":"IF(A2262<>\"\",A2262*$B$13,\"\")","v":""},{"$f":"IF(A2262<>\"\",ROUNDDOWN(A2262*$B$13/24,0),\"\")","v":""},"",{"$f":"IF(A2262<>\"\",($B$4+$B$5)/2+($B$5-$B$4)/2*COS(2*PI()/$B$15*B2262),\"\")","v":""},{"$f":"IF(A2262<>\"\",E2262*COS(2*PI()/$B$7*B2262),\"\")","v":""},{"$error":"#VALUE!"},{"$error":"#VALUE!"}]
["","","","","","",{"$error":"#VALUE!"},{"$error":"#VALUE!"}]
["","","","","","",{"$error":"#VALUE!"},{"$error":"#VALUE!"}]
["","","","","","",{"$error":"#VALUE!"},{"$error":"#VALUE!"}]
["","","","","","",{"$error":"#VALUE!"},{"$error":"#VALUE!"}]
["","","","","","",{"$error":"#VALUE!"},{"$error":"#VALUE!"}]
["","","","","","",{"$error":"#VALUE!"},{"$error":"#VALUE!"}]
["","","","","","",{"$error":"#VALUE!"},{"$error":"#VALUE!"}]
["","","","","","",{"$error":"#VALUE!"},{"$error":"#VALUE!"}]
["","","","","","",{"$error":"#VALUE!"},{"$error":"#VALUE!"}]
["","","","","","",{"$error":"#VALUE!"},{"$error":"#VALUE!"}]
["","","","","","",{"$error":"#VALUE!"},{"$error":"#VALUE!"}]
["","","","","","",{"$error":"#VALUE!"},{"$error":"#VALUE!"}]
["","","","","","",{"$error":"#VALUE!"},{"$error":"#VALUE!"}]
["","","","","","",{"$error":"#VALUE!"},{"$error":"#VALUE!"}]
["","","","","","",{"$error":"#VALUE!"},{"$error":"#VALUE!"}]
["","","","","","",{"$error":"#VALUE!"},{"$error":"#VALUE!"}]
["","","","","","",{"$error":"#VALUE!"},{"$error":"#VALUE!"}]
["","","","","","",{"$error":"#VALUE!"},{"$error":"#VALUE!"}]
["","","","","","",{"$error":"#VALUE!"},{"$error":"#VALUE!"}]
["","","","","","",{"$error":"#VALUE!"},{"$error":"#VALUE!"}]
["","","","","","",{"$error":"#VALUE!"},{"$error":"#VALUE!"}]
["","","","","","",{"$error":"#VALUE!"},{"$error":"#VALUE!"}]
["","","","","","",{"$error":"#VALUE!"},{"$error":"#VALUE!"}]
["","","","","","",{"$error":"#VALUE!"},{"$error":"#VALUE!"}]
["","","","","","",{"$error":"#VALUE!"},{"$error":"#VALUE!"}]
["","","","","","",{"$error":"#VALUE!"},{"$error":"#VALUE!"}]
["","","","","","",{"$error":"#VALUE!"},{"$error":"#VALUE!"}]
["","","","","","",{"$error":"#VALUE!"},{"$error":"#VALUE!"}]
["","","","","","",{"$error":"#VALUE!"},{"$error":"#VALUE!"}]
["","","","","","",{"$error":"#VALUE!"},{"$error":"#VALUE!"}]
["","","","","","",{"$error":"#VALUE!"},{"$error":"#VALUE!"}]
["","","","","","",{"$error":"#VALUE!"},{"$error":"#VALUE!"}]
["","","","","","",{"$error":"#VALUE!"},{"$error":"#VALUE!"}]
["","","","","","",{"$error":"#VALUE!"},{"$error":"#VALUE!"}]
["","","","","","",{"$error":"#VALUE!"},{"$error":"#VALUE!"}]
["","","","","","",{"$error":"#VALUE!"},{"$error":"#VALUE!"}]
["","","","","","",{"$error":"#VALUE!"},{"$error":"#VALUE!"}]
["","","","","","",{"$error":"#VALUE!"},{"$error":"#VALUE!"}]
["","","","","","",{"$error":"#VALUE!"},{"$error":"#VALUE!"}]
["","","","","","",{"$error":"#VALUE!"},{"$error":"#VALUE!"}]
["","","","","","",{"$error":"#VALUE!"},{"$error":"#VALUE!"}]
["","","","","","",{"$error":"#VALUE!"},{"$error":"#VALUE!"}]
["","","","","","",{"$error":"#VALUE!"},{"$error":"#VALUE!"}]
["","","","","","",{"$error":"#VALUE!"},{"$error":"#VALUE!"}]
["","","","","","",{"$error":"#VALUE!"},{"$error":"#VALUE!"}]
["","","","","","",{"$error":"#VALUE!"},{"$error":"#VALUE!"}]
["","","","","","",{"$error":"#VALUE!"},{"$error":"#VALUE!"}]
["","","","","","",{"$error":"#VALUE!"},{"$error":"#VALUE!"}]
["","","","","","",{"$error":"#VALUE!"},{"$error":"#VALUE!"}]
["","","","","","",{"$error":"#VALUE!"},{"$error":"#VALUE!"}]
["","","","","","",{"$error":"#VALUE!"},{"$error":"#VALUE!"}]
["","","","","","",{"$error":"#VALUE!"},{"$error":"#VALUE!"}]
["","","","","","",{"$error":"#VALUE!"},{"$error":"#VALUE!"}]
["","","","","","",{"$error":"#VALUE!"},{"$error":"#VALUE!"}]
["","","","","","",{"$error":"#VALUE!"},{"$error":"#VALUE!"}]
["","","","","","",{"$error":"#VALUE!"},{"$error":"#VALUE!"}]
["","","","","","",{"$error":"#VALUE!"},{"$error":"#VALUE!"}]
["","","","","","",{"$error":"#VALUE!"},{"$error":"#VALUE!"}]
["","","","","","",{"$error":"#VALUE!"},{"$error":"#VALUE!"}]
["","","","","","",{"$error":"#VALUE!"},{"$error":"#VALUE!"}]
["","","","","","",{"$error":"#VALUE!"},{"$error":"#VALUE!"}]
["","","","","","",{"$error":"#VALUE!"},{"$error":"#VALUE!"}]
["","","",{"$f":"IF(A2325<>\"\",MOD(B2325,24)/24,\"\")","v":""},"","",{"$f":"ABS(0.5*1.025*1*(F2325^3))","v":{"$error":"#VALUE!"}},{"$f":"G2325*$B$13","v":{"$error":"#VALUE!"}}]
[{"$f":"IF(IF(A2325<>\"\",A2325+1<=$B$16,0),A2325+1,\"\")","v":""},{"$f":"IF(A2326<>\"\",A2326*$B$13,\"\")","v":""},{"$f":"IF(A2326<>\"\",ROUNDDOWN(A2326*$B$13/24,0),\"\")","v":""},"",{"$f":"IF(A2326<>\"\",($B$4+$B$5)/2+($B$5-$B$4)/2*COS(2*PI()/$B$15*B2326),\"\")","v":""},{"$f":"IF(A2326<>\"\",E2326*COS(2*PI()/$B$7*B2326),\"\")","v":""},{"$error":"#VALUE!"},{"$error":"#VALUE!"}]
["","","","","","",{"$error":"#VALUE!"},{"$error":"#VALUE!"}]
["","","","","","",{"$error":"#VALUE!"},{"$error":"#VALUE!"}]
["","","","","","",{"$error":"#VALUE!"},{"$error":"#VALUE!"}]
["","","","","","",{"$error":"#VALUE!"},{"$error":"#VALUE!"}]
["","","","","","",{"$error":"#VALUE!"},{"$error":"#VALUE!"}]
["","","","","","",{"$error":"#VALUE!"},{"$error":"#VALUE!"}]
["","","","","","",{"$error":"#VALUE!"},{"$error":"#VALUE!"}]
["","","","","","",{"$error":"#VALUE!"},{"$error":"#VALUE!"}]
["","","","","","",{"$error":"#VALUE!"},{"$error":"#VALUE!"}]
["","","","","","",{"$error":"#VALUE!"},{"$error":"#VALUE!"}]
["","","","","","",{"$error":"#VALUE!"},{"$error":"#VALUE!"}]
["","","","","","",{"$error":"#VALUE!"},{"$error":"#VALUE!"}]
["","","","","","",{"$error":"#VALUE!"},{"$error":"#VALUE!"}]
["","","","","","",{"$error":"#VALUE!"},{"$error":"#VALUE!"}]
["","","","","","",{"$error":"#VALUE!"},{"$error":"#VALUE!"}]
["","","","","","",{"$error":"#VALUE!"},{"$error":"#VALUE!"}]
["","","","","","",{"$error":"#VALUE!"},{"$error":"#VALUE!"}]
["","","","","","",{"$error":"#VALUE!"},{"$error":"#VALUE!"}]
["","","","","","",{"$error":"#VALUE!"},{"$error":"#VALUE!"}]
["","","","","","",{"$error":"#VALUE!"},{"$error":"#VALUE!"}]
["","","","","","",{"$error":"#VALUE!"},{"$error":"#VALUE!"}]
["","","","","","",{"$error":"#VALUE!"},{"$error":"#VALUE!"}]
["","","","","","",{"$error":"#VALUE!"},{"$error":"#VALUE!"}]
["","","","","","",{"$error":"#VALUE!"},{"$error":"#VALUE!"}]
["","","","","","",{"$error":"#VALUE!"},{"$error":"#VALUE!"}]
["","","","","","",{"$error":"#VALUE!"},{"$error":"#VALUE!"}]
["","","","","","",{"$error":"#VALUE!"},{"$error":"#VALUE!"}]
["","","","","","",{"$error":"#VALUE!"},{"$error":"#VALUE!"}]
["","","","","","",{"$error":"#VALUE!"},{"$error":"#VALUE!"}]
["","","","","","",{"$error":"#VALUE!"},{"$error":"#VALUE!"}]
["","","","","","",{"$error":"#VALUE!"},{"$error":"#VALUE!"}]
["","","","","","",{"$error":"#VALUE!"},{"$error":"#VALUE!"}]
["","","","","","",{"$error":"#VALUE!"},{"$error":"#VALUE!"}]
["","","","","","",{"$error":"#VALUE!"},{"$error":"#VALUE!"}]
["","","","","","",{"$error":"#VALUE!"},{"$error":"#VALUE!"}]
["","","","","","",{"$error":"#VALUE!"},{"$error":"#VALUE!"}]
["","","","","","",{"$error":"#VALUE!"},{"$error":"#VALUE!"}]
["","","","","","",{"$error":"#VALUE!"},{"$error":"#VALUE!"}]
["","","","","","",{"$error":"#VALUE!"},{"$error":"#VALUE!"}]
["","","","","","",{"$error":"#VALUE!"},{"$error":"#VALUE!"}]
["","","","","","",{"$error":"#VALUE!"},{"$error":"#VALUE!"}]
["","","","","","",{"$error":"#VALUE!"},{"$error":"#VALUE!"}]
["","","","","","",{"$error":"#VALUE!"},{"$error":"#VALUE!"}]
["","","","","","",{"$error":"#VALUE!"},{"$error":"#VALUE!"}]
["","","","","","",{"$error":"#VALUE!"},{"$error":"#VALUE!"}]
["","","","","","",{"$error":"#VALUE!"},{"$error":"#VALUE!"}]
["","","","","","",{"$error":"#VALUE!"},{"$error":"#VALUE!"}]
["","","","","","",{"$error":"#VALUE!"},{"$error":"#VALUE!"}]
["","","","","","",{"$error":"#VALUE!"},{"$error":"#VALUE!"}]
["","","","","","",{"$error":"#VALUE!"},{"$error":"#VALUE!"}]
["","","","","","",{"$error":"#VALUE!"},{"$error":"#VALUE!"}]
["","","","","","",{"$error":"#VALUE!"},{"$error":"#VALUE!"}]
["","","","","","",{"$error":"#VALUE!"},{"$error":"#VALUE!"}]
["","","","","","",{"$error":"#VALUE!"},{"$error":"#VALUE!"}]
["","","","","","",{"$error":"#VALUE!"},{"$error":"#VALUE!"}]
["","","","","","",{"$error":"#VALUE!"},{"$error":"#VALUE!"}]
["","","","","","",{"$error":"#VALUE!"},{"$error":"#VALUE!"}]
["","","","","","",{"$error":"#VALUE!"},{"$error":"#VALUE!"}]
["","","","","","",{"$error":"#VALUE!"},{"$error":"#VALUE!"}]
["","","","","","",{"$error":"#VALUE!"},{"$error":"#VALUE!"}]
["","","","","","",{"$error":"#VALUE!"},{"$error":"#VALUE!"}]
["","","","","","",{"$error":"#VALUE!"},{"$error":"#VALUE!"}]
["","","",{"$f":"IF(A2389<>\"\",MOD(B2389,24)/24,\"\")","v":""},"","",{"$f":"ABS(0.5*1.025*1*(F2389^3))","v":{"$error":"#VALUE!"}},{"$f":"G2389*$B$13","v":{"$error":"#VALUE!"}}]
[{"$f":"IF(IF(A2389<>\"\",A2389+1<=$B$16,0),A2389+1,\"\")","v":""},{"$f":"IF(A2390<>\"\",A2390*$B$13,\"\")","v":""},{"$f":"IF(A2390<>\"\",ROUNDDOWN(A2390*$B$13/24,0),\"\")","v":""},"",{"$f":"IF(A2390<>\"\",($B$4+$B$5)/2+($B$5-$B$4)/2*COS(2*PI()/$B$15*B2390),\"\")","v":""},{"$f":"IF(A2390<>\"\",E2390*COS(2*PI()/$B$7*B2390),\"\")","v":""},{"$error":"#VALUE!"},{"$error":"#VALUE!"}]
["","","","","","",{"$error":"#VALUE!"},{"$error":"#VALUE!"}]
["","","","","","",{"$error":"#VALUE!"},{"$error":"#VALUE!"}]
["","","","","","",{"$error":"#VALUE!"},{"$error":"#VALUE!"}]
["","","","","","",{"$error":"#VALUE!"},{"$error":"#VALUE!"}]
["","","","","","",{"$error":"#VALUE!"},{"$error":"#VALUE!"}]
["","","","","","",{"$error":"#VALUE!"},{"$error":"#VALUE!"}]
["","","","","","",{"$error":"#VALUE!"},{"$error":"#VALUE!"}]
["","","","","","",{"$error":"#VALUE!"},{"$error":"#VALUE!"}]
["","","","","","",{"$error":"#VALUE!"},{"$error":"#VALUE!"}]
["","","","","","",{"$error":"#VALUE!"},{"$error":"#VALUE!"}]
["","","","","","",{"$error":"#VALUE!"},{"$error":"#VALUE!"}]
["","","","","","",{"$error":"#VALUE!"},{"$error":"#VALUE!"}]
["","","","","","",{"$error":"#VALUE!"},{"$error":"#VALUE!"}]
["","","","","","",{"$error":"#VALUE!"},{"$error":"#VALUE!"}]
["","","","","","",{"$error":"#VALUE!"},{"$error":"#VALUE!"}]
["","","","","","",{"$error":"#VALUE!"},{"$error":"#VALUE!"}]
["","","","","","",{"$error":"#VALUE!"},{"$error":"#VALUE!"}]
["","","","","","",{"$error":"#VALUE!"},{"$error":"#VALUE!"}]
["","","","","","",{"$error":"#VALUE!"},{"$error":"#VALUE!"}]
["","","","","","",{"$error":"#VALUE!"},{"$error":"#VALUE!"}]
["","","","","","",{"$error":"#VALUE!"},{"$error":"#VALUE!"}]
["","","","","","",{"$error":"#VALUE!"},{"$error":"#VALUE!"}]
["","","","","","",{"$error":"#VALUE!"},{"$error":"#VALUE!"}]
["","","","","","",{"$error":"#VALUE!"},{"$error":"#VALUE!"}]
["","","","","","",{"$error":"#VALUE!"},{"$error":"#VALUE!"}]
["","","","","","",{"$error":"#VALUE!"},{"$error":"#VALUE!"}]
["","","","","","",{"$error":"#VALUE!"},{"$error":"#VALUE!"}]
["","","","","","",{"$error":"#VALUE!"},{"$error":"#VALUE!"}]
["","","","","","",{"$error":"#VALUE!"},{"$error":"#VALUE!"}]
["","","","","","",{"$error":"#VALUE!"},{"$error":"#VALUE!"}]
["","","","","","",{"$error":"#VALUE!"},{"$error":"#VALUE!"}]
["","","","","","",{"$error":"#VALUE!"},{"$error":"#VALUE!"}]
["","","","","","",{"$error":"#VALUE!"},{"$error":"#VALUE!"}]
["","","","","","",{"$error":"#VALUE!"},{"$error":"#VALUE!"}]
["","","","","","",{"$error":"#VALUE!"},{"$error":"#VALUE!"}]
["","","","","","",{"$error":"#VALUE!"},{"$error":"#VALUE!"}]
["","","","","","",{"$error":"#VALUE!"},{"$error":"#VALUE!"}]
["","","","","","",{"$error":"#VALUE!"},{"$error":"#VALUE!"}]
["","","","","","",{"$error":"#VALUE!"},{"$error":"#VALUE!"}]
["","","","","","",{"$error":"#VALUE!"},{"$error":"#VALUE!"}]
["","","","","","",{"$error":"#VALUE!"},{"$error":"#VALUE!"}]
["","","","","","",{"$error":"#VALUE!"},{"$error":"#VALUE!"}]
["","","","","","",{"$error":"#VALUE!"},{"$error":"#VALUE!"}]
["","","","","","",{"$error":"#VALUE!"},{"$error":"#VALUE!"}]
["","","","","","",{"$error":"#VALUE!"},{"$error":"#VALUE!"}]
["","","","","","",{"$error":"#VALUE!"},{"$error":"#VALUE!"}]
["","","","","","",{"$error":"#VALUE!"},{"$error":"#VALUE!"}]
["","","","","","",{"$error":"#VALUE!"},{"$error":"#VALUE!"}]
["","","","","","",{"$error":"#VALUE!"},{"$error":"#VALUE!"}]
["","","","","","",{"$error":"#VALUE!"},{"$error":"#VALUE!"}]
["","","","","","",{"$error":"#VALUE!"},{"$error":"#VALUE!"}]
["","","","","","",{"$error":"#VALUE!"},{"$error":"#VALUE!"}]
["","","","","","",{"$error":"#VALUE!"},{"$error":"#VALUE!"}]
["","","","","","",{"$error":"#VALUE!"},{"$error":"#VALUE!"}]
["","","","","","",{"$error":"#VALUE!"},{"$error":"#VALUE!"}]
["","","","","","",{"$error":"#VALUE!"},{"$error":"#VALUE!"}]
["","","","","","",{"$error":"#VALUE!"},{"$error":"#VALUE!"}]
["","","","","","",{"$error":"#VALUE!"},{"$error":"#VALUE!"}]
["","","","","","",{"$error":"#VALUE!"},{"$error":"#VALUE!"}]
["","","","","","",{"$error":"#VALUE!"},{"$error":"#VALUE!"}]
["","","","","","",{"$error":"#VALUE!"},{"$error":"#VALUE!"}]
["","","","","","",{"$error":"#VALUE!"},{"$error":"#VALUE!"}]
["","","",{"$f":"IF(A2453<>\"\",MOD(B2453,24)/24,\"\")","v":""},"","",{"$f":"ABS(0.5*1.025*1*(F2453^3))","v":{"$error":"#VALUE!"}},{"$f":"G2453*$B$13","v":{"$error":"#VALUE!"}}]
[{"$f":"IF(IF(A2453<>\"\",A2453+1<=$B$16,0),A2453+1,\"\")","v":""},{"$f":"IF(A2454<>\"\",A2454*$B$13,\"\")","v":""},{"$f":"IF(A2454<>\"\",ROUNDDOWN(A2454*$B$13/24,0),\"\")","v":""},"",{"$f":"IF(A2454<>\"\",($B$4+$B$5)/2+($B$5-$B$4)/2*COS(2*PI()/$B$15*B2454),\"\")","v":""},{"$f":"IF(A2454<>\"\",E2454*COS(2*PI()/$B$7*B2454),\"\")","v":""},{"$error":"#VALUE!"},{"$error":"#VALUE!"}]
["","","","","","",{"$error":"#VALUE!"},{"$error":"#VALUE!"}]
["","","","","","",{"$error":"#VALUE!"},{"$error":"#VALUE!"}]
["","","","","","",{"$error":"#VALUE!"},{"$error":"#VALUE!"}]
["","","","","","",{"$error":"#VALUE!"},{"$error":"#VALUE!"}]
["","","","","","",{"$error":"#VALUE!"},{"$error":"#VALUE!"}]
["","","","","","",{"$error":"#VALUE!"},{"$error":"#VALUE!"}]
["","","","","","",{"$error":"#VALUE!"},{"$error":"#VALUE!"}]
["","","","","","",{"$error":"#VALUE!"},{"$error":"#VALUE!"}]
["","","","","","",{"$error":"#VALUE!"},{"$error":"#VALUE!"}]
["","","","","","",{"$error":"#VALUE!"},{"$error":"#VALUE!"}]
["","","","","","",{"$error":"#VALUE!"},{"$error":"#VALUE!"}]
["","","","","","",{"$error":"#VALUE!"},{"$error":"#VALUE!"}]
["","","","","","",{"$error":"#VALUE!"},{"$error":"#VALUE!"}]
["","","","","","",{"$error":"#VALUE!"},{"$error":"#VALUE!"}]
["","","","","","",{"$error":"#VALUE!"},{"$error":"#VALUE!"}]
["","","","","","",{"$error":"#VALUE!"},{"$error":"#VALUE!"}]
["","","","","","",{"$error":"#VALUE!"},{"$error":"#VALUE!"}]
["","","","","","",{"$error":"#VALUE!"},{"$error":"#VALUE!"}]
["","","","","","",{"$error":"#VALUE!"},{"$error":"#VALUE!"}]
["","","","","","",{"$error":"#VALUE!"},{"$error":"#VALUE!"}]
["","","","","","",{"$error":"#VALUE!"},{"$error":"#VALUE!"}]
["","","","","","",{"$error":"#VALUE!"},{"$error":"#VALUE!"}]
["","","","","","",{"$error":"#VALUE!"},{"$error":"#VALUE!"}]
["","","","","","",{"$error":"#VALUE!"},{"$error":"#VALUE!"}]
["","","","","","",{"$error":"#VALUE!"},{"$error":"#VALUE!"}]
["","","","","","",{"$error":"#VALUE!"},{"$error":"#VALUE!"}]
["","","","","","",{"$error":"#VALUE!"},{"$error":"#VALUE!"}]
["","","","","","",{"$error":"#VALUE!"},{"$error":"#VALUE!"}]
["","","","","","",{"$error":"#VALUE!"},{"$error":"#VALUE!"}]
["","","","","","",{"$error":"#VALUE!"},{"$error":"#VALUE!"}]
["","","","","","",{"$error":"#VALUE!"},{"$error":"#VALUE!"}]
["","","","","","",{"$error":"#VALUE!"},{"$error":"#VALUE!"}]
["","","","","","",{"$error":"#VALUE!"},{"$error":"#VALUE!"}]
["","","","","","",{"$error":"#VALUE!"},{"$error":"#VALUE!"}]
["","","","","","",{"$error":"#VALUE!"},{"$error":"#VALUE!"}]
["","","","","","",{"$error":"#VALUE!"},{"$error":"#VALUE!"}]
["","","","","","",{"$error":"#VALUE!"},{"$error":"#VALUE!"}]
["","","","","","",{"$error":"#VALUE!"},{"$error":"#VALUE!"}]
["","","","","","",{"$error":"#VALUE!"},{"$error":"#VALUE!"}]
["","","","","","",{"$error":"#VALUE!"},{"$error":"#VALUE!"}]
["","","","","","",{"$error":"#VALUE!"},{"$error":"#VALUE!"}]
["","","","","","",{"$error":"#VALUE!"},{"$error":"#VALUE!"}]
["","","","","","",{"$error":"#VALUE!"},{"$error":"#VALUE!"}]
["","","","","","",{"$error":"#VALUE!"},{"$error":"#VALUE!"}]
["","","","","","",{"$error":"#VALUE!"},{"$error":"#VALUE!"}]
["","","","","","",{"$error":"#VALUE!"},{"$error":"#VALUE!"}]
["","","","","","",{"$error":"#VALUE!"},{"$error":"#VALUE!"}]
["","","","","","",{"$error":"#VALUE!"},{"$error":"#VALUE!"}]
["","","","","","",{"$error":"#VALUE!"},{"$error":"#VALUE!"}]
["","","","","","",{"$error":"#VALUE!"},{"$error":"#VALUE!"}]
["","","","","","",{"$error":"#VALUE!"},{"$error":"#VALUE!"}]
["","","","","","",{"$error":"#VALUE!"},{"$error":"#VALUE!"}]
["","","","","","",{"$error":"#VALUE!"},{"$error":"#VALUE!"}]
["","","","","","",{"$error":"#VALUE!"},{"$error":"#VALUE!"}]
["","","","","","",{"$error":"#VALUE!"},{"$error":"#VALUE!"}]
["","","","","","",{"$error":"#VALUE!"},{"$error":"#VALUE!"}]
["","","","","","",{"$error":"#VALUE!"},{"$error":"#VALUE!"}]
["","","","","","",{"$error":"#VALUE!"},{"$error":"#VALUE!"}]
["","","","","","",{"$error":"#VALUE!"},{"$error":"#VALUE!"}]
["","","","","","",{"$error":"#VALUE!"},{"$error":"#VALUE!"}]
["","","","","","",{"$error":"#VALUE!"},{"$error":"#VALUE!"}]
["","","","","","",{"$error":"#VALUE!"},{"$error":"#VALUE!"}]
["","","",{"$f":"IF(A2517<>\"\",MOD(B2517,24)/24,\"\")","v":""},"","",{"$f":"ABS(0.5*1.025*1*(F2517^3))","v":{"$error":"#VALUE!"}},{"$f":"G2517*$B$13","v":{"$error":"#VALUE!"}}]
[{"$f":"IF(IF(A2517<>\"\",A2517+1<=$B$16,0),A2517+1,\"\")","v":""},{"$f":"IF(A2518<>\"\",A2518*$B$13,\"\")","v":""},{"$f":"IF(A2518<>\"\",ROUNDDOWN(A2518*$B$13/24,0),\"\")","v":""},"",{"$f":"IF(A2518<>\"\",($B$4+$B$5)/2+($B$5-$B$4)/2*COS(2*PI()/$B$15*B2518),\"\")","v":""},{"$f":"IF(A2518<>\"\",E2518*COS(2*PI()/$B$7*B2518),\"\")","v":""},{"$error":"#VALUE!"},{"$error":"#VALUE!"}]
["","","","","","",{"$error":"#VALUE!"},{"$error":"#VALUE!"}]
["","","","","","",{"$error":"#VALUE!"},{"$error":"#VALUE!"}]
["","","","","","",{"$error":"#VALUE!"},{"$error":"#VALUE!"}]
["","","","","","",{"$error":"#VALUE!"},{"$error":"#VALUE!"}]
["","","","","","",{"$error":"#VALUE!"},{"$error":"#VALUE!"}]
["","","","","","",{"$error":"#VALUE!"},{"$error":"#VALUE!"}]
["","","","","","",{"$error":"#VALUE!"},{"$error":"#VALUE!"}]
["","","","","","",{"$error":"#VALUE!"},{"$error":"#VALUE!"}]
["","","","","","",{"$error":"#VALUE!"},{"$error":"#VALUE!"}]
["","","","","","",{"$error":"#VALUE!"},{"$error":"#VALUE!"}]
["","","","","","",{"$error":"#VALUE!"},{"$error":"#VALUE!"}]
["","","","","","",{"$error":"#VALUE!"},{"$error":"#VALUE!"}]
["","","","","","",{"$error":"#VALUE!"},{"$error":"#VALUE!"}]
["","","","","","",{"$error":"#VALUE!"},{"$error":"#VALUE!"}]
["","","","","","",{"$error":"#VALUE!"},{"$error":"#VALUE!"}]
["","","","","","",{"$error":"#VALUE!"},{"$error":"#VALUE!"}]
["","","","","","",{"$error":"#VALUE!"},{"$error":"#VALUE!"}]
["","","","","","",{"$error":"#VALUE!"},{"$error":"#VALUE!"}]
["","","","","","",{"$error":"#VALUE!"},{"$error":"#VALUE!"}]
["","","","","","",{"$error":"#VALUE!"},{"$error":"#VALUE!"}]
["","","","","","",{"$error":"#VALUE!"},{"$error":"#VALUE!"}]
["","","","","","",{"$error":"#VALUE!"},{"$error":"#VALUE!"}]
["","","","","","",{"$error":"#VALUE!"},{"$error":"#VALUE!"}]
["","","","","","",{"$error":"#VALUE!"},{"$error":"#VALUE!"}]
["","","","","","",{"$error":"#VALUE!"},{"$error":"#VALUE!"}]
["","","","","","",{"$error":"#VALUE!"},{"$error":"#VALUE!"}]
["","","","","","",{"$error":"#VALUE!"},{"$error":"#VALUE!"}]
["","","","","","",{"$error":"#VALUE!"},{"$error":"#VALUE!"}]
["","","","","","",{"$error":"#VALUE!"},{"$error":"#VALUE!"}]
["","","","","","",{"$error":"#VALUE!"},{"$error":"#VALUE!"}]
["","","","","","",{"$error":"#VALUE!"},{"$error":"#VALUE!"}]
["","","","","","",{"$error":"#VALUE!"},{"$error":"#VALUE!"}]
["","","","","","",{"$error":"#VALUE!"},{"$error":"#VALUE!"}]
["","","","","","",{"$error":"#VALUE!"},{"$error":"#VALUE!"}]
["","","","","","",{"$error":"#VALUE!"},{"$error":"#VALUE!"}]
["","","","","","",{"$error":"#VALUE!"},{"$error":"#VALUE!"}]
["","","","","","",{"$error":"#VALUE!"},{"$error":"#VALUE!"}]
["","","","","","",{"$error":"#VALUE!"},{"$error":"#VALUE!"}]
["","","","","","",{"$error":"#VALUE!"},{"$error":"#VALUE!"}]
["","","","","","",{"$error":"#VALUE!"},{"$error":"#VALUE!"}]
["","","","","","",{"$error":"#VALUE!"},{"$error":"#VALUE!"}]
["","","","","","",{"$error":"#VALUE!"},{"$error":"#VALUE!"}]
["","","","","","",{"$error":"#VALUE!"},{"$error":"#VALUE!"}]
["","","","","","",{"$error":"#VALUE!"},{"$error":"#VALUE!"}]
["","","","","","",{"$error":"#VALUE!"},{"$error":"#VALUE!"}]
["","","","","","",{"$error":"#VALUE!"},{"$error":"#VALUE!"}]
["","","","","","",{"$error":"#VALUE!"},{"$error":"#VALUE!"}]
["","","","","","",{"$error":"#VALUE!"},{"$error":"#VALUE!"}]
["","","","","","",{"$error":"#VALUE!"},{"$error":"#VALUE!"}]
["","","","","","",{"$error":"#VALUE!"},{"$error":"#VALUE!"}]
["","","","","","",{"$error":"#VALUE!"},{"$error":"#VALUE!"}]
["","","","","","",{"$error":"#VALUE!"},{"$error":"#VALUE!"}]
["","","","","","",{"$error":"#VALUE!"},{"$error":"#VALUE!"}]
["","","","","","",{"$error":"#VALUE!"},{"$error":"#VALUE!"}]
["","","","","","",{"$error":"#VALUE!"},{"$error":"#VALUE!"}]
["","","","","","",{"$error":"#VALUE!"},{"$error":"#VALUE!"}]
["","","","","","",{"$error":"#VALUE!"},{"$error":"#VALUE!"}]
["","","","","","",{"$error":"#VALUE!"},{"$error":"#VALUE!"}]
["","","","","","",{"$error":"#VALUE!"},{"$error":"#VALUE!"}]
["","","","","","",{"$error":"#VALUE!"},{"$error":"#VALUE!"}]
["","","","","","",{"$error":"#VALUE!"},{"$error":"#VALUE!"}]
["","","","","","",{"$error":"#VALUE!"},{"$error":"#VALUE!"}]
["","","",{"$f":"IF(A2581<>\"\",MOD(B2581,24)/24,\"\")","v":""},"","",{"$f":"ABS(0.5*1.025*1*(F2581^3))","v":{"$error":"#VALUE!"}},{"$f":"G2581*$B$13","v":{"$error":"#VALUE!"}}]
[{"$f":"IF(IF(A2581<>\"\",A2581+1<=$B$16,0),A2581+1,\"\")","v":""},{"$f":"IF(A2582<>\"\",A2582*$B$13,\"\")","v":""},{"$f":"IF(A2582<>\"\",ROUNDDOWN(A2582*$B$13/24,0),\"\")","v":""},"",{"$f":"IF(A2582<>\"\",($B$4+$B$5)/2+($B$5-$B$4)/2*COS(2*PI()/$B$15*B2582),\"\")","v":""},{"$f":"IF(A2582<>\"\",E2582*COS(2*PI()/$B$7*B2582),\"\")","v":""},{"$error":"#VALUE!"},{"$error":"#VALUE!"}]
["","","","","","",{"$error":"#VALUE!"},{"$error":"#VALUE!"}]
["","","","","","",{"$error":"#VALUE!"},{"$error":"#VALUE!"}]
["","","","","","",{"$error":"#VALUE!"},{"$error":"#VALUE!"}]
["","","","","","",{"$error":"#VALUE!"},{"$error":"#VALUE!"}]
["","","","","","",{"$error":"#VALUE!"},{"$error":"#VALUE!"}]
["","","","","","",{"$error":"#VALUE!"},{"$error":"#VALUE!"}]
["","","","","","",{"$error":"#VALUE!"},{"$error":"#VALUE!"}]
["","","","","","",{"$error":"#VALUE!"},{"$error":"#VALUE!"}]
["","","","","","",{"$error":"#VALUE!"},{"$error":"#VALUE!"}]
["","","","","","",{"$error":"#VALUE!"},{"$error":"#VALUE!"}]
["","","","","","",{"$error":"#VALUE!"},{"$error":"#VALUE!"}]
["","","","","","",{"$error":"#VALUE!"},{"$error":"#VALUE!"}]
["","","","","","",{"$error":"#VALUE!"},{"$error":"#VALUE!"}]
["","","","","","",{"$error":"#VALUE!"},{"$error":"#VALUE!"}]
["","","","","","",{"$error":"#VALUE!"},{"$error":"#VALUE!"}]
["","","","","","",{"$error":"#VALUE!"},{"$error":"#VALUE!"}]
["","","","","","",{"$error":"#VALUE!"},{"$error":"#VALUE!"}]
["","","","","","",{"$error":"#VALUE!"},{"$error":"#VALUE!"}]
["","","","","","",{"$error":"#VALUE!"},{"$error":"#VALUE!"}]
["","","","","","",{"$error":"#VALUE!"},{"$error":"#VALUE!"}]
["","","","","","",{"$error":"#VALUE!"},{"$error":"#VALUE!"}]
["","","","","","",{"$error":"#VALUE!"},{"$error":"#VALUE!"}]
["","","","","","",{"$error":"#VALUE!"},{"$error":"#VALUE!"}]
["","","","","","",{"$error":"#VALUE!"},{"$error":"#VALUE!"}]
["","","","","","",{"$error":"#VALUE!"},{"$error":"#VALUE!"}]
["","","","","","",{"$error":"#VALUE!"},{"$error":"#VALUE!"}]
["","","","","","",{"$error":"#VALUE!"},{"$error":"#VALUE!"}]
["","","","","","",{"$error":"#VALUE!"},{"$error":"#VALUE!"}]
["","","","","","",{"$error":"#VALUE!"},{"$error":"#VALUE!"}]
["","","","","","",{"$error":"#VALUE!"},{"$error":"#VALUE!"}]
["","","","","","",{"$error":"#VALUE!"},{"$error":"#VALUE!"}]
["","","","","","",{"$error":"#VALUE!"},{"$error":"#VALUE!"}]
["","","","","","",{"$error":"#VALUE!"},{"$error":"#VALUE!"}]
["","","","","","",{"$error":"#VALUE!"},{"$error":"#VALUE!"}]
["","","","","","",{"$error":"#VALUE!"},{"$error":"#VALUE!"}]
["","","","","","",{"$error":"#VALUE!"},{"$error":"#VALUE!"}]
["","","","","","",{"$error":"#VALUE!"},{"$error":"#VALUE!"}]
["","","","","","",{"$error":"#VALUE!"},{"$error":"#VALUE!"}]
["","","","","","",{"$error":"#VALUE!"},{"$error":"#VALUE!"}]
["","","","","","",{"$error":"#VALUE!"},{"$error":"#VALUE!"}]
["","","","","","",{"$error":"#VALUE!"},{"$error":"#VALUE!"}]
["","","","","","",{"$error":"#VALUE!"},{"$error":"#VALUE!"}]
["","","","","","",{"$error":"#VALUE!"},{"$error":"#VALUE!"}]
["","","","","","",{"$error":"#VALUE!"},{"$error":"#VALUE!"}]
["","","","","","",{"$error":"#VALUE!"},{"$error":"#VALUE!"}]
["","","","","","",{"$error":"#VALUE!"},{"$error":"#VALUE!"}]
["","","","","","",{"$error":"#VALUE!"},{"$error":"#VALUE!"}]
["","","","","","",{"$error":"#VALUE!"},{"$error":"#VALUE!"}]
["","","","","","",{"$error":"#VALUE!"},{"$error":"#VALUE!"}]
["","","","","","",{"$error":"#VALUE!"},{"$error":"#VALUE!"}]
["","","","","","",{"$error":"#VALUE!"},{"$error":"#VALUE!"}]
["","","","","","",{"$error":"#VALUE!"},{"$error":"#VALUE!"}]
["","","","","","",{"$error":"#VALUE!"},{"$error":"#VALUE!"}]
["","","","","","",{"$error":"#VALUE!"},{"$error":"#VALUE!"}]
["","","","","","",{"$error":"#VALUE!"},{"$error":"#VALUE!"}]
["","","","","","",{"$error":"#VALUE!"},{"$error":"#VALUE!"}]
["","","","","","",{"$error":"#VALUE!"},{"$error":"#VALUE!"}]
["","","","","","",{"$error":"#VALUE!"},{"$error":"#VALUE!"}]
["","","","","","",{"$error":"#VALUE!"},{"$error":"#VALUE!"}]
["","","","","","",{"$error":"#VALUE!"},{"$error":"#VALUE!"}]
["","","","","","",{"$error":"#VALUE!"},{"$error":"#VALUE!"}]
["","","","","","",{"$error":"#VALUE!"},{"$error":"#VALUE!"}]
["","","",{"$f":"IF(A2645<>\"\",MOD(B2645,24)/24,\"\")","v":""},"","",{"$f":"ABS(0.5*1.025*1*(F2645^3))","v":{"$error":"#VALUE!"}},{"$f":"G2645*$B$13","v":{"$error":"#VALUE!"}}]
[{"$f":"IF(IF(A2645<>\"\",A2645+1<=$B$16,0),A2645+1,\"\")","v":""},{"$f":"IF(A2646<>\"\",A2646*$B$13,\"\")","v":""},{"$f":"IF(A2646<>\"\",ROUNDDOWN(A2646*$B$13/24,0),\"\")","v":""},"",{"$f":"IF(A2646<>\"\",($B$4+$B$5)/2+($B$5-$B$4)/2*COS(2*PI()/$B$15*B2646),\"\")","v":""},{"$f":"IF(A2646<>\"\",E2646*COS(2*PI()/$B$7*B2646),\"\")","v":""},{"$error":"#VALUE!"},{"$error":"#VALUE!"}]
["","","","","","",{"$error":"#VALUE!"},{"$error":"#VALUE!"}]
["","","","","","",{"$error":"#VALUE!"},{"$error":"#VALUE!"}]
["","","","","","",{"$error":"#VALUE!"},{"$error":"#VALUE!"}]
["","","","","","",{"$error":"#VALUE!"},{"$error":"#VALUE!"}]
["","","","","","",{"$error":"#VALUE!"},{"$error":"#VALUE!"}]
["","","","","","",{"$error":"#VALUE!"},{"$error":"#VALUE!"}]
["","","","","","",{"$error":"#VALUE!"},{"$error":"#VALUE!"}]
["","","","","","",{"$error":"#VALUE!"},{"$error":"#VALUE!"}]
["","","","","","",{"$error":"#VALUE!"},{"$error":"#VALUE!"}]
["","","","","","",{"$error":"#VALUE!"},{"$error":"#VALUE!"}]
["","","","","","",{"$error":"#VALUE!"},{"$error":"#VALUE!"}]
["","","","","","",{"$error":"#VALUE!"},{"$error":"#VALUE!"}]
["","","","","","",{"$error":"#VALUE!"},{"$error":"#VALUE!"}]
["","","","","","",{"$error":"#VALUE!"},{"$error":"#VALUE!"}]
["","","","","","",{"$error":"#VALUE!"},{"$error":"#VALUE!"}]
["","","","","","",{"$error":"#VALUE!"},{"$error":"#VALUE!"}]
["","","","","","",{"$error":"#VALUE!"},{"$error":"#VALUE!"}]
["","","","","","",{"$error":"#VALUE!"},{"$error":"#VALUE!"}]
["","","","","","",{"$error":"#VALUE!"},{"$error":"#VALUE!"}]
["","","","","","",{"$error":"#VALUE!"},{"$error":"#VALUE!"}]
["","","","","","",{"$error":"#VALUE!"},{"$error":"#VALUE!"}]
["","","","","","",{"$error":"#VALUE!"},{"$error":"#VALUE!"}]
["","","","","","",{"$error":"#VALUE!"},{"$error":"#VALUE!"}]
["","","","","","",{"$error":"#VALUE!"},{"$error":"#VALUE!"}]
["","","","","","",{"$error":"#VALUE!"},{"$error":"#VALUE!"}]
["","","","","","",{"$error":"#VALUE!"},{"$error":"#VALUE!"}]
["","","","","","",{"$error":"#VALUE!"},{"$error":"#VALUE!"}]
["","","","","","",{"$error":"#VALUE!"},{"$error":"#VALUE!"}]
["","","","","","",{"$error":"#VALUE!"},{"$error":"#VALUE!"}]
["","","","","","",{"$error":"#VALUE!"},{"$error":"#VALUE!"}]
["","","","","","",{"$error":"#VALUE!"},{"$error":"#VALUE!"}]
["","","","","","",{"$error":"#VALUE!"},{"$error":"#VALUE!"}]
["","","","","","",{"$error":"#VALUE!"},{"$error":"#VALUE!"}]
["","","","","","",{"$error":"#VALUE!"},{"$error":"#VALUE!"}]
["","","","","","",{"$error":"#VALUE!"},{"$error":"#VALUE!"}]
["","","","","","",{"$error":"#VALUE!"},{"$error":"#VALUE!"}]
["","","","","","",{"$error":"#VALUE!"},{"$error":"#VALUE!"}]
["","","","","","",{"$error":"#VALUE!"},{"$error":"#VALUE!"}]
["","","","","","",{"$error":"#VALUE!"},{"$error":"#VALUE!"}]
["","","","","","",{"$error":"#VALUE!"},{"$error":"#VALUE!"}]
["","","","","","",{"$error":"#VALUE!"},{"$error":"#VALUE!"}]
["","","","","","",{"$error":"#VALUE!"},{"$error":"#VALUE!"}]
["","","","","","",{"$error":"#VALUE!"},{"$error":"#VALUE!"}]
["","","","","","",{"$error":"#VALUE!"},{"$error":"#VALUE!"}]
["","","","","","",{"$error":"#VALUE!"},{"$error":"#VALUE!"}]
["","","","","","",{"$error":"#VALUE!"},{"$error":"#VALUE!"}]
["","","","","","",{"$error":"#VALUE!"},{"$error":"#VALUE!"}]
["","","","","","",{"$error":"#VALUE!"},{"$error":"#VALUE!"}]
["","","","","","",{"$error":"#VALUE!"},{"$error":"#VALUE!"}]
["","","","","","",{"$error":"#VALUE!"},{"$error":"#VALUE!"}]
["","","","","","",{"$error":"#VALUE!"},{"$error":"#VALUE!"}]
["","","","","","",{"$error":"#VALUE!"},{"$error":"#VALUE!"}]
["","","","","","",{"$error":"#VALUE!"},{"$error":"#VALUE!"}]
["","","","","","",{"$error":"#VALUE!"},{"$error":"#VALUE!"}]
["","","","","","",{"$error":"#VALUE!"},{"$error":"#VALUE!"}]
["","","","","","",{"$error":"#VALUE!"},{"$error":"#VALUE!"}]
["","","","","","",{"$error":"#VALUE!"},{"$error":"#VALUE!"}]
["","","","","","",{"$error":"#VALUE!"},{"$error":"#VALUE!"}]
["","","","","","",{"$error":"#VALUE!"},{"$error":"#VALUE!"}]
["","","","","","",{"$error":"#VALUE!"},{"$error":"#VALUE!"}]
["","","","","","",{"$error":"#VALUE!"},{"$error":"#VALUE!"}]
["","","","","","",{"$error":"#VALUE!"},{"$error":"#VALUE!"}]
["","","",{"$f":"IF(A2709<>\"\",MOD(B2709,24)/24,\"\")","v":""},"","",{"$f":"ABS(0.5*1.025*1*(F2709^3))","v":{"$error":"#VALUE!"}},{"$f":"G2709*$B$13","v":{"$error":"#VALUE!"}}]
[{"$f":"IF(IF(A2709<>\"\",A2709+1<=$B$16,0),A2709+1,\"\")","v":""},{"$f":"IF(A2710<>\"\",A2710*$B$13,\"\")","v":""},{"$f":"IF(A2710<>\"\",ROUNDDOWN(A2710*$B$13/24,0),\"\")","v":""},"",{"$f":"IF(A2710<>\"\",($B$4+$B$5)/2+($B$5-$B$4)/2*COS(2*PI()/$B$15*B2710),\"\")","v":""},{"$f":"IF(A2710<>\"\",E2710*COS(2*PI()/$B$7*B2710),\"\")","v":""},{"$error":"#VALUE!"},{"$error":"#VALUE!"}]
["","","","","","",{"$error":"#VALUE!"},{"$error":"#VALUE!"}]
["","","","","","",{"$error":"#VALUE!"},{"$error":"#VALUE!"}]
["","","","","","",{"$error":"#VALUE!"},{"$error":"#VALUE!"}]
["","","","","","",{"$error":"#VALUE!"},{"$error":"#VALUE!"}]
["","","","","","",{"$error":"#VALUE!"},{"$error":"#VALUE!"}]
["","","","","","",{"$error":"#VALUE!"},{"$error":"#VALUE!"}]
["","","","","","",{"$error":"#VALUE!"},{"$error":"#VALUE!"}]
["","","","","","",{"$error":"#VALUE!"},{"$error":"#VALUE!"}]
["","","","","","",{"$error":"#VALUE!"},{"$error":"#VALUE!"}]
["","","","","","",{"$error":"#VALUE!"},{"$error":"#VALUE!"}]
["","","","","","",{"$error":"#VALUE!"},{"$error":"#VALUE!"}]
["","","","","","",{"$error":"#VALUE!"},{"$error":"#VALUE!"}]
["","","","","","",{"$error":"#VALUE!"},{"$error":"#VALUE!"}]
["","","","","","",{"$error":"#VALUE!"},{"$error":"#VALUE!"}]
["","","","","","",{"$error":"#VALUE!"},{"$error":"#VALUE!"}]
["","","","","","",{"$error":"#VALUE!"},{"$error":"#VALUE!"}]
["","","","","","",{"$error":"#VALUE!"},{"$error":"#VALUE!"}]
["","","","","","",{"$error":"#VALUE!"},{"$error":"#VALUE!"}]
["","","","","","",{"$error":"#VALUE!"},{"$error":"#VALUE!"}]
["","","","","","",{"$error":"#VALUE!"},{"$error":"#VALUE!"}]
["","","","","","",{"$error":"#VALUE!"},{"$error":"#VALUE!"}]
["","","","","","",{"$error":"#VALUE!"},{"$error":"#VALUE!"}]
["","","","","","",{"$error":"#VALUE!"},{"$error":"#VALUE!"}]
["","","","","","",{"$error":"#VALUE!"},{"$error":"#VALUE!"}]
["","","","","","",{"$error":"#VALUE!"},{"$error":"#VALUE!"}]
["","","","","","",{"$error":"#VALUE!"},{"$error":"#VALUE!"}]
["","","","","","",{"$error":"#VALUE!"},{"$error":"#VALUE!"}]
["","","","","","",{"$error":"#VALUE!"},{"$error":"#VALUE!"}]
["","","","","","",{"$error":"#VALUE!"},{"$error":"#VALUE!"}]
["","","","","","",{"$error":"#VALUE!"},{"$error":"#VALUE!"}]
["","","","","","",{"$error":"#VALUE!"},{"$error":"#VALUE!"}]
["","","","","","",{"$error":"#VALUE!"},{"$error":"#VALUE!"}]
["","","","","","",{"$error":"#VALUE!"},{"$error":"#VALUE!"}]
["","","","","","",{"$error":"#VALUE!"},{"$error":"#VALUE!"}]
["","","","","","",{"$error":"#VALUE!"},{"$error":"#VALUE!"}]
["","","","","","",{"$error":"#VALUE!"},{"$error":"#VALUE!"}]
["","","","","","",{"$error":"#VALUE!"},{"$error":"#VALUE!"}]
["","","","","","",{"$error":"#VALUE!"},{"$error":"#VALUE!"}]
["","","","","","",{"$error":"#VALUE!"},{"$error":"#VALUE!"}]
["","","","","","",{"$error":"#VALUE!"},{"$error":"#VALUE!"}]
["","","","","","",{"$error":"#VALUE!"},{"$error":"#VALUE!"}]
["","","","","","",{"$error":"#VALUE!"},{"$error":"#VALUE!"}]
["","","","","","",{"$error":"#VALUE!"},{"$error":"#VALUE!"}]
["","","","","","",{"$error":"#VALUE!"},{"$error":"#VALUE!"}]
["","","","","","",{"$error":"#VALUE!"},{"$error":"#VALUE!"}]
["","","","","","",{"$error":"#VALUE!"},{"$error":"#VALUE!"}]
["","","","","","",{"$error":"#VALUE!"},{"$error":"#VALUE!"}]
["","","","","","",{"$error":"#VALUE!"},{"$error":"#VALUE!"}]
["","","","","","",{"$error":"#VALUE!"},{"$error":"#VALUE!"}]
["","","","","","",{"$error":"#VALUE!"},{"$error":"#VALUE!"}]
["","","","","","",{"$error":"#VALUE!"},{"$error":"#VALUE!"}]
["","","","","","",{"$error":"#VALUE!"},{"$error":"#VALUE!"}]
["","","","","","",{"$error":"#VALUE!"},{"$error":"#VALUE!"}]
["","","","","","",{"$error":"#VALUE!"},{"$error":"#VALUE!"}]
["","","","","","",{"$error":"#VALUE!"},{"$error":"#VALUE!"}]
["","","","","","",{"$error":"#VALUE!"},{"$error":"#VALUE!"}]
["","","","","","",{"$error":"#VALUE!"},{"$error":"#VALUE!"}]
["","","","","","",{"$error":"#VALUE!"},{"$error":"#VALUE!"}]
["","","","","","",{"$error":"#VALUE!"},{"$error":"#VALUE!"}]
[{"$f":"IF(IF(A2769<>\"\",A2769+1<=$B$16,0),A2769+1,\"\")","v":""},{"$f":"IF(A2770<>\"\",A2770*$B$13,\"\")","v":""},{"$f":"IF(A2770<>\"\",ROUNDDOWN(A2770*$B$13/24,0),\"\")","v":""},"",{"$f":"IF(A2770<>\"\",($B$4+$B$5)/2+($B$5-$B$4)/2*COS(2*PI()/$B$15*B2770),\"\")","v":""},{"$f":"IF(A2770<>\"\",E2770*COS(2*PI()/$B$7*B2770),\"\")","v":""},{"$error":"#VALUE!"},{"$error":"#VALUE!"}]
[{"$f":"IF(IF(A2770<>\"\",A2770+1<=$B$16,0),A2770+1,\"\")","v":""},{"$f":"IF(A2771<>\"\",A2771*$B$13,\"\")","v":""},{"$f":"IF(A2771<>\"\",ROUNDDOWN(A2771*$B$13/24,0),\"\")","v":""},"",{"$f":"IF(A2771<>\"\",($B$4+$B$5)/2+($B$5-$B$4)/2*COS(2*PI()/$B$15*B2771),\"\")","v":""},{"$f":"IF(A2771<>\"\",E2771*COS(2*PI()/$B$7*B2771),\"\")","v":""},{"$error":"#VALUE!"},{"$error":"#VALUE!"}]
["","","","","","",{"$error":"#VALUE!"},{"$error":"#VALUE!"}]
["","","",{"$f":"IF(A2773<>\"\",MOD(B2773,24)/24,\"\")","v":""},"","",{"$f":"ABS(0.5*1.025*1*(F2773^3))","v":{"$error":"#VALUE!"}},{"$f":"G2773*$B$13","v":{"$error":"#VALUE!"}}]
["","","","","","",{"$error":"#VALUE!"},{"$error":"#VALUE!"}]
["","","","","","",{"$error":"#VALUE!"},{"$error":"#VALUE!"}]
["","","","","","",{"$error":"#VALUE!"},{"$error":"#VALUE!"}]
["","","","","","",{"$error":"#VALUE!"},{"$error":"#VALUE!"}]
["","","","","","",{"$error":"#VALUE!"},{"$error":"#VALUE!"}]
["","","","","","",{"$error":"#VALUE!"},{"$error":"#VALUE!"}]
[null,null,null,null,"Total Energy (kWh/m^2)",null,"-",{"$f":"IF(ISERROR(SUM(H20:H2779)),\"\",SUM(H20:H2779))","v":""},"per lunar cycle"]
[null,null,null,null,null,null,"-",{"$f":"IF(ISERROR(H2780*(365/$B$6)),\"\",(H2780*(365/$B$6)))","v":""},"per year"]
[null,null,null,null,"Average Power (kW/m^2)",null,{"$f":"IF(ISERROR(AVERAGE(G20:G2779)),\"\",(AVERAGE(G20:G2779)))","v":""},"-"]

{"sheet":"Tidal Stream 4","index":6,"n_rows":2782,"n_cols":9,"rows_kept":2782,"cut":false,"hidden":false,"merged":[[2781,4,2781,5],[17,0,18,0],[17,1,17,3],[2779,4,2780,5],[2,1,2,2],[7,1,7,2],[8,1,8,2],[9,1,9,2],[10,1,10,2],[13,0,14,0]]}
["Tidal Stream Resource"]
[]
[{"$f":"Input!A45","v":"Site Name"},{"$f":"IF(Input!B75<>\"\",Input!B75,\"-\")","v":"[Enter Name]"},{"$f":"Input!C45","v":0},null,null,null,null,null,"Plots:"]
[{"$f":"Input!A46","v":"Peak Flow (Springs)"},{"$f":"IF((AND(Input!B76<>\"\",Input!B76<>\"[Enter Value]\")),Input!B76,\"0\")","v":"0"},{"$f":"Input!C46","v":"m/s"}]
[{"$f":"Input!A47","v":"Peak Flow (Neaps)"},{"$f":"IF((AND(Input!B77<>\"\",Input!B77<>\"[Enter Value]\")),Input!B77,\"0\")","v":"0"},{"$f":"Input!C47","v":"m/s"}]
[{"$f":"Input!A48","v":"Lunar Cycle Period"},{"$f":"IF((AND(Input!B78<>\"\",Input!B78<>\"[Enter Value]\")),Input!B78,\"0\")","v":"0"},{"$f":"Input!C48","v":"days"}]
[{"$f":"Input!A49","v":"Tidal Period"},{"$f":"IF((AND(Input!B79<>\"\",Input!B79<>\"[Enter Value]\")),Input!B79,\"0\")","v":"0"},{"$f":"Input!C49","v":"hours"}]
[{"$f":"Input!A50","v":"Proximity to Grid Connection"},{"$f":"IF(Input!B80<>\"\",Input!B80,\"-\")","v":"[Select Value]"}]
[{"$f":"Input!A51","v":"Average Water Depth"},{"$f":"IF(Input!B81<>\"\",Input!B81,\"-\")","v":"[Select Value]"}]
[{"$f":"Input!A52","v":"Seabed Topography"},{"$f":"IF(Input!B82<>\"\",Input!B82,\"-\")","v":"[Select Value]"}]
[{"$f":"Input!A53","v":"Accessibility"},{"$f":"IF(Input!B83<>\"\",Input!B83,\"-\")","v":"[Select Value]"}]
[]
["Time Step",0.25,"hours"]
["Period",{"$f":"B6/2","v":0},"days"]
[null,{"$f":"B14*24","v":0},"hours"]
["Number of Steps",{"$f":"B15/B13*2","v":0},"-"]
[]
["No.","Time",null,null,"Amplitude","Current","Power","Energy"]
[null,"Hours","Day","Time","m/s","m/s","kW/(m^2)","kWh/(m^2)"]
[0,{"$f":"A20*$B$13","v":0},{"$f":"ROUNDDOWN(A20*$B$1/24,0)","v":0},{"$f":"MOD(B20,24)/24","v":0},{"$f":"IF(A20<>\"\",($B$4+$B$5)/2+($B$5-$B$4)/2*COS(2*PI()/$B$15*B20),\"\")","v":{"$error":"#DIV/0!"}},{"$f":"IF(A20<>\"\",E20*COS(2*PI()/$B$7*B20),\"\")","v":{"$error":"#DIV/0!"}},{"$f":"ABS(0.5*1.025*1*(F20^3))","v":{"$error":"#DIV/0!"}},{"$f":"G20*$B$13","v":{"$error":"#DIV/0!"}}]
[{"$f":"IF(IF(A20<>\"\",A20+1<=$B$16,0),A20+1,\"\")","v":""},{"$f":"IF(A21<>\"\",A21*$B$13,\"\")","v":""},{"$f":"IF(A21<>\"\",ROUNDDOWN(A21*$B$13/24,0),\"\")","v":""},{"$f":"IF(A21<>\"\",MOD(B21,24)/24,\"\")","v":""},{"$f":"IF(A21<>\"\",($B$4+$B$5)/2+($B$5-$B$4)/2*COS(2*PI()/$B$15*B21),\"\")","v":""},{"$f":"IF(A21<>\"\",E21*COS(2*PI()/$B$7*B21),\"\")","v":""},{"$f":"ABS(0.5*1.025*1*(F21^3))","v":{"$error":"#VALUE!"}},{"$f":"G21*$B$13","v":{"$error":"#VALUE!"}}]
[{"$f":"IF(IF(A21<>\"\",A21+1<=$B$16,0),A21+1,\"\")","v":""},{"$f":"IF(A22<>\"\",A22*$B$13,\"\")","v":""},{"$f":"IF(A22<>\"\",ROUNDDOWN(A22*$B$13/24,0),\"\")","v":""},"",{"$f":"IF(A22<>\"\",($B$4+$B$5)/2+($B$5-$B$4)/2*COS(2*PI()/$B$15*B22),\"\")","v":""},{"$f":"IF(A22<>\"\",E22*COS(2*PI()/$B$7*B22),\"\")","v":""},{"$error":"#VALUE!"},{"$error":"#VALUE!"}]
["","","","","","",{"$error":"#VALUE!"},{"$error":"#VALUE!"}]
["","","","","","",{"$error":"#VALUE!"},{"$error":"#VALUE!"}]
["","","","","","",{"$error":"#VALUE!"},{"$error":"#VALUE!"}]
["","","","","","",{"$error":"#VALUE!"},{"$error":"#VALUE!"}]
["","","","","","",{"$error":"#VALUE!"},{"$error":"#VALUE!"}]
["","","","","","",{"$error":"#VALUE!"},{"$error":"#VALUE!"}]
["","","","","","",{"$error":"#VALUE!"},{"$error":"#VALUE!"}]
["","","","","","",{"$error":"#VALUE!"},{"$error":"#VALUE!"}]
["","","","","","",{"$error":"#VALUE!"},{"$error":"#VALUE!"}]
["","","","","","",{"$error":"#VALUE!"},{"$error":"#VALUE!"}]
["","","","","","",{"$error":"#VALUE!"},{"$error":"#VALUE!"}]
["","","","","","",{"$error":"#VALUE!"},{"$error":"#VALUE!"}]
["","","","","","",{"$error":"#VALUE!"},{"$error":"#VALUE!"}]
["","","","","","",{"$error":"#VALUE!"},{"$error":"#VALUE!"}]
["","","","","","",{"$error":"#VALUE!"},{"$error":"#VALUE!"}]
["","","","","","",{"$error":"#VALUE!"},{"$error":"#VALUE!"}]
["","","","","","",{"$error":"#VALUE!"},{"$error":"#VALUE!"}]
["","","","","","",{"$error":"#VALUE!"},{"$error":"#VALUE!"}]
["","","","","","",{"$error":"#VALUE!"},{"$error":"#VALUE!"}]
["","","","","","",{"$error":"#VALUE!"},{"$error":"#VALUE!"}]
["","","","","","",{"$error":"#VALUE!"},{"$error":"#VALUE!"}]
["","","","","","",{"$error":"#VALUE!"},{"$error":"#VALUE!"}]
["","","","","","",{"$error":"#VALUE!"},{"$error":"#VALUE!"}]
["","","","","","",{"$error":"#VALUE!"},{"$error":"#VALUE!"}]
["","","","","","",{"$error":"#VALUE!"},{"$error":"#VALUE!"}]
["","","","","","",{"$error":"#VALUE!"},{"$error":"#VALUE!"}]
["","","","","","",{"$error":"#VALUE!"},{"$error":"#VALUE!"}]
["","","","","","",{"$error":"#VALUE!"},{"$error":"#VALUE!"}]
["","","","","","",{"$error":"#VALUE!"},{"$error":"#VALUE!"}]
["","","","","","",{"$error":"#VALUE!"},{"$error":"#VALUE!"}]
["","","","","","",{"$error":"#VALUE!"},{"$error":"#VALUE!"}]
["","","","","","",{"$error":"#VALUE!"},{"$error":"#VALUE!"}]
["","","","","","",{"$error":"#VALUE!"},{"$error":"#VALUE!"}]
["","","","","","",{"$error":"#VALUE!"},{"$error":"#VALUE!"}]
["","","","","","",{"$error":"#VALUE!"},{"$error":"#VALUE!"}]
["","","","","","",{"$error":"#VALUE!"},{"$error":"#VALUE!"}]
["","","","","","",{"$error":"#VALUE!"},{"$error":"#VALUE!"}]
["","","","","","",{"$error":"#VALUE!"},{"$error":"#VALUE!"}]
["","","","","","",{"$error":"#VALUE!"},{"$error":"#VALUE!"}]
["","","","","","",{"$error":"#VALUE!"},{"$error":"#VALUE!"}]
["","","","","","",{"$error":"#VALUE!"},{"$error":"#VALUE!"}]
["","","","","","",{"$error":"#VALUE!"},{"$error":"#VALUE!"}]
["","","","","","",{"$error":"#VALUE!"},{"$error":"#VALUE!"}]
["","","","","","",{"$error":"#VALUE!"},{"$error":"#VALUE!"}]
["","","","","","",{"$error":"#VALUE!"},{"$error":"#VALUE!"}]
["","","","","","",{"$error":"#VALUE!"},{"$error":"#VALUE!"}]
["","","","","","",{"$error":"#VALUE!"},{"$error":"#VALUE!"}]
["","","","","","",{"$error":"#VALUE!"},{"$error":"#VALUE!"}]
["","","","","","",{"$error":"#VALUE!"},{"$error":"#VALUE!"}]
["","","","","","",{"$error":"#VALUE!"},{"$error":"#VALUE!"}]
["","","","","","",{"$error":"#VALUE!"},{"$error":"#VALUE!"}]
["","","","","","",{"$error":"#VALUE!"},{"$error":"#VALUE!"}]
["","","","","","",{"$error":"#VALUE!"},{"$error":"#VALUE!"}]
["","","","","","",{"$error":"#VALUE!"},{"$error":"#VALUE!"}]
["","","","","","",{"$error":"#VALUE!"},{"$error":"#VALUE!"}]
["","","","","","",{"$error":"#VALUE!"},{"$error":"#VALUE!"}]
["","","","","","",{"$error":"#VALUE!"},{"$error":"#VALUE!"}]
["","","","","","",{"$error":"#VALUE!"},{"$error":"#VALUE!"}]
["","","","","","",{"$error":"#VALUE!"},{"$error":"#VALUE!"}]
["","","","","","",{"$error":"#VALUE!"},{"$error":"#VALUE!"}]
["","","","","","",{"$error":"#VALUE!"},{"$error":"#VALUE!"}]
["","","","","","",{"$error":"#VALUE!"},{"$error":"#VALUE!"}]
["","","",{"$f":"IF(A85<>\"\",MOD(B85,24)/24,\"\")","v":""},"","",{"$f":"ABS(0.5*1.025*1*(F85^3))","v":{"$error":"#VALUE!"}},{"$f":"G85*$B$13","v":{"$error":"#VALUE!"}}]
[{"$f":"IF(IF(A85<>\"\",A85+1<=$B$16,0),A85+1,\"\")","v":""},{"$f":"IF(A86<>\"\",A86*$B$13,\"\")","v":""},{"$f":"IF(A86<>\"\",ROUNDDOWN(A86*$B$13/24,0),\"\")","v":""},"",{"$f":"IF(A86<>\"\",($B$4+$B$5)/2+($B$5-$B$4)/2*COS(2*PI()/$B$15*B86),\"\")","v":""},{"$f":"IF(A86<>\"\",E86*COS(2*PI()/$B$7*B86),\"\")","v":""},{"$error":"#VALUE!"},{"$error":"#VALUE!"}]
["","","","","","",{"$error":"#VALUE!"},{"$error":"#VALUE!"}]
["","","","","","",{"$error":"#VALUE!"},{"$error":"#VALUE!"}]
["","","","","","",{"$error":"#VALUE!"},{"$error":"#VALUE!"}]
["","","","","","",{"$error":"#VALUE!"},{"$error":"#VALUE!"}]
["","","","","","",{"$error":"#VALUE!"},{"$error":"#VALUE!"}]
["","","","","","",{"$error":"#VALUE!"},{"$error":"#VALUE!"}]
["","","","","","",{"$error":"#VALUE!"},{"$error":"#VALUE!"}]
["","","","","","",{"$error":"#VALUE!"},{"$error":"#VALUE!"}]
["","","","","","",{"$error":"#VALUE!"},{"$error":"#VALUE!"}]
["","","","","","",{"$error":"#VALUE!"},{"$error":"#VALUE!"}]
["","","","","","",{"$error":"#VALUE!"},{"$error":"#VALUE!"}]
["","","","","","",{"$error":"#VALUE!"},{"$error":"#VALUE!"}]
["","","","","","",{"$error":"#VALUE!"},{"$error":"#VALUE!"}]
["","","","","","",{"$error":"#VALUE!"},{"$error":"#VALUE!"}]
["","","","","","",{"$error":"#VALUE!"},{"$error":"#VALUE!"}]
["","","","","","",{"$error":"#VALUE!"},{"$error":"#VALUE!"}]
["","","","","","",{"$error":"#VALUE!"},{"$error":"#VALUE!"}]
["","","","","","",{"$error":"#VALUE!"},{"$error":"#VALUE!"}]
["","","","","","",{"$error":"#VALUE!"},{"$error":"#VALUE!"}]
["","","","","","",{"$error":"#VALUE!"},{"$error":"#VALUE!"}]
["","","","","","",{"$error":"#VALUE!"},{"$error":"#VALUE!"}]
["","","","","","",{"$error":"#VALUE!"},{"$error":"#VALUE!"}]
["","","","","","",{"$error":"#VALUE!"},{"$error":"#VALUE!"}]
["","","","","","",{"$error":"#VALUE!"},{"$error":"#VALUE!"}]
["","","","","","",{"$error":"#VALUE!"},{"$error":"#VALUE!"}]
["","","","","","",{"$error":"#VALUE!"},{"$error":"#VALUE!"}]
["","","","","","",{"$error":"#VALUE!"},{"$error":"#VALUE!"}]
["","","","","","",{"$error":"#VALUE!"},{"$error":"#VALUE!"}]
["","","","","","",{"$error":"#VALUE!"},{"$error":"#VALUE!"}]
["","","","","","",{"$error":"#VALUE!"},{"$error":"#VALUE!"}]
["","","","","","",{"$error":"#VALUE!"},{"$error":"#VALUE!"}]
["","","","","","",{"$error":"#VALUE!"},{"$error":"#VALUE!"}]
["","","","","","",{"$error":"#VALUE!"},{"$error":"#VALUE!"}]
["","","","","","",{"$error":"#VALUE!"},{"$error":"#VALUE!"}]
["","","","","","",{"$error":"#VALUE!"},{"$error":"#VALUE!"}]
["","","","","","",{"$error":"#VALUE!"},{"$error":"#VALUE!"}]
["","","","","","",{"$error":"#VALUE!"},{"$error":"#VALUE!"}]
["","","","","","",{"$error":"#VALUE!"},{"$error":"#VALUE!"}]
["","","","","","",{"$error":"#VALUE!"},{"$error":"#VALUE!"}]
["","","","","","",{"$error":"#VALUE!"},{"$error":"#VALUE!"}]
["","","","","","",{"$error":"#VALUE!"},{"$error":"#VALUE!"}]
["","","","","","",{"$error":"#VALUE!"},{"$error":"#VALUE!"}]
["","","","","","",{"$error":"#VALUE!"},{"$error":"#VALUE!"}]
["","","","","","",{"$error":"#VALUE!"},{"$error":"#VALUE!"}]
["","","","","","",{"$error":"#VALUE!"},{"$error":"#VALUE!"}]
["","","","","","",{"$error":"#VALUE!"},{"$error":"#VALUE!"}]
["","","","","","",{"$error":"#VALUE!"},{"$error":"#VALUE!"}]
["","","","","","",{"$error":"#VALUE!"},{"$error":"#VALUE!"}]
["","","","","","",{"$error":"#VALUE!"},{"$error":"#VALUE!"}]
["","","","","","",{"$error":"#VALUE!"},{"$error":"#VALUE!"}]
["","","","","","",{"$error":"#VALUE!"},{"$error":"#VALUE!"}]
["","","","","","",{"$error":"#VALUE!"},{"$error":"#VALUE!"}]
["","","","","","",{"$error":"#VALUE!"},{"$error":"#VALUE!"}]
["","","","","","",{"$error":"#VALUE!"},{"$error":"#VALUE!"}]
["","","","","","",{"$error":"#VALUE!"},{"$error":"#VALUE!"}]
["","","","","","",{"$error":"#VALUE!"},{"$error":"#VALUE!"}]
["","","","","","",{"$error":"#VALUE!"},{"$error":"#VALUE!"}]
["","","","","","",{"$error":"#VALUE!"},{"$error":"#VALUE!"}]
["","","","","","",{"$error":"#VALUE!"},{"$error":"#VALUE!"}]
["","","","","","",{"$error":"#VALUE!"},{"$error":"#VALUE!"}]
["","","","","","",{"$error":"#VALUE!"},{"$error":"#VALUE!"}]
["","","","","","",{"$error":"#VALUE!"},{"$error":"#VALUE!"}]
["","","",{"$f":"IF(A149<>\"\",MOD(B149,24)/24,\"\")","v":""},"","",{"$f":"ABS(0.5*1.025*1*(F149^3))","v":{"$error":"#VALUE!"}},{"$f":"G149*$B$13","v":{"$error":"#VALUE!"}}]
[{"$f":"IF(IF(A149<>\"\",A149+1<=$B$16,0),A149+1,\"\")","v":""},{"$f":"IF(A150<>\"\",A150*$B$13,\"\")","v":""},{"$f":"IF(A150<>\"\",ROUNDDOWN(A150*$B$13/24,0),\"\")","v":""},"",{"$f":"IF(A150<>\"\",($B$4+$B$5)/2+($B$5-$B$4)/2*COS(2*PI()/$B$15*B150),\"\")","v":""},{"$f":"IF(A150<>\"\",E150*COS(2*PI()/$B$7*B150),\"\")","v":""},{"$error":"#VALUE!"},{"$error":"#VALUE!"}]
["","","","","","",{"$error":"#VALUE!"},{"$error":"#VALUE!"}]
["","","","","","",{"$error":"#VALUE!"},{"$error":"#VALUE!"}]
["","","","","","",{"$error":"#VALUE!"},{"$error":"#VALUE!"}]
["","","","","","",{"$error":"#VALUE!"},{"$error":"#VALUE!"}]
["","","","","","",{"$error":"#VALUE!"},{"$error":"#VALUE!"}]
["","","","","","",{"$error":"#VALUE!"},{"$error":"#VALUE!"}]
["","","","","","",{"$error":"#VALUE!"},{"$error":"#VALUE!"}]
["","","","","","",{"$error":"#VALUE!"},{"$error":"#VALUE!"}]
["","","","","","",{"$error":"#VALUE!"},{"$error":"#VALUE!"}]
["","","","","","",{"$error":"#VALUE!"},{"$error":"#VALUE!"}]
["","","","","","",{"$error":"#VALUE!"},{"$error":"#VALUE!"}]
["","","","","","",{"$error":"#VALUE!"},{"$error":"#VALUE!"}]
["","","","","","",{"$error":"#VALUE!"},{"$error":"#VALUE!"}]
["","","","","","",{"$error":"#VALUE!"},{"$error":"#VALUE!"}]
["","","","","","",{"$error":"#VALUE!"},{"$error":"#VALUE!"}]
["","","","","","",{"$error":"#VALUE!"},{"$error":"#VALUE!"}]
["","","","","","",{"$error":"#VALUE!"},{"$error":"#VALUE!"}]
["","","","","","",{"$error":"#VALUE!"},{"$error":"#VALUE!"}]
["","","","","","",{"$error":"#VALUE!"},{"$error":"#VALUE!"}]
["","","","","","",{"$error":"#VALUE!"},{"$error":"#VALUE!"}]
["","","","","","",{"$error":"#VALUE!"},{"$error":"#VALUE!"}]
["","","","","","",{"$error":"#VALUE!"},{"$error":"#VALUE!"}]
["","","","","","",{"$error":"#VALUE!"},{"$error":"#VALUE!"}]
["","","","","","",{"$error":"#VALUE!"},{"$error":"#VALUE!"}]
["","","","","","",{"$error":"#VALUE!"},{"$error":"#VALUE!"}]
["","","","","","",{"$error":"#VALUE!"},{"$error":"#VALUE!"}]
["","","","","","",{"$error":"#VALUE!"},{"$error":"#VALUE!"}]
["","","","","","",{"$error":"#VALUE!"},{"$error":"#VALUE!"}]
["","","","","","",{"$error":"#VALUE!"},{"$error":"#VALUE!"}]
["","","","","","",{"$error":"#VALUE!"},{"$error":"#VALUE!"}]
["","","","","","",{"$error":"#VALUE!"},{"$error":"#VALUE!"}]
["","","","","","",{"$error":"#VALUE!"},{"$error":"#VALUE!"}]
["","","","","","",{"$error":"#VALUE!"},{"$error":"#VALUE!"}]
["","","","","","",{"$error":"#VALUE!"},{"$error":"#VALUE!"}]
["","","","","","",{"$error":"#VALUE!"},{"$error":"#VALUE!"}]
["","","","","","",{"$error":"#VALUE!"},{"$error":"#VALUE!"}]
["","","","","","",{"$error":"#VALUE!"},{"$error":"#VALUE!"}]
["","","","","","",{"$error":"#VALUE!"},{"$error":"#VALUE!"}]
["","","","","","",{"$error":"#VALUE!"},{"$error":"#VALUE!"}]
["","","","","","",{"$error":"#VALUE!"},{"$error":"#VALUE!"}]
["","","","","","",{"$error":"#VALUE!"},{"$error":"#VALUE!"}]
["","","","","","",{"$error":"#VALUE!"},{"$error":"#VALUE!"}]
["","","","","","",{"$error":"#VALUE!"},{"$error":"#VALUE!"}]
["","","","","","",{"$error":"#VALUE!"},{"$error":"#VALUE!"}]
["","","","","","",{"$error":"#VALUE!"},{"$error":"#VALUE!"}]
["","","","","","",{"$error":"#VALUE!"},{"$error":"#VALUE!"}]
["","","","","","",{"$error":"#VALUE!"},{"$error":"#VALUE!"}]
["","","","","","",{"$error":"#VALUE!"},{"$error":"#VALUE!"}]
["","","","","","",{"$error":"#VALUE!"},{"$error":"#VALUE!"}]
["","","","","","",{"$error":"#VALUE!"},{"$error":"#VALUE!"}]
["","","","","","",{"$error":"#VALUE!"},{"$error":"#VALUE!"}]
["","","","","","",{"$error":"#VALUE!"},{"$error":"#VALUE!"}]
["","","","","","",{"$error":"#VALUE!"},{"$error":"#VALUE!"}]
["","","","","","",{"$error":"#VALUE!"},{"$error":"#VALUE!"}]
["","","","","","",{"$error":"#VALUE!"},{"$error":"#VALUE!"}]
["","","","","","",{"$error":"#VALUE!"},{"$error":"#VALUE!"}]
["","","","","","",{"$error":"#VALUE!"},{"$error":"#VALUE!"}]
["","","","","","",{"$error":"#VALUE!"},{"$error":"#VALUE!"}]
["","","","","","",{"$error":"#VALUE!"},{"$error":"#VALUE!"}]
["","","","","","",{"$error":"#VALUE!"},{"$error":"#VALUE!"}]
["","","","","","",{"$error":"#VALUE!"},{"$error":"#VALUE!"}]
["","","","","","",{"$error":"#VALUE!"},{"$error":"#VALUE!"}]
["","","",{"$f":"IF(A213<>\"\",MOD(B213,24)/24,\"\")","v":""},"","",{"$f":"ABS(0.5*1.025*1*(F213^3))","v":{"$error":"#VALUE!"}},{"$f":"G213*$B$13","v":{"$error":"#VALUE!"}}]
[{"$f":"IF(IF(A213<>\"\",A213+1<=$B$16,0),A213+1,\"\")","v":""},{"$f":"IF(A214<>\"\",A214*$B$13,\"\")","v":""},{"$f":"IF(A214<>\"\",ROUNDDOWN(A214*$B$13/24,0),\"\")","v":""},"",{"$f":"IF(A214<>\"\",($B$4+$B$5)/2+($B$5-$B$4)/2*COS(2*PI()/$B$15*B214),\"\")","v":""},{"$f":"IF(A214<>\"\",E214*COS(2*PI()/$B$7*B214),\"\")","v":""},{"$error":"#VALUE!"},{"$error":"#VALUE!"}]
["","","","","","",{"$error":"#VALUE!"},{"$error":"#VALUE!"}]
["","","","","","",{"$error":"#VALUE!"},{"$error":"#VALUE!"}]
["","","","","","",{"$error":"#VALUE!"},{"$error":"#VALUE!"}]
["","","","","","",{"$error":"#VALUE!"},{"$error":"#VALUE!"}]
["","","","","","",{"$error":"#VALUE!"},{"$error":"#VALUE!"}]
["","","","","","",{"$error":"#VALUE!"},{"$error":"#VALUE!"}]
["","","","","","",{"$error":"#VALUE!"},{"$error":"#VALUE!"}]
["","","","","","",{"$error":"#VALUE!"},{"$error":"#VALUE!"}]
["","","","","","",{"$error":"#VALUE!"},{"$error":"#VALUE!"}]
["","","","","","",{"$error":"#VALUE!"},{"$error":"#VALUE!"}]
["","","","","","",{"$error":"#VALUE!"},{"$error":"#VALUE!"}]
["","","","","","",{"$error":"#VALUE!"},{"$error":"#VALUE!"}]
["","","","","","",{"$error":"#VALUE!"},{"$error":"#VALUE!"}]
["","","","","","",{"$error":"#VALUE!"},{"$error":"#VALUE!"}]
["","","","","","",{"$error":"#VALUE!"},{"$error":"#VALUE!"}]
["","","","","","",{"$error":"#VALUE!"},{"$error":"#VALUE!"}]
["","","","","","",{"$error":"#VALUE!"},{"$error":"#VALUE!"}]
["","","","","","",{"$error":"#VALUE!"},{"$error":"#VALUE!"}]
["","","","","","",{"$error":"#VALUE!"},{"$error":"#VALUE!"}]
["","","","","","",{"$error":"#VALUE!"},{"$error":"#VALUE!"}]
["","","","","","",{"$error":"#VALUE!"},{"$error":"#VALUE!"}]
["","","","","","",{"$error":"#VALUE!"},{"$error":"#VALUE!"}]
["","","","","","",{"$error":"#VALUE!"},{"$error":"#VALUE!"}]
["","","","","","",{"$error":"#VALUE!"},{"$error":"#VALUE!"}]
["","","","","","",{"$error":"#VALUE!"},{"$error":"#VALUE!"}]
["","","","","","",{"$error":"#VALUE!"},{"$error":"#VALUE!"}]
["","","","","","",{"$error":"#VALUE!"},{"$error":"#VALUE!"}]
["","","","","","",{"$error":"#VALUE!"},{"$error":"#VALUE!"}]
["","","","","","",{"$error":"#VALUE!"},{"$error":"#VALUE!"}]
["","","","","","",{"$error":"#VALUE!"},{"$error":"#VALUE!"}]
["","","","","","",{"$error":"#VALUE!"},{"$error":"#VALUE!"}]
["","","","","","",{"$error":"#VALUE!"},{"$error":"#VALUE!"}]
["","","","","","",{"$error":"#VALUE!"},{"$error":"#VALUE!"}]
["","","","","","",{"$error":"#VALUE!"},{"$error":"#VALUE!"}]
["","","","","","",{"$error":"#VALUE!"},{"$error":"#VALUE!"}]
["","","","","","",{"$error":"#VALUE!"},{"$error":"#VALUE!"}]
["","","","","","",{"$error":"#VALUE!"},{"$error":"#VALUE!"}]
["","","","","","",{"$error":"#VALUE!"},{"$error":"#VALUE!"}]
["","","","","","",{"$error":"#VALUE!"},{"$error":"#VALUE!"}]
["","","","","","",{"$error":"#VALUE!"},{"$error":"#VALUE!"}]
["","","","","","",{"$error":"#VALUE!"},{"$error":"#VALUE!"}]
["","","","","","",{"$error":"#VALUE!"},{"$error":"#VALUE!"}]
["","","","","","",{"$error":"#VALUE!"},{"$error":"#VALUE!"}]
["","","","","","",{"$error":"#VALUE!"},{"$error":"#VALUE!"}]
["","","","","","",{"$error":"#VALUE!"},{"$error":"#VALUE!"}]
["","","","","","",{"$error":"#VALUE!"},{"$error":"#VALUE!"}]
["","","","","","",{"$error":"#VALUE!"},{"$error":"#VALUE!"}]
["","","","","","",{"$error":"#VALUE!"},{"$error":"#VALUE!"}]
["","","","","","",{"$error":"#VALUE!"},{"$error":"#VALUE!"}]
["","","","","","",{"$error":"#VALUE!"},{"$error":"#VALUE!"}]
["","","","","","",{"$error":"#VALUE!"},{"$error":"#VALUE!"}]
["","","","","","",{"$error":"#VALUE!"},{"$error":"#VALUE!"}]
["","","","","","",{"$error":"#VALUE!"},{"$error":"#VALUE!"}]
["","","","","","",{"$error":"#VALUE!"},{"$error":"#VALUE!"}]
["","","","","","",{"$error":"#VALUE!"},{"$error":"#VALUE!"}]
["","","","","","",{"$error":"#VALUE!"},{"$error":"#VALUE!"}]
["","","","","","",{"$error":"#VALUE!"},{"$error":"#VALUE!"}]
["","","","","","",{"$error":"#VALUE!"},{"$error":"#VALUE!"}]
["","","","","","",{"$error":"#VALUE!"},{"$error":"#VALUE!"}]
["","","","","","",{"$error":"#VALUE!"},{"$error":"#VALUE!"}]
["","","","","","",{"$error":"#VALUE!"},{"$error":"#VALUE!"}]
["","","","","","",{"$error":"#VALUE!"},{"$error":"#VALUE!"}]
["","","",{"$f":"IF(A277<>\"\",MOD(B277,24)/24,\"\")","v":""},"","",{"$f":"ABS(0.5*1.025*1*(F277^3))","v":{"$error":"#VALUE!"}},{"$f":"G277*$B$13","v":{"$error":"#VALUE!"}}]
[{"$f":"IF(IF(A277<>\"\",A277+1<=$B$16,0),A277+1,\"\")","v":""},{"$f":"IF(A278<>\"\",A278*$B$13,\"\")","v":""},{"$f":"IF(A278<>\"\",ROUNDDOWN(A278*$B$13/24,0),\"\")","v":""},"",{"$f":"IF(A278<>\"\",($B$4+$B$5)/2+($B$5-$B$4)/2*COS(2*PI()/$B$15*B278),\"\")","v":""},{"$f":"IF(A278<>\"\",E278*COS(2*PI()/$B$7*B278),\"\")","v":""},{"$error":"#VALUE!"},{"$error":"#VALUE!"}]
["","","","","","",{"$error":"#VALUE!"},{"$error":"#VALUE!"}]
["","","","","","",{"$error":"#VALUE!"},{"$error":"#VALUE!"}]
["","","","","","",{"$error":"#VALUE!"},{"$error":"#VALUE!"}]
["","","","","","",{"$error":"#VALUE!"},{"$error":"#VALUE!"}]
["","","","","","",{"$error":"#VALUE!"},{"$error":"#VALUE!"}]
["","","","","","",{"$error":"#VALUE!"},{"$error":"#VALUE!"}]
["","","","","","",{"$error":"#VALUE!"},{"$error":"#VALUE!"}]
["","","","","","",{"$error":"#VALUE!"},{"$error":"#VALUE!"}]
["","","","","","",{"$error":"#VALUE!"},{"$error":"#VALUE!"}]
["","","","","","",{"$error":"#VALUE!"},{"$error":"#VALUE!"}]
["","","","","","",{"$error":"#VALUE!"},{"$error":"#VALUE!"}]
["","","","","","",{"$error":"#VALUE!"},{"$error":"#VALUE!"}]
["","","","","","",{"$error":"#VALUE!"},{"$error":"#VALUE!"}]
["","","","","","",{"$error":"#VALUE!"},{"$error":"#VALUE!"}]
["","","","","","",{"$error":"#VALUE!"},{"$error":"#VALUE!"}]
["","","","","","",{"$error":"#VALUE!"},{"$error":"#VALUE!"}]
["","","","","","",{"$error":"#VALUE!"},{"$error":"#VALUE!"}]
["","","","","","",{"$error":"#VALUE!"},{"$error":"#VALUE!"}]
["","","","","","",{"$error":"#VALUE!"},{"$error":"#VALUE!"}]
["","","","","","",{"$error":"#VALUE!"},{"$error":"#VALUE!"}]
["","","","","","",{"$error":"#VALUE!"},{"$error":"#VALUE!"}]
["","","","","","",{"$error":"#VALUE!"},{"$error":"#VALUE!"}]
["","","","","","",{"$error":"#VALUE!"},{"$error":"#VALUE!"}]
["","","","","","",{"$error":"#VALUE!"},{"$error":"#VALUE!"}]
["","","","","","",{"$error":"#VALUE!"},{"$error":"#VALUE!"}]
["","","","","","",{"$error":"#VALUE!"},{"$error":"#VALUE!"}]
["","","","","","",{"$error":"#VALUE!"},{"$error":"#VALUE!"}]
["","","","","","",{"$error":"#VALUE!"},{"$error":"#VALUE!"}]
["","","","","","",{"$error":"#VALUE!"},{"$error":"#VALUE!"}]
["","","","","","",{"$error":"#VALUE!"},{"$error":"#VALUE!"}]
["","","","","","",{"$error":"#VALUE!"},{"$error":"#VALUE!"}]
["","","","","","",{"$error":"#VALUE!"},{"$error":"#VALUE!"}]
["","","","","","",{"$error":"#VALUE!"},{"$error":"#VALUE!"}]
["","","","","","",{"$error":"#VALUE!"},{"$error":"#VALUE!"}]
["","","","","","",{"$error":"#VALUE!"},{"$error":"#VALUE!"}]
["","","","","","",{"$error":"#VALUE!"},{"$error":"#VALUE!"}]
["","","","","","",{"$error":"#VALUE!"},{"$error":"#VALUE!"}]
["","","","","","",{"$error":"#VALUE!"},{"$error":"#VALUE!"}]
["","","","","","",{"$error":"#VALUE!"},{"$error":"#VALUE!"}]
["","","","","","",{"$error":"#VALUE!"},{"$error":"#VALUE!"}]
["","","","","","",{"$error":"#VALUE!"},{"$error":"#VALUE!"}]
["","","","","","",{"$error":"#VALUE!"},{"$error":"#VALUE!"}]
["","","","","","",{"$error":"#VALUE!"},{"$error":"#VALUE!"}]
["","","","","","",{"$error":"#VALUE!"},{"$error":"#VALUE!"}]
["","","","","","",{"$error":"#VALUE!"},{"$error":"#VALUE!"}]
["","","","","","",{"$error":"#VALUE!"},{"$error":"#VALUE!"}]
["","","","","","",{"$error":"#VALUE!"},{"$error":"#VALUE!"}]
["","","","","","",{"$error":"#VALUE!"},{"$error":"#VALUE!"}]
["","","","","","",{"$error":"#VALUE!"},{"$error":"#VALUE!"}]
["","","","","","",{"$error":"#VALUE!"},{"$error":"#VALUE!"}]
["","","","","","",{"$error":"#VALUE!"},{"$error":"#VALUE!"}]
["","","","","","",{"$error":"#VALUE!"},{"$error":"#VALUE!"}]
["","","","","","",{"$error":"#VALUE!"},{"$error":"#VALUE!"}]
["","","","","","",{"$error":"#VALUE!"},{"$error":"#VALUE!"}]
["","","","","","",{"$error":"#VALUE!"},{"$error":"#VALUE!"}]
["","","","","","",{"$error":"#VALUE!"},{"$error":"#VALUE!"}]
["","","","","","",{"$error":"#VALUE!"},{"$error":"#VALUE!"}]
["","","","","","",{"$error":"#VALUE!"},{"$error":"#VALUE!"}]
["","","","","","",{"$error":"#VALUE!"},{"$error":"#VALUE!"}]
["","","","","","",{"$error":"#VALUE!"},{"$error":"#VALUE!"}]
["","","","","","",{"$error":"#VALUE!"},{"$error":"#VALUE!"}]
["","","","","","",{"$error":"#VALUE!"},{"$error":"#VALUE!"}]
["","","",{"$f":"IF(A341<>\"\",MOD(B341,24)/24,\"\")","v":""},"","",{"$f":"ABS(0.5*1.025*1*(F341^3))","v":{"$error":"#VALUE!"}},{"$f":"G341*$B$13","v":{"$error":"#VALUE!"}}]
[{"$f":"IF(IF(A341<>\"\",A341+1<=$B$16,0),A341+1,\"\")","v":""},{"$f":"IF(A342<>\"\",A342*$B$13,\"\")","v":""},{"$f":"IF(A342<>\"\",ROUNDDOWN(A342*$B$13/24,0),\"\")","v":""},"",{"$f":"IF(A342<>\"\",($B$4+$B$5)/2+($B$5-$B$4)/2*COS(2*PI()/$B$15*B342),\"\")","v":""},{"$f":"IF(A342<>\"\",E342*COS(2*PI()/$B$7*B342),\"\")","v":""},{"$error":"#VALUE!"},{"$error":"#VALUE!"}]
["","","","","","",{"$error":"#VALUE!"},{"$error":"#VALUE!"}]
["","","","","","",{"$error":"#VALUE!"},{"$error":"#VALUE!"}]
["","","","","","",{"$error":"#VALUE!"},{"$error":"#VALUE!"}]
["","","","","","",{"$error":"#VALUE!"},{"$error":"#VALUE!"}]
["","","","","","",{"$error":"#VALUE!"},{"$error":"#VALUE!"}]
["","","","","","",{"$error":"#VALUE!"},{"$error":"#VALUE!"}]
["","","","","","",{"$error":"#VALUE!"},{"$error":"#VALUE!"}]
["","","","","","",{"$error":"#VALUE!"},{"$error":"#VALUE!"}]
["","","","","","",{"$error":"#VALUE!"},{"$error":"#VALUE!"}]
["","","","","","",{"$error":"#VALUE!"},{"$error":"#VALUE!"}]
["","","","","","",{"$error":"#VALUE!"},{"$error":"#VALUE!"}]
["","","","","","",{"$error":"#VALUE!"},{"$error":"#VALUE!"}]
["","","","","","",{"$error":"#VALUE!"},{"$error":"#VALUE!"}]
["","","","","","",{"$error":"#VALUE!"},{"$error":"#VALUE!"}]
["","","","","","",{"$error":"#VALUE!"},{"$error":"#VALUE!"}]
["","","","","","",{"$error":"#VALUE!"},{"$error":"#VALUE!"}]
["","","","","","",{"$error":"#VALUE!"},{"$error":"#VALUE!"}]
["","","","","","",{"$error":"#VALUE!"},{"$error":"#VALUE!"}]
["","","","","","",{"$error":"#VALUE!"},{"$error":"#VALUE!"}]
["","","","","","",{"$error":"#VALUE!"},{"$error":"#VALUE!"}]
["","","","","","",{"$error":"#VALUE!"},{"$error":"#VALUE!"}]
["","","","","","",{"$error":"#VALUE!"},{"$error":"#VALUE!"}]
["","","","","","",{"$error":"#VALUE!"},{"$error":"#VALUE!"}]
["","","","","","",{"$error":"#VALUE!"},{"$error":"#VALUE!"}]
["","","","","","",{"$error":"#VALUE!"},{"$error":"#VALUE!"}]
["","","","","","",{"$error":"#VALUE!"},{"$error":"#VALUE!"}]
["","","","","","",{"$error":"#VALUE!"},{"$error":"#VALUE!"}]
["","","","","","",{"$error":"#VALUE!"},{"$error":"#VALUE!"}]
["","","","","","",{"$error":"#VALUE!"},{"$error":"#VALUE!"}]
["","","","","","",{"$error":"#VALUE!"},{"$error":"#VALUE!"}]
["","","","","","",{"$error":"#VALUE!"},{"$error":"#VALUE!"}]
["","","","","","",{"$error":"#VALUE!"},{"$error":"#VALUE!"}]
["","","","","","",{"$error":"#VALUE!"},{"$error":"#VALUE!"}]
["","","","","","",{"$error":"#VALUE!"},{"$error":"#VALUE!"}]
["","","","","","",{"$error":"#VALUE!"},{"$error":"#VALUE!"}]
["","","","","","",{"$error":"#VALUE!"},{"$error":"#VALUE!"}]
["","","","","","",{"$error":"#VALUE!"},{"$error":"#VALUE!"}]
["","","","","","",{"$error":"#VALUE!"},{"$error":"#VALUE!"}]
["","","","","","",{"$error":"#VALUE!"},{"$error":"#VALUE!"}]
["","","","","","",{"$error":"#VALUE!"},{"$error":"#VALUE!"}]
["","","","","","",{"$error":"#VALUE!"},{"$error":"#VALUE!"}]
["","","","","","",{"$error":"#VALUE!"},{"$error":"#VALUE!"}]
["","","","","","",{"$error":"#VALUE!"},{"$error":"#VALUE!"}]
["","","","","","",{"$error":"#VALUE!"},{"$error":"#VALUE!"}]
["","","","","","",{"$error":"#VALUE!"},{"$error":"#VALUE!"}]
["","","","","","",{"$error":"#VALUE!"},{"$error":"#VALUE!"}]
["","","","","","",{"$error":"#VALUE!"},{"$error":"#VALUE!"}]
["","","","","","",{"$error":"#VALUE!"},{"$error":"#VALUE!"}]
["","","","","","",{"$error":"#VALUE!"},{"$error":"#VALUE!"}]
["","","","","","",{"$error":"#VALUE!"},{"$error":"#VALUE!"}]
["","","","","","",{"$error":"#VALUE!"},{"$error":"#VALUE!"}]
["","","","","","",{"$error":"#VALUE!"},{"$error":"#VALUE!"}]
["","","","","","",{"$error":"#VALUE!"},{"$error":"#VALUE!"}]
["","","","","","",{"$error":"#VALUE!"},{"$error":"#VALUE!"}]
["","","","","","",{"$error":"#VALUE!"},{"$error":"#VALUE!"}]
["","","","","","",{"$error":"#VALUE!"},{"$error":"#VALUE!"}]
["","","","","","",{"$error":"#VALUE!"},{"$error":"#VALUE!"}]
["","","","","","",{"$error":"#VALUE!"},{"$error":"#VALUE!"}]
["","","","","","",{"$error":"#VALUE!"},{"$error":"#VALUE!"}]
["","","","","","",{"$error":"#VALUE!"},{"$error":"#VALUE!"}]
["","","","","","",{"$error":"#VALUE!"},{"$error":"#VALUE!"}]
["","","","","","",{"$error":"#VALUE!"},{"$error":"#VALUE!"}]
["","","",{"$f":"IF(A405<>\"\",MOD(B405,24)/24,\"\")","v":""},"","",{"$f":"ABS(0.5*1.025*1*(F405^3))","v":{"$error":"#VALUE!"}},{"$f":"G405*$B$13","v":{"$error":"#VALUE!"}}]
[{"$f":"IF(IF(A405<>\"\",A405+1<=$B$16,0),A405+1,\"\")","v":""},{"$f":"IF(A406<>\"\",A406*$B$13,\"\")","v":""},{"$f":"IF(A406<>\"\",ROUNDDOWN(A406*$B$13/24,0),\"\")","v":""},"",{"$f":"IF(A406<>\"\",($B$4+$B$5)/2+($B$5-$B$4)/2*COS(2*PI()/$B$15*B406),\"\")","v":""},{"$f":"IF(A406<>\"\",E406*COS(2*PI()/$B$7*B406),\"\")","v":""},{"$error":"#VALUE!"},{"$error":"#VALUE!"}]
["","","","","","",{"$error":"#VALUE!"},{"$error":"#VALUE!"}]
["","","","","","",{"$error":"#VALUE!"},{"$error":"#VALUE!"}]
["","","","","","",{"$error":"#VALUE!"},{"$error":"#VALUE!"}]
["","","","","","",{"$error":"#VALUE!"},{"$error":"#VALUE!"}]
["","","","","","",{"$error":"#VALUE!"},{"$error":"#VALUE!"}]
["","","","","","",{"$error":"#VALUE!"},{"$error":"#VALUE!"}]
["","","","","","",{"$error":"#VALUE!"},{"$error":"#VALUE!"}]
["","","","","","",{"$error":"#VALUE!"},{"$error":"#VALUE!"}]
["","","","","","",{"$error":"#VALUE!"},{"$error":"#VALUE!"}]
["","","","","","",{"$error":"#VALUE!"},{"$error":"#VALUE!"}]
["","","","","","",{"$error":"#VALUE!"},{"$error":"#VALUE!"}]
["","","","","","",{"$error":"#VALUE!"},{"$error":"#VALUE!"}]
["","","","","","",{"$error":"#VALUE!"},{"$error":"#VALUE!"}]
["","","","","","",{"$error":"#VALUE!"},{"$error":"#VALUE!"}]
["","","","","","",{"$error":"#VALUE!"},{"$error":"#VALUE!"}]
["","","","","","",{"$error":"#VALUE!"},{"$error":"#VALUE!"}]
["","","","","","",{"$error":"#VALUE!"},{"$error":"#VALUE!"}]
["","","","","","",{"$error":"#VALUE!"},{"$error":"#VALUE!"}]
["","","","","","",{"$error":"#VALUE!"},{"$error":"#VALUE!"}]
["","","","","","",{"$error":"#VALUE!"},{"$error":"#VALUE!"}]
["","","","","","",{"$error":"#VALUE!"},{"$error":"#VALUE!"}]
["","","","","","",{"$error":"#VALUE!"},{"$error":"#VALUE!"}]
["","","","","","",{"$error":"#VALUE!"},{"$error":"#VALUE!"}]
["","","","","","",{"$error":"#VALUE!"},{"$error":"#VALUE!"}]
["","","","","","",{"$error":"#VALUE!"},{"$error":"#VALUE!"}]
["","","","","","",{"$error":"#VALUE!"},{"$error":"#VALUE!"}]
["","","","","","",{"$error":"#VALUE!"},{"$error":"#VALUE!"}]
["","","","","","",{"$error":"#VALUE!"},{"$error":"#VALUE!"}]
["","","","","","",{"$error":"#VALUE!"},{"$error":"#VALUE!"}]
["","","","","","",{"$error":"#VALUE!"},{"$error":"#VALUE!"}]
["","","","","","",{"$error":"#VALUE!"},{"$error":"#VALUE!"}]
["","","","","","",{"$error":"#VALUE!"},{"$error":"#VALUE!"}]
["","","","","","",{"$error":"#VALUE!"},{"$error":"#VALUE!"}]
["","","","","","",{"$error":"#VALUE!"},{"$error":"#VALUE!"}]
["","","","","","",{"$error":"#VALUE!"},{"$error":"#VALUE!"}]
["","","","","","",{"$error":"#VALUE!"},{"$error":"#VALUE!"}]
["","","","","","",{"$error":"#VALUE!"},{"$error":"#VALUE!"}]
["","","","","","",{"$error":"#VALUE!"},{"$error":"#VALUE!"}]
["","","","","","",{"$error":"#VALUE!"},{"$error":"#VALUE!"}]
["","","","","","",{"$error":"#VALUE!"},{"$error":"#VALUE!"}]
["","","","","","",{"$error":"#VALUE!"},{"$error":"#VALUE!"}]
["","","","","","",{"$error":"#VALUE!"},{"$error":"#VALUE!"}]
["","","","","","",{"$error":"#VALUE!"},{"$error":"#VALUE!"}]
["","","","","","",{"$error":"#VALUE!"},{"$error":"#VALUE!"}]
["","","","","","",{"$error":"#VALUE!"},{"$error":"#VALUE!"}]
["","","","","","",{"$error":"#VALUE!"},{"$error":"#VALUE!"}]
["","","","","","",{"$error":"#VALUE!"},{"$error":"#VALUE!"}]
["","","","","","",{"$error":"#VALUE!"},{"$error":"#VALUE!"}]
["","","","","","",{"$error":"#VALUE!"},{"$error":"#VALUE!"}]
["","","","","","",{"$error":"#VALUE!"},{"$error":"#VALUE!"}]
["","","","","","",{"$error":"#VALUE!"},{"$error":"#VALUE!"}]
["","","","","","",{"$error":"#VALUE!"},{"$error":"#VALUE!"}]
["","","","","","",{"$error":"#VALUE!"},{"$error":"#VALUE!"}]
["","","","","","",{"$error":"#VALUE!"},{"$error":"#VALUE!"}]
["","","","","","",{"$error":"#VALUE!"},{"$error":"#VALUE!"}]
["","","","","","",{"$error":"#VALUE!"},{"$error":"#VALUE!"}]
["","","","","","",{"$error":"#VALUE!"},{"$error":"#VALUE!"}]
["","","","","","",{"$error":"#VALUE!"},{"$error":"#VALUE!"}]
["","","","","","",{"$error":"#VALUE!"},{"$error":"#VALUE!"}]
["","","","","","",{"$error":"#VALUE!"},{"$error":"#VALUE!"}]
["","","","","","",{"$error":"#VALUE!"},{"$error":"#VALUE!"}]
["","","","","","",{"$error":"#VALUE!"},{"$error":"#VALUE!"}]
["","","",{"$f":"IF(A469<>\"\",MOD(B469,24)/24,\"\")","v":""},"","",{"$f":"ABS(0.5*1.025*1*(F469^3))","v":{"$error":"#VALUE!"}},{"$f":"G469*$B$13","v":{"$error":"#VALUE!"}}]
[{"$f":"IF(IF(A469<>\"\",A469+1<=$B$16,0),A469+1,\"\")","v":""},{"$f":"IF(A470<>\"\",A470*$B$13,\"\")","v":""},{"$f":"IF(A470<>\"\",ROUNDDOWN(A470*$B$13/24,0),\"\")","v":""},"",{"$f":"IF(A470<>\"\",($B$4+$B$5)/2+($B$5-$B$4)/2*COS(2*PI()/$B$15*B470),\"\")","v":""},{"$f":"IF(A470<>\"\",E470*COS(2*PI()/$B$7*B470),\"\")","v":""},{"$error":"#VALUE!"},{"$error":"#VALUE!"}]
["","","","","","",{"$error":"#VALUE!"},{"$error":"#VALUE!"}]
["","","","","","",{"$error":"#VALUE!"},{"$error":"#VALUE!"}]
["","","","","","",{"$error":"#VALUE!"},{"$error":"#VALUE!"}]
["","","","","","",{"$error":"#VALUE!"},{"$error":"#VALUE!"}]
["","","","","","",{"$error":"#VALUE!"},{"$error":"#VALUE!"}]
["","","","","","",{"$error":"#VALUE!"},{"$error":"#VALUE!"}]
["","","","","","",{"$error":"#VALUE!"},{"$error":"#VALUE!"}]
["","","","","","",{"$error":"#VALUE!"},{"$error":"#VALUE!"}]
["","","","","","",{"$error":"#VALUE!"},{"$error":"#VALUE!"}]
["","","","","","",{"$error":"#VALUE!"},{"$error":"#VALUE!"}]
["","","","","","",{"$error":"#VALUE!"},{"$error":"#VALUE!"}]
["","","","","","",{"$error":"#VALUE!"},{"$error":"#VALUE!"}]
["","","","","","",{"$error":"#VALUE!"},{"$error":"#VALUE!"}]
["","","","","","",{"$error":"#VALUE!"},{"$error":"#VALUE!"}]
["","","","","","",{"$error":"#VALUE!"},{"$error":"#VALUE!"}]
["","","","","","",{"$error":"#VALUE!"},{"$error":"#VALUE!"}]
["","","","","","",{"$error":"#VALUE!"},{"$error":"#VALUE!"}]
["","","","","","",{"$error":"#VALUE!"},{"$error":"#VALUE!"}]
["","","","","","",{"$error":"#VALUE!"},{"$error":"#VALUE!"}]
["","","","","","",{"$error":"#VALUE!"},{"$error":"#VALUE!"}]
["","","","","","",{"$error":"#VALUE!"},{"$error":"#VALUE!"}]
["","","","","","",{"$error":"#VALUE!"},{"$error":"#VALUE!"}]
["","","","","","",{"$error":"#VALUE!"},{"$error":"#VALUE!"}]
["","","","","","",{"$error":"#VALUE!"},{"$error":"#VALUE!"}]
["","","","","","",{"$error":"#VALUE!"},{"$error":"#VALUE!"}]
["","","","","","",{"$error":"#VALUE!"},{"$error":"#VALUE!"}]
["","","","","","",{"$error":"#VALUE!"},{"$error":"#VALUE!"}]
["","","","","","",{"$error":"#VALUE!"},{"$error":"#VALUE!"}]
["","","","","","",{"$error":"#VALUE!"},{"$error":"#VALUE!"}]
["","","","","","",{"$error":"#VALUE!"},{"$error":"#VALUE!"}]
["","","","","","",{"$error":"#VALUE!"},{"$error":"#VALUE!"}]
["","","","","","",{"$error":"#VALUE!"},{"$error":"#VALUE!"}]
["","","","","","",{"$error":"#VALUE!"},{"$error":"#VALUE!"}]
["","","","","","",{"$error":"#VALUE!"},{"$error":"#VALUE!"}]
["","","","","","",{"$error":"#VALUE!"},{"$error":"#VALUE!"}]
["","","","","","",{"$error":"#VALUE!"},{"$error":"#VALUE!"}]
["","","","","","",{"$error":"#VALUE!"},{"$error":"#VALUE!"}]
["","","","","","",{"$error":"#VALUE!"},{"$error":"#VALUE!"}]
["","","","","","",{"$error":"#VALUE!"},{"$error":"#VALUE!"}]
["","","","","","",{"$error":"#VALUE!"},{"$error":"#VALUE!"}]
["","","","","","",{"$error":"#VALUE!"},{"$error":"#VALUE!"}]
["","","","","","",{"$error":"#VALUE!"},{"$error":"#VALUE!"}]
["","","","","","",{"$error":"#VALUE!"},{"$error":"#VALUE!"}]
["","","","","","",{"$error":"#VALUE!"},{"$error":"#VALUE!"}]
["","","","","","",{"$error":"#VALUE!"},{"$error":"#VALUE!"}]
["","","","","","",{"$error":"#VALUE!"},{"$error":"#VALUE!"}]
["","","","","","",{"$error":"#VALUE!"},{"$error":"#VALUE!"}]
["","","","","","",{"$error":"#VALUE!"},{"$error":"#VALUE!"}]
["","","","","","",{"$error":"#VALUE!"},{"$error":"#VALUE!"}]
["","","","","","",{"$error":"#VALUE!"},{"$error":"#VALUE!"}]
["","","","","","",{"$error":"#VALUE!"},{"$error":"#VALUE!"}]
["","","","","","",{"$error":"#VALUE!"},{"$error":"#VALUE!"}]
["","","","","","",{"$error":"#VALUE!"},{"$error":"#VALUE!"}]
["","","","","","",{"$error":"#VALUE!"},{"$error":"#VALUE!"}]
["","","","","","",{"$error":"#VALUE!"},{"$error":"#VALUE!"}]
["","","","","","",{"$error":"#VALUE!"},{"$error":"#VALUE!"}]
["","","","","","",{"$error":"#VALUE!"},{"$error":"#VALUE!"}]
["","","","","","",{"$error":"#VALUE!"},{"$error":"#VALUE!"}]
["","","","","","",{"$error":"#VALUE!"},{"$error":"#VALUE!"}]
["","","","","","",{"$error":"#VALUE!"},{"$error":"#VALUE!"}]
["","","","","","",{"$error":"#VALUE!"},{"$error":"#VALUE!"}]
["","","","","","",{"$error":"#VALUE!"},{"$error":"#VALUE!"}]
["","","",{"$f":"IF(A533<>\"\",MOD(B533,24)/24,\"\")","v":""},"","",{"$f":"ABS(0.5*1.025*1*(F533^3))","v":{"$error":"#VALUE!"}},{"$f":"G533*$B$13","v":{"$error":"#VALUE!"}}]
[{"$f":"IF(IF(A533<>\"\",A533+1<=$B$16,0),A533+1,\"\")","v":""},{"$f":"IF(A534<>\"\",A534*$B$13,\"\")","v":""},{"$f":"IF(A534<>\"\",ROUNDDOWN(A534*$B$13/24,0),\"\")","v":""},"",{"$f":"IF(A534<>\"\",($B$4+$B$5)/2+($B$5-$B$4)/2*COS(2*PI()/$B$15*B534),\"\")","v":""},{"$f":"IF(A534<>\"\",E534*COS(2*PI()/$B$7*B534),\"\")","v":""},{"$error":"#VALUE!"},{"$error":"#VALUE!"}]
["","","","","","",{"$error":"#VALUE!"},{"$error":"#VALUE!"}]
["","","","","","",{"$error":"#VALUE!"},{"$error":"#VALUE!"}]
["","","","","","",{"$error":"#VALUE!"},{"$error":"#VALUE!"}]
["","","","","","",{"$error":"#VALUE!"},{"$error":"#VALUE!"}]
["","","","","","",{"$error":"#VALUE!"},{"$error":"#VALUE!"}]
["","","","","","",{"$error":"#VALUE!"},{"$error":"#VALUE!"}]
["","","","","","",{"$error":"#VALUE!"},{"$error":"#VALUE!"}]
["","","","","","",{"$error":"#VALUE!"},{"$error":"#VALUE!"}]
["","","","","","",{"$error":"#VALUE!"},{"$error":"#VALUE!"}]
["","","","","","",{"$error":"#VALUE!"},{"$error":"#VALUE!"}]
["","","","","","",{"$error":"#VALUE!"},{"$error":"#VALUE!"}]
["","","","","","",{"$error":"#VALUE!"},{"$error":"#VALUE!"}]
["","","","","","",{"$error":"#VALUE!"},{"$error":"#VALUE!"}]
["","","","","","",{"$error":"#VALUE!"},{"$error":"#VALUE!"}]
["","","","","","",{"$error":"#VALUE!"},{"$error":"#VALUE!"}]
["","","","","","",{"$error":"#VALUE!"},{"$error":"#VALUE!"}]
["","","","","","",{"$error":"#VALUE!"},{"$error":"#VALUE!"}]
["","","","","","",{"$error":"#VALUE!"},{"$error":"#VALUE!"}]
["","","","","","",{"$error":"#VALUE!"},{"$error":"#VALUE!"}]
["","","","","","",{"$error":"#VALUE!"},{"$error":"#VALUE!"}]
["","","","","","",{"$error":"#VALUE!"},{"$error":"#VALUE!"}]
["","","","","","",{"$error":"#VALUE!"},{"$error":"#VALUE!"}]
["","","","","","",{"$error":"#VALUE!"},{"$error":"#VALUE!"}]
["","","","","","",{"$error":"#VALUE!"},{"$error":"#VALUE!"}]
["","","","","","",{"$error":"#VALUE!"},{"$error":"#VALUE!"}]
["","","","","","",{"$error":"#VALUE!"},{"$error":"#VALUE!"}]
["","","","","","",{"$error":"#VALUE!"},{"$error":"#VALUE!"}]
["","","","","","",{"$error":"#VALUE!"},{"$error":"#VALUE!"}]
["","","","","","",{"$error":"#VALUE!"},{"$error":"#VALUE!"}]
["","","","","","",{"$error":"#VALUE!"},{"$error":"#VALUE!"}]
["","","","","","",{"$error":"#VALUE!"},{"$error":"#VALUE!"}]
["","","","","","",{"$error":"#VALUE!"},{"$error":"#VALUE!"}]
["","","","","","",{"$error":"#VALUE!"},{"$error":"#VALUE!"}]
["","","","","","",{"$error":"#VALUE!"},{"$error":"#VALUE!"}]
["","","","","","",{"$error":"#VALUE!"},{"$error":"#VALUE!"}]
["","","","","","",{"$error":"#VALUE!"},{"$error":"#VALUE!"}]
["","","","","","",{"$error":"#VALUE!"},{"$error":"#VALUE!"}]
["","","","","","",{"$error":"#VALUE!"},{"$error":"#VALUE!"}]
["","","","","","",{"$error":"#VALUE!"},{"$error":"#VALUE!"}]
["","","","","","",{"$error":"#VALUE!"},{"$error":"#VALUE!"}]
["","","","","","",{"$error":"#VALUE!"},{"$error":"#VALUE!"}]
["","","","","","",{"$error":"#VALUE!"},{"$error":"#VALUE!"}]
["","","","","","",{"$error":"#VALUE!"},{"$error":"#VALUE!"}]
["","","","","","",{"$error":"#VALUE!"},{"$error":"#VALUE!"}]
["","","","","","",{"$error":"#VALUE!"},{"$error":"#VALUE!"}]
["","","","","","",{"$error":"#VALUE!"},{"$error":"#VALUE!"}]
["","","","","","",{"$error":"#VALUE!"},{"$error":"#VALUE!"}]
["","","","","","",{"$error":"#VALUE!"},{"$error":"#VALUE!"}]
["","","","","","",{"$error":"#VALUE!"},{"$error":"#VALUE!"}]
["","","","","","",{"$error":"#VALUE!"},{"$error":"#VALUE!"}]
["","","","","","",{"$error":"#VALUE!"},{"$error":"#VALUE!"}]
["","","","","","",{"$error":"#VALUE!"},{"$error":"#VALUE!"}]
["","","","","","",{"$error":"#VALUE!"},{"$error":"#VALUE!"}]
["","","","","","",{"$error":"#VALUE!"},{"$error":"#VALUE!"}]
["","","","","","",{"$error":"#VALUE!"},{"$error":"#VALUE!"}]
["","","","","","",{"$error":"#VALUE!"},{"$error":"#VALUE!"}]
["","","","","","",{"$error":"#VALUE!"},{"$error":"#VALUE!"}]
["","","","","","",{"$error":"#VALUE!"},{"$error":"#VALUE!"}]
["","","","","","",{"$error":"#VALUE!"},{"$error":"#VALUE!"}]
["","","","","","",{"$error":"#VALUE!"},{"$error":"#VALUE!"}]
["","","","","","",{"$error":"#VALUE!"},{"$error":"#VALUE!"}]
["","","","","","",{"$error":"#VALUE!"},{"$error":"#VALUE!"}]
["","","",{"$f":"IF(A597<>\"\",MOD(B597,24)/24,\"\")","v":""},"","",{"$f":"ABS(0.5*1.025*1*(F597^3))","v":{"$error":"#VALUE!"}},{"$f":"G597*$B$13","v":{"$error":"#VALUE!"}}]
[{"$f":"IF(IF(A597<>\"\",A597+1<=$B$16,0),A597+1,\"\")","v":""},{"$f":"IF(A598<>\"\",A598*$B$13,\"\")","v":""},{"$f":"IF(A598<>\"\",ROUNDDOWN(A598*$B$13/24,0),\"\")","v":""},"",{"$f":"IF(A598<>\"\",($B$4+$B$5)/2+($B$5-$B$4)/2*COS(2*PI()/$B$15*B598),\"\")","v":""},{"$f":"IF(A598<>\"\",E598*COS(2*PI()/$B$7*B598),\"\")","v":""},{"$error":"#VALUE!"},{"$error":"#VALUE!"}]
["","","","","","",{"$error":"#VALUE!"},{"$error":"#VALUE!"}]
["","","","","","",{"$error":"#VALUE!"},{"$error":"#VALUE!"}]
["","","","","","",{"$error":"#VALUE!"},{"$error":"#VALUE!"}]
["","","","","","",{"$error":"#VALUE!"},{"$error":"#VALUE!"}]
["","","","","","",{"$error":"#VALUE!"},{"$error":"#VALUE!"}]
["","","","","","",{"$error":"#VALUE!"},{"$error":"#VALUE!"}]
["","","","","","",{"$error":"#VALUE!"},{"$error":"#VALUE!"}]
["","","","","","",{"$error":"#VALUE!"},{"$error":"#VALUE!"}]
["","","","","","",{"$error":"#VALUE!"},{"$error":"#VALUE!"}]
["","","","","","",{"$error":"#VALUE!"},{"$error":"#VALUE!"}]
["","","","","","",{"$error":"#VALUE!"},{"$error":"#VALUE!"}]
["","","","","","",{"$error":"#VALUE!"},{"$error":"#VALUE!"}]
["","","","","","",{"$error":"#VALUE!"},{"$error":"#VALUE!"}]
["","","","","","",{"$error":"#VALUE!"},{"$error":"#VALUE!"}]
["","","","","","",{"$error":"#VALUE!"},{"$error":"#VALUE!"}]
["","","","","","",{"$error":"#VALUE!"},{"$error":"#VALUE!"}]
["","","","","","",{"$error":"#VALUE!"},{"$error":"#VALUE!"}]
["","","","","","",{"$error":"#VALUE!"},{"$error":"#VALUE!"}]
["","","","","","",{"$error":"#VALUE!"},{"$error":"#VALUE!"}]
["","","","","","",{"$error":"#VALUE!"},{"$error":"#VALUE!"}]
["","","","","","",{"$error":"#VALUE!"},{"$error":"#VALUE!"}]
["","","","","","",{"$error":"#VALUE!"},{"$error":"#VALUE!"}]
["","","","","","",{"$error":"#VALUE!"},{"$error":"#VALUE!"}]
["","","","","","",{"$error":"#VALUE!"},{"$error":"#VALUE!"}]
["","","","","","",{"$error":"#VALUE!"},{"$error":"#VALUE!"}]
["","","","","","",{"$error":"#VALUE!"},{"$error":"#VALUE!"}]
["","","","","","",{"$error":"#VALUE!"},{"$error":"#VALUE!"}]
["","","","","","",{"$error":"#VALUE!"},{"$error":"#VALUE!"}]
["","","","","","",{"$error":"#VALUE!"},{"$error":"#VALUE!"}]
["","","","","","",{"$error":"#VALUE!"},{"$error":"#VALUE!"}]
["","","","","","",{"$error":"#VALUE!"},{"$error":"#VALUE!"}]
["","","","","","",{"$error":"#VALUE!"},{"$error":"#VALUE!"}]
["","","","","","",{"$error":"#VALUE!"},{"$error":"#VALUE!"}]
["","","","","","",{"$error":"#VALUE!"},{"$error":"#VALUE!"}]
["","","","","","",{"$error":"#VALUE!"},{"$error":"#VALUE!"}]
["","","","","","",{"$error":"#VALUE!"},{"$error":"#VALUE!"}]
["","","","","","",{"$error":"#VALUE!"},{"$error":"#VALUE!"}]
["","","","","","",{"$error":"#VALUE!"},{"$error":"#VALUE!"}]
["","","","","","",{"$error":"#VALUE!"},{"$error":"#VALUE!"}]
["","","","","","",{"$error":"#VALUE!"},{"$error":"#VALUE!"}]
["","","","","","",{"$error":"#VALUE!"},{"$error":"#VALUE!"}]
["","","","","","",{"$error":"#VALUE!"},{"$error":"#VALUE!"}]
["","","","","","",{"$error":"#VALUE!"},{"$error":"#VALUE!"}]
["","","","","","",{"$error":"#VALUE!"},{"$error":"#VALUE!"}]
["","","","","","",{"$error":"#VALUE!"},{"$error":"#VALUE!"}]
["","","","","","",{"$error":"#VALUE!"},{"$error":"#VALUE!"}]
["","","","","","",{"$error":"#VALUE!"},{"$error":"#VALUE!"}]
["","","","","","",{"$error":"#VALUE!"},{"$error":"#VALUE!"}]
["","","","","","",{"$error":"#VALUE!"},{"$error":"#VALUE!"}]
["","","","","","",{"$error":"#VALUE!"},{"$error":"#VALUE!"}]
["","","","","","",{"$error":"#VALUE!"},{"$error":"#VALUE!"}]
["","","","","","",{"$error":"#VALUE!"},{"$error":"#VALUE!"}]
["","","","","","",{"$error":"#VALUE!"},{"$error":"#VALUE!"}]
["","","","","","",{"$error":"#VALUE!"},{"$error":"#VALUE!"}]
["","","","","","",{"$error":"#VALUE!"},{"$error":"#VALUE!"}]
["","","","","","",{"$error":"#VALUE!"},{"$error":"#VALUE!"}]
["","","","","","",{"$error":"#VALUE!"},{"$error":"#VALUE!"}]
["","","","","","",{"$error":"#VALUE!"},{"$error":"#VALUE!"}]
["","","","","","",{"$error":"#VALUE!"},{"$error":"#VALUE!"}]
["","","","","","",{"$error":"#VALUE!"},{"$error":"#VALUE!"}]
["","","","","","",{"$error":"#VALUE!"},{"$error":"#VALUE!"}]
["","","","","","",{"$error":"#VALUE!"},{"$error":"#VALUE!"}]
["","","",{"$f":"IF(A661<>\"\",MOD(B661,24)/24,\"\")","v":""},"","",{"$f":"ABS(0.5*1.025*1*(F661^3))","v":{"$error":"#VALUE!"}},{"$f":"G661*$B$13","v":{"$error":"#VALUE!"}}]
[{"$f":"IF(IF(A661<>\"\",A661+1<=$B$16,0),A661+1,\"\")","v":""},{"$f":"IF(A662<>\"\",A662*$B$13,\"\")","v":""},{"$f":"IF(A662<>\"\",ROUNDDOWN(A662*$B$13/24,0),\"\")","v":""},"",{"$f":"IF(A662<>\"\",($B$4+$B$5)/2+($B$5-$B$4)/2*COS(2*PI()/$B$15*B662),\"\")","v":""},{"$f":"IF(A662<>\"\",E662*COS(2*PI()/$B$7*B662),\"\")","v":""},{"$error":"#VALUE!"},{"$error":"#VALUE!"}]
["","","","","","",{"$error":"#VALUE!"},{"$error":"#VALUE!"}]
["","","","","","",{"$error":"#VALUE!"},{"$error":"#VALUE!"}]
["","","","","","",{"$error":"#VALUE!"},{"$error":"#VALUE!"}]
["","","","","","",{"$error":"#VALUE!"},{"$error":"#VALUE!"}]
["","","","","","",{"$error":"#VALUE!"},{"$error":"#VALUE!"}]
["","","","","","",{"$error":"#VALUE!"},{"$error":"#VALUE!"}]
["","","","","","",{"$error":"#VALUE!"},{"$error":"#VALUE!"}]
["","","","","","",{"$error":"#VALUE!"},{"$error":"#VALUE!"}]
["","","","","","",{"$error":"#VALUE!"},{"$error":"#VALUE!"}]
["","","","","","",{"$error":"#VALUE!"},{"$error":"#VALUE!"}]
["","","","","","",{"$error":"#VALUE!"},{"$error":"#VALUE!"}]
["","","","","","",{"$error":"#VALUE!"},{"$error":"#VALUE!"}]
["","","","","","",{"$error":"#VALUE!"},{"$error":"#VALUE!"}]
["","","","","","",{"$error":"#VALUE!"},{"$error":"#VALUE!"}]
["","","","","","",{"$error":"#VALUE!"},{"$error":"#VALUE!"}]
["","","","","","",{"$error":"#VALUE!"},{"$error":"#VALUE!"}]
["","","","","","",{"$error":"#VALUE!"},{"$error":"#VALUE!"}]
["","","","","","",{"$error":"#VALUE!"},{"$error":"#VALUE!"}]
["","","","","","",{"$error":"#VALUE!"},{"$error":"#VALUE!"}]
["","","","","","",{"$error":"#VALUE!"},{"$error":"#VALUE!"}]
["","","","","","",{"$error":"#VALUE!"},{"$error":"#VALUE!"}]
["","","","","","",{"$error":"#VALUE!"},{"$error":"#VALUE!"}]
["","","","","","",{"$error":"#VALUE!"},{"$error":"#VALUE!"}]
["","","","","","",{"$error":"#VALUE!"},{"$error":"#VALUE!"}]
["","","","","","",{"$error":"#VALUE!"},{"$error":"#VALUE!"}]
["","","","","","",{"$error":"#VALUE!"},{"$error":"#VALUE!"}]
["","","","","","",{"$error":"#VALUE!"},{"$error":"#VALUE!"}]
["","","","","","",{"$error":"#VALUE!"},{"$error":"#VALUE!"}]
["","","","","","",{"$error":"#VALUE!"},{"$error":"#VALUE!"}]
["","","","","","",{"$error":"#VALUE!"},{"$error":"#VALUE!"}]
["","","","","","",{"$error":"#VALUE!"},{"$error":"#VALUE!"}]
["","","","","","",{"$error":"#VALUE!"},{"$error":"#VALUE!"}]
["","","","","","",{"$error":"#VALUE!"},{"$error":"#VALUE!"}]
["","","","","","",{"$error":"#VALUE!"},{"$error":"#VALUE!"}]
["","","","","","",{"$error":"#VALUE!"},{"$error":"#VALUE!"}]
["","","","","","",{"$error":"#VALUE!"},{"$error":"#VALUE!"}]
["","","","","","",{"$error":"#VALUE!"},{"$error":"#VALUE!"}]
["","","","","","",{"$error":"#VALUE!"},{"$error":"#VALUE!"}]
["","","","","","",{"$error":"#VALUE!"},{"$error":"#VALUE!"}]
["","","","","","",{"$error":"#VALUE!"},{"$error":"#VALUE!"}]
["","","","","","",{"$error":"#VALUE!"},{"$error":"#VALUE!"}]
["","","","","","",{"$error":"#VALUE!"},{"$error":"#VALUE!"}]
["","","","","","",{"$error":"#VALUE!"},{"$error":"#VALUE!"}]
["","","","","","",{"$error":"#VALUE!"},{"$error":"#VALUE!"}]
["","","","","","",{"$error":"#VALUE!"},{"$error":"#VALUE!"}]
["","","","","","",{"$error":"#VALUE!"},{"$error":"#VALUE!"}]
["","","","","","",{"$error":"#VALUE!"},{"$error":"#VALUE!"}]
["","","","","","",{"$error":"#VALUE!"},{"$error":"#VALUE!"}]
["","","","","","",{"$error":"#VALUE!"},{"$error":"#VALUE!"}]
["","","","","","",{"$error":"#VALUE!"},{"$error":"#VALUE!"}]
["","","","","","",{"$error":"#VALUE!"},{"$error":"#VALUE!"}]
["","","","","","",{"$error":"#VALUE!"},{"$error":"#VALUE!"}]
["","","","","","",{"$error":"#VALUE!"},{"$error":"#VALUE!"}]
["","","","","","",{"$error":"#VALUE!"},{"$error":"#VALUE!"}]
["","","","","","",{"$error":"#VALUE!"},{"$error":"#VALUE!"}]
["","","","","","",{"$error":"#VALUE!"},{"$error":"#VALUE!"}]
["","","","","","",{"$error":"#VALUE!"},{"$error":"#VALUE!"}]
["","","","","","",{"$error":"#VALUE!"},{"$error":"#VALUE!"}]
["","","","","","",{"$error":"#VALUE!"},{"$error":"#VALUE!"}]
["","","","","","",{"$error":"#VALUE!"},{"$error":"#VALUE!"}]
["","","","","","",{"$error":"#VALUE!"},{"$error":"#VALUE!"}]
["","","","","","",{"$error":"#VALUE!"},{"$error":"#VALUE!"}]
["","","",{"$f":"IF(A725<>\"\",MOD(B725,24)/24,\"\")","v":""},"","",{"$f":"ABS(0.5*1.025*1*(F725^3))","v":{"$error":"#VALUE!"}},{"$f":"G725*$B$13","v":{"$error":"#VALUE!"}}]
[{"$f":"IF(IF(A725<>\"\",A725+1<=$B$16,0),A725+1,\"\")","v":""},{"$f":"IF(A726<>\"\",A726*$B$13,\"\")","v":""},{"$f":"IF(A726<>\"\",ROUNDDOWN(A726*$B$13/24,0),\"\")","v":""},"",{"$f":"IF(A726<>\"\",($B$4+$B$5)/2+($B$5-$B$4)/2*COS(2*PI()/$B$15*B726),\"\")","v":""},{"$f":"IF(A726<>\"\",E726*COS(2*PI()/$B$7*B726),\"\")","v":""},{"$error":"#VALUE!"},{"$error":"#VALUE!"}]
["","","","","","",{"$error":"#VALUE!"},{"$error":"#VALUE!"}]
["","","","","","",{"$error":"#VALUE!"},{"$error":"#VALUE!"}]
["","","","","","",{"$error":"#VALUE!"},{"$error":"#VALUE!"}]
["","","","","","",{"$error":"#VALUE!"},{"$error":"#VALUE!"}]
["","","","","","",{"$error":"#VALUE!"},{"$error":"#VALUE!"}]
["","","","","","",{"$error":"#VALUE!"},{"$error":"#VALUE!"}]
["","","","","","",{"$error":"#VALUE!"},{"$error":"#VALUE!"}]
["","","","","","",{"$error":"#VALUE!"},{"$error":"#VALUE!"}]
["","","","","","",{"$error":"#VALUE!"},{"$error":"#VALUE!"}]
["","","","","","",{"$error":"#VALUE!"},{"$error":"#VALUE!"}]
["","","","","","",{"$error":"#VALUE!"},{"$error":"#VALUE!"}]
["","","","","","",{"$error":"#VALUE!"},{"$error":"#VALUE!"}]
["","","","","","",{"$error":"#VALUE!"},{"$error":"#VALUE!"}]
["","","","","","",{"$error":"#VALUE!"},{"$error":"#VALUE!"}]
["","","","","","",{"$error":"#VALUE!"},{"$error":"#VALUE!"}]
["","","","","","",{"$error":"#VALUE!"},{"$error":"#VALUE!"}]
["","","","","","",{"$error":"#VALUE!"},{"$error":"#VALUE!"}]
["","","","","","",{"$error":"#VALUE!"},{"$error":"#VALUE!"}]
["","","","","","",{"$error":"#VALUE!"},{"$error":"#VALUE!"}]
["","","","","","",{"$error":"#VALUE!"},{"$error":"#VALUE!"}]
["","","","","","",{"$error":"#VALUE!"},{"$error":"#VALUE!"}]
["","","","","","",{"$error":"#VALUE!"},{"$error":"#VALUE!"}]
["","","","","","",{"$error":"#VALUE!"},{"$error":"#VALUE!"}]
["","","","","","",{"$error":"#VALUE!"},{"$error":"#VALUE!"}]
["","","","","","",{"$error":"#VALUE!"},{"$error":"#VALUE!"}]
["","","","","","",{"$error":"#VALUE!"},{"$error":"#VALUE!"}]
["","","","","","",{"$error":"#VALUE!"},{"$error":"#VALUE!"}]
["","","","","","",{"$error":"#VALUE!"},{"$error":"#VALUE!"}]
["","","","","","",{"$error":"#VALUE!"},{"$error":"#VALUE!"}]
["","","","","","",{"$error":"#VALUE!"},{"$error":"#VALUE!"}]
["","","","","","",{"$error":"#VALUE!"},{"$error":"#VALUE!"}]
["","","","","","",{"$error":"#VALUE!"},{"$error":"#VALUE!"}]
["","","","","","",{"$error":"#VALUE!"},{"$error":"#VALUE!"}]
["","","","","","",{"$error":"#VALUE!"},{"$error":"#VALUE!"}]
["","","","","","",{"$error":"#VALUE!"},{"$error":"#VALUE!"}]
["","","","","","",{"$error":"#VALUE!"},{"$error":"#VALUE!"}]
["","","","","","",{"$error":"#VALUE!"},{"$error":"#VALUE!"}]
["","","","","","",{"$error":"#VALUE!"},{"$error":"#VALUE!"}]
["","","","","","",{"$error":"#VALUE!"},{"$error":"#VALUE!"}]
["","","","","","",{"$error":"#VALUE!"},{"$error":"#VALUE!"}]
["","","","","","",{"$error":"#VALUE!"},{"$error":"#VALUE!"}]
["","","","","","",{"$error":"#VALUE!"},{"$error":"#VALUE!"}]
["","","","","","",{"$error":"#VALUE!"},{"$error":"#VALUE!"}]
["","","","","","",{"$error":"#VALUE!"},{"$error":"#VALUE!"}]
["","","","","","",{"$error":"#VALUE!"},{"$error":"#VALUE!"}]
["","","","","","",{"$error":"#VALUE!"},{"$error":"#VALUE!"}]
["","","","","","",{"$error":"#VALUE!"},{"$error":"#VALUE!"}]
["","","","","","",{"$error":"#VALUE!"},{"$error":"#VALUE!"}]
["","","","","","",{"$error":"#VALUE!"},{"$error":"#VALUE!"}]
["","","","","","",{"$error":"#VALUE!"},{"$error":"#VALUE!"}]
["","","","","","",{"$error":"#VALUE!"},{"$error":"#VALUE!"}]
["","","","","","",{"$error":"#VALUE!"},{"$error":"#VALUE!"}]
["","","","","","",{"$error":"#VALUE!"},{"$error":"#VALUE!"}]
["","","","","","",{"$error":"#VALUE!"},{"$error":"#VALUE!"}]
["","","","","","",{"$error":"#VALUE!"},{"$error":"#VALUE!"}]
["","","","","","",{"$error":"#VALUE!"},{"$error":"#VALUE!"}]
["","","","","","",{"$error":"#VALUE!"},{"$error":"#VALUE!"}]
["","","","","","",{"$error":"#VALUE!"},{"$error":"#VALUE!"}]
["","","","","","",{"$error":"#VALUE!"},{"$error":"#VALUE!"}]
["","","","","","",{"$error":"#VALUE!"},{"$error":"#VALUE!"}]
["","","","","","",{"$error":"#VALUE!"},{"$error":"#VALUE!"}]
["","","","","","",{"$error":"#VALUE!"},{"$error":"#VALUE!"}]
["","","",{"$f":"IF(A789<>\"\",MOD(B789,24)/24,\"\")","v":""},"","",{"$f":"ABS(0.5*1.025*1*(F789^3))","v":{"$error":"#VALUE!"}},{"$f":"G789*$B$13","v":{"$error":"#VALUE!"}}]
[{"$f":"IF(IF(A789<>\"\",A789+1<=$B$16,0),A789+1,\"\")","v":""},{"$f":"IF(A790<>\"\",A790*$B$13,\"\")","v":""},{"$f":"IF(A790<>\"\",ROUNDDOWN(A790*$B$13/24,0),\"\")","v":""},"",{"$f":"IF(A790<>\"\",($B$4+$B$5)/2+($B$5-$B$4)/2*COS(2*PI()/$B$15*B790),\"\")","v":""},{"$f":"IF(A790<>\"\",E790*COS(2*PI()/$B$7*B790),\"\")","v":""},{"$error":"#VALUE!"},{"$error":"#VALUE!"}]
["","","","","","",{"$error":"#VALUE!"},{"$error":"#VALUE!"}]
["","","","","","",{"$error":"#VALUE!"},{"$error":"#VALUE!"}]
["","","","","","",{"$error":"#VALUE!"},{"$error":"#VALUE!"}]
["","","","","","",{"$error":"#VALUE!"},{"$error":"#VALUE!"}]
["","","","","","",{"$error":"#VALUE!"},{"$error":"#VALUE!"}]
["","","","","","",{"$error":"#VALUE!"},{"$error":"#VALUE!"}]
["","","","","","",{"$error":"#VALUE!"},{"$error":"#VALUE!"}]
["","","","","","",{"$error":"#VALUE!"},{"$error":"#VALUE!"}]
["","","","","","",{"$error":"#VALUE!"},{"$error":"#VALUE!"}]
["","","","","","",{"$error":"#VALUE!"},{"$error":"#VALUE!"}]
["","","","","","",{"$error":"#VALUE!"},{"$error":"#VALUE!"}]
["","","","","","",{"$error":"#VALUE!"},{"$error":"#VALUE!"}]
["","","","","","",{"$error":"#VALUE!"},{"$error":"#VALUE!"}]
["","","","","","",{"$error":"#VALUE!"},{"$error":"#VALUE!"}]
["","","","","","",{"$error":"#VALUE!"},{"$error":"#VALUE!"}]
["","","","","","",{"$error":"#VALUE!"},{"$error":"#VALUE!"}]
["","","","","","",{"$error":"#VALUE!"},{"$error":"#VALUE!"}]
["","","","","","",{"$error":"#VALUE!"},{"$error":"#VALUE!"}]
["","","","","","",{"$error":"#VALUE!"},{"$error":"#VALUE!"}]
["","","","","","",{"$error":"#VALUE!"},{"$error":"#VALUE!"}]
["","","","","","",{"$error":"#VALUE!"},{"$error":"#VALUE!"}]
["","","","","","",{"$error":"#VALUE!"},{"$error":"#VALUE!"}]
["","","","","","",{"$error":"#VALUE!"},{"$error":"#VALUE!"}]
["","","","","","",{"$error":"#VALUE!"},{"$error":"#VALUE!"}]
["","","","","","",{"$error":"#VALUE!"},{"$error":"#VALUE!"}]
["","","","","","",{"$error":"#VALUE!"},{"$error":"#VALUE!"}]
["","","","","","",{"$error":"#VALUE!"},{"$error":"#VALUE!"}]
["","","","","","",{"$error":"#VALUE!"},{"$error":"#VALUE!"}]
["","","","","","",{"$error":"#VALUE!"},{"$error":"#VALUE!"}]
["","","","","","",{"$error":"#VALUE!"},{"$error":"#VALUE!"}]
["","","","","","",{"$error":"#VALUE!"},{"$error":"#VALUE!"}]
["","","","","","",{"$error":"#VALUE!"},{"$error":"#VALUE!"}]
["","","","","","",{"$error":"#VALUE!"},{"$error":"#VALUE!"}]
["","","","","","",{"$error":"#VALUE!"},{"$error":"#VALUE!"}]
["","","","","","",{"$error":"#VALUE!"},{"$error":"#VALUE!"}]
["","","","","","",{"$error":"#VALUE!"},{"$error":"#VALUE!"}]
["","","","","","",{"$error":"#VALUE!"},{"$error":"#VALUE!"}]
["","","","","","",{"$error":"#VALUE!"},{"$error":"#VALUE!"}]
["","","","","","",{"$error":"#VALUE!"},{"$error":"#VALUE!"}]
["","","","","","",{"$error":"#VALUE!"},{"$error":"#VALUE!"}]
["","","","","","",{"$error":"#VALUE!"},{"$error":"#VALUE!"}]
["","","","","","",{"$error":"#VALUE!"},{"$error":"#VALUE!"}]
["","","","","","",{"$error":"#VALUE!"},{"$error":"#VALUE!"}]
["","","","","","",{"$error":"#VALUE!"},{"$error":"#VALUE!"}]
["","","","","","",{"$error":"#VALUE!"},{"$error":"#VALUE!"}]
["","","","","","",{"$error":"#VALUE!"},{"$error":"#VALUE!"}]
["","","","","","",{"$error":"#VALUE!"},{"$error":"#VALUE!"}]
["","","","","","",{"$error":"#VALUE!"},{"$error":"#VALUE!"}]
["","","","","","",{"$error":"#VALUE!"},{"$error":"#VALUE!"}]
["","","","","","",{"$error":"#VALUE!"},{"$error":"#VALUE!"}]
["","","","","","",{"$error":"#VALUE!"},{"$error":"#VALUE!"}]
["","","","","","",{"$error":"#VALUE!"},{"$error":"#VALUE!"}]
["","","","","","",{"$error":"#VALUE!"},{"$error":"#VALUE!"}]
["","","","","","",{"$error":"#VALUE!"},{"$error":"#VALUE!"}]
["","","","","","",{"$error":"#VALUE!"},{"$error":"#VALUE!"}]
["","","","","","",{"$error":"#VALUE!"},{"$error":"#VALUE!"}]
["","","","","","",{"$error":"#VALUE!"},{"$error":"#VALUE!"}]
["","","","","","",{"$error":"#VALUE!"},{"$error":"#VALUE!"}]
["","","","","","",{"$error":"#VALUE!"},{"$error":"#VALUE!"}]
["","","","","","",{"$error":"#VALUE!"},{"$error":"#VALUE!"}]
["","","","","","",{"$error":"#VALUE!"},{"$error":"#VALUE!"}]
["","","","","","",{"$error":"#VALUE!"},{"$error":"#VALUE!"}]
["","","",{"$f":"IF(A853<>\"\",MOD(B853,24)/24,\"\")","v":""},"","",{"$f":"ABS(0.5*1.025*1*(F853^3))","v":{"$error":"#VALUE!"}},{"$f":"G853*$B$13","v":{"$error":"#VALUE!"}}]
[{"$f":"IF(IF(A853<>\"\",A853+1<=$B$16,0),A853+1,\"\")","v":""},{"$f":"IF(A854<>\"\",A854*$B$13,\"\")","v":""},{"$f":"IF(A854<>\"\",ROUNDDOWN(A854*$B$13/24,0),\"\")","v":""},"",{"$f":"IF(A854<>\"\",($B$4+$B$5)/2+($B$5-$B$4)/2*COS(2*PI()/$B$15*B854),\"\")","v":""},{"$f":"IF(A854<>\"\",E854*COS(2*PI()/$B$7*B854),\"\")","v":""},{"$error":"#VALUE!"},{"$error":"#VALUE!"}]
["","","","","","",{"$error":"#VALUE!"},{"$error":"#VALUE!"}]
["","","","","","",{"$error":"#VALUE!"},{"$error":"#VALUE!"}]
["","","","","","",{"$error":"#VALUE!"},{"$error":"#VALUE!"}]
["","","","","","",{"$error":"#VALUE!"},{"$error":"#VALUE!"}]
["","","","","","",{"$error":"#VALUE!"},{"$error":"#VALUE!"}]
["","","","","","",{"$error":"#VALUE!"},{"$error":"#VALUE!"}]
["","","","","","",{"$error":"#VALUE!"},{"$error":"#VALUE!"}]
["","","","","","",{"$error":"#VALUE!"},{"$error":"#VALUE!"}]
["","","","","","",{"$error":"#VALUE!"},{"$error":"#VALUE!"}]
["","","","","","",{"$error":"#VALUE!"},{"$error":"#VALUE!"}]
["","","","","","",{"$error":"#VALUE!"},{"$error":"#VALUE!"}]
["","","","","","",{"$error":"#VALUE!"},{"$error":"#VALUE!"}]
["","","","","","",{"$error":"#VALUE!"},{"$error":"#VALUE!"}]
["","","","","","",{"$error":"#VALUE!"},{"$error":"#VALUE!"}]
["","","","","","",{"$error":"#VALUE!"},{"$error":"#VALUE!"}]
["","","","","","",{"$error":"#VALUE!"},{"$error":"#VALUE!"}]
["","","","","","",{"$error":"#VALUE!"},{"$error":"#VALUE!"}]
["","","","","","",{"$error":"#VALUE!"},{"$error":"#VALUE!"}]
["","","","","","",{"$error":"#VALUE!"},{"$error":"#VALUE!"}]
["","","","","","",{"$error":"#VALUE!"},{"$error":"#VALUE!"}]
["","","","","","",{"$error":"#VALUE!"},{"$error":"#VALUE!"}]
["","","","","","",{"$error":"#VALUE!"},{"$error":"#VALUE!"}]
["","","","","","",{"$error":"#VALUE!"},{"$error":"#VALUE!"}]
["","","","","","",{"$error":"#VALUE!"},{"$error":"#VALUE!"}]
["","","","","","",{"$error":"#VALUE!"},{"$error":"#VALUE!"}]
["","","","","","",{"$error":"#VALUE!"},{"$error":"#VALUE!"}]
["","","","","","",{"$error":"#VALUE!"},{"$error":"#VALUE!"}]
["","","","","","",{"$error":"#VALUE!"},{"$error":"#VALUE!"}]
["","","","","","",{"$error":"#VALUE!"},{"$error":"#VALUE!"}]
["","","","","","",{"$error":"#VALUE!"},{"$error":"#VALUE!"}]
["","","","","","",{"$error":"#VALUE!"},{"$error":"#VALUE!"}]
["","","","","","",{"$error":"#VALUE!"},{"$error":"#VALUE!"}]
["","","","","","",{"$error":"#VALUE!"},{"$error":"#VALUE!"}]
["","","","","","",{"$error":"#VALUE!"},{"$error":"#VALUE!"}]
["","","","","","",{"$error":"#VALUE!"},{"$error":"#VALUE!"}]
["","","","","","",{"$error":"#VALUE!"},{"$error":"#VALUE!"}]
["","","","","","",{"$error":"#VALUE!"},{"$error":"#VALUE!"}]
["","","","","","",{"$error":"#VALUE!"},{"$error":"#VALUE!"}]
["","","","","","",{"$error":"#VALUE!"},{"$error":"#VALUE!"}]
["","","","","","",{"$error":"#VALUE!"},{"$error":"#VALUE!"}]
["","","","","","",{"$error":"#VALUE!"},{"$error":"#VALUE!"}]
["","","","","","",{"$error":"#VALUE!"},{"$error":"#VALUE!"}]
["","","","","","",{"$error":"#VALUE!"},{"$error":"#VALUE!"}]
["","","","","","",{"$error":"#VALUE!"},{"$error":"#VALUE!"}]
["","","","","","",{"$error":"#VALUE!"},{"$error":"#VALUE!"}]
["","","","","","",{"$error":"#VALUE!"},{"$error":"#VALUE!"}]
["","","","","","",{"$error":"#VALUE!"},{"$error":"#VALUE!"}]
["","","","","","",{"$error":"#VALUE!"},{"$error":"#VALUE!"}]
["","","","","","",{"$error":"#VALUE!"},{"$error":"#VALUE!"}]
["","","","","","",{"$error":"#VALUE!"},{"$error":"#VALUE!"}]
["","","","","","",{"$error":"#VALUE!"},{"$error":"#VALUE!"}]
["","","","","","",{"$error":"#VALUE!"},{"$error":"#VALUE!"}]
["","","","","","",{"$error":"#VALUE!"},{"$error":"#VALUE!"}]
["","","","","","",{"$error":"#VALUE!"},{"$error":"#VALUE!"}]
["","","","","","",{"$error":"#VALUE!"},{"$error":"#VALUE!"}]
["","","","","","",{"$error":"#VALUE!"},{"$error":"#VALUE!"}]
["","","","","","",{"$error":"#VALUE!"},{"$error":"#VALUE!"}]
["","","","","","",{"$error":"#VALUE!"},{"$error":"#VALUE!"}]
["","","","","","",{"$error":"#VALUE!"},{"$error":"#VALUE!"}]
["","","","","","",{"$error":"#VALUE!"},{"$error":"#VALUE!"}]
["","","","","","",{"$error":"#VALUE!"},{"$error":"#VALUE!"}]
["","","","","","",{"$error":"#VALUE!"},{"$error":"#VALUE!"}]
["","","",{"$f":"IF(A917<>\"\",MOD(B917,24)/24,\"\")","v":""},"","",{"$f":"ABS(0.5*1.025*1*(F917^3))","v":{"$error":"#VALUE!"}},{"$f":"G917*$B$13","v":{"$error":"#VALUE!"}}]
[{"$f":"IF(IF(A917<>\"\",A917+1<=$B$16,0),A917+1,\"\")","v":""},{"$f":"IF(A918<>\"\",A918*$B$13,\"\")","v":""},{"$f":"IF(A918<>\"\",ROUNDDOWN(A918*$B$13/24,0),\"\")","v":""},"",{"$f":"IF(A918<>\"\",($B$4+$B$5)/2+($B$5-$B$4)/2*COS(2*PI()/$B$15*B918),\"\")","v":""},{"$f":"IF(A918<>\"\",E918*COS(2*PI()/$B$7*B918),\"\")","v":""},{"$error":"#VALUE!"},{"$error":"#VALUE!"}]
["","","","","","",{"$error":"#VALUE!"},{"$error":"#VALUE!"}]
["","","","","","",{"$error":"#VALUE!"},{"$error":"#VALUE!"}]
["","","","","","",{"$error":"#VALUE!"},{"$error":"#VALUE!"}]
["","","","","","",{"$error":"#VALUE!"},{"$error":"#VALUE!"}]
["","","","","","",{"$error":"#VALUE!"},{"$error":"#VALUE!"}]
["","","","","","",{"$error":"#VALUE!"},{"$error":"#VALUE!"}]
["","","","","","",{"$error":"#VALUE!"},{"$error":"#VALUE!"}]
["","","","","","",{"$error":"#VALUE!"},{"$error":"#VALUE!"}]
["","","","","","",{"$error":"#VALUE!"},{"$error":"#VALUE!"}]
["","","","","","",{"$error":"#VALUE!"},{"$error":"#VALUE!"}]
["","","","","","",{"$error":"#VALUE!"},{"$error":"#VALUE!"}]
["","","","","","",{"$error":"#VALUE!"},{"$error":"#VALUE!"}]
["","","","","","",{"$error":"#VALUE!"},{"$error":"#VALUE!"}]
["","","","","","",{"$error":"#VALUE!"},{"$error":"#VALUE!"}]
["","","","","","",{"$error":"#VALUE!"},{"$error":"#VALUE!"}]
["","","","","","",{"$error":"#VALUE!"},{"$error":"#VALUE!"}]
["","","","","","",{"$error":"#VALUE!"},{"$error":"#VALUE!"}]
["","","","","","",{"$error":"#VALUE!"},{"$error":"#VALUE!"}]
["","","","","","",{"$error":"#VALUE!"},{"$error":"#VALUE!"}]
["","","","","","",{"$error":"#VALUE!"},{"$error":"#VALUE!"}]
["","","","","","",{"$error":"#VALUE!"},{"$error":"#VALUE!"}]
["","","","","","",{"$error":"#VALUE!"},{"$error":"#VALUE!"}]
["","","","","","",{"$error":"#VALUE!"},{"$error":"#VALUE!"}]
["","","","","","",{"$error":"#VALUE!"},{"$error":"#VALUE!"}]
["","","","","","",{"$error":"#VALUE!"},{"$error":"#VALUE!"}]
["","","","","","",{"$error":"#VALUE!"},{"$error":"#VALUE!"}]
["","","","","","",{"$error":"#VALUE!"},{"$error":"#VALUE!"}]
["","","","","","",{"$error":"#VALUE!"},{"$error":"#VALUE!"}]
["","","","","","",{"$error":"#VALUE!"},{"$error":"#VALUE!"}]
["","","","","","",{"$error":"#VALUE!"},{"$error":"#VALUE!"}]
["","","","","","",{"$error":"#VALUE!"},{"$error":"#VALUE!"}]
["","","","","","",{"$error":"#VALUE!"},{"$error":"#VALUE!"}]
["","","","","","",{"$error":"#VALUE!"},{"$error":"#VALUE!"}]
["","","","","","",{"$error":"#VALUE!"},{"$error":"#VALUE!"}]
["","","","","","",{"$error":"#VALUE!"},{"$error":"#VALUE!"}]
["","","","","","",{"$error":"#VALUE!"},{"$error":"#VALUE!"}]
["","","","","","",{"$error":"#VALUE!"},{"$error":"#VALUE!"}]
["","","","","","",{"$error":"#VALUE!"},{"$error":"#VALUE!"}]
["","","","","","",{"$error":"#VALUE!"},{"$error":"#VALUE!"}]
["","","","","","",{"$error":"#VALUE!"},{"$error":"#VALUE!"}]
["","","","","","",{"$error":"#VALUE!"},{"$error":"#VALUE!"}]
["","","","","","",{"$error":"#VALUE!"},{"$error":"#VALUE!"}]
["","","","","","",{"$error":"#VALUE!"},{"$error":"#VALUE!"}]
["","","","","","",{"$error":"#VALUE!"},{"$error":"#VALUE!"}]
["","","","","","",{"$error":"#VALUE!"},{"$error":"#VALUE!"}]
["","","","","","",{"$error":"#VALUE!"},{"$error":"#VALUE!"}]
["","","","","","",{"$error":"#VALUE!"},{"$error":"#VALUE!"}]
["","","","","","",{"$error":"#VALUE!"},{"$error":"#VALUE!"}]
["","","","","","",{"$error":"#VALUE!"},{"$error":"#VALUE!"}]
["","","","","","",{"$error":"#VALUE!"},{"$error":"#VALUE!"}]
["","","","","","",{"$error":"#VALUE!"},{"$error":"#VALUE!"}]
["","","","","","",{"$error":"#VALUE!"},{"$error":"#VALUE!"}]
["","","","","","",{"$error":"#VALUE!"},{"$error":"#VALUE!"}]
["","","","","","",{"$error":"#VALUE!"},{"$error":"#VALUE!"}]
["","","","","","",{"$error":"#VALUE!"},{"$error":"#VALUE!"}]
["","","","","","",{"$error":"#VALUE!"},{"$error":"#VALUE!"}]
["","","","","","",{"$error":"#VALUE!"},{"$error":"#VALUE!"}]
["","","","","","",{"$error":"#VALUE!"},{"$error":"#VALUE!"}]
["","","","","","",{"$error":"#VALUE!"},{"$error":"#VALUE!"}]
["","","","","","",{"$error":"#VALUE!"},{"$error":"#VALUE!"}]
["","","","","","",{"$error":"#VALUE!"},{"$error":"#VALUE!"}]
["","","","","","",{"$error":"#VALUE!"},{"$error":"#VALUE!"}]
["","","",{"$f":"IF(A981<>\"\",MOD(B981,24)/24,\"\")","v":""},"","",{"$f":"ABS(0.5*1.025*1*(F981^3))","v":{"$error":"#VALUE!"}},{"$f":"G981*$B$13","v":{"$error":"#VALUE!"}}]
[{"$f":"IF(IF(A981<>\"\",A981+1<=$B$16,0),A981+1,\"\")","v":""},{"$f":"IF(A982<>\"\",A982*$B$13,\"\")","v":""},{"$f":"IF(A982<>\"\",ROUNDDOWN(A982*$B$13/24,0),\"\")","v":""},"",{"$f":"IF(A982<>\"\",($B$4+$B$5)/2+($B$5-$B$4)/2*COS(2*PI()/$B$15*B982),\"\")","v":""},{"$f":"IF(A982<>\"\",E982*COS(2*PI()/$B$7*B982),\"\")","v":""},{"$error":"#VALUE!"},{"$error":"#VALUE!"}]
["","","","","","",{"$error":"#VALUE!"},{"$error":"#VALUE!"}]
["","","","","","",{"$error":"#VALUE!"},{"$error":"#VALUE!"}]
["","","","","","",{"$error":"#VALUE!"},{"$error":"#VALUE!"}]
["","","","","","",{"$error":"#VALUE!"},{"$error":"#VALUE!"}]
["","","","","","",{"$error":"#VALUE!"},{"$error":"#VALUE!"}]
["","","","","","",{"$error":"#VALUE!"},{"$error":"#VALUE!"}]
["","","","","","",{"$error":"#VALUE!"},{"$error":"#VALUE!"}]
["","","","","","",{"$error":"#VALUE!"},{"$error":"#VALUE!"}]
["","","","","","",{"$error":"#VALUE!"},{"$error":"#VALUE!"}]
["","","","","","",{"$error":"#VALUE!"},{"$error":"#VALUE!"}]
["","","","","","",{"$error":"#VALUE!"},{"$error":"#VALUE!"}]
["","","","","","",{"$error":"#VALUE!"},{"$error":"#VALUE!"}]
["","","","","","",{"$error":"#VALUE!"},{"$error":"#VALUE!"}]
["","","","","","",{"$error":"#VALUE!"},{"$error":"#VALUE!"}]
["","","","","","",{"$error":"#VALUE!"},{"$error":"#VALUE!"}]
["","","","","","",{"$error":"#VALUE!"},{"$error":"#VALUE!"}]
["","","","","","",{"$error":"#VALUE!"},{"$error":"#VALUE!"}]
["","","","","","",{"$error":"#VALUE!"},{"$error":"#VALUE!"}]
["","","","","","",{"$error":"#VALUE!"},{"$error":"#VALUE!"}]
["","","","","","",{"$error":"#VALUE!"},{"$error":"#VALUE!"}]
["","","","","","",{"$error":"#VALUE!"},{"$error":"#VALUE!"}]
["","","","","","",{"$error":"#VALUE!"},{"$error":"#VALUE!"}]
["","","","","","",{"$error":"#VALUE!"},{"$error":"#VALUE!"}]
["","","","","","",{"$error":"#VALUE!"},{"$error":"#VALUE!"}]
["","","","","","",{"$error":"#VALUE!"},{"$error":"#VALUE!"}]
["","","","","","",{"$error":"#VALUE!"},{"$error":"#VALUE!"}]
["","","","","","",{"$error":"#VALUE!"},{"$error":"#VALUE!"}]
["","","","","","",{"$error":"#VALUE!"},{"$error":"#VALUE!"}]
["","","","","","",{"$error":"#VALUE!"},{"$error":"#VALUE!"}]
["","","","","","",{"$error":"#VALUE!"},{"$error":"#VALUE!"}]
["","","","","","",{"$error":"#VALUE!"},{"$error":"#VALUE!"}]
["","","","","","",{"$error":"#VALUE!"},{"$error":"#VALUE!"}]
["","","","","","",{"$error":"#VALUE!"},{"$error":"#VALUE!"}]
["","","","","","",{"$error":"#VALUE!"},{"$error":"#VALUE!"}]
["","","","","","",{"$error":"#VALUE!"},{"$error":"#VALUE!"}]
["","","","","","",{"$error":"#VALUE!"},{"$error":"#VALUE!"}]
["","","","","","",{"$error":"#VALUE!"},{"$error":"#VALUE!"}]
["","","","","","",{"$error":"#VALUE!"},{"$error":"#VALUE!"}]
["","","","","","",{"$error":"#VALUE!"},{"$error":"#VALUE!"}]
["","","","","","",{"$error":"#VALUE!"},{"$error":"#VALUE!"}]
["","","","","","",{"$error":"#VALUE!"},{"$error":"#VALUE!"}]
["","","","","","",{"$error":"#VALUE!"},{"$error":"#VALUE!"}]
["","","","","","",{"$error":"#VALUE!"},{"$error":"#VALUE!"}]
["","","","","","",{"$error":"#VALUE!"},{"$error":"#VALUE!"}]
["","","","","","",{"$error":"#VALUE!"},{"$error":"#VALUE!"}]
["","","","","","",{"$error":"#VALUE!"},{"$error":"#VALUE!"}]
["","","","","","",{"$error":"#VALUE!"},{"$error":"#VALUE!"}]
["","","","","","",{"$error":"#VALUE!"},{"$error":"#VALUE!"}]
["","","","","","",{"$error":"#VALUE!"},{"$error":"#VALUE!"}]
["","","","","","",{"$error":"#VALUE!"},{"$error":"#VALUE!"}]
["","","","","","",{"$error":"#VALUE!"},{"$error":"#VALUE!"}]
["","","","","","",{"$error":"#VALUE!"},{"$error":"#VALUE!"}]
["","","","","","",{"$error":"#VALUE!"},{"$error":"#VALUE!"}]
["","","","","","",{"$error":"#VALUE!"},{"$error":"#VALUE!"}]
["","","","","","",{"$error":"#VALUE!"},{"$error":"#VALUE!"}]
["","","","","","",{"$error":"#VALUE!"},{"$error":"#VALUE!"}]
["","","","","","",{"$error":"#VALUE!"},{"$error":"#VALUE!"}]
["","","","","","",{"$error":"#VALUE!"},{"$error":"#VALUE!"}]
["","","","","","",{"$error":"#VALUE!"},{"$error":"#VALUE!"}]
["","","","","","",{"$error":"#VALUE!"},{"$error":"#VALUE!"}]
["","","","","","",{"$error":"#VALUE!"},{"$error":"#VALUE!"}]
["","","","","","",{"$error":"#VALUE!"},{"$error":"#VALUE!"}]
["","","",{"$f":"IF(A1045<>\"\",MOD(B1045,24)/24,\"\")","v":""},"","",{"$f":"ABS(0.5*1.025*1*(F1045^3))","v":{"$error":"#VALUE!"}},{"$f":"G1045*$B$13","v":{"$error":"#VALUE!"}}]
[{"$f":"IF(IF(A1045<>\"\",A1045+1<=$B$16,0),A1045+1,\"\")","v":""},{"$f":"IF(A1046<>\"\",A1046*$B$13,\"\")","v":""},{"$f":"IF(A1046<>\"\",ROUNDDOWN(A1046*$B$13/24,0),\"\")","v":""},"",{"$f":"IF(A1046<>\"\",($B$4+$B$5)/2+($B$5-$B$4)/2*COS(2*PI()/$B$15*B1046),\"\")","v":""},{"$f":"IF(A1046<>\"\",E1046*COS(2*PI()/$B$7*B1046),\"\")","v":""},{"$error":"#VALUE!"},{"$error":"#VALUE!"}]
["","","","","","",{"$error":"#VALUE!"},{"$error":"#VALUE!"}]
["","","","","","",{"$error":"#VALUE!"},{"$error":"#VALUE!"}]
["","","","","","",{"$error":"#VALUE!"},{"$error":"#VALUE!"}]
["","","","","","",{"$error":"#VALUE!"},{"$error":"#VALUE!"}]
["","","","","","",{"$error":"#VALUE!"},{"$error":"#VALUE!"}]
["","","","","","",{"$error":"#VALUE!"},{"$error":"#VALUE!"}]
["","","","","","",{"$error":"#VALUE!"},{"$error":"#VALUE!"}]
["","","","","","",{"$error":"#VALUE!"},{"$error":"#VALUE!"}]
["","","","","","",{"$error":"#VALUE!"},{"$error":"#VALUE!"}]
["","","","","","",{"$error":"#VALUE!"},{"$error":"#VALUE!"}]
["","","","","","",{"$error":"#VALUE!"},{"$error":"#VALUE!"}]
["","","","","","",{"$error":"#VALUE!"},{"$error":"#VALUE!"}]
["","","","","","",{"$error":"#VALUE!"},{"$error":"#VALUE!"}]
["","","","","","",{"$error":"#VALUE!"},{"$error":"#VALUE!"}]
["","","","","","",{"$error":"#VALUE!"},{"$error":"#VALUE!"}]
["","","","","","",{"$error":"#VALUE!"},{"$error":"#VALUE!"}]
["","","","","","",{"$error":"#VALUE!"},{"$error":"#VALUE!"}]
["","","","","","",{"$error":"#VALUE!"},{"$error":"#VALUE!"}]
["","","","","","",{"$error":"#VALUE!"},{"$error":"#VALUE!"}]
["","","","","","",{"$error":"#VALUE!"},{"$error":"#VALUE!"}]
["","","","","","",{"$error":"#VALUE!"},{"$error":"#VALUE!"}]
["","","","","","",{"$error":"#VALUE!"},{"$error":"#VALUE!"}]
["","","","","","",{"$error":"#VALUE!"},{"$error":"#VALUE!"}]
["","","","","","",{"$error":"#VALUE!"},{"$error":"#VALUE!"}]
["","","","","","",{"$error":"#VALUE!"},{"$error":"#VALUE!"}]
["","","","","","",{"$error":"#VALUE!"},{"$error":"#VALUE!"}]
["","","","","","",{"$error":"#VALUE!"},{"$error":"#VALUE!"}]
["","","","","","",{"$error":"#VALUE!"},{"$error":"#VALUE!"}]
["","","","","","",{"$error":"#VALUE!"},{"$error":"#VALUE!"}]
["","","","","","",{"$error":"#VALUE!"},{"$error":"#VALUE!"}]
["","","","","","",{"$error":"#VALUE!"},{"$error":"#VALUE!"}]
["","","","","","",{"$error":"#VALUE!"},{"$error":"#VALUE!"}]
["","","","","","",{"$error":"#VALUE!"},{"$error":"#VALUE!"}]
["","","","","","",{"$error":"#VALUE!"},{"$error":"#VALUE!"}]
["","","","","","",{"$error":"#VALUE!"},{"$error":"#VALUE!"}]
["","","","","","",{"$error":"#VALUE!"},{"$error":"#VALUE!"}]
["","","","","","",{"$error":"#VALUE!"},{"$error":"#VALUE!"}]
["","","","","","",{"$error":"#VALUE!"},{"$error":"#VALUE!"}]
["","","","","","",{"$error":"#VALUE!"},{"$error":"#VALUE!"}]
["","","","","","",{"$error":"#VALUE!"},{"$error":"#VALUE!"}]
["","","","","","",{"$error":"#VALUE!"},{"$error":"#VALUE!"}]
["","","","","","",{"$error":"#VALUE!"},{"$error":"#VALUE!"}]
["","","","","","",{"$error":"#VALUE!"},{"$error":"#VALUE!"}]
["","","","","","",{"$error":"#VALUE!"},{"$error":"#VALUE!"}]
["","","","","","",{"$error":"#VALUE!"},{"$error":"#VALUE!"}]
["","","","","","",{"$error":"#VALUE!"},{"$error":"#VALUE!"}]
["","","","","","",{"$error":"#VALUE!"},{"$error":"#VALUE!"}]
["","","","","","",{"$error":"#VALUE!"},{"$error":"#VALUE!"}]
["","","","","","",{"$error":"#VALUE!"},{"$error":"#VALUE!"}]
["","","","","","",{"$error":"#VALUE!"},{"$error":"#VALUE!"}]
["","","","","","",{"$error":"#VALUE!"},{"$error":"#VALUE!"}]
["","","","","","",{"$error":"#VALUE!"},{"$error":"#VALUE!"}]
["","","","","","",{"$error":"#VALUE!"},{"$error":"#VALUE!"}]
["","","","","","",{"$error":"#VALUE!"},{"$error":"#VALUE!"}]
["","","","","","",{"$error":"#VALUE!"},{"$error":"#VALUE!"}]
["","","","","","",{"$error":"#VALUE!"},{"$error":"#VALUE!"}]
["","","","","","",{"$error":"#VALUE!"},{"$error":"#VALUE!"}]
["","","","","","",{"$error":"#VALUE!"},{"$error":"#VALUE!"}]
["","","","","","",{"$error":"#VALUE!"},{"$error":"#VALUE!"}]
["","","","","","",{"$error":"#VALUE!"},{"$error":"#VALUE!"}]
["","","","","","",{"$error":"#VALUE!"},{"$error":"#VALUE!"}]
["","","","","","",{"$error":"#VALUE!"},{"$error":"#VALUE!"}]
["","","",{"$f":"IF(A1109<>\"\",MOD(B1109,24)/24,\"\")","v":""},"","",{"$f":"ABS(0.5*1.025*1*(F1109^3))","v":{"$error":"#VALUE!"}},{"$f":"G1109*$B$13","v":{"$error":"#VALUE!"}}]
[{"$f":"IF(IF(A1109<>\"\",A1109+1<=$B$16,0),A1109+1,\"\")","v":""},{"$f":"IF(A1110<>\"\",A1110*$B$13,\"\")","v":""},{"$f":"IF(A1110<>\"\",ROUNDDOWN(A1110*$B$13/24,0),\"\")","v":""},"",{"$f":"IF(A1110<>\"\",($B$4+$B$5)/2+($B$5-$B$4)/2*COS(2*PI()/$B$15*B1110),\"\")","v":""},{"$f":"IF(A1110<>\"\",E1110*COS(2*PI()/$B$7*B1110),\"\")","v":""},{"$error":"#VALUE!"},{"$error":"#VALUE!"}]
["","","","","","",{"$error":"#VALUE!"},{"$error":"#VALUE!"}]
["","","","","","",{"$error":"#VALUE!"},{"$error":"#VALUE!"}]
["","","","","","",{"$error":"#VALUE!"},{"$error":"#VALUE!"}]
["","","","","","",{"$error":"#VALUE!"},{"$error":"#VALUE!"}]
["","","","","","",{"$error":"#VALUE!"},{"$error":"#VALUE!"}]
["","","","","","",{"$error":"#VALUE!"},{"$error":"#VALUE!"}]
["","","","","","",{"$error":"#VALUE!"},{"$error":"#VALUE!"}]
["","","","","","",{"$error":"#VALUE!"},{"$error":"#VALUE!"}]
["","","","","","",{"$error":"#VALUE!"},{"$error":"#VALUE!"}]
["","","","","","",{"$error":"#VALUE!"},{"$error":"#VALUE!"}]
["","","","","","",{"$error":"#VALUE!"},{"$error":"#VALUE!"}]
["","","","","","",{"$error":"#VALUE!"},{"$error":"#VALUE!"}]
["","","","","","",{"$error":"#VALUE!"},{"$error":"#VALUE!"}]
["","","","","","",{"$error":"#VALUE!"},{"$error":"#VALUE!"}]
["","","","","","",{"$error":"#VALUE!"},{"$error":"#VALUE!"}]
["","","","","","",{"$error":"#VALUE!"},{"$error":"#VALUE!"}]
["","","","","","",{"$error":"#VALUE!"},{"$error":"#VALUE!"}]
["","","","","","",{"$error":"#VALUE!"},{"$error":"#VALUE!"}]
["","","","","","",{"$error":"#VALUE!"},{"$error":"#VALUE!"}]
["","","","","","",{"$error":"#VALUE!"},{"$error":"#VALUE!"}]
["","","","","","",{"$error":"#VALUE!"},{"$error":"#VALUE!"}]
["","","","","","",{"$error":"#VALUE!"},{"$error":"#VALUE!"}]
["","","","","","",{"$error":"#VALUE!"},{"$error":"#VALUE!"}]
["","","","","","",{"$error":"#VALUE!"},{"$error":"#VALUE!"}]
["","","","","","",{"$error":"#VALUE!"},{"$error":"#VALUE!"}]
["","","","","","",{"$error":"#VALUE!"},{"$error":"#VALUE!"}]
["","","","","","",{"$error":"#VALUE!"},{"$error":"#VALUE!"}]
["","","","","","",{"$error":"#VALUE!"},{"$error":"#VALUE!"}]
["","","","","","",{"$error":"#VALUE!"},{"$error":"#VALUE!"}]
["","","","","","",{"$error":"#VALUE!"},{"$error":"#VALUE!"}]
["","","","","","",{"$error":"#VALUE!"},{"$error":"#VALUE!"}]
["","","","","","",{"$error":"#VALUE!"},{"$error":"#VALUE!"}]
["","","","","","",{"$error":"#VALUE!"},{"$error":"#VALUE!"}]
["","","","","","",{"$error":"#VALUE!"},{"$error":"#VALUE!"}]
["","","","","","",{"$error":"#VALUE!"},{"$error":"#VALUE!"}]
["","","","","","",{"$error":"#VALUE!"},{"$error":"#VALUE!"}]
["","","","","","",{"$error":"#VALUE!"},{"$error":"#VALUE!"}]
["","","","","","",{"$error":"#VALUE!"},{"$error":"#VALUE!"}]
["","","","","","",{"$error":"#VALUE!"},{"$error":"#VALUE!"}]
["","","","","","",{"$error":"#VALUE!"},{"$error":"#VALUE!"}]
["","","","","","",{"$error":"#VALUE!"},{"$error":"#VALUE!"}]
["","","","","","",{"$error":"#VALUE!"},{"$error":"#VALUE!"}]
["","","","","","",{"$error":"#VALUE!"},{"$error":"#VALUE!"}]
["","","","","","",{"$error":"#VALUE!"},{"$error":"#VALUE!"}]
["","","","","","",{"$error":"#VALUE!"},{"$error":"#VALUE!"}]
["","","","","","",{"$error":"#VALUE!"},{"$error":"#VALUE!"}]
["","","","","","",{"$error":"#VALUE!"},{"$error":"#VALUE!"}]
["","","","","","",{"$error":"#VALUE!"},{"$error":"#VALUE!"}]
["","","","","","",{"$error":"#VALUE!"},{"$error":"#VALUE!"}]
["","","","","","",{"$error":"#VALUE!"},{"$error":"#VALUE!"}]
["","","","","","",{"$error":"#VALUE!"},{"$error":"#VALUE!"}]
["","","","","","",{"$error":"#VALUE!"},{"$error":"#VALUE!"}]
["","","","","","",{"$error":"#VALUE!"},{"$error":"#VALUE!"}]
["","","","","","",{"$error":"#VALUE!"},{"$error":"#VALUE!"}]
["","","","","","",{"$error":"#VALUE!"},{"$error":"#VALUE!"}]
["","","","","","",{"$error":"#VALUE!"},{"$error":"#VALUE!"}]
["","","","","","",{"$error":"#VALUE!"},{"$error":"#VALUE!"}]
["","","","","","",{"$error":"#VALUE!"},{"$error":"#VALUE!"}]
["","","","","","",{"$error":"#VALUE!"},{"$error":"#VALUE!"}]
["","","","","","",{"$error":"#VALUE!"},{"$error":"#VALUE!"}]
["","","","","","",{"$error":"#VALUE!"},{"$error":"#VALUE!"}]
["","","","","","",{"$error":"#VALUE!"},{"$error":"#VALUE!"}]
["","","",{"$f":"IF(A1173<>\"\",MOD(B1173,24)/24,\"\")","v":""},"","",{"$f":"ABS(0.5*1.025*1*(F1173^3))","v":{"$error":"#VALUE!"}},{"$f":"G1173*$B$13","v":{"$error":"#VALUE!"}}]
[{"$f":"IF(IF(A1173<>\"\",A1173+1<=$B$16,0),A1173+1,\"\")","v":""},{"$f":"IF(A1174<>\"\",A1174*$B$13,\"\")","v":""},{"$f":"IF(A1174<>\"\",ROUNDDOWN(A1174*$B$13/24,0),\"\")","v":""},"",{"$f":"IF(A1174<>\"\",($B$4+$B$5)/2+($B$5-$B$4)/2*COS(2*PI()/$B$15*B1174),\"\")","v":""},{"$f":"IF(A1174<>\"\",E1174*COS(2*PI()/$B$7*B1174),\"\")","v":""},{"$error":"#VALUE!"},{"$error":"#VALUE!"}]
["","","","","","",{"$error":"#VALUE!"},{"$error":"#VALUE!"}]
["","","","","","",{"$error":"#VALUE!"},{"$error":"#VALUE!"}]
["","","","","","",{"$error":"#VALUE!"},{"$error":"#VALUE!"}]
["","","","","","",{"$error":"#VALUE!"},{"$error":"#VALUE!"}]
["","","","","","",{"$error":"#VALUE!"},{"$error":"#VALUE!"}]
["","","","","","",{"$error":"#VALUE!"},{"$error":"#VALUE!"}]
["","","","","","",{"$error":"#VALUE!"},{"$error":"#VALUE!"}]
["","","","","","",{"$error":"#VALUE!"},{"$error":"#VALUE!"}]
["","","","","","",{"$error":"#VALUE!"},{"$error":"#VALUE!"}]
["","","","","","",{"$error":"#VALUE!"},{"$error":"#VALUE!"}]
["","","","","","",{"$error":"#VALUE!"},{"$error":"#VALUE!"}]
["","","","","","",{"$error":"#VALUE!"},{"$error":"#VALUE!"}]
["","","","","","",{"$error":"#VALUE!"},{"$error":"#VALUE!"}]
["","","","","","",{"$error":"#VALUE!"},{"$error":"#VALUE!"}]
["","","","","","",{"$error":"#VALUE!"},{"$error":"#VALUE!"}]
["","","","","","",{"$error":"#VALUE!"},{"$error":"#VALUE!"}]
["","","","","","",{"$error":"#VALUE!"},{"$error":"#VALUE!"}]
["","","","","","",{"$error":"#VALUE!"},{"$error":"#VALUE!"}]
["","","","","","",{"$error":"#VALUE!"},{"$error":"#VALUE!"}]
["","","","","","",{"$error":"#VALUE!"},{"$error":"#VALUE!"}]
["","","","","","",{"$error":"#VALUE!"},{"$error":"#VALUE!"}]
["","","","","","",{"$error":"#VALUE!"},{"$error":"#VALUE!"}]
["","","","","","",{"$error":"#VALUE!"},{"$error":"#VALUE!"}]
["","","","","","",{"$error":"#VALUE!"},{"$error":"#VALUE!"}]
["","","","","","",{"$error":"#VALUE!"},{"$error":"#VALUE!"}]
["","","","","","",{"$error":"#VALUE!"},{"$error":"#VALUE!"}]
["","","","","","",{"$error":"#VALUE!"},{"$error":"#VALUE!"}]
["","","","","","",{"$error":"#VALUE!"},{"$error":"#VALUE!"}]
["","","","","","",{"$error":"#VALUE!"},{"$error":"#VALUE!"}]
["","","","","","",{"$error":"#VALUE!"},{"$error":"#VALUE!"}]
["","","","","","",{"$error":"#VALUE!"},{"$error":"#VALUE!"}]
["","","","","","",{"$error":"#VALUE!"},{"$error":"#VALUE!"}]
["","","","","","",{"$error":"#VALUE!"},{"$error":"#VALUE!"}]
["","","","","","",{"$error":"#VALUE!"},{"$error":"#VALUE!"}]
["","","","","","",{"$error":"#VALUE!"},{"$error":"#VALUE!"}]
["","","","","","",{"$error":"#VALUE!"},{"$error":"#VALUE!"}]
["","","","","","",{"$error":"#VALUE!"},{"$error":"#VALUE!"}]
["","","","","","",{"$error":"#VALUE!"},{"$error":"#VALUE!"}]
["","","","","","",{"$error":"#VALUE!"},{"$error":"#VALUE!"}]
["","","","","","",{"$error":"#VALUE!"},{"$error":"#VALUE!"}]
["","","","","","",{"$error":"#VALUE!"},{"$error":"#VALUE!"}]
["","","","","","",{"$error":"#VALUE!"},{"$error":"#VALUE!"}]
["","","","","","",{"$error":"#VALUE!"},{"$error":"#VALUE!"}]
["","","","","","",{"$error":"#VALUE!"},{"$error":"#VALUE!"}]
["","","","","","",{"$error":"#VALUE!"},{"$error":"#VALUE!"}]
["","","","","","",{"$error":"#VALUE!"},{"$error":"#VALUE!"}]
["","","","","","",{"$error":"#VALUE!"},{"$error":"#VALUE!"}]
["","","","","","",{"$error":"#VALUE!"},{"$error":"#VALUE!"}]
["","","","","","",{"$error":"#VALUE!"},{"$error":"#VALUE!"}]
["","","","","","",{"$error":"#VALUE!"},{"$error":"#VALUE!"}]
["","","","","","",{"$error":"#VALUE!"},{"$error":"#VALUE!"}]
["","","","","","",{"$error":"#VALUE!"},{"$error":"#VALUE!"}]
["","","","","","",{"$error":"#VALUE!"},{"$error":"#VALUE!"}]
["","","","","","",{"$error":"#VALUE!"},{"$error":"#VALUE!"}]
["","","","","","",{"$error":"#VALUE!"},{"$error":"#VALUE!"}]
["","","","","","",{"$error":"#VALUE!"},{"$error":"#VALUE!"}]
["","","","","","",{"$error":"#VALUE!"},{"$error":"#VALUE!"}]
["","","","","","",{"$error":"#VALUE!"},{"$error":"#VALUE!"}]
["","","","","","",{"$error":"#VALUE!"},{"$error":"#VALUE!"}]
["","","","","","",{"$error":"#VALUE!"},{"$error":"#VALUE!"}]
["","","","","","",{"$error":"#VALUE!"},{"$error":"#VALUE!"}]
["","","","","","",{"$error":"#VALUE!"},{"$error":"#VALUE!"}]
["","","",{"$f":"IF(A1237<>\"\",MOD(B1237,24)/24,\"\")","v":""},"","",{"$f":"ABS(0.5*1.025*1*(F1237^3))","v":{"$error":"#VALUE!"}},{"$f":"G1237*$B$13","v":{"$error":"#VALUE!"}}]
[{"$f":"IF(IF(A1237<>\"\",A1237+1<=$B$16,0),A1237+1,\"\")","v":""},{"$f":"IF(A1238<>\"\",A1238*$B$13,\"\")","v":""},{"$f":"IF(A1238<>\"\",ROUNDDOWN(A1238*$B$13/24,0),\"\")","v":""},"",{"$f":"IF(A1238<>\"\",($B$4+$B$5)/2+($B$5-$B$4)/2*COS(2*PI()/$B$15*B1238),\"\")","v":""},{"$f":"IF(A1238<>\"\",E1238*COS(2*PI()/$B$7*B1238),\"\")","v":""},{"$error":"#VALUE!"},{"$error":"#VALUE!"}]
["","","","","","",{"$error":"#VALUE!"},{"$error":"#VALUE!"}]
["","","","","","",{"$error":"#VALUE!"},{"$error":"#VALUE!"}]
["","","","","","",{"$error":"#VALUE!"},{"$error":"#VALUE!"}]
["","","","","","",{"$error":"#VALUE!"},{"$error":"#VALUE!"}]
["","","","","","",{"$error":"#VALUE!"},{"$error":"#VALUE!"}]
["","","","","","",{"$error":"#VALUE!"},{"$error":"#VALUE!"}]
["","","","","","",{"$error":"#VALUE!"},{"$error":"#VALUE!"}]
["","","","","","",{"$error":"#VALUE!"},{"$error":"#VALUE!"}]
["","","","","","",{"$error":"#VALUE!"},{"$error":"#VALUE!"}]
["","","","","","",{"$error":"#VALUE!"},{"$error":"#VALUE!"}]
["","","","","","",{"$error":"#VALUE!"},{"$error":"#VALUE!"}]
["","","","","","",{"$error":"#VALUE!"},{"$error":"#VALUE!"}]
["","","","","","",{"$error":"#VALUE!"},{"$error":"#VALUE!"}]
["","","","","","",{"$error":"#VALUE!"},{"$error":"#VALUE!"}]
["","","","","","",{"$error":"#VALUE!"},{"$error":"#VALUE!"}]
["","","","","","",{"$error":"#VALUE!"},{"$error":"#VALUE!"}]
["","","","","","",{"$error":"#VALUE!"},{"$error":"#VALUE!"}]
["","","","","","",{"$error":"#VALUE!"},{"$error":"#VALUE!"}]
["","","","","","",{"$error":"#VALUE!"},{"$error":"#VALUE!"}]
["","","","","","",{"$error":"#VALUE!"},{"$error":"#VALUE!"}]
["","","","","","",{"$error":"#VALUE!"},{"$error":"#VALUE!"}]
["","","","","","",{"$error":"#VALUE!"},{"$error":"#VALUE!"}]
["","","","","","",{"$error":"#VALUE!"},{"$error":"#VALUE!"}]
["","","","","","",{"$error":"#VALUE!"},{"$error":"#VALUE!"}]
["","","","","","",{"$error":"#VALUE!"},{"$error":"#VALUE!"}]
["","","","","","",{"$error":"#VALUE!"},{"$error":"#VALUE!"}]
["","","","","","",{"$error":"#VALUE!"},{"$error":"#VALUE!"}]
["","","","","","",{"$error":"#VALUE!"},{"$error":"#VALUE!"}]
["","","","","","",{"$error":"#VALUE!"},{"$error":"#VALUE!"}]
["","","","","","",{"$error":"#VALUE!"},{"$error":"#VALUE!"}]
["","","","","","",{"$error":"#VALUE!"},{"$error":"#VALUE!"}]
["","","","","","",{"$error":"#VALUE!"},{"$error":"#VALUE!"}]
["","","","","","",{"$error":"#VALUE!"},{"$error":"#VALUE!"}]
["","","","","","",{"$error":"#VALUE!"},{"$error":"#VALUE!"}]
["","","","","","",{"$error":"#VALUE!"},{"$error":"#VALUE!"}]
["","","","","","",{"$error":"#VALUE!"},{"$error":"#VALUE!"}]
["","","","","","",{"$error":"#VALUE!"},{"$error":"#VALUE!"}]
["","","","","","",{"$error":"#VALUE!"},{"$error":"#VALUE!"}]
["","","","","","",{"$error":"#VALUE!"},{"$error":"#VALUE!"}]
["","","","","","",{"$error":"#VALUE!"},{"$error":"#VALUE!"}]
["","","","","","",{"$error":"#VALUE!"},{"$error":"#VALUE!"}]
["","","","","","",{"$error":"#VALUE!"},{"$error":"#VALUE!"}]
["","","","","","",{"$error":"#VALUE!"},{"$error":"#VALUE!"}]
["","","","","","",{"$error":"#VALUE!"},{"$error":"#VALUE!"}]
["","","","","","",{"$error":"#VALUE!"},{"$error":"#VALUE!"}]
["","","","","","",{"$error":"#VALUE!"},{"$error":"#VALUE!"}]
["","","","","","",{"$error":"#VALUE!"},{"$error":"#VALUE!"}]
["","","","","","",{"$error":"#VALUE!"},{"$error":"#VALUE!"}]
["","","","","","",{"$error":"#VALUE!"},{"$error":"#VALUE!"}]
["","","","","","",{"$error":"#VALUE!"},{"$error":"#VALUE!"}]
["","","","","","",{"$error":"#VALUE!"},{"$error":"#VALUE!"}]
["","","","","","",{"$error":"#VALUE!"},{"$error":"#VALUE!"}]
["","","","","","",{"$error":"#VALUE!"},{"$error":"#VALUE!"}]
["","","","","","",{"$error":"#VALUE!"},{"$error":"#VALUE!"}]
["","","","","","",{"$error":"#VALUE!"},{"$error":"#VALUE!"}]
["","","","","","",{"$error":"#VALUE!"},{"$error":"#VALUE!"}]
["","","","","","",{"$error":"#VALUE!"},{"$error":"#VALUE!"}]
["","","","","","",{"$error":"#VALUE!"},{"$error":"#VALUE!"}]
["","","","","","",{"$error":"#VALUE!"},{"$error":"#VALUE!"}]
["","","","","","",{"$error":"#VALUE!"},{"$error":"#VALUE!"}]
["","","","","","",{"$error":"#VALUE!"},{"$error":"#VALUE!"}]
["","","","","","",{"$error":"#VALUE!"},{"$error":"#VALUE!"}]
["","","",{"$f":"IF(A1301<>\"\",MOD(B1301,24)/24,\"\")","v":""},"","",{"$f":"ABS(0.5*1.025*1*(F1301^3))","v":{"$error":"#VALUE!"}},{"$f":"G1301*$B$13","v":{"$error":"#VALUE!"}}]
[{"$f":"IF(IF(A1301<>\"\",A1301+1<=$B$16,0),A1301+1,\"\")","v":""},{"$f":"IF(A1302<>\"\",A1302*$B$13,\"\")","v":""},{"$f":"IF(A1302<>\"\",ROUNDDOWN(A1302*$B$13/24,0),\"\")","v":""},"",{"$f":"IF(A1302<>\"\",($B$4+$B$5)/2+($B$5-$B$4)/2*COS(2*PI()/$B$15*B1302),\"\")","v":""},{"$f":"IF(A1302<>\"\",E1302*COS(2*PI()/$B$7*B1302),\"\")","v":""},{"$error":"#VALUE!"},{"$error":"#VALUE!"}]
["","","","","","",{"$error":"#VALUE!"},{"$error":"#VALUE!"}]
["","","","","","",{"$error":"#VALUE!"},{"$error":"#VALUE!"}]
["","","","","","",{"$error":"#VALUE!"},{"$error":"#VALUE!"}]
["","","","","","",{"$error":"#VALUE!"},{"$error":"#VALUE!"}]
["","","","","","",{"$error":"#VALUE!"},{"$error":"#VALUE!"}]
["","","","","","",{"$error":"#VALUE!"},{"$error":"#VALUE!"}]
["","","","","","",{"$error":"#VALUE!"},{"$error":"#VALUE!"}]
["","","","","","",{"$error":"#VALUE!"},{"$error":"#VALUE!"}]
["","","","","","",{"$error":"#VALUE!"},{"$error":"#VALUE!"}]
["","","","","","",{"$error":"#VALUE!"},{"$error":"#VALUE!"}]
["","","","","","",{"$error":"#VALUE!"},{"$error":"#VALUE!"}]
["","","","","","",{"$error":"#VALUE!"},{"$error":"#VALUE!"}]
["","","","","","",{"$error":"#VALUE!"},{"$error":"#VALUE!"}]
["","","","","","",{"$error":"#VALUE!"},{"$error":"#VALUE!"}]
["","","","","","",{"$error":"#VALUE!"},{"$error":"#VALUE!"}]
["","","","","","",{"$error":"#VALUE!"},{"$error":"#VALUE!"}]
["","","","","","",{"$error":"#VALUE!"},{"$error":"#VALUE!"}]
["","","","","","",{"$error":"#VALUE!"},{"$error":"#VALUE!"}]
["","","","","","",{"$error":"#VALUE!"},{"$error":"#VALUE!"}]
["","","","","","",{"$error":"#VALUE!"},{"$error":"#VALUE!"}]
["","","","","","",{"$error":"#VALUE!"},{"$error":"#VALUE!"}]
["","","","","","",{"$error":"#VALUE!"},{"$error":"#VALUE!"}]
["","","","","","",{"$error":"#VALUE!"},{"$error":"#VALUE!"}]
["","","","","","",{"$error":"#VALUE!"},{"$error":"#VALUE!"}]
["","","","","","",{"$error":"#VALUE!"},{"$error":"#VALUE!"}]
["","","","","","",{"$error":"#VALUE!"},{"$error":"#VALUE!"}]
["","","","","","",{"$error":"#VALUE!"},{"$error":"#VALUE!"}]
["","","","","","",{"$error":"#VALUE!"},{"$error":"#VALUE!"}]
["","","","","","",{"$error":"#VALUE!"},{"$error":"#VALUE!"}]
["","","","","","",{"$error":"#VALUE!"},{"$error":"#VALUE!"}]
["","","","","","",{"$error":"#VALUE!"},{"$error":"#VALUE!"}]
["","","","","","",{"$error":"#VALUE!"},{"$error":"#VALUE!"}]
["","","","","","",{"$error":"#VALUE!"},{"$error":"#VALUE!"}]
["","","","","","",{"$error":"#VALUE!"},{"$error":"#VALUE!"}]
["","","","","","",{"$error":"#VALUE!"},{"$error":"#VALUE!"}]
["","","","","","",{"$error":"#VALUE!"},{"$error":"#VALUE!"}]
["","","","","","",{"$error":"#VALUE!"},{"$error":"#VALUE!"}]
["","","","","","",{"$error":"#VALUE!"},{"$error":"#VALUE!"}]
["","","","","","",{"$error":"#VALUE!"},{"$error":"#VALUE!"}]
["","","","","","",{"$error":"#VALUE!"},{"$error":"#VALUE!"}]
["","","","","","",{"$error":"#VALUE!"},{"$error":"#VALUE!"}]
["","","","","","",{"$error":"#VALUE!"},{"$error":"#VALUE!"}]
["","","","","","",{"$error":"#VALUE!"},{"$error":"#VALUE!"}]
["","","","","","",{"$error":"#VALUE!"},{"$error":"#VALUE!"}]
["","","","","","",{"$error":"#VALUE!"},{"$error":"#VALUE!"}]
["","","","","","",{"$error":"#VALUE!"},{"$error":"#VALUE!"}]
["","","","","","",{"$error":"#VALUE!"},{"$error":"#VALUE!"}]
["","","","","","",{"$error":"#VALUE!"},{"$error":"#VALUE!"}]
["","","","","","",{"$error":"#VALUE!"},{"$error":"#VALUE!"}]
["","","","","","",{"$error":"#VALUE!"},{"$error":"#VALUE!"}]
["","","","","","",{"$error":"#VALUE!"},{"$error":"#VALUE!"}]
["","","","","","",{"$error":"#VALUE!"},{"$error":"#VALUE!"}]
["","","","","","",{"$error":"#VALUE!"},{"$error":"#VALUE!"}]
["","","","","","",{"$error":"#VALUE!"},{"$error":"#VALUE!"}]
["","","","","","",{"$error":"#VALUE!"},{"$error":"#VALUE!"}]
["","","","","","",{"$error":"#VALUE!"},{"$error":"#VALUE!"}]
["","","","","","",{"$error":"#VALUE!"},{"$error":"#VALUE!"}]
["","","","","","",{"$error":"#VALUE!"},{"$error":"#VALUE!"}]
["","","","","","",{"$error":"#VALUE!"},{"$error":"#VALUE!"}]
["","","","","","",{"$error":"#VALUE!"},{"$error":"#VALUE!"}]
["","","","","","",{"$error":"#VALUE!"},{"$error":"#VALUE!"}]
["","","","","","",{"$error":"#VALUE!"},{"$error":"#VALUE!"}]
["","","",{"$f":"IF(A1365<>\"\",MOD(B1365,24)/24,\"\")","v":""},"","",{"$f":"ABS(0.5*1.025*1*(F1365^3))","v":{"$error":"#VALUE!"}},{"$f":"G1365*$B$13","v":{"$error":"#VALUE!"}}]
[{"$f":"IF(IF(A1365<>\"\",A1365+1<=$B$16,0),A1365+1,\"\")","v":""},{"$f":"IF(A1366<>\"\",A1366*$B$13,\"\")","v":""},{"$f":"IF(A1366<>\"\",ROUNDDOWN(A1366*$B$13/24,0),\"\")","v":""},"",{"$f":"IF(A1366<>\"\",($B$4+$B$5)/2+($B$5-$B$4)/2*COS(2*PI()/$B$15*B1366),\"\")","v":""},{"$f":"IF(A1366<>\"\",E1366*COS(2*PI()/$B$7*B1366),\"\")","v":""},{"$error":"#VALUE!"},{"$error":"#VALUE!"}]
["","","","","","",{"$error":"#VALUE!"},{"$error":"#VALUE!"}]
["","","","","","",{"$error":"#VALUE!"},{"$error":"#VALUE!"}]
["","","","","","",{"$error":"#VALUE!"},{"$error":"#VALUE!"}]
["","","","","","",{"$error":"#VALUE!"},{"$error":"#VALUE!"}]
["","","","","","",{"$error":"#VALUE!"},{"$error":"#VALUE!"}]
["","","","","","",{"$error":"#VALUE!"},{"$error":"#VALUE!"}]
["","","","","","",{"$error":"#VALUE!"},{"$error":"#VALUE!"}]
["","","","","","",{"$error":"#VALUE!"},{"$error":"#VALUE!"}]
["","","","","","",{"$error":"#VALUE!"},{"$error":"#VALUE!"}]
["","","","","","",{"$error":"#VALUE!"},{"$error":"#VALUE!"}]
["","","","","","",{"$error":"#VALUE!"},{"$error":"#VALUE!"}]
["","","","","","",{"$error":"#VALUE!"},{"$error":"#VALUE!"}]
["","","","","","",{"$error":"#VALUE!"},{"$error":"#VALUE!"}]
["","","","","","",{"$error":"#VALUE!"},{"$error":"#VALUE!"}]
["","","","","","",{"$error":"#VALUE!"},{"$error":"#VALUE!"}]
["","","","","","",{"$error":"#VALUE!"},{"$error":"#VALUE!"}]
["","","","","","",{"$error":"#VALUE!"},{"$error":"#VALUE!"}]
["","","","","","",{"$error":"#VALUE!"},{"$error":"#VALUE!"}]
["","","","","","",{"$error":"#VALUE!"},{"$error":"#VALUE!"}]
["","","","","","",{"$error":"#VALUE!"},{"$error":"#VALUE!"}]
["","","","","","",{"$error":"#VALUE!"},{"$error":"#VALUE!"}]
["","","","","","",{"$error":"#VALUE!"},{"$error":"#VALUE!"}]
["","","","","","",{"$error":"#VALUE!"},{"$error":"#VALUE!"}]
["","","","","","",{"$error":"#VALUE!"},{"$error":"#VALUE!"}]
["","","","","","",{"$error":"#VALUE!"},{"$error":"#VALUE!"}]
["","","","","","",{"$error":"#VALUE!"},{"$error":"#VALUE!"}]
["","","","","","",{"$error":"#VALUE!"},{"$error":"#VALUE!"}]
["","","","","","",{"$error":"#VALUE!"},{"$error":"#VALUE!"}]
["","","","","","",{"$error":"#VALUE!"},{"$error":"#VALUE!"}]
["","","","","","",{"$error":"#VALUE!"},{"$error":"#VALUE!"}]
["","","","","","",{"$error":"#VALUE!"},{"$error":"#VALUE!"}]
["","","","","","",{"$error":"#VALUE!"},{"$error":"#VALUE!"}]
["","","","","","",{"$error":"#VALUE!"},{"$error":"#VALUE!"}]
["","","","","","",{"$error":"#VALUE!"},{"$error":"#VALUE!"}]
["","","","","","",{"$error":"#VALUE!"},{"$error":"#VALUE!"}]
["","","","","","",{"$error":"#VALUE!"},{"$error":"#VALUE!"}]
["","","","","","",{"$error":"#VALUE!"},{"$error":"#VALUE!"}]
["","","","","","",{"$error":"#VALUE!"},{"$error":"#VALUE!"}]
["","","","","","",{"$error":"#VALUE!"},{"$error":"#VALUE!"}]
["","","","","","",{"$error":"#VALUE!"},{"$error":"#VALUE!"}]
["","","","","","",{"$error":"#VALUE!"},{"$error":"#VALUE!"}]
["","","","","","",{"$error":"#VALUE!"},{"$error":"#VALUE!"}]
["","","","","","",{"$error":"#VALUE!"},{"$error":"#VALUE!"}]
["","","","","","",{"$error":"#VALUE!"},{"$error":"#VALUE!"}]
["","","","","","",{"$error":"#VALUE!"},{"$error":"#VALUE!"}]
["","","","","","",{"$error":"#VALUE!"},{"$error":"#VALUE!"}]
["","","","","","",{"$error":"#VALUE!"},{"$error":"#VALUE!"}]
["","","","","","",{"$error":"#VALUE!"},{"$error":"#VALUE!"}]
["","","","","","",{"$error":"#VALUE!"},{"$error":"#VALUE!"}]
["","","","","","",{"$error":"#VALUE!"},{"$error":"#VALUE!"}]
["","","","","","",{"$error":"#VALUE!"},{"$error":"#VALUE!"}]
["","","","","","",{"$error":"#VALUE!"},{"$error":"#VALUE!"}]
["","","","","","",{"$error":"#VALUE!"},{"$error":"#VALUE!"}]
["","","","","","",{"$error":"#VALUE!"},{"$error":"#VALUE!"}]
["","","","","","",{"$error":"#VALUE!"},{"$error":"#VALUE!"}]
["","","","","","",{"$error":"#VALUE!"},{"$error":"#VALUE!"}]
["","","","","","",{"$error":"#VALUE!"},{"$error":"#VALUE!"}]
["","","","","","",{"$error":"#VALUE!"},{"$error":"#VALUE!"}]
["","","","","","",{"$error":"#VALUE!"},{"$error":"#VALUE!"}]
["","","","","","",{"$error":"#VALUE!"},{"$error":"#VALUE!"}]
["","","","","","",{"$error":"#VALUE!"},{"$error":"#VALUE!"}]
["","","","","","",{"$error":"#VALUE!"},{"$error":"#VALUE!"}]
["","","",{"$f":"IF(A1429<>\"\",MOD(B1429,24)/24,\"\")","v":""},"","",{"$f":"ABS(0.5*1.025*1*(F1429^3))","v":{"$error":"#VALUE!"}},{"$f":"G1429*$B$13","v":{"$error":"#VALUE!"}}]
[{"$f":"IF(IF(A1429<>\"\",A1429+1<=$B$16,0),A1429+1,\"\")","v":""},{"$f":"IF(A1430<>\"\",A1430*$B$13,\"\")","v":""},{"$f":"IF(A1430<>\"\",ROUNDDOWN(A1430*$B$13/24,0),\"\")","v":""},"",{"$f":"IF(A1430<>\"\",($B$4+$B$5)/2+($B$5-$B$4)/2*COS(2*PI()/$B$15*B1430),\"\")","v":""},{"$f":"IF(A1430<>\"\",E1430*COS(2*PI()/$B$7*B1430),\"\")","v":""},{"$error":"#VALUE!"},{"$error":"#VALUE!"}]
["","","","","","",{"$error":"#VALUE!"},{"$error":"#VALUE!"}]
["","","","","","",{"$error":"#VALUE!"},{"$error":"#VALUE!"}]
["","","","","","",{"$error":"#VALUE!"},{"$error":"#VALUE!"}]
["","","","","","",{"$error":"#VALUE!"},{"$error":"#VALUE!"}]
["","","","","","",{"$error":"#VALUE!"},{"$error":"#VALUE!"}]
["","","","","","",{"$error":"#VALUE!"},{"$error":"#VALUE!"}]
["","","","","","",{"$error":"#VALUE!"},{"$error":"#VALUE!"}]
["","","","","","",{"$error":"#VALUE!"},{"$error":"#VALUE!"}]
["","","","","","",{"$error":"#VALUE!"},{"$error":"#VALUE!"}]
["","","","","","",{"$error":"#VALUE!"},{"$error":"#VALUE!"}]
["","","","","","",{"$error":"#VALUE!"},{"$error":"#VALUE!"}]
["","","","","","",{"$error":"#VALUE!"},{"$error":"#VALUE!"}]
["","","","","","",{"$error":"#VALUE!"},{"$error":"#VALUE!"}]
["","","","","","",{"$error":"#VALUE!"},{"$error":"#VALUE!"}]
["","","","","","",{"$error":"#VALUE!"},{"$error":"#VALUE!"}]
["","","","","","",{"$error":"#VALUE!"},{"$error":"#VALUE!"}]
["","","","","","",{"$error":"#VALUE!"},{"$error":"#VALUE!"}]
["","","","","","",{"$error":"#VALUE!"},{"$error":"#VALUE!"}]
["","","","","","",{"$error":"#VALUE!"},{"$error":"#VALUE!"}]
["","","","","","",{"$error":"#VALUE!"},{"$error":"#VALUE!"}]
["","","","","","",{"$error":"#VALUE!"},{"$error":"#VALUE!"}]
["","","","","","",{"$error":"#VALUE!"},{"$error":"#VALUE!"}]
["","","","","","",{"$error":"#VALUE!"},{"$error":"#VALUE!"}]
["","","","","","",{"$error":"#VALUE!"},{"$error":"#VALUE!"}]
["","","","","","",{"$error":"#VALUE!"},{"$error":"#VALUE!"}]
["","","","","","",{"$error":"#VALUE!"},{"$error":"#VALUE!"}]
["","","","","","",{"$error":"#VALUE!"},{"$error":"#VALUE!"}]
["","","","","","",{"$error":"#VALUE!"},{"$error":"#VALUE!"}]
["","","","","","",{"$error":"#VALUE!"},{"$error":"#VALUE!"}]
["","","","","","",{"$error":"#VALUE!"},{"$error":"#VALUE!"}]
["","","","","","",{"$error":"#VALUE!"},{"$error":"#VALUE!"}]
["","","","","","",{"$error":"#VALUE!"},{"$error":"#VALUE!"}]
["","","","","","",{"$error":"#VALUE!"},{"$error":"#VALUE!"}]
["","","","","","",{"$error":"#VALUE!"},{"$error":"#VALUE!"}]
["","","","","","",{"$error":"#VALUE!"},{"$error":"#VALUE!"}]
["","","","","","",{"$error":"#VALUE!"},{"$error":"#VALUE!"}]
["","","","","","",{"$error":"#VALUE!"},{"$error":"#VALUE!"}]
["","","","","","",{"$error":"#VALUE!"},{"$error":"#VALUE!"}]
["","","","","","",{"$error":"#VALUE!"},{"$error":"#VALUE!"}]
["","","","","","",{"$error":"#VALUE!"},{"$error":"#VALUE!"}]
["","","","","","",{"$error":"#VALUE!"},{"$error":"#VALUE!"}]
["","","","","","",{"$error":"#VALUE!"},{"$error":"#VALUE!"}]
["","","","","","",{"$error":"#VALUE!"},{"$error":"#VALUE!"}]
["","","","","","",{"$error":"#VALUE!"},{"$error":"#VALUE!"}]
["","","","","","",{"$error":"#VALUE!"},{"$error":"#VALUE!"}]
["","","","","","",{"$error":"#VALUE!"},{"$error":"#VALUE!"}]
["","","","","","",{"$error":"#VALUE!"},{"$error":"#VALUE!"}]
["","","","","","",{"$error":"#VALUE!"},{"$error":"#VALUE!"}]
["","","","","","",{"$error":"#VALUE!"},{"$error":"#VALUE!"}]
["","","","","","",{"$error":"#VALUE!"},{"$error":"#VALUE!"}]
["","","","","","",{"$error":"#VALUE!"},{"$error":"#VALUE!"}]
["","","","","","",{"$error":"#VALUE!"},{"$error":"#VALUE!"}]
["","","","","","",{"$error":"#VALUE!"},{"$error":"#VALUE!"}]
["","","","","","",{"$error":"#VALUE!"},{"$error":"#VALUE!"}]
["","","","","","",{"$error":"#VALUE!"},{"$error":"#VALUE!"}]
["","","","","","",{"$error":"#VALUE!"},{"$error":"#VALUE!"}]
["","","","","","",{"$error":"#VALUE!"},{"$error":"#VALUE!"}]
["","","","","","",{"$error":"#VALUE!"},{"$error":"#VALUE!"}]
["","","","","","",{"$error":"#VALUE!"},{"$error":"#VALUE!"}]
["","","","","","",{"$error":"#VALUE!"},{"$error":"#VALUE!"}]
["","","","","","",{"$error":"#VALUE!"},{"$error":"#VALUE!"}]
["","","","","","",{"$error":"#VALUE!"},{"$error":"#VALUE!"}]
["","","",{"$f":"IF(A1493<>\"\",MOD(B1493,24)/24,\"\")","v":""},"","",{"$f":"ABS(0.5*1.025*1*(F1493^3))","v":{"$error":"#VALUE!"}},{"$f":"G1493*$B$13","v":{"$error":"#VALUE!"}}]
[{"$f":"IF(IF(A1493<>\"\",A1493+1<=$B$16,0),A1493+1,\"\")","v":""},{"$f":"IF(A1494<>\"\",A1494*$B$13,\"\")","v":""},{"$f":"IF(A1494<>\"\",ROUNDDOWN(A1494*$B$13/24,0),\"\")","v":""},"",{"$f":"IF(A1494<>\"\",($B$4+$B$5)/2+($B$5-$B$4)/2*COS(2*PI()/$B$15*B1494),\"\")","v":""},{"$f":"IF(A1494<>\"\",E1494*COS(2*PI()/$B$7*B1494),\"\")","v":""},{"$error":"#VALUE!"},{"$error":"#VALUE!"}]
["","","","","","",{"$error":"#VALUE!"},{"$error":"#VALUE!"}]
["","","","","","",{"$error":"#VALUE!"},{"$error":"#VALUE!"}]
["","","","","","",{"$error":"#VALUE!"},{"$error":"#VALUE!"}]
["","","","","","",{"$error":"#VALUE!"},{"$error":"#VALUE!"}]
["","","","","","",{"$error":"#VALUE!"},{"$error":"#VALUE!"}]
["","","","","","",{"$error":"#VALUE!"},{"$error":"#VALUE!"}]
["","","","","","",{"$error":"#VALUE!"},{"$error":"#VALUE!"}]
["","","","","","",{"$error":"#VALUE!"},{"$error":"#VALUE!"}]
["","","","","","",{"$error":"#VALUE!"},{"$error":"#VALUE!"}]
["","","","","","",{"$error":"#VALUE!"},{"$error":"#VALUE!"}]
["","","","","","",{"$error":"#VALUE!"},{"$error":"#VALUE!"}]
["","","","","","",{"$error":"#VALUE!"},{"$error":"#VALUE!"}]
["","","","","","",{"$error":"#VALUE!"},{"$error":"#VALUE!"}]
["","","","","","",{"$error":"#VALUE!"},{"$error":"#VALUE!"}]
["","","","","","",{"$error":"#VALUE!"},{"$error":"#VALUE!"}]
["","","","","","",{"$error":"#VALUE!"},{"$error":"#VALUE!"}]
["","","","","","",{"$error":"#VALUE!"},{"$error":"#VALUE!"}]
["","","","","","",{"$error":"#VALUE!"},{"$error":"#VALUE!"}]
["","","","","","",{"$error":"#VALUE!"},{"$error":"#VALUE!"}]
["","","","","","",{"$error":"#VALUE!"},{"$error":"#VALUE!"}]
["","","","","","",{"$error":"#VALUE!"},{"$error":"#VALUE!"}]
["","","","","","",{"$error":"#VALUE!"},{"$error":"#VALUE!"}]
["","","","","","",{"$error":"#VALUE!"},{"$error":"#VALUE!"}]
["","","","","","",{"$error":"#VALUE!"},{"$error":"#VALUE!"}]
["","","","","","",{"$error":"#VALUE!"},{"$error":"#VALUE!"}]
["","","","","","",{"$error":"#VALUE!"},{"$error":"#VALUE!"}]
["","","","","","",{"$error":"#VALUE!"},{"$error":"#VALUE!"}]
["","","","","","",{"$error":"#VALUE!"},{"$error":"#VALUE!"}]
["","","","","","",{"$error":"#VALUE!"},{"$error":"#VALUE!"}]
["","","","","","",{"$error":"#VALUE!"},{"$error":"#VALUE!"}]
["","","","","","",{"$error":"#VALUE!"},{"$error":"#VALUE!"}]
["","","","","","",{"$error":"#VALUE!"},{"$error":"#VALUE!"}]
["","","","","","",{"$error":"#VALUE!"},{"$error":"#VALUE!"}]
["","","","","","",{"$error":"#VALUE!"},{"$error":"#VALUE!"}]
["","","","","","",{"$error":"#VALUE!"},{"$error":"#VALUE!"}]
["","","","","","",{"$error":"#VALUE!"},{"$error":"#VALUE!"}]
["","","","","","",{"$error":"#VALUE!"},{"$error":"#VALUE!"}]
["","","","","","",{"$error":"#VALUE!"},{"$error":"#VALUE!"}]
["","","","","","",{"$error":"#VALUE!"},{"$error":"#VALUE!"}]
["","","","","","",{"$error":"#VALUE!"},{"$error":"#VALUE!"}]
["","","","","","",{"$error":"#VALUE!"},{"$error":"#VALUE!"}]
["","","","","","",{"$error":"#VALUE!"},{"$error":"#VALUE!"}]
["","","","","","",{"$error":"#VALUE!"},{"$error":"#VALUE!"}]
["","","","","","",{"$error":"#VALUE!"},{"$error":"#VALUE!"}]
["","","","","","",{"$error":"#VALUE!"},{"$error":"#VALUE!"}]
["","","","","","",{"$error":"#VALUE!"},{"$error":"#VALUE!"}]
["","","","","","",{"$error":"#VALUE!"},{"$error":"#VALUE!"}]
["","","","","","",{"$error":"#VALUE!"},{"$error":"#VALUE!"}]
["","","","","","",{"$error":"#VALUE!"},{"$error":"#VALUE!"}]
["","","","","","",{"$error":"#VALUE!"},{"$error":"#VALUE!"}]
["","","","","","",{"$error":"#VALUE!"},{"$error":"#VALUE!"}]
["","","","","","",{"$error":"#VALUE!"},{"$error":"#VALUE!"}]
["","","","","","",{"$error":"#VALUE!"},{"$error":"#VALUE!"}]
["","","","","","",{"$error":"#VALUE!"},{"$error":"#VALUE!"}]
["","","","","","",{"$error":"#VALUE!"},{"$error":"#VALUE!"}]
["","","","","","",{"$error":"#VALUE!"},{"$error":"#VALUE!"}]
["","","","","","",{"$error":"#VALUE!"},{"$error":"#VALUE!"}]
["","","","","","",{"$error":"#VALUE!"},{"$error":"#VALUE!"}]
["","","","","","",{"$error":"#VALUE!"},{"$error":"#VALUE!"}]
["","","","","","",{"$error":"#VALUE!"},{"$error":"#VALUE!"}]
["","","","","","",{"$error":"#VALUE!"},{"$error":"#VALUE!"}]
["","","","","","",{"$error":"#VALUE!"},{"$error":"#VALUE!"}]
["","","",{"$f":"IF(A1557<>\"\",MOD(B1557,24)/24,\"\")","v":""},"","",{"$f":"ABS(0.5*1.025*1*(F1557^3))","v":{"$error":"#VALUE!"}},{"$f":"G1557*$B$13","v":{"$error":"#VALUE!"}}]
[{"$f":"IF(IF(A1557<>\"\",A1557+1<=$B$16,0),A1557+1,\"\")","v":""},{"$f":"IF(A1558<>\"\",A1558*$B$13,\"\")","v":""},{"$f":"IF(A1558<>\"\",ROUNDDOWN(A1558*$B$13/24,0),\"\")","v":""},"",{"$f":"IF(A1558<>\"\",($B$4+$B$5)/2+($B$5-$B$4)/2*COS(2*PI()/$B$15*B1558),\"\")","v":""},{"$f":"IF(A1558<>\"\",E1558*COS(2*PI()/$B$7*B1558),\"\")","v":""},{"$error":"#VALUE!"},{"$error":"#VALUE!"}]
["","","","","","",{"$error":"#VALUE!"},{"$error":"#VALUE!"}]
["","","","","","",{"$error":"#VALUE!"},{"$error":"#VALUE!"}]
["","","","","","",{"$error":"#VALUE!"},{"$error":"#VALUE!"}]
["","","","","","",{"$error":"#VALUE!"},{"$error":"#VALUE!"}]
["","","","","","",{"$error":"#VALUE!"},{"$error":"#VALUE!"}]
["","","","","","",{"$error":"#VALUE!"},{"$error":"#VALUE!"}]
["","","","","","",{"$error":"#VALUE!"},{"$error":"#VALUE!"}]
["","","","","","",{"$error":"#VALUE!"},{"$error":"#VALUE!"}]
["","","","","","",{"$error":"#VALUE!"},{"$error":"#VALUE!"}]
["","","","","","",{"$error":"#VALUE!"},{"$error":"#VALUE!"}]
["","","","","","",{"$error":"#VALUE!"},{"$error":"#VALUE!"}]
["","","","","","",{"$error":"#VALUE!"},{"$error":"#VALUE!"}]
["","","","","","",{"$error":"#VALUE!"},{"$error":"#VALUE!"}]
["","","","","","",{"$error":"#VALUE!"},{"$error":"#VALUE!"}]
["","","","","","",{"$error":"#VALUE!"},{"$error":"#VALUE!"}]
["","","","","","",{"$error":"#VALUE!"},{"$error":"#VALUE!"}]
["","","","","","",{"$error":"#VALUE!"},{"$error":"#VALUE!"}]
["","","","","","",{"$error":"#VALUE!"},{"$error":"#VALUE!"}]
["","","","","","",{"$error":"#VALUE!"},{"$error":"#VALUE!"}]
["","","","","","",{"$error":"#VALUE!"},{"$error":"#VALUE!"}]
["","","","","","",{"$error":"#VALUE!"},{"$error":"#VALUE!"}]
["","","","","","",{"$error":"#VALUE!"},{"$error":"#VALUE!"}]
["","","","","","",{"$error":"#VALUE!"},{"$error":"#VALUE!"}]
["","","","","","",{"$error":"#VALUE!"},{"$error":"#VALUE!"}]
["","","","","","",{"$error":"#VALUE!"},{"$error":"#VALUE!"}]
["","","","","","",{"$error":"#VALUE!"},{"$error":"#VALUE!"}]
["","","","","","",{"$error":"#VALUE!"},{"$error":"#VALUE!"}]
["","","","","","",{"$error":"#VALUE!"},{"$error":"#VALUE!"}]
["","","","","","",{"$error":"#VALUE!"},{"$error":"#VALUE!"}]
["","","","","","",{"$error":"#VALUE!"},{"$error":"#VALUE!"}]
["","","","","","",{"$error":"#VALUE!"},{"$error":"#VALUE!"}]
["","","","","","",{"$error":"#VALUE!"},{"$error":"#VALUE!"}]
["","","","","","",{"$error":"#VALUE!"},{"$error":"#VALUE!"}]
["","","","","","",{"$error":"#VALUE!"},{"$error":"#VALUE!"}]
["","","","","","",{"$error":"#VALUE!"},{"$error":"#VALUE!"}]
["","","","","","",{"$error":"#VALUE!"},{"$error":"#VALUE!"}]
["","","","","","",{"$error":"#VALUE!"},{"$error":"#VALUE!"}]
["","","","","","",{"$error":"#VALUE!"},{"$error":"#VALUE!"}]
["","","","","","",{"$error":"#VALUE!"},{"$error":"#VALUE!"}]
["","","","","","",{"$error":"#VALUE!"},{"$error":"#VALUE!"}]
["","","","","","",{"$error":"#VALUE!"},{"$error":"#VALUE!"}]
["","","","","","",{"$error":"#VALUE!"},{"$error":"#VALUE!"}]
["","","","","","",{"$error":"#VALUE!"},{"$error":"#VALUE!"}]
["","","","","","",{"$error":"#VALUE!"},{"$error":"#VALUE!"}]
["","","","","","",{"$error":"#VALUE!"},{"$error":"#VALUE!"}]
["","","","","","",{"$error":"#VALUE!"},{"$error":"#VALUE!"}]
["","","","","","",{"$error":"#VALUE!"},{"$error":"#VALUE!"}]
["","","","","","",{"$error":"#VALUE!"},{"$error":"#VALUE!"}]
["","","","","","",{"$error":"#VALUE!"},{"$error":"#VALUE!"}]
["","","","","","",{"$error":"#VALUE!"},{"$error":"#VALUE!"}]
["","","","","","",{"$error":"#VALUE!"},{"$error":"#VALUE!"}]
["","","","","","",{"$error":"#VALUE!"},{"$error":"#VALUE!"}]
["","","","","","",{"$error":"#VALUE!"},{"$error":"#VALUE!"}]
["","","","","","",{"$error":"#VALUE!"},{"$error":"#VALUE!"}]
["","","","","","",{"$error":"#VALUE!"},{"$error":"#VALUE!"}]
["","","","","","",{"$error":"#VALUE!"},{"$error":"#VALUE!"}]
["","","","","","",{"$error":"#VALUE!"},{"$error":"#VALUE!"}]
["","","","","","",{"$error":"#VALUE!"},{"$error":"#VALUE!"}]
["","","","","","",{"$error":"#VALUE!"},{"$error":"#VALUE!"}]
["","","","","","",{"$error":"#VALUE!"},{"$error":"#VALUE!"}]
["","","","","","",{"$error":"#VALUE!"},{"$error":"#VALUE!"}]
["","","","","","",{"$error":"#VALUE!"},{"$error":"#VALUE!"}]
["","","",{"$f":"IF(A1621<>\"\",MOD(B1621,24)/24,\"\")","v":""},"","",{"$f":"ABS(0.5*1.025*1*(F1621^3))","v":{"$error":"#VALUE!"}},{"$f":"G1621*$B$13","v":{"$error":"#VALUE!"}}]
[{"$f":"IF(IF(A1621<>\"\",A1621+1<=$B$16,0),A1621+1,\"\")","v":""},{"$f":"IF(A1622<>\"\",A1622*$B$13,\"\")","v":""},{"$f":"IF(A1622<>\"\",ROUNDDOWN(A1622*$B$13/24,0),\"\")","v":""},"",{"$f":"IF(A1622<>\"\",($B$4+$B$5)/2+($B$5-$B$4)/2*COS(2*PI()/$B$15*B1622),\"\")","v":""},{"$f":"IF(A1622<>\"\",E1622*COS(2*PI()/$B$7*B1622),\"\")","v":""},{"$error":"#VALUE!"},{"$error":"#VALUE!"}]
["","","","","","",{"$error":"#VALUE!"},{"$error":"#VALUE!"}]
["","","","","","",{"$error":"#VALUE!"},{"$error":"#VALUE!"}]
["","","","","","",{"$error":"#VALUE!"},{"$error":"#VALUE!"}]
["","","","","","",{"$error":"#VALUE!"},{"$error":"#VALUE!"}]
["","","","","","",{"$error":"#VALUE!"},{"$error":"#VALUE!"}]
["","","","","","",{"$error":"#VALUE!"},{"$error":"#VALUE!"}]
["","","","","","",{"$error":"#VALUE!"},{"$error":"#VALUE!"}]
["","","","","","",{"$error":"#VALUE!"},{"$error":"#VALUE!"}]
["","","","","","",{"$error":"#VALUE!"},{"$error":"#VALUE!"}]
["","","","","","",{"$error":"#VALUE!"},{"$error":"#VALUE!"}]
["","","","","","",{"$error":"#VALUE!"},{"$error":"#VALUE!"}]
["","","","","","",{"$error":"#VALUE!"},{"$error":"#VALUE!"}]
["","","","","","",{"$error":"#VALUE!"},{"$error":"#VALUE!"}]
["","","","","","",{"$error":"#VALUE!"},{"$error":"#VALUE!"}]
["","","","","","",{"$error":"#VALUE!"},{"$error":"#VALUE!"}]
["","","","","","",{"$error":"#VALUE!"},{"$error":"#VALUE!"}]
["","","","","","",{"$error":"#VALUE!"},{"$error":"#VALUE!"}]
["","","","","","",{"$error":"#VALUE!"},{"$error":"#VALUE!"}]
["","","","","","",{"$error":"#VALUE!"},{"$error":"#VALUE!"}]
["","","","","","",{"$error":"#VALUE!"},{"$error":"#VALUE!"}]
["","","","","","",{"$error":"#VALUE!"},{"$error":"#VALUE!"}]
["","","","","","",{"$error":"#VALUE!"},{"$error":"#VALUE!"}]
["","","","","","",{"$error":"#VALUE!"},{"$error":"#VALUE!"}]
["","","","","","",{"$error":"#VALUE!"},{"$error":"#VALUE!"}]
["","","","","","",{"$error":"#VALUE!"},{"$error":"#VALUE!"}]
["","","","","","",{"$error":"#VALUE!"},{"$error":"#VALUE!"}]
["","","","","","",{"$error":"#VALUE!"},{"$error":"#VALUE!"}]
["","","","","","",{"$error":"#VALUE!"},{"$error":"#VALUE!"}]
["","","","","","",{"$error":"#VALUE!"},{"$error":"#VALUE!"}]
["","","","","","",{"$error":"#VALUE!"},{"$error":"#VALUE!"}]
["","","","","","",{"$error":"#VALUE!"},{"$error":"#VALUE!"}]
["","","","","","",{"$error":"#VALUE!"},{"$error":"#VALUE!"}]
["","","","","","",{"$error":"#VALUE!"},{"$error":"#VALUE!"}]
["","","","","","",{"$error":"#VALUE!"},{"$error":"#VALUE!"}]
["","","","","","",{"$error":"#VALUE!"},{"$error":"#VALUE!"}]
["","","","","","",{"$error":"#VALUE!"},{"$error":"#VALUE!"}]
["","","","","","",{"$error":"#VALUE!"},{"$error":"#VALUE!"}]
["","","","","","",{"$error":"#VALUE!"},{"$error":"#VALUE!"}]
["","","","","","",{"$error":"#VALUE!"},{"$error":"#VALUE!"}]
["","","","","","",{"$error":"#VALUE!"},{"$error":"#VALUE!"}]
["","","","","","",{"$error":"#VALUE!"},{"$error":"#VALUE!"}]
["","","","","","",{"$error":"#VALUE!"},{"$error":"#VALUE!"}]
["","","","","","",{"$error":"#VALUE!"},{"$error":"#VALUE!"}]
["","","","","","",{"$error":"#VALUE!"},{"$error":"#VALUE!"}]
["","","","","","",{"$error":"#VALUE!"},{"$error":"#VALUE!"}]
["","","","","","",{"$error":"#VALUE!"},{"$error":"#VALUE!"}]
["","","","","","",{"$error":"#VALUE!"},{"$error":"#VALUE!"}]
["","","","","","",{"$error":"#VALUE!"},{"$error":"#VALUE!"}]
["","","","","","",{"$error":"#VALUE!"},{"$error":"#VALUE!"}]
["","","","","","",{"$error":"#VALUE!"},{"$error":"#VALUE!"}]
["","","","","","",{"$error":"#VALUE!"},{"$error":"#VALUE!"}]
["","","","","","",{"$error":"#VALUE!"},{"$error":"#VALUE!"}]
["","","","","","",{"$error":"#VALUE!"},{"$error":"#VALUE!"}]
["","","","","","",{"$error":"#VALUE!"},{"$error":"#VALUE!"}]
["","","","","","",{"$error":"#VALUE!"},{"$error":"#VALUE!"}]
["","","","","","",{"$error":"#VALUE!"},{"$error":"#VALUE!"}]
["","","","","","",{"$error":"#VALUE!"},{"$error":"#VALUE!"}]
["","","","","","",{"$error":"#VALUE!"},{"$error":"#VALUE!"}]
["","","","","","",{"$error":"#VALUE!"},{"$error":"#VALUE!"}]
["","","","","","",{"$error":"#VALUE!"},{"$error":"#VALUE!"}]
["","","","","","",{"$error":"#VALUE!"},{"$error":"#VALUE!"}]
["","","","","","",{"$error":"#VALUE!"},{"$error":"#VALUE!"}]
["","","",{"$f":"IF(A1685<>\"\",MOD(B1685,24)/24,\"\")","v":""},"","",{"$f":"ABS(0.5*1.025*1*(F1685^3))","v":{"$error":"#VALUE!"}},{"$f":"G1685*$B$13","v":{"$error":"#VALUE!"}}]
[{"$f":"IF(IF(A1685<>\"\",A1685+1<=$B$16,0),A1685+1,\"\")","v":""},{"$f":"IF(A1686<>\"\",A1686*$B$13,\"\")","v":""},{"$f":"IF(A1686<>\"\",ROUNDDOWN(A1686*$B$13/24,0),\"\")","v":""},"",{"$f":"IF(A1686<>\"\",($B$4+$B$5)/2+($B$5-$B$4)/2*COS(2*PI()/$B$15*B1686),\"\")","v":""},{"$f":"IF(A1686<>\"\",E1686*COS(2*PI()/$B$7*B1686),\"\")","v":""},{"$error":"#VALUE!"},{"$error":"#VALUE!"}]
["","","","","","",{"$error":"#VALUE!"},{"$error":"#VALUE!"}]
["","","","","","",{"$error":"#VALUE!"},{"$error":"#VALUE!"}]
["","","","","","",{"$error":"#VALUE!"},{"$error":"#VALUE!"}]
["","","","","","",{"$error":"#VALUE!"},{"$error":"#VALUE!"}]
["","","","","","",{"$error":"#VALUE!"},{"$error":"#VALUE!"}]
["","","","","","",{"$error":"#VALUE!"},{"$error":"#VALUE!"}]
["","","","","","",{"$error":"#VALUE!"},{"$error":"#VALUE!"}]
["","","","","","",{"$error":"#VALUE!"},{"$error":"#VALUE!"}]
["","","","","","",{"$error":"#VALUE!"},{"$error":"#VALUE!"}]
["","","","","","",{"$error":"#VALUE!"},{"$error":"#VALUE!"}]
["","","","","","",{"$error":"#VALUE!"},{"$error":"#VALUE!"}]
["","","","","","",{"$error":"#VALUE!"},{"$error":"#VALUE!"}]
["","","","","","",{"$error":"#VALUE!"},{"$error":"#VALUE!"}]
["","","","","","",{"$error":"#VALUE!"},{"$error":"#VALUE!"}]
["","","","","","",{"$error":"#VALUE!"},{"$error":"#VALUE!"}]
["","","","","","",{"$error":"#VALUE!"},{"$error":"#VALUE!"}]
["","","","","","",{"$error":"#VALUE!"},{"$error":"#VALUE!"}]
["","","","","","",{"$error":"#VALUE!"},{"$error":"#VALUE!"}]
["","","","","","",{"$error":"#VALUE!"},{"$error":"#VALUE!"}]
["","","","","","",{"$error":"#VALUE!"},{"$error":"#VALUE!"}]
["","","","","","",{"$error":"#VALUE!"},{"$error":"#VALUE!"}]
["","","","","","",{"$error":"#VALUE!"},{"$error":"#VALUE!"}]
["","","","","","",{"$error":"#VALUE!"},{"$error":"#VALUE!"}]
["","","","","","",{"$error":"#VALUE!"},{"$error":"#VALUE!"}]
["","","","","","",{"$error":"#VALUE!"},{"$error":"#VALUE!"}]
["","","","","","",{"$error":"#VALUE!"},{"$error":"#VALUE!"}]
["","","","","","",{"$error":"#VALUE!"},{"$error":"#VALUE!"}]
["","","","","","",{"$error":"#VALUE!"},{"$error":"#VALUE!"}]
["","","","","","",{"$error":"#VALUE!"},{"$error":"#VALUE!"}]
["","","","","","",{"$error":"#VALUE!"},{"$error":"#VALUE!"}]
["","","","","","",{"$error":"#VALUE!"},{"$error":"#VALUE!"}]
["","","","","","",{"$error":"#VALUE!"},{"$error":"#VALUE!"}]
["","","","","","",{"$error":"#VALUE!"},{"$error":"#VALUE!"}]
["","","","","","",{"$error":"#VALUE!"},{"$error":"#VALUE!"}]
["","","","","","",{"$error":"#VALUE!"},{"$error":"#VALUE!"}]
["","","","","","",{"$error":"#VALUE!"},{"$error":"#VALUE!"}]
["","","","","","",{"$error":"#VALUE!"},{"$error":"#VALUE!"}]
["","","","","","",{"$error":"#VALUE!"},{"$error":"#VALUE!"}]
["","","","","","",{"$error":"#VALUE!"},{"$error":"#VALUE!"}]
["","","","","","",{"$error":"#VALUE!"},{"$error":"#VALUE!"}]
["","","","","","",{"$error":"#VALUE!"},{"$error":"#VALUE!"}]
["","","","","","",{"$error":"#VALUE!"},{"$error":"#VALUE!"}]
["","","","","","",{"$error":"#VALUE!"},{"$error":"#VALUE!"}]
["","","","","","",{"$error":"#VALUE!"},{"$error":"#VALUE!"}]
["","","","","","",{"$error":"#VALUE!"},{"$error":"#VALUE!"}]
["","","","","","",{"$error":"#VALUE!"},{"$error":"#VALUE!"}]
["","","","","","",{"$error":"#VALUE!"},{"$error":"#VALUE!"}]
["","","","","","",{"$error":"#VALUE!"},{"$error":"#VALUE!"}]
["","","","","","",{"$error":"#VALUE!"},{"$error":"#VALUE!"}]
["","","","","","",{"$error":"#VALUE!"},{"$error":"#VALUE!"}]
["","","","","","",{"$error":"#VALUE!"},{"$error":"#VALUE!"}]
["","","","","","",{"$error":"#VALUE!"},{"$error":"#VALUE!"}]
["","","","","","",{"$error":"#VALUE!"},{"$error":"#VALUE!"}]
["","","","","","",{"$error":"#VALUE!"},{"$error":"#VALUE!"}]
["","","","","","",{"$error":"#VALUE!"},{"$error":"#VALUE!"}]
["","","","","","",{"$error":"#VALUE!"},{"$error":"#VALUE!"}]
["","","","","","",{"$error":"#VALUE!"},{"$error":"#VALUE!"}]
["","","","","","",{"$error":"#VALUE!"},{"$error":"#VALUE!"}]
["","","","","","",{"$error":"#VALUE!"},{"$error":"#VALUE!"}]
["","","","","","",{"$error":"#VALUE!"},{"$error":"#VALUE!"}]
["","","","","","",{"$error":"#VALUE!"},{"$error":"#VALUE!"}]
["","","","","","",{"$error":"#VALUE!"},{"$error":"#VALUE!"}]
["","","",{"$f":"IF(A1749<>\"\",MOD(B1749,24)/24,\"\")","v":""},"","",{"$f":"ABS(0.5*1.025*1*(F1749^3))","v":{"$error":"#VALUE!"}},{"$f":"G1749*$B$13","v":{"$error":"#VALUE!"}}]
[{"$f":"IF(IF(A1749<>\"\",A1749+1<=$B$16,0),A1749+1,\"\")","v":""},{"$f":"IF(A1750<>\"\",A1750*$B$13,\"\")","v":""},{"$f":"IF(A1750<>\"\",ROUNDDOWN(A1750*$B$13/24,0),\"\")","v":""},"",{"$f":"IF(A1750<>\"\",($B$4+$B$5)/2+($B$5-$B$4)/2*COS(2*PI()/$B$15*B1750),\"\")","v":""},{"$f":"IF(A1750<>\"\",E1750*COS(2*PI()/$B$7*B1750),\"\")","v":""},{"$error":"#VALUE!"},{"$error":"#VALUE!"}]
["","","","","","",{"$error":"#VALUE!"},{"$error":"#VALUE!"}]
["","","","","","",{"$error":"#VALUE!"},{"$error":"#VALUE!"}]
["","","","","","",{"$error":"#VALUE!"},{"$error":"#VALUE!"}]
["","","","","","",{"$error":"#VALUE!"},{"$error":"#VALUE!"}]
["","","","","","",{"$error":"#VALUE!"},{"$error":"#VALUE!"}]
["","","","","","",{"$error":"#VALUE!"},{"$error":"#VALUE!"}]
["","","","","","",{"$error":"#VALUE!"},{"$error":"#VALUE!"}]
["","","","","","",{"$error":"#VALUE!"},{"$error":"#VALUE!"}]
["","","","","","",{"$error":"#VALUE!"},{"$error":"#VALUE!"}]
["","","","","","",{"$error":"#VALUE!"},{"$error":"#VALUE!"}]
["","","","","","",{"$error":"#VALUE!"},{"$error":"#VALUE!"}]
["","","","","","",{"$error":"#VALUE!"},{"$error":"#VALUE!"}]
["","","","","","",{"$error":"#VALUE!"},{"$error":"#VALUE!"}]
["","","","","","",{"$error":"#VALUE!"},{"$error":"#VALUE!"}]
["","","","","","",{"$error":"#VALUE!"},{"$error":"#VALUE!"}]
["","","","","","",{"$error":"#VALUE!"},{"$error":"#VALUE!"}]
["","","","","","",{"$error":"#VALUE!"},{"$error":"#VALUE!"}]
["","","","","","",{"$error":"#VALUE!"},{"$error":"#VALUE!"}]
["","","","","","",{"$error":"#VALUE!"},{"$error":"#VALUE!"}]
["","","","","","",{"$error":"#VALUE!"},{"$error":"#VALUE!"}]
["","","","","","",{"$error":"#VALUE!"},{"$error":"#VALUE!"}]
["","","","","","",{"$error":"#VALUE!"},{"$error":"#VALUE!"}]
["","","","","","",{"$error":"#VALUE!"},{"$error":"#VALUE!"}]
["","","","","","",{"$error":"#VALUE!"},{"$error":"#VALUE!"}]
["","","","","","",{"$error":"#VALUE!"},{"$error":"#VALUE!"}]
["","","","","","",{"$error":"#VALUE!"},{"$error":"#VALUE!"}]
["","","","","","",{"$error":"#VALUE!"},{"$error":"#VALUE!"}]
["","","","","","",{"$error":"#VALUE!"},{"$error":"#VALUE!"}]
["","","","","","",{"$error":"#VALUE!"},{"$error":"#VALUE!"}]
["","","","","","",{"$error":"#VALUE!"},{"$error":"#VALUE!"}]
["","","","","","",{"$error":"#VALUE!"},{"$error":"#VALUE!"}]
["","","","","","",{"$error":"#VALUE!"},{"$error":"#VALUE!"}]
["","","","","","",{"$error":"#VALUE!"},{"$error":"#VALUE!"}]
["","","","","","",{"$error":"#VALUE!"},{"$error":"#VALUE!"}]
["","","","","","",{"$error":"#VALUE!"},{"$error":"#VALUE!"}]
["","","","","","",{"$error":"#VALUE!"},{"$error":"#VALUE!"}]
["","","","","","",{"$error":"#VALUE!"},{"$error":"#VALUE!"}]
["","","","","","",{"$error":"#VALUE!"},{"$error":"#VALUE!"}]
["","","","","","",{"$error":"#VALUE!"},{"$error":"#VALUE!"}]
["","","","","","",{"$error":"#VALUE!"},{"$error":"#VALUE!"}]
["","","","","","",{"$error":"#VALUE!"},{"$error":"#VALUE!"}]
["","","","","","",{"$error":"#VALUE!"},{"$error":"#VALUE!"}]
["","","","","","",{"$error":"#VALUE!"},{"$error":"#VALUE!"}]
["","","","","","",{"$error":"#VALUE!"},{"$error":"#VALUE!"}]
["","","","","","",{"$error":"#VALUE!"},{"$error":"#VALUE!"}]
["","","","","","",{"$error":"#VALUE!"},{"$error":"#VALUE!"}]
["","","","","","",{"$error":"#VALUE!"},{"$error":"#VALUE!"}]
["","","","","","",{"$error":"#VALUE!"},{"$error":"#VALUE!"}]
["","","","","","",{"$error":"#VALUE!"},{"$error":"#VALUE!"}]
["","","","","","",{"$error":"#VALUE!"},{"$error":"#VALUE!"}]
["","","","","","",{"$error":"#VALUE!"},{"$error":"#VALUE!"}]
["","","","","","",{"$error":"#VALUE!"},{"$error":"#VALUE!"}]
["","","","","","",{"$error":"#VALUE!"},{"$error":"#VALUE!"}]
["","","","","","",{"$error":"#VALUE!"},{"$error":"#VALUE!"}]
["","","","","","",{"$error":"#VALUE!"},{"$error":"#VALUE!"}]
["","","","","","",{"$error":"#VALUE!"},{"$error":"#VALUE!"}]
["","","","","","",{"$error":"#VALUE!"},{"$error":"#VALUE!"}]
["","","","","","",{"$error":"#VALUE!"},{"$error":"#VALUE!"}]
["","","","","","",{"$error":"#VALUE!"},{"$error":"#VALUE!"}]
["","","","","","",{"$error":"#VALUE!"},{"$error":"#VALUE!"}]
["","","","","","",{"$error":"#VALUE!"},{"$error":"#VALUE!"}]
["","","","","","",{"$error":"#VALUE!"},{"$error":"#VALUE!"}]
["","","",{"$f":"IF(A1813<>\"\",MOD(B1813,24)/24,\"\")","v":""},"","",{"$f":"ABS(0.5*1.025*1*(F1813^3))","v":{"$error":"#VALUE!"}},{"$f":"G1813*$B$13","v":{"$error":"#VALUE!"}}]
[{"$f":"IF(IF(A1813<>\"\",A1813+1<=$B$16,0),A1813+1,\"\")","v":""},{"$f":"IF(A1814<>\"\",A1814*$B$13,\"\")","v":""},{"$f":"IF(A1814<>\"\",ROUNDDOWN(A1814*$B$13/24,0),\"\")","v":""},"",{"$f":"IF(A1814<>\"\",($B$4+$B$5)/2+($B$5-$B$4)/2*COS(2*PI()/$B$15*B1814),\"\")","v":""},{"$f":"IF(A1814<>\"\",E1814*COS(2*PI()/$B$7*B1814),\"\")","v":""},{"$error":"#VALUE!"},{"$error":"#VALUE!"}]
["","","","","","",{"$error":"#VALUE!"},{"$error":"#VALUE!"}]
["","","","","","",{"$error":"#VALUE!"},{"$error":"#VALUE!"}]
["","","","","","",{"$error":"#VALUE!"},{"$error":"#VALUE!"}]
["","","","","","",{"$error":"#VALUE!"},{"$error":"#VALUE!"}]
["","","","","","",{"$error":"#VALUE!"},{"$error":"#VALUE!"}]
["","","","","","",{"$error":"#VALUE!"},{"$error":"#VALUE!"}]
["","","","","","",{"$error":"#VALUE!"},{"$error":"#VALUE!"}]
["","","","","","",{"$error":"#VALUE!"},{"$error":"#VALUE!"}]
["","","","","","",{"$error":"#VALUE!"},{"$error":"#VALUE!"}]
["","","","","","",{"$error":"#VALUE!"},{"$error":"#VALUE!"}]
["","","","","","",{"$error":"#VALUE!"},{"$error":"#VALUE!"}]
["","","","","","",{"$error":"#VALUE!"},{"$error":"#VALUE!"}]
["","","","","","",{"$error":"#VALUE!"},{"$error":"#VALUE!"}]
["","","","","","",{"$error":"#VALUE!"},{"$error":"#VALUE!"}]
["","","","","","",{"$error":"#VALUE!"},{"$error":"#VALUE!"}]
["","","","","","",{"$error":"#VALUE!"},{"$error":"#VALUE!"}]
["","","","","","",{"$error":"#VALUE!"},{"$error":"#VALUE!"}]
["","","","","","",{"$error":"#VALUE!"},{"$error":"#VALUE!"}]
["","","","","","",{"$error":"#VALUE!"},{"$error":"#VALUE!"}]
["","","","","","",{"$error":"#VALUE!"},{"$error":"#VALUE!"}]
["","","","","","",{"$error":"#VALUE!"},{"$error":"#VALUE!"}]
["","","","","","",{"$error":"#VALUE!"},{"$error":"#VALUE!"}]
["","","","","","",{"$error":"#VALUE!"},{"$error":"#VALUE!"}]
["","","","","","",{"$error":"#VALUE!"},{"$error":"#VALUE!"}]
["","","","","","",{"$error":"#VALUE!"},{"$error":"#VALUE!"}]
["","","","","","",{"$error":"#VALUE!"},{"$error":"#VALUE!"}]
["","","","","","",{"$error":"#VALUE!"},{"$error":"#VALUE!"}]
["","","","","","",{"$error":"#VALUE!"},{"$error":"#VALUE!"}]
["","","","","","",{"$error":"#VALUE!"},{"$error":"#VALUE!"}]
["","","","","","",{"$error":"#VALUE!"},{"$error":"#VALUE!"}]
["","","","","","",{"$error":"#VALUE!"},{"$error":"#VALUE!"}]
["","","","","","",{"$error":"#VALUE!"},{"$error":"#VALUE!"}]
["","","","","","",{"$error":"#VALUE!"},{"$error":"#VALUE!"}]
["","","","","","",{"$error":"#VALUE!"},{"$error":"#VALUE!"}]
["","","","","","",{"$error":"#VALUE!"},{"$error":"#VALUE!"}]
["","","","","","",{"$error":"#VALUE!"},{"$error":"#VALUE!"}]
["","","","","","",{"$error":"#VALUE!"},{"$error":"#VALUE!"}]
["","","","","","",{"$error":"#VALUE!"},{"$error":"#VALUE!"}]
["","","","","","",{"$error":"#VALUE!"},{"$error":"#VALUE!"}]
["","","","","","",{"$error":"#VALUE!"},{"$error":"#VALUE!"}]
["","","","","","",{"$error":"#VALUE!"},{"$error":"#VALUE!"}]
["","","","","","",{"$error":"#VALUE!"},{"$error":"#VALUE!"}]
["","","","","","",{"$error":"#VALUE!"},{"$error":"#VALUE!"}]
["","","","","","",{"$error":"#VALUE!"},{"$error":"#VALUE!"}]
["","","","","","",{"$error":"#VALUE!"},{"$error":"#VALUE!"}]
["","","","","","",{"$error":"#VALUE!"},{"$error":"#VALUE!"}]
["","","","","","",{"$error":"#VALUE!"},{"$error":"#VALUE!"}]
["","","","","","",{"$error":"#VALUE!"},{"$error":"#VALUE!"}]
["","","","","","",{"$error":"#VALUE!"},{"$error":"#VALUE!"}]
["","","","","","",{"$error":"#VALUE!"},{"$error":"#VALUE!"}]
["","","","","","",{"$error":"#VALUE!"},{"$error":"#VALUE!"}]
["","","","","","",{"$error":"#VALUE!"},{"$error":"#VALUE!"}]
["","","","","","",{"$error":"#VALUE!"},{"$error":"#VALUE!"}]
["","","","","","",{"$error":"#VALUE!"},{"$error":"#VALUE!"}]
["","","","","","",{"$error":"#VALUE!"},{"$error":"#VALUE!"}]
["","","","","","",{"$error":"#VALUE!"},{"$error":"#VALUE!"}]
["","","","","","",{"$error":"#VALUE!"},{"$error":"#VALUE!"}]
["","","","","","",{"$error":"#VALUE!"},{"$error":"#VALUE!"}]
["","","","","","",{"$error":"#VALUE!"},{"$error":"#VALUE!"}]
["","","","","","",{"$error":"#VALUE!"},{"$error":"#VALUE!"}]
["","","","","","",{"$error":"#VALUE!"},{"$error":"#VALUE!"}]
["","","","","","",{"$error":"#VALUE!"},{"$error":"#VALUE!"}]
["","","",{"$f":"IF(A1877<>\"\",MOD(B1877,24)/24,\"\")","v":""},"","",{"$f":"ABS(0.5*1.025*1*(F1877^3))","v":{"$error":"#VALUE!"}},{"$f":"G1877*$B$13","v":{"$error":"#VALUE!"}}]
[{"$f":"IF(IF(A1877<>\"\",A1877+1<=$B$16,0),A1877+1,\"\")","v":""},{"$f":"IF(A1878<>\"\",A1878*$B$13,\"\")","v":""},{"$f":"IF(A1878<>\"\",ROUNDDOWN(A1878*$B$13/24,0),\"\")","v":""},"",{"$f":"IF(A1878<>\"\",($B$4+$B$5)/2+($B$5-$B$4)/2*COS(2*PI()/$B$15*B1878),\"\")","v":""},{"$f":"IF(A1878<>\"\",E1878*COS(2*PI()/$B$7*B1878),\"\")","v":""},{"$error":"#VALUE!"},{"$error":"#VALUE!"}]
["","","","","","",{"$error":"#VALUE!"},{"$error":"#VALUE!"}]
["","","","","","",{"$error":"#VALUE!"},{"$error":"#VALUE!"}]
["","","","","","",{"$error":"#VALUE!"},{"$error":"#VALUE!"}]
["","","","","","",{"$error":"#VALUE!"},{"$error":"#VALUE!"}]
["","","","","","",{"$error":"#VALUE!"},{"$error":"#VALUE!"}]
["","","","","","",{"$error":"#VALUE!"},{"$error":"#VALUE!"}]
["","","","","","",{"$error":"#VALUE!"},{"$error":"#VALUE!"}]
["","","","","","",{"$error":"#VALUE!"},{"$error":"#VALUE!"}]
["","","","","","",{"$error":"#VALUE!"},{"$error":"#VALUE!"}]
["","","","","","",{"$error":"#VALUE!"},{"$error":"#VALUE!"}]
["","","","","","",{"$error":"#VALUE!"},{"$error":"#VALUE!"}]
["","","","","","",{"$error":"#VALUE!"},{"$error":"#VALUE!"}]
["","","","","","",{"$error":"#VALUE!"},{"$error":"#VALUE!"}]
["","","","","","",{"$error":"#VALUE!"},{"$error":"#VALUE!"}]
["","","","","","",{"$error":"#VALUE!"},{"$error":"#VALUE!"}]
["","","","","","",{"$error":"#VALUE!"},{"$error":"#VALUE!"}]
["","","","","","",{"$error":"#VALUE!"},{"$error":"#VALUE!"}]
["","","","","","",{"$error":"#VALUE!"},{"$error":"#VALUE!"}]
["","","","","","",{"$error":"#VALUE!"},{"$error":"#VALUE!"}]
["","","","","","",{"$error":"#VALUE!"},{"$error":"#VALUE!"}]
["","","","","","",{"$error":"#VALUE!"},{"$error":"#VALUE!"}]
["","","","","","",{"$error":"#VALUE!"},{"$error":"#VALUE!"}]
["","","","","","",{"$error":"#VALUE!"},{"$error":"#VALUE!"}]
["","","","","","",{"$error":"#VALUE!"},{"$error":"#VALUE!"}]
["","","","","","",{"$error":"#VALUE!"},{"$error":"#VALUE!"}]
["","","","","","",{"$error":"#VALUE!"},{"$error":"#VALUE!"}]
["","","","","","",{"$error":"#VALUE!"},{"$error":"#VALUE!"}]
["","","","","","",{"$error":"#VALUE!"},{"$error":"#VALUE!"}]
["","","","","","",{"$error":"#VALUE!"},{"$error":"#VALUE!"}]
["","","","","","",{"$error":"#VALUE!"},{"$error":"#VALUE!"}]
["","","","","","",{"$error":"#VALUE!"},{"$error":"#VALUE!"}]
["","","","","","",{"$error":"#VALUE!"},{"$error":"#VALUE!"}]
["","","","","","",{"$error":"#VALUE!"},{"$error":"#VALUE!"}]
["","","","","","",{"$error":"#VALUE!"},{"$error":"#VALUE!"}]
["","","","","","",{"$error":"#VALUE!"},{"$error":"#VALUE!"}]
["","","","","","",{"$error":"#VALUE!"},{"$error":"#VALUE!"}]
["","","","","","",{"$error":"#VALUE!"},{"$error":"#VALUE!"}]
["","","","","","",{"$error":"#VALUE!"},{"$error":"#VALUE!"}]
["","","","","","",{"$error":"#VALUE!"},{"$error":"#VALUE!"}]
["","","","","","",{"$error":"#VALUE!"},{"$error":"#VALUE!"}]
["","","","","","",{"$error":"#VALUE!"},{"$error":"#VALUE!"}]
["","","","","","",{"$error":"#VALUE!"},{"$error":"#VALUE!"}]
["","","","","","",{"$error":"#VALUE!"},{"$error":"#VALUE!"}]
["","","","","","",{"$error":"#VALUE!"},{"$error":"#VALUE!"}]
["","","","","","",{"$error":"#VALUE!"},{"$error":"#VALUE!"}]
["","","","","","",{"$error":"#VALUE!"},{"$error":"#VALUE!"}]
["","","","","","",{"$error":"#VALUE!"},{"$error":"#VALUE!"}]
["","","","","","",{"$error":"#VALUE!"},{"$error":"#VALUE!"}]
["","","","","","",{"$error":"#VALUE!"},{"$error":"#VALUE!"}]
["","","","","","",{"$error":"#VALUE!"},{"$error":"#VALUE!"}]
["","","","","","",{"$error":"#VALUE!"},{"$error":"#VALUE!"}]
["","","","","","",{"$error":"#VALUE!"},{"$error":"#VALUE!"}]
["","","","","","",{"$error":"#VALUE!"},{"$error":"#VALUE!"}]
["","","","","","",{"$error":"#VALUE!"},{"$error":"#VALUE!"}]
["","","","","","",{"$error":"#VALUE!"},{"$error":"#VALUE!"}]
["","","","","","",{"$error":"#VALUE!"},{"$error":"#VALUE!"}]
["","","","","","",{"$error":"#VALUE!"},{"$error":"#VALUE!"}]
["","","","","","",{"$error":"#VALUE!"},{"$error":"#VALUE!"}]
["","","","","","",{"$error":"#VALUE!"},{"$error":"#VALUE!"}]
["","","","","","",{"$error":"#VALUE!"},{"$error":"#VALUE!"}]
["","","","","","",{"$error":"#VALUE!"},{"$error":"#VALUE!"}]
["","","","","","",{"$error":"#VALUE!"},{"$error":"#VALUE!"}]
["","","",{"$f":"IF(A1941<>\"\",MOD(B1941,24)/24,\"\")","v":""},"","",{"$f":"ABS(0.5*1.025*1*(F1941^3))","v":{"$error":"#VALUE!"}},{"$f":"G1941*$B$13","v":{"$error":"#VALUE!"}}]
[{"$f":"IF(IF(A1941<>\"\",A1941+1<=$B$16,0),A1941+1,\"\")","v":""},{"$f":"IF(A1942<>\"\",A1942*$B$13,\"\")","v":""},{"$f":"IF(A1942<>\"\",ROUNDDOWN(A1942*$B$13/24,0),\"\")","v":""},"",{"$f":"IF(A1942<>\"\",($B$4+$B$5)/2+($B$5-$B$4)/2*COS(2*PI()/$B$15*B1942),\"\")","v":""},{"$f":"IF(A1942<>\"\",E1942*COS(2*PI()/$B$7*B1942),\"\")","v":""},{"$error":"#VALUE!"},{"$error":"#VALUE!"}]
["","","","","","",{"$error":"#VALUE!"},{"$error":"#VALUE!"}]
["","","","","","",{"$error":"#VALUE!"},{"$error":"#VALUE!"}]
["","","","","","",{"$error":"#VALUE!"},{"$error":"#VALUE!"}]
["","","","","","",{"$error":"#VALUE!"},{"$error":"#VALUE!"}]
["","","","","","",{"$error":"#VALUE!"},{"$error":"#VALUE!"}]
["","","","","","",{"$error":"#VALUE!"},{"$error":"#VALUE!"}]
["","","","","","",{"$error":"#VALUE!"},{"$error":"#VALUE!"}]
["","","","","","",{"$error":"#VALUE!"},{"$error":"#VALUE!"}]
["","","","","","",{"$error":"#VALUE!"},{"$error":"#VALUE!"}]
["","","","","","",{"$error":"#VALUE!"},{"$error":"#VALUE!"}]
["","","","","","",{"$error":"#VALUE!"},{"$error":"#VALUE!"}]
["","","","","","",{"$error":"#VALUE!"},{"$error":"#VALUE!"}]
["","","","","","",{"$error":"#VALUE!"},{"$error":"#VALUE!"}]
["","","","","","",{"$error":"#VALUE!"},{"$error":"#VALUE!"}]
["","","","","","",{"$error":"#VALUE!"},{"$error":"#VALUE!"}]
["","","","","","",{"$error":"#VALUE!"},{"$error":"#VALUE!"}]
["","","","","","",{"$error":"#VALUE!"},{"$error":"#VALUE!"}]
["","","","","","",{"$error":"#VALUE!"},{"$error":"#VALUE!"}]
["","","","","","",{"$error":"#VALUE!"},{"$error":"#VALUE!"}]
["","","","","","",{"$error":"#VALUE!"},{"$error":"#VALUE!"}]
["","","","","","",{"$error":"#VALUE!"},{"$error":"#VALUE!"}]
["","","","","","",{"$error":"#VALUE!"},{"$error":"#VALUE!"}]
["","","","","","",{"$error":"#VALUE!"},{"$error":"#VALUE!"}]
["","","","","","",{"$error":"#VALUE!"},{"$error":"#VALUE!"}]
["","","","","","",{"$error":"#VALUE!"},{"$error":"#VALUE!"}]
["","","","","","",{"$error":"#VALUE!"},{"$error":"#VALUE!"}]
["","","","","","",{"$error":"#VALUE!"},{"$error":"#VALUE!"}]
["","","","","","",{"$error":"#VALUE!"},{"$error":"#VALUE!"}]
["","","","","","",{"$error":"#VALUE!"},{"$error":"#VALUE!"}]
["","","","","","",{"$error":"#VALUE!"},{"$error":"#VALUE!"}]
["","","","","","",{"$error":"#VALUE!"},{"$error":"#VALUE!"}]
["","","","","","",{"$error":"#VALUE!"},{"$error":"#VALUE!"}]
["","","","","","",{"$error":"#VALUE!"},{"$error":"#VALUE!"}]
["","","","","","",{"$error":"#VALUE!"},{"$error":"#VALUE!"}]
["","","","","","",{"$error":"#VALUE!"},{"$error":"#VALUE!"}]
["","","","","","",{"$error":"#VALUE!"},{"$error":"#VALUE!"}]
["","","","","","",{"$error":"#VALUE!"},{"$error":"#VALUE!"}]
["","","","","","",{"$error":"#VALUE!"},{"$error":"#VALUE!"}]
["","","","","","",{"$error":"#VALUE!"},{"$error":"#VALUE!"}]
["","","","","","",{"$error":"#VALUE!"},{"$error":"#VALUE!"}]
["","","","","","",{"$error":"#VALUE!"},{"$error":"#VALUE!"}]
["","","","","","",{"$error":"#VALUE!"},{"$error":"#VALUE!"}]
["","","","","","",{"$error":"#VALUE!"},{"$error":"#VALUE!"}]
["","","","","","",{"$error":"#VALUE!"},{"$error":"#VALUE!"}]
["","","","","","",{"$error":"#VALUE!"},{"$error":"#VALUE!"}]
["","","","","","",{"$error":"#VALUE!"},{"$error":"#VALUE!"}]
["","","","","","",{"$error":"#VALUE!"},{"$error":"#VALUE!"}]
["","","","","","",{"$error":"#VALUE!"},{"$error":"#VALUE!"}]
["","","","","","",{"$error":"#VALUE!"},{"$error":"#VALUE!"}]
["","","","","","",{"$error":"#VALUE!"},{"$error":"#VALUE!"}]
["","","","","","",{"$error":"#VALUE!"},{"$error":"#VALUE!"}]
["","","","","","",{"$error":"#VALUE!"},{"$error":"#VALUE!"}]
["","","","","","",{"$error":"#VALUE!"},{"$error":"#VALUE!"}]
["","","","","","",{"$error":"#VALUE!"},{"$error":"#VALUE!"}]
["","","","","","",{"$error":"#VALUE!"},{"$error":"#VALUE!"}]
["","","","","","",{"$error":"#VALUE!"},{"$error":"#VALUE!"}]
["","","","","","",{"$error":"#VALUE!"},{"$error":"#VALUE!"}]
["","","","","","",{"$error":"#VALUE!"},{"$error":"#VALUE!"}]
["","","","","","",{"$error":"#VALUE!"},{"$error":"#VALUE!"}]
["","","","","","",{"$error":"#VALUE!"},{"$error":"#VALUE!"}]
["","","","","","",{"$error":"#VALUE!"},{"$error":"#VALUE!"}]
["","","","","","",{"$error":"#VALUE!"},{"$error":"#VALUE!"}]
["","","",{"$f":"IF(A2005<>\"\",MOD(B2005,24)/24,\"\")","v":""},"","",{"$f":"ABS(0.5*1.025*1*(F2005^3))","v":{"$error":"#VALUE!"}},{"$f":"G2005*$B$13","v":{"$error":"#VALUE!"}}]
[{"$f":"IF(IF(A2005<>\"\",A2005+1<=$B$16,0),A2005+1,\"\")","v":""},{"$f":"IF(A2006<>\"\",A2006*$B$13,\"\")","v":""},{"$f":"IF(A2006<>\"\",ROUNDDOWN(A2006*$B$13/24,0),\"\")","v":""},"",{"$f":"IF(A2006<>\"\",($B$4+$B$5)/2+($B$5-$B$4)/2*COS(2*PI()/$B$15*B2006),\"\")","v":""},{"$f":"IF(A2006<>\"\",E2006*COS(2*PI()/$B$7*B2006),\"\")","v":""},{"$error":"#VALUE!"},{"$error":"#VALUE!"}]
["","","","","","",{"$error":"#VALUE!"},{"$error":"#VALUE!"}]
["","","","","","",{"$error":"#VALUE!"},{"$error":"#VALUE!"}]
["","","","","","",{"$error":"#VALUE!"},{"$error":"#VALUE!"}]
["","","","","","",{"$error":"#VALUE!"},{"$error":"#VALUE!"}]
["","","","","","",{"$error":"#VALUE!"},{"$error":"#VALUE!"}]
["","","","","","",{"$error":"#VALUE!"},{"$error":"#VALUE!"}]
["","","","","","",{"$error":"#VALUE!"},{"$error":"#VALUE!"}]
["","","","","","",{"$error":"#VALUE!"},{"$error":"#VALUE!"}]
["","","","","","",{"$error":"#VALUE!"},{"$error":"#VALUE!"}]
["","","","","","",{"$error":"#VALUE!"},{"$error":"#VALUE!"}]
["","","","","","",{"$error":"#VALUE!"},{"$error":"#VALUE!"}]
["","","","","","",{"$error":"#VALUE!"},{"$error":"#VALUE!"}]
["","","","","","",{"$error":"#VALUE!"},{"$error":"#VALUE!"}]
["","","","","","",{"$error":"#VALUE!"},{"$error":"#VALUE!"}]
["","","","","","",{"$error":"#VALUE!"},{"$error":"#VALUE!"}]
["","","","","","",{"$error":"#VALUE!"},{"$error":"#VALUE!"}]
["","","","","","",{"$error":"#VALUE!"},{"$error":"#VALUE!"}]
["","","","","","",{"$error":"#VALUE!"},{"$error":"#VALUE!"}]
["","","","","","",{"$error":"#VALUE!"},{"$error":"#VALUE!"}]
["","","","","","",{"$error":"#VALUE!"},{"$error":"#VALUE!"}]
["","","","","","",{"$error":"#VALUE!"},{"$error":"#VALUE!"}]
["","","","","","",{"$error":"#VALUE!"},{"$error":"#VALUE!"}]
["","","","","","",{"$error":"#VALUE!"},{"$error":"#VALUE!"}]
["","","","","","",{"$error":"#VALUE!"},{"$error":"#VALUE!"}]
["","","","","","",{"$error":"#VALUE!"},{"$error":"#VALUE!"}]
["","","","","","",{"$error":"#VALUE!"},{"$error":"#VALUE!"}]
["","","","","","",{"$error":"#VALUE!"},{"$error":"#VALUE!"}]
["","","","","","",{"$error":"#VALUE!"},{"$error":"#VALUE!"}]
["","","","","","",{"$error":"#VALUE!"},{"$error":"#VALUE!"}]
["","","","","","",{"$error":"#VALUE!"},{"$error":"#VALUE!"}]
["","","","","","",{"$error":"#VALUE!"},{"$error":"#VALUE!"}]
["","","","","","",{"$error":"#VALUE!"},{"$error":"#VALUE!"}]
["","","","","","",{"$error":"#VALUE!"},{"$error":"#VALUE!"}]
["","","","","","",{"$error":"#VALUE!"},{"$error":"#VALUE!"}]
["","","","","","",{"$error":"#VALUE!"},{"$error":"#VALUE!"}]
["","","","","","",{"$error":"#VALUE!"},{"$error":"#VALUE!"}]
["","","","","","",{"$error":"#VALUE!"},{"$error":"#VALUE!"}]
["","","","","","",{"$error":"#VALUE!"},{"$error":"#VALUE!"}]
["","","","","","",{"$error":"#VALUE!"},{"$error":"#VALUE!"}]
["","","","","","",{"$error":"#VALUE!"},{"$error":"#VALUE!"}]
["","","","","","",{"$error":"#VALUE!"},{"$error":"#VALUE!"}]
["","","","","","",{"$error":"#VALUE!"},{"$error":"#VALUE!"}]
["","","","","","",{"$error":"#VALUE!"},{"$error":"#VALUE!"}]
["","","","","","",{"$error":"#VALUE!"},{"$error":"#VALUE!"}]
["","","","","","",{"$error":"#VALUE!"},{"$error":"#VALUE!"}]
["","","","","","",{"$error":"#VALUE!"},{"$error":"#VALUE!"}]
["","","","","","",{"$error":"#VALUE!"},{"$error":"#VALUE!"}]
["","","","","","",{"$error":"#VALUE!"},{"$error":"#VALUE!"}]
["","","","","","",{"$error":"#VALUE!"},{"$error":"#VALUE!"}]
["","","","","","",{"$error":"#VALUE!"},{"$error":"#VALUE!"}]
["","","","","","",{"$error":"#VALUE!"},{"$error":"#VALUE!"}]
["","","","","","",{"$error":"#VALUE!"},{"$error":"#VALUE!"}]
["","","","","","",{"$error":"#VALUE!"},{"$error":"#VALUE!"}]
["","","","","","",{"$error":"#VALUE!"},{"$error":"#VALUE!"}]
["","","","","","",{"$error":"#VALUE!"},{"$error":"#VALUE!"}]
["","","","","","",{"$error":"#VALUE!"},{"$error":"#VALUE!"}]
["","","","","","",{"$error":"#VALUE!"},{"$error":"#VALUE!"}]
["","","","","","",{"$error":"#VALUE!"},{"$error":"#VALUE!"}]
["","","","","","",{"$error":"#VALUE!"},{"$error":"#VALUE!"}]
["","","","","","",{"$error":"#VALUE!"},{"$error":"#VALUE!"}]
["","","","","","",{"$error":"#VALUE!"},{"$error":"#VALUE!"}]
["","","","","","",{"$error":"#VALUE!"},{"$error":"#VALUE!"}]
["","","",{"$f":"IF(A2069<>\"\",MOD(B2069,24)/24,\"\")","v":""},"","",{"$f":"ABS(0.5*1.025*1*(F2069^3))","v":{"$error":"#VALUE!"}},{"$f":"G2069*$B$13","v":{"$error":"#VALUE!"}}]
[{"$f":"IF(IF(A2069<>\"\",A2069+1<=$B$16,0),A2069+1,\"\")","v":""},{"$f":"IF(A2070<>\"\",A2070*$B$13,\"\")","v":""},{"$f":"IF(A2070<>\"\",ROUNDDOWN(A2070*$B$13/24,0),\"\")","v":""},"",{"$f":"IF(A2070<>\"\",($B$4+$B$5)/2+($B$5-$B$4)/2*COS(2*PI()/$B$15*B2070),\"\")","v":""},{"$f":"IF(A2070<>\"\",E2070*COS(2*PI()/$B$7*B2070),\"\")","v":""},{"$error":"#VALUE!"},{"$error":"#VALUE!"}]
["","","","","","",{"$error":"#VALUE!"},{"$error":"#VALUE!"}]
["","","","","","",{"$error":"#VALUE!"},{"$error":"#VALUE!"}]
["","","","","","",{"$error":"#VALUE!"},{"$error":"#VALUE!"}]
["","","","","","",{"$error":"#VALUE!"},{"$error":"#VALUE!"}]
["","","","","","",{"$error":"#VALUE!"},{"$error":"#VALUE!"}]
["","","","","","",{"$error":"#VALUE!"},{"$error":"#VALUE!"}]
["","","","","","",{"$error":"#VALUE!"},{"$error":"#VALUE!"}]
["","","","","","",{"$error":"#VALUE!"},{"$error":"#VALUE!"}]
["","","","","","",{"$error":"#VALUE!"},{"$error":"#VALUE!"}]
["","","","","","",{"$error":"#VALUE!"},{"$error":"#VALUE!"}]
["","","","","","",{"$error":"#VALUE!"},{"$error":"#VALUE!"}]
["","","","","","",{"$error":"#VALUE!"},{"$error":"#VALUE!"}]
["","","","","","",{"$error":"#VALUE!"},{"$error":"#VALUE!"}]
["","","","","","",{"$error":"#VALUE!"},{"$error":"#VALUE!"}]
["","","","","","",{"$error":"#VALUE!"},{"$error":"#VALUE!"}]
["","","","","","",{"$error":"#VALUE!"},{"$error":"#VALUE!"}]
["","","","","","",{"$error":"#VALUE!"},{"$error":"#VALUE!"}]
["","","","","","",{"$error":"#VALUE!"},{"$error":"#VALUE!"}]
["","","","","","",{"$error":"#VALUE!"},{"$error":"#VALUE!"}]
["","","","","","",{"$error":"#VALUE!"},{"$error":"#VALUE!"}]
["","","","","","",{"$error":"#VALUE!"},{"$error":"#VALUE!"}]
["","","","","","",{"$error":"#VALUE!"},{"$error":"#VALUE!"}]
["","","","","","",{"$error":"#VALUE!"},{"$error":"#VALUE!"}]
["","","","","","",{"$error":"#VALUE!"},{"$error":"#VALUE!"}]
["","","","","","",{"$error":"#VALUE!"},{"$error":"#VALUE!"}]
["","","","","","",{"$error":"#VALUE!"},{"$error":"#VALUE!"}]
["","","","","","",{"$error":"#VALUE!"},{"$error":"#VALUE!"}]
["","","","","","",{"$error":"#VALUE!"},{"$error":"#VALUE!"}]
["","","","","","",{"$error":"#VALUE!"},{"$error":"#VALUE!"}]
["","","","","","",{"$error":"#VALUE!"},{"$error":"#VALUE!"}]
["","","","","","",{"$error":"#VALUE!"},{"$error":"#VALUE!"}]
["","","","","","",{"$error":"#VALUE!"},{"$error":"#VALUE!"}]
["","","","","","",{"$error":"#VALUE!"},{"$error":"#VALUE!"}]
["","","","","","",{"$error":"#VALUE!"},{"$error":"#VALUE!"}]
["","","","","","",{"$error":"#VALUE!"},{"$error":"#VALUE!"}]
["","","","","","",{"$error":"#VALUE!"},{"$error":"#VALUE!"}]
["","","","","","",{"$error":"#VALUE!"},{"$error":"#VALUE!"}]
["","","","","","",{"$error":"#VALUE!"},{"$error":"#VALUE!"}]
["","","","","","",{"$error":"#VALUE!"},{"$error":"#VALUE!"}]
["","","","","","",{"$error":"#VALUE!"},{"$error":"#VALUE!"}]
["","","","","","",{"$error":"#VALUE!"},{"$error":"#VALUE!"}]
["","","","","","",{"$error":"#VALUE!"},{"$error":"#VALUE!"}]
["","","","","","",{"$error":"#VALUE!"},{"$error":"#VALUE!"}]
["","","","","","",{"$error":"#VALUE!"},{"$error":"#VALUE!"}]
["","","","","","",{"$error":"#VALUE!"},{"$error":"#VALUE!"}]
["","","","","","",{"$error":"#VALUE!"},{"$error":"#VALUE!"}]
["","","","","","",{"$error":"#VALUE!"},{"$error":"#VALUE!"}]
["","","","","","",{"$error":"#VALUE!"},{"$error":"#VALUE!"}]
["","","","","","",{"$error":"#VALUE!"},{"$error":"#VALUE!"}]
["","","","","","",{"$error":"#VALUE!"},{"$error":"#VALUE!"}]
["","","","","","",{"$error":"#VALUE!"},{"$error":"#VALUE!"}]
["","","","","","",{"$error":"#VALUE!"},{"$error":"#VALUE!"}]
["","","","","","",{"$error":"#VALUE!"},{"$error":"#VALUE!"}]
["","","","","","",{"$error":"#VALUE!"},{"$error":"#VALUE!"}]
["","","","","","",{"$error":"#VALUE!"},{"$error":"#VALUE!"}]
["","","","","","",{"$error":"#VALUE!"},{"$error":"#VALUE!"}]
["","","","","","",{"$error":"#VALUE!"},{"$error":"#VALUE!"}]
["","","","","","",{"$error":"#VALUE!"},{"$error":"#VALUE!"}]
["","","","","","",{"$error":"#VALUE!"},{"$error":"#VALUE!"}]
["","","","","","",{"$error":"#VALUE!"},{"$error":"#VALUE!"}]
["","","","","","",{"$error":"#VALUE!"},{"$error":"#VALUE!"}]
["","","","","","",{"$error":"#VALUE!"},{"$error":"#VALUE!"}]
["","","",{"$f":"IF(A2133<>\"\",MOD(B2133,24)/24,\"\")","v":""},"","",{"$f":"ABS(0.5*1.025*1*(F2133^3))","v":{"$error":"#VALUE!"}},{"$f":"G2133*$B$13","v":{"$error":"#VALUE!"}}]
[{"$f":"IF(IF(A2133<>\"\",A2133+1<=$B$16,0),A2133+1,\"\")","v":""},{"$f":"IF(A2134<>\"\",A2134*$B$13,\"\")","v":""},{"$f":"IF(A2134<>\"\",ROUNDDOWN(A2134*$B$13/24,0),\"\")","v":""},"",{"$f":"IF(A2134<>\"\",($B$4+$B$5)/2+($B$5-$B$4)/2*COS(2*PI()/$B$15*B2134),\"\")","v":""},{"$f":"IF(A2134<>\"\",E2134*COS(2*PI()/$B$7*B2134),\"\")","v":""},{"$error":"#VALUE!"},{"$error":"#VALUE!"}]
["","","","","","",{"$error":"#VALUE!"},{"$error":"#VALUE!"}]
["","","","","","",{"$error":"#VALUE!"},{"$error":"#VALUE!"}]
["","","","","","",{"$error":"#VALUE!"},{"$error":"#VALUE!"}]
["","","","","","",{"$error":"#VALUE!"},{"$error":"#VALUE!"}]
["","","","","","",{"$error":"#VALUE!"},{"$error":"#VALUE!"}]
["","","","","","",{"$error":"#VALUE!"},{"$error":"#VALUE!"}]
["","","","","","",{"$error":"#VALUE!"},{"$error":"#VALUE!"}]
["","","","","","",{"$error":"#VALUE!"},{"$error":"#VALUE!"}]
["","","","","","",{"$error":"#VALUE!"},{"$error":"#VALUE!"}]
["","","","","","",{"$error":"#VALUE!"},{"$error":"#VALUE!"}]
["","","","","","",{"$error":"#VALUE!"},{"$error":"#VALUE!"}]
["","","","","","",{"$error":"#VALUE!"},{"$error":"#VALUE!"}]
["","","","","","",{"$error":"#VALUE!"},{"$error":"#VALUE!"}]
["","","","","","",{"$error":"#VALUE!"},{"$error":"#VALUE!"}]
["","","","","","",{"$error":"#VALUE!"},{"$error":"#VALUE!"}]
["","","","","","",{"$error":"#VALUE!"},{"$error":"#VALUE!"}]
["","","","","","",{"$error":"#VALUE!"},{"$error":"#VALUE!"}]
["","","","","","",{"$error":"#VALUE!"},{"$error":"#VALUE!"}]
["","","","","","",{"$error":"#VALUE!"},{"$error":"#VALUE!"}]
["","","","","","",{"$error":"#VALUE!"},{"$error":"#VALUE!"}]
["","","","","","",{"$error":"#VALUE!"},{"$error":"#VALUE!"}]
["","","","","","",{"$error":"#VALUE!"},{"$error":"#VALUE!"}]
["","","","","","",{"$error":"#VALUE!"},{"$error":"#VALUE!"}]
["","","","","","",{"$error":"#VALUE!"},{"$error":"#VALUE!"}]
["","","","","","",{"$error":"#VALUE!"},{"$error":"#VALUE!"}]
["","","","","","",{"$error":"#VALUE!"},{"$error":"#VALUE!"}]
["","","","","","",{"$error":"#VALUE!"},{"$error":"#VALUE!"}]
["","","","","","",{"$error":"#VALUE!"},{"$error":"#VALUE!"}]
["","","","","","",{"$error":"#VALUE!"},{"$error":"#VALUE!"}]
["","","","","","",{"$error":"#VALUE!"},{"$error":"#VALUE!"}]
["","","","","","",{"$error":"#VALUE!"},{"$error":"#VALUE!"}]
["","","","","","",{"$error":"#VALUE!"},{"$error":"#VALUE!"}]
["","","","","","",{"$error":"#VALUE!"},{"$error":"#VALUE!"}]
["","","","","","",{"$error":"#VALUE!"},{"$error":"#VALUE!"}]
["","","","","","",{"$error":"#VALUE!"},{"$error":"#VALUE!"}]
["","","","","","",{"$error":"#VALUE!"},{"$error":"#VALUE!"}]
["","","","","","",{"$error":"#VALUE!"},{"$error":"#VALUE!"}]
["","","","","","",{"$error":"#VALUE!"},{"$error":"#VALUE!"}]
["","","","","","",{"$error":"#VALUE!"},{"$error":"#VALUE!"}]
["","","","","","",{"$error":"#VALUE!"},{"$error":"#VALUE!"}]
["","","","","","",{"$error":"#VALUE!"},{"$error":"#VALUE!"}]
["","","","","","",{"$error":"#VALUE!"},{"$error":"#VALUE!"}]
["","","","","","",{"$error":"#VALUE!"},{"$error":"#VALUE!"}]
["","","","","","",{"$error":"#VALUE!"},{"$error":"#VALUE!"}]
["","","","","","",{"$error":"#VALUE!"},{"$error":"#VALUE!"}]
["","","","","","",{"$error":"#VALUE!"},{"$error":"#VALUE!"}]
["","","","","","",{"$error":"#VALUE!"},{"$error":"#VALUE!"}]
["","","","","","",{"$error":"#VALUE!"},{"$error":"#VALUE!"}]
["","","","","","",{"$error":"#VALUE!"},{"$error":"#VALUE!"}]
["","","","","","",{"$error":"#VALUE!"},{"$error":"#VALUE!"}]
["","","","","","",{"$error":"#VALUE!"},{"$error":"#VALUE!"}]
["","","","","","",{"$error":"#VALUE!"},{"$error":"#VALUE!"}]
["","","","","","",{"$error":"#VALUE!"},{"$error":"#VALUE!"}]
["","","","","","",{"$error":"#VALUE!"},{"$error":"#VALUE!"}]
["","","","","","",{"$error":"#VALUE!"},{"$error":"#VALUE!"}]
["","","","","","",{"$error":"#VALUE!"},{"$error":"#VALUE!"}]
["","","","","","",{"$error":"#VALUE!"},{"$error":"#VALUE!"}]
["","","","","","",{"$error":"#VALUE!"},{"$error":"#VALUE!"}]
["","","","","","",{"$error":"#VALUE!"},{"$error":"#VALUE!"}]
["","","","","","",{"$error":"#VALUE!"},{"$error":"#VALUE!"}]
["","","","","","",{"$error":"#VALUE!"},{"$error":"#VALUE!"}]
["","","","","","",{"$error":"#VALUE!"},{"$error":"#VALUE!"}]
["","","",{"$f":"IF(A2197<>\"\",MOD(B2197,24)/24,\"\")","v":""},"","",{"$f":"ABS(0.5*1.025*1*(F2197^3))","v":{"$error":"#VALUE!"}},{"$f":"G2197*$B$13","v":{"$error":"#VALUE!"}}]
[{"$f":"IF(IF(A2197<>\"\",A2197+1<=$B$16,0),A2197+1,\"\")","v":""},{"$f":"IF(A2198<>\"\",A2198*$B$13,\"\")","v":""},{"$f":"IF(A2198<>\"\",ROUNDDOWN(A2198*$B$13/24,0),\"\")","v":""},"",{"$f":"IF(A2198<>\"\",($B$4+$B$5)/2+($B$5-$B$4)/2*COS(2*PI()/$B$15*B2198),\"\")","v":""},{"$f":"IF(A2198<>\"\",E2198*COS(2*PI()/$B$7*B2198),\"\")","v":""},{"$error":"#VALUE!"},{"$error":"#VALUE!"}]
["","","","","","",{"$error":"#VALUE!"},{"$error":"#VALUE!"}]
["","","","","","",{"$error":"#VALUE!"},{"$error":"#VALUE!"}]
["","","","","","",{"$error":"#VALUE!"},{"$error":"#VALUE!"}]
["","","","","","",{"$error":"#VALUE!"},{"$error":"#VALUE!"}]
["","","","","","",{"$error":"#VALUE!"},{"$error":"#VALUE!"}]
["","","","","","",{"$error":"#VALUE!"},{"$error":"#VALUE!"}]
["","","","","","",{"$error":"#VALUE!"},{"$error":"#VALUE!"}]
["","","","","","",{"$error":"#VALUE!"},{"$error":"#VALUE!"}]
["","","","","","",{"$error":"#VALUE!"},{"$error":"#VALUE!"}]
["","","","","","",{"$error":"#VALUE!"},{"$error":"#VALUE!"}]
["","","","","","",{"$error":"#VALUE!"},{"$error":"#VALUE!"}]
["","","","","","",{"$error":"#VALUE!"},{"$error":"#VALUE!"}]
["","","","","","",{"$error":"#VALUE!"},{"$error":"#VALUE!"}]
["","","","","","",{"$error":"#VALUE!"},{"$error":"#VALUE!"}]
["","","","","","",{"$error":"#VALUE!"},{"$error":"#VALUE!"}]
["","","","","","",{"$error":"#VALUE!"},{"$error":"#VALUE!"}]
["","","","","","",{"$error":"#VALUE!"},{"$error":"#VALUE!"}]
["","","","","","",{"$error":"#VALUE!"},{"$error":"#VALUE!"}]
["","","","","","",{"$error":"#VALUE!"},{"$error":"#VALUE!"}]
["","","","","","",{"$error":"#VALUE!"},{"$error":"#VALUE!"}]
["","","","","","",{"$error":"#VALUE!"},{"$error":"#VALUE!"}]
["","","","","","",{"$error":"#VALUE!"},{"$error":"#VALUE!"}]
["","","","","","",{"$error":"#VALUE!"},{"$error":"#VALUE!"}]
["","","","","","",{"$error":"#VALUE!"},{"$error":"#VALUE!"}]
["","","","","","",{"$error":"#VALUE!"},{"$error":"#VALUE!"}]
["","","","","","",{"$error":"#VALUE!"},{"$error":"#VALUE!"}]
["","","","","","",{"$error":"#VALUE!"},{"$error":"#VALUE!"}]
["","","","","","",{"$error":"#VALUE!"},{"$error":"#VALUE!"}]
["","","","","","",{"$error":"#VALUE!"},{"$error":"#VALUE!"}]
["","","","","","",{"$error":"#VALUE!"},{"$error":"#VALUE!"}]
["","","","","","",{"$error":"#VALUE!"},{"$error":"#VALUE!"}]
["","","","","","",{"$error":"#VALUE!"},{"$error":"#VALUE!"}]
["","","","","","",{"$error":"#VALUE!"},{"$error":"#VALUE!"}]
["","","","","","",{"$error":"#VALUE!"},{"$error":"#VALUE!"}]
["","","","","","",{"$error":"#VALUE!"},{"$error":"#VALUE!"}]
["","","","","","",{"$error":"#VALUE!"},{"$error":"#VALUE!"}]
["","","","","","",{"$error":"#VALUE!"},{"$error":"#VALUE!"}]
["","","","","","",{"$error":"#VALUE!"},{"$error":"#VALUE!"}]
["","","","","","",{"$error":"#VALUE!"},{"$error":"#VALUE!"}]
["","","","","","",{"$error":"#VALUE!"},{"$error":"#VALUE!"}]
["","","","","","",{"$error":"#VALUE!"},{"$error":"#VALUE!"}]
["","","","","","",{"$error":"#VALUE!"},{"$error":"#VALUE!"}]
["","","","","","",{"$error":"#VALUE!"},{"$error":"#VALUE!"}]
["","","","","","",{"$error":"#VALUE!"},{"$error":"#VALUE!"}]
["","","","","","",{"$error":"#VALUE!"},{"$error":"#VALUE!"}]
["","","","","","",{"$error":"#VALUE!"},{"$error":"#VALUE!"}]
["","","","","","",{"$error":"#VALUE!"},{"$error":"#VALUE!"}]
["","","","","","",{"$error":"#VALUE!"},{"$error":"#VALUE!"}]
["","","","","","",{"$error":"#VALUE!"},{"$error":"#VALUE!"}]
["","","","","","",{"$error":"#VALUE!"},{"$error":"#VALUE!"}]
["","","","","","",{"$error":"#VALUE!"},{"$error":"#VALUE!"}]
["","","","","","",{"$error":"#VALUE!"},{"$error":"#VALUE!"}]
["","","","","","",{"$error":"#VALUE!"},{"$error":"#VALUE!"}]
["","","","","","",{"$error":"#VALUE!"},{"$error":"#VALUE!"}]
["","","","","","",{"$error":"#VALUE!"},{"$error":"#VALUE!"}]
["","","","","","",{"$error":"#VALUE!"},{"$error":"#VALUE!"}]
["","","","","","",{"$error":"#VALUE!"},{"$error":"#VALUE!"}]
["","","","","","",{"$error":"#VALUE!"},{"$error":"#VALUE!"}]
["","","","","","",{"$error":"#VALUE!"},{"$error":"#VALUE!"}]
["","","","","","",{"$error":"#VALUE!"},{"$error":"#VALUE!"}]
["","","","","","",{"$error":"#VALUE!"},{"$error":"#VALUE!"}]
["","","","","","",{"$error":"#VALUE!"},{"$error":"#VALUE!"}]
["","","",{"$f":"IF(A2261<>\"\",MOD(B2261,24)/24,\"\")","v":""},"","",{"$f":"ABS(0.5*1.025*1*(F2261^3))","v":{"$error":"#VALUE!"}},{"$f":"G2261*$B$13","v":{"$error":"#VALUE!"}}]
[{"$f":"IF(IF(A2261<>\"\",A2261+1<=$B$16,0),A2261+1,\"\")","v":""},{"$f":"IF(A2262<>\"\",A2262*$B$13,\"\")","v":""},{"$f":"IF(A2262<>\"\",ROUNDDOWN(A2262*$B$13/24,0),\"\")","v":""},"",{"$f":"IF(A2262<>\"\",($B$4+$B$5)/2+($B$5-$B$4)/2*COS(2*PI()/$B$15*B2262),\"\")","v":""},{"$f":"IF(A2262<>\"\",E2262*COS(2*PI()/$B$7*B2262),\"\")","v":""},{"$error":"#VALUE!"},{"$error":"#VALUE!"}]
["","","","","","",{"$error":"#VALUE!"},{"$error":"#VALUE!"}]
["","","","","","",{"$error":"#VALUE!"},{"$error":"#VALUE!"}]
["","","","","","",{"$error":"#VALUE!"},{"$error":"#VALUE!"}]
["","","","","","",{"$error":"#VALUE!"},{"$error":"#VALUE!"}]
["","","","","","",{"$error":"#VALUE!"},{"$error":"#VALUE!"}]
["","","","","","",{"$error":"#VALUE!"},{"$error":"#VALUE!"}]
["","","","","","",{"$error":"#VALUE!"},{"$error":"#VALUE!"}]
["","","","","","",{"$error":"#VALUE!"},{"$error":"#VALUE!"}]
["","","","","","",{"$error":"#VALUE!"},{"$error":"#VALUE!"}]
["","","","","","",{"$error":"#VALUE!"},{"$error":"#VALUE!"}]
["","","","","","",{"$error":"#VALUE!"},{"$error":"#VALUE!"}]
["","","","","","",{"$error":"#VALUE!"},{"$error":"#VALUE!"}]
["","","","","","",{"$error":"#VALUE!"},{"$error":"#VALUE!"}]
["","","","","","",{"$error":"#VALUE!"},{"$error":"#VALUE!"}]
["","","","","","",{"$error":"#VALUE!"},{"$error":"#VALUE!"}]
["","","","","","",{"$error":"#VALUE!"},{"$error":"#VALUE!"}]
["","","","","","",{"$error":"#VALUE!"},{"$error":"#VALUE!"}]
["","","","","","",{"$error":"#VALUE!"},{"$error":"#VALUE!"}]
["","","","","","",{"$error":"#VALUE!"},{"$error":"#VALUE!"}]
["","","","","","",{"$error":"#VALUE!"},{"$error":"#VALUE!"}]
["","","","","","",{"$error":"#VALUE!"},{"$error":"#VALUE!"}]
["","","","","","",{"$error":"#VALUE!"},{"$error":"#VALUE!"}]
["","","","","","",{"$error":"#VALUE!"},{"$error":"#VALUE!"}]
["","","","","","",{"$error":"#VALUE!"},{"$error":"#VALUE!"}]
["","","","","","",{"$error":"#VALUE!"},{"$error":"#VALUE!"}]
["","","","","","",{"$error":"#VALUE!"},{"$error":"#VALUE!"}]
["","","","","","",{"$error":"#VALUE!"},{"$error":"#VALUE!"}]
["","","","","","",{"$error":"#VALUE!"},{"$error":"#VALUE!"}]
["","","","","","",{"$error":"#VALUE!"},{"$error":"#VALUE!"}]
["","","","","","",{"$error":"#VALUE!"},{"$error":"#VALUE!"}]
["","","","","","",{"$error":"#VALUE!"},{"$error":"#VALUE!"}]
["","","","","","",{"$error":"#VALUE!"},{"$error":"#VALUE!"}]
["","","","","","",{"$error":"#VALUE!"},{"$error":"#VALUE!"}]
["","","","","","",{"$error":"#VALUE!"},{"$error":"#VALUE!"}]
["","","","","","",{"$error":"#VALUE!"},{"$error":"#VALUE!"}]
["","","","","","",{"$error":"#VALUE!"},{"$error":"#VALUE!"}]
["","","","","","",{"$error":"#VALUE!"},{"$error":"#VALUE!"}]
["","","","","","",{"$error":"#VALUE!"},{"$error":"#VALUE!"}]
["","","","","","",{"$error":"#VALUE!"},{"$error":"#VALUE!"}]
["","","","","","",{"$error":"#VALUE!"},{"$error":"#VALUE!"}]
["","","","","","",{"$error":"#VALUE!"},{"$error":"#VALUE!"}]
["","","","","","",{"$error":"#VALUE!"},{"$error":"#VALUE!"}]
["","","","","","",{"$error":"#VALUE!"},{"$error":"#VALUE!"}]
["","","","","","",{"$error":"#VALUE!"},{"$error":"#VALUE!"}]
["","","","","","",{"$error":"#VALUE!"},{"$error":"#VALUE!"}]
["","","","","","",{"$error":"#VALUE!"},{"$error":"#VALUE!"}]
["","","","","","",{"$error":"#VALUE!"},{"$error":"#VALUE!"}]
["","","","","","",{"$error":"#VALUE!"},{"$error":"#VALUE!"}]
["","","","","","",{"$error":"#VALUE!"},{"$error":"#VALUE!"}]
["","","","","","",{"$error":"#VALUE!"},{"$error":"#VALUE!"}]
["","","","","","",{"$error":"#VALUE!"},{"$error":"#VALUE!"}]
["","","","","","",{"$error":"#VALUE!"},{"$error":"#VALUE!"}]
["","","","","","",{"$error":"#VALUE!"},{"$error":"#VALUE!"}]
["","","","","","",{"$error":"#VALUE!"},{"$error":"#VALUE!"}]
["","","","","","",{"$error":"#VALUE!"},{"$error":"#VALUE!"}]
["","","","","","",{"$error":"#VALUE!"},{"$error":"#VALUE!"}]
["","","","","","",{"$error":"#VALUE!"},{"$error":"#VALUE!"}]
["","","","","","",{"$error":"#VALUE!"},{"$error":"#VALUE!"}]
["","","","","","",{"$error":"#VALUE!"},{"$error":"#VALUE!"}]
["","","","","","",{"$error":"#VALUE!"},{"$error":"#VALUE!"}]
["","","","","","",{"$error":"#VALUE!"},{"$error":"#VALUE!"}]
["","","","","","",{"$error":"#VALUE!"},{"$error":"#VALUE!"}]
["","","",{"$f":"IF(A2325<>\"\",MOD(B2325,24)/24,\"\")","v":""},"","",{"$f":"ABS(0.5*1.025*1*(F2325^3))","v":{"$error":"#VALUE!"}},{"$f":"G2325*$B$13","v":{"$error":"#VALUE!"}}]
[{"$f":"IF(IF(A2325<>\"\",A2325+1<=$B$16,0),A2325+1,\"\")","v":""},{"$f":"IF(A2326<>\"\",A2326*$B$13,\"\")","v":""},{"$f":"IF(A2326<>\"\",ROUNDDOWN(A2326*$B$13/24,0),\"\")","v":""},"",{"$f":"IF(A2326<>\"\",($B$4+$B$5)/2+($B$5-$B$4)/2*COS(2*PI()/$B$15*B2326),\"\")","v":""},{"$f":"IF(A2326<>\"\",E2326*COS(2*PI()/$B$7*B2326),\"\")","v":""},{"$error":"#VALUE!"},{"$error":"#VALUE!"}]
["","","","","","",{"$error":"#VALUE!"},{"$error":"#VALUE!"}]
["","","","","","",{"$error":"#VALUE!"},{"$error":"#VALUE!"}]
["","","","","","",{"$error":"#VALUE!"},{"$error":"#VALUE!"}]
["","","","","","",{"$error":"#VALUE!"},{"$error":"#VALUE!"}]
["","","","","","",{"$error":"#VALUE!"},{"$error":"#VALUE!"}]
["","","","","","",{"$error":"#VALUE!"},{"$error":"#VALUE!"}]
["","","","","","",{"$error":"#VALUE!"},{"$error":"#VALUE!"}]
["","","","","","",{"$error":"#VALUE!"},{"$error":"#VALUE!"}]
["","","","","","",{"$error":"#VALUE!"},{"$error":"#VALUE!"}]
["","","","","","",{"$error":"#VALUE!"},{"$error":"#VALUE!"}]
["","","","","","",{"$error":"#VALUE!"},{"$error":"#VALUE!"}]
["","","","","","",{"$error":"#VALUE!"},{"$error":"#VALUE!"}]
["","","","","","",{"$error":"#VALUE!"},{"$error":"#VALUE!"}]
["","","","","","",{"$error":"#VALUE!"},{"$error":"#VALUE!"}]
["","","","","","",{"$error":"#VALUE!"},{"$error":"#VALUE!"}]
["","","","","","",{"$error":"#VALUE!"},{"$error":"#VALUE!"}]
["","","","","","",{"$error":"#VALUE!"},{"$error":"#VALUE!"}]
["","","","","","",{"$error":"#VALUE!"},{"$error":"#VALUE!"}]
["","","","","","",{"$error":"#VALUE!"},{"$error":"#VALUE!"}]
["","","","","","",{"$error":"#VALUE!"},{"$error":"#VALUE!"}]
["","","","","","",{"$error":"#VALUE!"},{"$error":"#VALUE!"}]
["","","","","","",{"$error":"#VALUE!"},{"$error":"#VALUE!"}]
["","","","","","",{"$error":"#VALUE!"},{"$error":"#VALUE!"}]
["","","","","","",{"$error":"#VALUE!"},{"$error":"#VALUE!"}]
["","","","","","",{"$error":"#VALUE!"},{"$error":"#VALUE!"}]
["","","","","","",{"$error":"#VALUE!"},{"$error":"#VALUE!"}]
["","","","","","",{"$error":"#VALUE!"},{"$error":"#VALUE!"}]
["","","","","","",{"$error":"#VALUE!"},{"$error":"#VALUE!"}]
["","","","","","",{"$error":"#VALUE!"},{"$error":"#VALUE!"}]
["","","","","","",{"$error":"#VALUE!"},{"$error":"#VALUE!"}]
["","","","","","",{"$error":"#VALUE!"},{"$error":"#VALUE!"}]
["","","","","","",{"$error":"#VALUE!"},{"$error":"#VALUE!"}]
["","","","","","",{"$error":"#VALUE!"},{"$error":"#VALUE!"}]
["","","","","","",{"$error":"#VALUE!"},{"$error":"#VALUE!"}]
["","","","","","",{"$error":"#VALUE!"},{"$error":"#VALUE!"}]
["","","","","","",{"$error":"#VALUE!"},{"$error":"#VALUE!"}]
["","","","","","",{"$error":"#VALUE!"},{"$error":"#VALUE!"}]
["","","","","","",{"$error":"#VALUE!"},{"$error":"#VALUE!"}]
["","","","","","",{"$error":"#VALUE!"},{"$error":"#VALUE!"}]
["","","","","","",{"$error":"#VALUE!"},{"$error":"#VALUE!"}]
["","","","","","",{"$error":"#VALUE!"},{"$error":"#VALUE!"}]
["","","","","","",{"$error":"#VALUE!"},{"$error":"#VALUE!"}]
["","","","","","",{"$error":"#VALUE!"},{"$error":"#VALUE!"}]
["","","","","","",{"$error":"#VALUE!"},{"$error":"#VALUE!"}]
["","","","","","",{"$error":"#VALUE!"},{"$error":"#VALUE!"}]
["","","","","","",{"$error":"#VALUE!"},{"$error":"#VALUE!"}]
["","","","","","",{"$error":"#VALUE!"},{"$error":"#VALUE!"}]
["","","","","","",{"$error":"#VALUE!"},{"$error":"#VALUE!"}]
["","","","","","",{"$error":"#VALUE!"},{"$error":"#VALUE!"}]
["","","","","","",{"$error":"#VALUE!"},{"$error":"#VALUE!"}]
["","","","","","",{"$error":"#VALUE!"},{"$error":"#VALUE!"}]
["","","","","","",{"$error":"#VALUE!"},{"$error":"#VALUE!"}]
["","","","","","",{"$error":"#VALUE!"},{"$error":"#VALUE!"}]
["","","","","","",{"$error":"#VALUE!"},{"$error":"#VALUE!"}]
["","","","","","",{"$error":"#VALUE!"},{"$error":"#VALUE!"}]
["","","","","","",{"$error":"#VALUE!"},{"$error":"#VALUE!"}]
["","","","","","",{"$error":"#VALUE!"},{"$error":"#VALUE!"}]
["","","","","","",{"$error":"#VALUE!"},{"$error":"#VALUE!"}]
["","","","","","",{"$error":"#VALUE!"},{"$error":"#VALUE!"}]
["","","","","","",{"$error":"#VALUE!"},{"$error":"#VALUE!"}]
["","","","","","",{"$error":"#VALUE!"},{"$error":"#VALUE!"}]
["","","","","","",{"$error":"#VALUE!"},{"$error":"#VALUE!"}]
["","","",{"$f":"IF(A2389<>\"\",MOD(B2389,24)/24,\"\")","v":""},"","",{"$f":"ABS(0.5*1.025*1*(F2389^3))","v":{"$error":"#VALUE!"}},{"$f":"G2389*$B$13","v":{"$error":"#VALUE!"}}]
[{"$f":"IF(IF(A2389<>\"\",A2389+1<=$B$16,0),A2389+1,\"\")","v":""},{"$f":"IF(A2390<>\"\",A2390*$B$13,\"\")","v":""},{"$f":"IF(A2390<>\"\",ROUNDDOWN(A2390*$B$13/24,0),\"\")","v":""},"",{"$f":"IF(A2390<>\"\",($B$4+$B$5)/2+($B$5-$B$4)/2*COS(2*PI()/$B$15*B2390),\"\")","v":""},{"$f":"IF(A2390<>\"\",E2390*COS(2*PI()/$B$7*B2390),\"\")","v":""},{"$error":"#VALUE!"},{"$error":"#VALUE!"}]
["","","","","","",{"$error":"#VALUE!"},{"$error":"#VALUE!"}]
["","","","","","",{"$error":"#VALUE!"},{"$error":"#VALUE!"}]
["","","","","","",{"$error":"#VALUE!"},{"$error":"#VALUE!"}]
["","","","","","",{"$error":"#VALUE!"},{"$error":"#VALUE!"}]
["","","","","","",{"$error":"#VALUE!"},{"$error":"#VALUE!"}]
["","","","","","",{"$error":"#VALUE!"},{"$error":"#VALUE!"}]
["","","","","","",{"$error":"#VALUE!"},{"$error":"#VALUE!"}]
["","","","","","",{"$error":"#VALUE!"},{"$error":"#VALUE!"}]
["","","","","","",{"$error":"#VALUE!"},{"$error":"#VALUE!"}]
["","","","","","",{"$error":"#VALUE!"},{"$error":"#VALUE!"}]
["","","","","","",{"$error":"#VALUE!"},{"$error":"#VALUE!"}]
["","","","","","",{"$error":"#VALUE!"},{"$error":"#VALUE!"}]
["","","","","","",{"$error":"#VALUE!"},{"$error":"#VALUE!"}]
["","","","","","",{"$error":"#VALUE!"},{"$error":"#VALUE!"}]
["","","","","","",{"$error":"#VALUE!"},{"$error":"#VALUE!"}]
["","","","","","",{"$error":"#VALUE!"},{"$error":"#VALUE!"}]
["","","","","","",{"$error":"#VALUE!"},{"$error":"#VALUE!"}]
["","","","","","",{"$error":"#VALUE!"},{"$error":"#VALUE!"}]
["","","","","","",{"$error":"#VALUE!"},{"$error":"#VALUE!"}]
["","","","","","",{"$error":"#VALUE!"},{"$error":"#VALUE!"}]
["","","","","","",{"$error":"#VALUE!"},{"$error":"#VALUE!"}]
["","","","","","",{"$error":"#VALUE!"},{"$error":"#VALUE!"}]
["","","","","","",{"$error":"#VALUE!"},{"$error":"#VALUE!"}]
["","","","","","",{"$error":"#VALUE!"},{"$error":"#VALUE!"}]
["","","","","","",{"$error":"#VALUE!"},{"$error":"#VALUE!"}]
["","","","","","",{"$error":"#VALUE!"},{"$error":"#VALUE!"}]
["","","","","","",{"$error":"#VALUE!"},{"$error":"#VALUE!"}]
["","","","","","",{"$error":"#VALUE!"},{"$error":"#VALUE!"}]
["","","","","","",{"$error":"#VALUE!"},{"$error":"#VALUE!"}]
["","","","","","",{"$error":"#VALUE!"},{"$error":"#VALUE!"}]
["","","","","","",{"$error":"#VALUE!"},{"$error":"#VALUE!"}]
["","","","","","",{"$error":"#VALUE!"},{"$error":"#VALUE!"}]
["","","","","","",{"$error":"#VALUE!"},{"$error":"#VALUE!"}]
["","","","","","",{"$error":"#VALUE!"},{"$error":"#VALUE!"}]
["","","","","","",{"$error":"#VALUE!"},{"$error":"#VALUE!"}]
["","","","","","",{"$error":"#VALUE!"},{"$error":"#VALUE!"}]
["","","","","","",{"$error":"#VALUE!"},{"$error":"#VALUE!"}]
["","","","","","",{"$error":"#VALUE!"},{"$error":"#VALUE!"}]
["","","","","","",{"$error":"#VALUE!"},{"$error":"#VALUE!"}]
["","","","","","",{"$error":"#VALUE!"},{"$error":"#VALUE!"}]
["","","","","","",{"$error":"#VALUE!"},{"$error":"#VALUE!"}]
["","","","","","",{"$error":"#VALUE!"},{"$error":"#VALUE!"}]
["","","","","","",{"$error":"#VALUE!"},{"$error":"#VALUE!"}]
["","","","","","",{"$error":"#VALUE!"},{"$error":"#VALUE!"}]
["","","","","","",{"$error":"#VALUE!"},{"$error":"#VALUE!"}]
["","","","","","",{"$error":"#VALUE!"},{"$error":"#VALUE!"}]
["","","","","","",{"$error":"#VALUE!"},{"$error":"#VALUE!"}]
["","","","","","",{"$error":"#VALUE!"},{"$error":"#VALUE!"}]
["","","","","","",{"$error":"#VALUE!"},{"$error":"#VALUE!"}]
["","","","","","",{"$error":"#VALUE!"},{"$error":"#VALUE!"}]
["","","","","","",{"$error":"#VALUE!"},{"$error":"#VALUE!"}]
["","","","","","",{"$error":"#VALUE!"},{"$error":"#VALUE!"}]
["","","","","","",{"$error":"#VALUE!"},{"$error":"#VALUE!"}]
["","","","","","",{"$error":"#VALUE!"},{"$error":"#VALUE!"}]
["","","","","","",{"$error":"#VALUE!"},{"$error":"#VALUE!"}]
["","","","","","",{"$error":"#VALUE!"},{"$error":"#VALUE!"}]
["","","","","","",{"$error":"#VALUE!"},{"$error":"#VALUE!"}]
["","","","","","",{"$error":"#VALUE!"},{"$error":"#VALUE!"}]
["","","","","","",{"$error":"#VALUE!"},{"$error":"#VALUE!"}]
["","","","","","",{"$error":"#VALUE!"},{"$error":"#VALUE!"}]
["","","","","","",{"$error":"#VALUE!"},{"$error":"#VALUE!"}]
["","","","","","",{"$error":"#VALUE!"},{"$error":"#VALUE!"}]
["","","",{"$f":"IF(A2453<>\"\",MOD(B2453,24)/24,\"\")","v":""},"","",{"$f":"ABS(0.5*1.025*1*(F2453^3))","v":{"$error":"#VALUE!"}},{"$f":"G2453*$B$13","v":{"$error":"#VALUE!"}}]
[{"$f":"IF(IF(A2453<>\"\",A2453+1<=$B$16,0),A2453+1,\"\")","v":""},{"$f":"IF(A2454<>\"\",A2454*$B$13,\"\")","v":""},{"$f":"IF(A2454<>\"\",ROUNDDOWN(A2454*$B$13/24,0),\"\")","v":""},"",{"$f":"IF(A2454<>\"\",($B$4+$B$5)/2+($B$5-$B$4)/2*COS(2*PI()/$B$15*B2454),\"\")","v":""},{"$f":"IF(A2454<>\"\",E2454*COS(2*PI()/$B$7*B2454),\"\")","v":""},{"$error":"#VALUE!"},{"$error":"#VALUE!"}]
["","","","","","",{"$error":"#VALUE!"},{"$error":"#VALUE!"}]
["","","","","","",{"$error":"#VALUE!"},{"$error":"#VALUE!"}]
["","","","","","",{"$error":"#VALUE!"},{"$error":"#VALUE!"}]
["","","","","","",{"$error":"#VALUE!"},{"$error":"#VALUE!"}]
["","","","","","",{"$error":"#VALUE!"},{"$error":"#VALUE!"}]
["","","","","","",{"$error":"#VALUE!"},{"$error":"#VALUE!"}]
["","","","","","",{"$error":"#VALUE!"},{"$error":"#VALUE!"}]
["","","","","","",{"$error":"#VALUE!"},{"$error":"#VALUE!"}]
["","","","","","",{"$error":"#VALUE!"},{"$error":"#VALUE!"}]
["","","","","","",{"$error":"#VALUE!"},{"$error":"#VALUE!"}]
["","","","","","",{"$error":"#VALUE!"},{"$error":"#VALUE!"}]
["","","","","","",{"$error":"#VALUE!"},{"$error":"#VALUE!"}]
["","","","","","",{"$error":"#VALUE!"},{"$error":"#VALUE!"}]
["","","","","","",{"$error":"#VALUE!"},{"$error":"#VALUE!"}]
["","","","","","",{"$error":"#VALUE!"},{"$error":"#VALUE!"}]
["","","","","","",{"$error":"#VALUE!"},{"$error":"#VALUE!"}]
["","","","","","",{"$error":"#VALUE!"},{"$error":"#VALUE!"}]
["","","","","","",{"$error":"#VALUE!"},{"$error":"#VALUE!"}]
["","","","","","",{"$error":"#VALUE!"},{"$error":"#VALUE!"}]
["","","","","","",{"$error":"#VALUE!"},{"$error":"#VALUE!"}]
["","","","","","",{"$error":"#VALUE!"},{"$error":"#VALUE!"}]
["","","","","","",{"$error":"#VALUE!"},{"$error":"#VALUE!"}]
["","","","","","",{"$error":"#VALUE!"},{"$error":"#VALUE!"}]
["","","","","","",{"$error":"#VALUE!"},{"$error":"#VALUE!"}]
["","","","","","",{"$error":"#VALUE!"},{"$error":"#VALUE!"}]
["","","","","","",{"$error":"#VALUE!"},{"$error":"#VALUE!"}]
["","","","","","",{"$error":"#VALUE!"},{"$error":"#VALUE!"}]
["","","","","","",{"$error":"#VALUE!"},{"$error":"#VALUE!"}]
["","","","","","",{"$error":"#VALUE!"},{"$error":"#VALUE!"}]
["","","","","","",{"$error":"#VALUE!"},{"$error":"#VALUE!"}]
["","","","","","",{"$error":"#VALUE!"},{"$error":"#VALUE!"}]
["","","","","","",{"$error":"#VALUE!"},{"$error":"#VALUE!"}]
["","","","","","",{"$error":"#VALUE!"},{"$error":"#VALUE!"}]
["","","","","","",{"$error":"#VALUE!"},{"$error":"#VALUE!"}]
["","","","","","",{"$error":"#VALUE!"},{"$error":"#VALUE!"}]
["","","","","","",{"$error":"#VALUE!"},{"$error":"#VALUE!"}]
["","","","","","",{"$error":"#VALUE!"},{"$error":"#VALUE!"}]
["","","","","","",{"$error":"#VALUE!"},{"$error":"#VALUE!"}]
["","","","","","",{"$error":"#VALUE!"},{"$error":"#VALUE!"}]
["","","","","","",{"$error":"#VALUE!"},{"$error":"#VALUE!"}]
["","","","","","",{"$error":"#VALUE!"},{"$error":"#VALUE!"}]
["","","","","","",{"$error":"#VALUE!"},{"$error":"#VALUE!"}]
["","","","","","",{"$error":"#VALUE!"},{"$error":"#VALUE!"}]
["","","","","","",{"$error":"#VALUE!"},{"$error":"#VALUE!"}]
["","","","","","",{"$error":"#VALUE!"},{"$error":"#VALUE!"}]
["","","","","","",{"$error":"#VALUE!"},{"$error":"#VALUE!"}]
["","","","","","",{"$error":"#VALUE!"},{"$error":"#VALUE!"}]
["","","","","","",{"$error":"#VALUE!"},{"$error":"#VALUE!"}]
["","","","","","",{"$error":"#VALUE!"},{"$error":"#VALUE!"}]
["","","","","","",{"$error":"#VALUE!"},{"$error":"#VALUE!"}]
["","","","","","",{"$error":"#VALUE!"},{"$error":"#VALUE!"}]
["","","","","","",{"$error":"#VALUE!"},{"$error":"#VALUE!"}]
["","","","","","",{"$error":"#VALUE!"},{"$error":"#VALUE!"}]
["","","","","","",{"$error":"#VALUE!"},{"$error":"#VALUE!"}]
["","","","","","",{"$error":"#VALUE!"},{"$error":"#VALUE!"}]
["","","","","","",{"$error":"#VALUE!"},{"$error":"#VALUE!"}]
["","","","","","",{"$error":"#VALUE!"},{"$error":"#VALUE!"}]
["","","","","","",{"$error":"#VALUE!"},{"$error":"#VALUE!"}]
["","","","","","",{"$error":"#VALUE!"},{"$error":"#VALUE!"}]
["","","","","","",{"$error":"#VALUE!"},{"$error":"#VALUE!"}]
["","","","","","",{"$error":"#VALUE!"},{"$error":"#VALUE!"}]
["","","","","","",{"$error":"#VALUE!"},{"$error":"#VALUE!"}]
["","","",{"$f":"IF(A2517<>\"\",MOD(B2517,24)/24,\"\")","v":""},"","",{"$f":"ABS(0.5*1.025*1*(F2517^3))","v":{"$error":"#VALUE!"}},{"$f":"G2517*$B$13","v":{"$error":"#VALUE!"}}]
[{"$f":"IF(IF(A2517<>\"\",A2517+1<=$B$16,0),A2517+1,\"\")","v":""},{"$f":"IF(A2518<>\"\",A2518*$B$13,\"\")","v":""},{"$f":"IF(A2518<>\"\",ROUNDDOWN(A2518*$B$13/24,0),\"\")","v":""},"",{"$f":"IF(A2518<>\"\",($B$4+$B$5)/2+($B$5-$B$4)/2*COS(2*PI()/$B$15*B2518),\"\")","v":""},{"$f":"IF(A2518<>\"\",E2518*COS(2*PI()/$B$7*B2518),\"\")","v":""},{"$error":"#VALUE!"},{"$error":"#VALUE!"}]
["","","","","","",{"$error":"#VALUE!"},{"$error":"#VALUE!"}]
["","","","","","",{"$error":"#VALUE!"},{"$error":"#VALUE!"}]
["","","","","","",{"$error":"#VALUE!"},{"$error":"#VALUE!"}]
["","","","","","",{"$error":"#VALUE!"},{"$error":"#VALUE!"}]
["","","","","","",{"$error":"#VALUE!"},{"$error":"#VALUE!"}]
["","","","","","",{"$error":"#VALUE!"},{"$error":"#VALUE!"}]
["","","","","","",{"$error":"#VALUE!"},{"$error":"#VALUE!"}]
["","","","","","",{"$error":"#VALUE!"},{"$error":"#VALUE!"}]
["","","","","","",{"$error":"#VALUE!"},{"$error":"#VALUE!"}]
["","","","","","",{"$error":"#VALUE!"},{"$error":"#VALUE!"}]
["","","","","","",{"$error":"#VALUE!"},{"$error":"#VALUE!"}]
["","","","","","",{"$error":"#VALUE!"},{"$error":"#VALUE!"}]
["","","","","","",{"$error":"#VALUE!"},{"$error":"#VALUE!"}]
["","","","","","",{"$error":"#VALUE!"},{"$error":"#VALUE!"}]
["","","","","","",{"$error":"#VALUE!"},{"$error":"#VALUE!"}]
["","","","","","",{"$error":"#VALUE!"},{"$error":"#VALUE!"}]
["","","","","","",{"$error":"#VALUE!"},{"$error":"#VALUE!"}]
["","","","","","",{"$error":"#VALUE!"},{"$error":"#VALUE!"}]
["","","","","","",{"$error":"#VALUE!"},{"$error":"#VALUE!"}]
["","","","","","",{"$error":"#VALUE!"},{"$error":"#VALUE!"}]
["","","","","","",{"$error":"#VALUE!"},{"$error":"#VALUE!"}]
["","","","","","",{"$error":"#VALUE!"},{"$error":"#VALUE!"}]
["","","","","","",{"$error":"#VALUE!"},{"$error":"#VALUE!"}]
["","","","","","",{"$error":"#VALUE!"},{"$error":"#VALUE!"}]
["","","","","","",{"$error":"#VALUE!"},{"$error":"#VALUE!"}]
["","","","","","",{"$error":"#VALUE!"},{"$error":"#VALUE!"}]
["","","","","","",{"$error":"#VALUE!"},{"$error":"#VALUE!"}]
["","","","","","",{"$error":"#VALUE!"},{"$error":"#VALUE!"}]
["","","","","","",{"$error":"#VALUE!"},{"$error":"#VALUE!"}]
["","","","","","",{"$error":"#VALUE!"},{"$error":"#VALUE!"}]
["","","","","","",{"$error":"#VALUE!"},{"$error":"#VALUE!"}]
["","","","","","",{"$error":"#VALUE!"},{"$error":"#VALUE!"}]
["","","","","","",{"$error":"#VALUE!"},{"$error":"#VALUE!"}]
["","","","","","",{"$error":"#VALUE!"},{"$error":"#VALUE!"}]
["","","","","","",{"$error":"#VALUE!"},{"$error":"#VALUE!"}]
["","","","","","",{"$error":"#VALUE!"},{"$error":"#VALUE!"}]
["","","","","","",{"$error":"#VALUE!"},{"$error":"#VALUE!"}]
["","","","","","",{"$error":"#VALUE!"},{"$error":"#VALUE!"}]
["","","","","","",{"$error":"#VALUE!"},{"$error":"#VALUE!"}]
["","","","","","",{"$error":"#VALUE!"},{"$error":"#VALUE!"}]
["","","","","","",{"$error":"#VALUE!"},{"$error":"#VALUE!"}]
["","","","","","",{"$error":"#VALUE!"},{"$error":"#VALUE!"}]
["","","","","","",{"$error":"#VALUE!"},{"$error":"#VALUE!"}]
["","","","","","",{"$error":"#VALUE!"},{"$error":"#VALUE!"}]
["","","","","","",{"$error":"#VALUE!"},{"$error":"#VALUE!"}]
["","","","","","",{"$error":"#VALUE!"},{"$error":"#VALUE!"}]
["","","","","","",{"$error":"#VALUE!"},{"$error":"#VALUE!"}]
["","","","","","",{"$error":"#VALUE!"},{"$error":"#VALUE!"}]
["","","","","","",{"$error":"#VALUE!"},{"$error":"#VALUE!"}]
["","","","","","",{"$error":"#VALUE!"},{"$error":"#VALUE!"}]
["","","","","","",{"$error":"#VALUE!"},{"$error":"#VALUE!"}]
["","","","","","",{"$error":"#VALUE!"},{"$error":"#VALUE!"}]
["","","","","","",{"$error":"#VALUE!"},{"$error":"#VALUE!"}]
["","","","","","",{"$error":"#VALUE!"},{"$error":"#VALUE!"}]
["","","","","","",{"$error":"#VALUE!"},{"$error":"#VALUE!"}]
["","","","","","",{"$error":"#VALUE!"},{"$error":"#VALUE!"}]
["","","","","","",{"$error":"#VALUE!"},{"$error":"#VALUE!"}]
["","","","","","",{"$error":"#VALUE!"},{"$error":"#VALUE!"}]
["","","","","","",{"$error":"#VALUE!"},{"$error":"#VALUE!"}]
["","","","","","",{"$error":"#VALUE!"},{"$error":"#VALUE!"}]
["","","","","","",{"$error":"#VALUE!"},{"$error":"#VALUE!"}]
["","","","","","",{"$error":"#VALUE!"},{"$error":"#VALUE!"}]
["","","",{"$f":"IF(A2581<>\"\",MOD(B2581,24)/24,\"\")","v":""},"","",{"$f":"ABS(0.5*1.025*1*(F2581^3))","v":{"$error":"#VALUE!"}},{"$f":"G2581*$B$13","v":{"$error":"#VALUE!"}}]
[{"$f":"IF(IF(A2581<>\"\",A2581+1<=$B$16,0),A2581+1,\"\")","v":""},{"$f":"IF(A2582<>\"\",A2582*$B$13,\"\")","v":""},{"$f":"IF(A2582<>\"\",ROUNDDOWN(A2582*$B$13/24,0),\"\")","v":""},"",{"$f":"IF(A2582<>\"\",($B$4+$B$5)/2+($B$5-$B$4)/2*COS(2*PI()/$B$15*B2582),\"\")","v":""},{"$f":"IF(A2582<>\"\",E2582*COS(2*PI()/$B$7*B2582),\"\")","v":""},{"$error":"#VALUE!"},{"$error":"#VALUE!"}]
["","","","","","",{"$error":"#VALUE!"},{"$error":"#VALUE!"}]
["","","","","","",{"$error":"#VALUE!"},{"$error":"#VALUE!"}]
["","","","","","",{"$error":"#VALUE!"},{"$error":"#VALUE!"}]
["","","","","","",{"$error":"#VALUE!"},{"$error":"#VALUE!"}]
["","","","","","",{"$error":"#VALUE!"},{"$error":"#VALUE!"}]
["","","","","","",{"$error":"#VALUE!"},{"$error":"#VALUE!"}]
["","","","","","",{"$error":"#VALUE!"},{"$error":"#VALUE!"}]
["","","","","","",{"$error":"#VALUE!"},{"$error":"#VALUE!"}]
["","","","","","",{"$error":"#VALUE!"},{"$error":"#VALUE!"}]
["","","","","","",{"$error":"#VALUE!"},{"$error":"#VALUE!"}]
["","","","","","",{"$error":"#VALUE!"},{"$error":"#VALUE!"}]
["","","","","","",{"$error":"#VALUE!"},{"$error":"#VALUE!"}]
["","","","","","",{"$error":"#VALUE!"},{"$error":"#VALUE!"}]
["","","","","","",{"$error":"#VALUE!"},{"$error":"#VALUE!"}]
["","","","","","",{"$error":"#VALUE!"},{"$error":"#VALUE!"}]
["","","","","","",{"$error":"#VALUE!"},{"$error":"#VALUE!"}]
["","","","","","",{"$error":"#VALUE!"},{"$error":"#VALUE!"}]
["","","","","","",{"$error":"#VALUE!"},{"$error":"#VALUE!"}]
["","","","","","",{"$error":"#VALUE!"},{"$error":"#VALUE!"}]
["","","","","","",{"$error":"#VALUE!"},{"$error":"#VALUE!"}]
["","","","","","",{"$error":"#VALUE!"},{"$error":"#VALUE!"}]
["","","","","","",{"$error":"#VALUE!"},{"$error":"#VALUE!"}]
["","","","","","",{"$error":"#VALUE!"},{"$error":"#VALUE!"}]
["","","","","","",{"$error":"#VALUE!"},{"$error":"#VALUE!"}]
["","","","","","",{"$error":"#VALUE!"},{"$error":"#VALUE!"}]
["","","","","","",{"$error":"#VALUE!"},{"$error":"#VALUE!"}]
["","","","","","",{"$error":"#VALUE!"},{"$error":"#VALUE!"}]
["","","","","","",{"$error":"#VALUE!"},{"$error":"#VALUE!"}]
["","","","","","",{"$error":"#VALUE!"},{"$error":"#VALUE!"}]
["","","","","","",{"$error":"#VALUE!"},{"$error":"#VALUE!"}]
["","","","","","",{"$error":"#VALUE!"},{"$error":"#VALUE!"}]
["","","","","","",{"$error":"#VALUE!"},{"$error":"#VALUE!"}]
["","","","","","",{"$error":"#VALUE!"},{"$error":"#VALUE!"}]
["","","","","","",{"$error":"#VALUE!"},{"$error":"#VALUE!"}]
["","","","","","",{"$error":"#VALUE!"},{"$error":"#VALUE!"}]
["","","","","","",{"$error":"#VALUE!"},{"$error":"#VALUE!"}]
["","","","","","",{"$error":"#VALUE!"},{"$error":"#VALUE!"}]
["","","","","","",{"$error":"#VALUE!"},{"$error":"#VALUE!"}]
["","","","","","",{"$error":"#VALUE!"},{"$error":"#VALUE!"}]
["","","","","","",{"$error":"#VALUE!"},{"$error":"#VALUE!"}]
["","","","","","",{"$error":"#VALUE!"},{"$error":"#VALUE!"}]
["","","","","","",{"$error":"#VALUE!"},{"$error":"#VALUE!"}]
["","","","","","",{"$error":"#VALUE!"},{"$error":"#VALUE!"}]
["","","","","","",{"$error":"#VALUE!"},{"$error":"#VALUE!"}]
["","","","","","",{"$error":"#VALUE!"},{"$error":"#VALUE!"}]
["","","","","","",{"$error":"#VALUE!"},{"$error":"#VALUE!"}]
["","","","","","",{"$error":"#VALUE!"},{"$error":"#VALUE!"}]
["","","","","","",{"$error":"#VALUE!"},{"$error":"#VALUE!"}]
["","","","","","",{"$error":"#VALUE!"},{"$error":"#VALUE!"}]
["","","","","","",{"$error":"#VALUE!"},{"$error":"#VALUE!"}]
["","","","","","",{"$error":"#VALUE!"},{"$error":"#VALUE!"}]
["","","","","","",{"$error":"#VALUE!"},{"$error":"#VALUE!"}]
["","","","","","",{"$error":"#VALUE!"},{"$error":"#VALUE!"}]
["","","","","","",{"$error":"#VALUE!"},{"$error":"#VALUE!"}]
["","","","","","",{"$error":"#VALUE!"},{"$error":"#VALUE!"}]
["","","","","","",{"$error":"#VALUE!"},{"$error":"#VALUE!"}]
["","","","","","",{"$error":"#VALUE!"},{"$error":"#VALUE!"}]
["","","","","","",{"$error":"#VALUE!"},{"$error":"#VALUE!"}]
["","","","","","",{"$error":"#VALUE!"},{"$error":"#VALUE!"}]
["","","","","","",{"$error":"#VALUE!"},{"$error":"#VALUE!"}]
["","","","","","",{"$error":"#VALUE!"},{"$error":"#VALUE!"}]
["","","","","","",{"$error":"#VALUE!"},{"$error":"#VALUE!"}]
["","","",{"$f":"IF(A2645<>\"\",MOD(B2645,24)/24,\"\")","v":""},"","",{"$f":"ABS(0.5*1.025*1*(F2645^3))","v":{"$error":"#VALUE!"}},{"$f":"G2645*$B$13","v":{"$error":"#VALUE!"}}]
[{"$f":"IF(IF(A2645<>\"\",A2645+1<=$B$16,0),A2645+1,\"\")","v":""},{"$f":"IF(A2646<>\"\",A2646*$B$13,\"\")","v":""},{"$f":"IF(A2646<>\"\",ROUNDDOWN(A2646*$B$13/24,0),\"\")","v":""},"",{"$f":"IF(A2646<>\"\",($B$4+$B$5)/2+($B$5-$B$4)/2*COS(2*PI()/$B$15*B2646),\"\")","v":""},{"$f":"IF(A2646<>\"\",E2646*COS(2*PI()/$B$7*B2646),\"\")","v":""},{"$error":"#VALUE!"},{"$error":"#VALUE!"}]
["","","","","","",{"$error":"#VALUE!"},{"$error":"#VALUE!"}]
["","","","","","",{"$error":"#VALUE!"},{"$error":"#VALUE!"}]
["","","","","","",{"$error":"#VALUE!"},{"$error":"#VALUE!"}]
["","","","","","",{"$error":"#VALUE!"},{"$error":"#VALUE!"}]
["","","","","","",{"$error":"#VALUE!"},{"$error":"#VALUE!"}]
["","","","","","",{"$error":"#VALUE!"},{"$error":"#VALUE!"}]
["","","","","","",{"$error":"#VALUE!"},{"$error":"#VALUE!"}]
["","","","","","",{"$error":"#VALUE!"},{"$error":"#VALUE!"}]
["","","","","","",{"$error":"#VALUE!"},{"$error":"#VALUE!"}]
["","","","","","",{"$error":"#VALUE!"},{"$error":"#VALUE!"}]
["","","","","","",{"$error":"#VALUE!"},{"$error":"#VALUE!"}]
["","","","","","",{"$error":"#VALUE!"},{"$error":"#VALUE!"}]
["","","","","","",{"$error":"#VALUE!"},{"$error":"#VALUE!"}]
["","","","","","",{"$error":"#VALUE!"},{"$error":"#VALUE!"}]
["","","","","","",{"$error":"#VALUE!"},{"$error":"#VALUE!"}]
["","","","","","",{"$error":"#VALUE!"},{"$error":"#VALUE!"}]
["","","","","","",{"$error":"#VALUE!"},{"$error":"#VALUE!"}]
["","","","","","",{"$error":"#VALUE!"},{"$error":"#VALUE!"}]
["","","","","","",{"$error":"#VALUE!"},{"$error":"#VALUE!"}]
["","","","","","",{"$error":"#VALUE!"},{"$error":"#VALUE!"}]
["","","","","","",{"$error":"#VALUE!"},{"$error":"#VALUE!"}]
["","","","","","",{"$error":"#VALUE!"},{"$error":"#VALUE!"}]
["","","","","","",{"$error":"#VALUE!"},{"$error":"#VALUE!"}]
["","","","","","",{"$error":"#VALUE!"},{"$error":"#VALUE!"}]
["","","","","","",{"$error":"#VALUE!"},{"$error":"#VALUE!"}]
["","","","","","",{"$error":"#VALUE!"},{"$error":"#VALUE!"}]
["","","","","","",{"$error":"#VALUE!"},{"$error":"#VALUE!"}]
["","","","","","",{"$error":"#VALUE!"},{"$error":"#VALUE!"}]
["","","","","","",{"$error":"#VALUE!"},{"$error":"#VALUE!"}]
["","","","","","",{"$error":"#VALUE!"},{"$error":"#VALUE!"}]
["","","","","","",{"$error":"#VALUE!"},{"$error":"#VALUE!"}]
["","","","","","",{"$error":"#VALUE!"},{"$error":"#VALUE!"}]
["","","","","","",{"$error":"#VALUE!"},{"$error":"#VALUE!"}]
["","","","","","",{"$error":"#VALUE!"},{"$error":"#VALUE!"}]
["","","","","","",{"$error":"#VALUE!"},{"$error":"#VALUE!"}]
["","","","","","",{"$error":"#VALUE!"},{"$error":"#VALUE!"}]
["","","","","","",{"$error":"#VALUE!"},{"$error":"#VALUE!"}]
["","","","","","",{"$error":"#VALUE!"},{"$error":"#VALUE!"}]
["","","","","","",{"$error":"#VALUE!"},{"$error":"#VALUE!"}]
["","","","","","",{"$error":"#VALUE!"},{"$error":"#VALUE!"}]
["","","","","","",{"$error":"#VALUE!"},{"$error":"#VALUE!"}]
["","","","","","",{"$error":"#VALUE!"},{"$error":"#VALUE!"}]
["","","","","","",{"$error":"#VALUE!"},{"$error":"#VALUE!"}]
["","","","","","",{"$error":"#VALUE!"},{"$error":"#VALUE!"}]
["","","","","","",{"$error":"#VALUE!"},{"$error":"#VALUE!"}]
["","","","","","",{"$error":"#VALUE!"},{"$error":"#VALUE!"}]
["","","","","","",{"$error":"#VALUE!"},{"$error":"#VALUE!"}]
["","","","","","",{"$error":"#VALUE!"},{"$error":"#VALUE!"}]
["","","","","","",{"$error":"#VALUE!"},{"$error":"#VALUE!"}]
["","","","","","",{"$error":"#VALUE!"},{"$error":"#VALUE!"}]
["","","","","","",{"$error":"#VALUE!"},{"$error":"#VALUE!"}]
["","","","","","",{"$error":"#VALUE!"},{"$error":"#VALUE!"}]
["","","","","","",{"$error":"#VALUE!"},{"$error":"#VALUE!"}]
["","","","","","",{"$error":"#VALUE!"},{"$error":"#VALUE!"}]
["","","","","","",{"$error":"#VALUE!"},{"$error":"#VALUE!"}]
["","","","","","",{"$error":"#VALUE!"},{"$error":"#VALUE!"}]
["","","","","","",{"$error":"#VALUE!"},{"$error":"#VALUE!"}]
["","","","","","",{"$error":"#VALUE!"},{"$error":"#VALUE!"}]
["","","","","","",{"$error":"#VALUE!"},{"$error":"#VALUE!"}]
["","","","","","",{"$error":"#VALUE!"},{"$error":"#VALUE!"}]
["","","","","","",{"$error":"#VALUE!"},{"$error":"#VALUE!"}]
["","","","","","",{"$error":"#VALUE!"},{"$error":"#VALUE!"}]
["","","",{"$f":"IF(A2709<>\"\",MOD(B2709,24)/24,\"\")","v":""},"","",{"$f":"ABS(0.5*1.025*1*(F2709^3))","v":{"$error":"#VALUE!"}},{"$f":"G2709*$B$13","v":{"$error":"#VALUE!"}}]
[{"$f":"IF(IF(A2709<>\"\",A2709+1<=$B$16,0),A2709+1,\"\")","v":""},{"$f":"IF(A2710<>\"\",A2710*$B$13,\"\")","v":""},{"$f":"IF(A2710<>\"\",ROUNDDOWN(A2710*$B$13/24,0),\"\")","v":""},"",{"$f":"IF(A2710<>\"\",($B$4+$B$5)/2+($B$5-$B$4)/2*COS(2*PI()/$B$15*B2710),\"\")","v":""},{"$f":"IF(A2710<>\"\",E2710*COS(2*PI()/$B$7*B2710),\"\")","v":""},{"$error":"#VALUE!"},{"$error":"#VALUE!"}]
["","","","","","",{"$error":"#VALUE!"},{"$error":"#VALUE!"}]
["","","","","","",{"$error":"#VALUE!"},{"$error":"#VALUE!"}]
["","","","","","",{"$error":"#VALUE!"},{"$error":"#VALUE!"}]
["","","","","","",{"$error":"#VALUE!"},{"$error":"#VALUE!"}]
["","","","","","",{"$error":"#VALUE!"},{"$error":"#VALUE!"}]
["","","","","","",{"$error":"#VALUE!"},{"$error":"#VALUE!"}]
["","","","","","",{"$error":"#VALUE!"},{"$error":"#VALUE!"}]
["","","","","","",{"$error":"#VALUE!"},{"$error":"#VALUE!"}]
["","","","","","",{"$error":"#VALUE!"},{"$error":"#VALUE!"}]
["","","","","","",{"$error":"#VALUE!"},{"$error":"#VALUE!"}]
["","","","","","",{"$error":"#VALUE!"},{"$error":"#VALUE!"}]
["","","","","","",{"$error":"#VALUE!"},{"$error":"#VALUE!"}]
["","","","","","",{"$error":"#VALUE!"},{"$error":"#VALUE!"}]
["","","","","","",{"$error":"#VALUE!"},{"$error":"#VALUE!"}]
["","","","","","",{"$error":"#VALUE!"},{"$error":"#VALUE!"}]
["","","","","","",{"$error":"#VALUE!"},{"$error":"#VALUE!"}]
["","","","","","",{"$error":"#VALUE!"},{"$error":"#VALUE!"}]
["","","","","","",{"$error":"#VALUE!"},{"$error":"#VALUE!"}]
["","","","","","",{"$error":"#VALUE!"},{"$error":"#VALUE!"}]
["","","","","","",{"$error":"#VALUE!"},{"$error":"#VALUE!"}]
["","","","","","",{"$error":"#VALUE!"},{"$error":"#VALUE!"}]
["","","","","","",{"$error":"#VALUE!"},{"$error":"#VALUE!"}]
["","","","","","",{"$error":"#VALUE!"},{"$error":"#VALUE!"}]
["","","","","","",{"$error":"#VALUE!"},{"$error":"#VALUE!"}]
["","","","","","",{"$error":"#VALUE!"},{"$error":"#VALUE!"}]
["","","","","","",{"$error":"#VALUE!"},{"$error":"#VALUE!"}]
["","","","","","",{"$error":"#VALUE!"},{"$error":"#VALUE!"}]
["","","","","","",{"$error":"#VALUE!"},{"$error":"#VALUE!"}]
["","","","","","",{"$error":"#VALUE!"},{"$error":"#VALUE!"}]
["","","","","","",{"$error":"#VALUE!"},{"$error":"#VALUE!"}]
["","","","","","",{"$error":"#VALUE!"},{"$error":"#VALUE!"}]
["","","","","","",{"$error":"#VALUE!"},{"$error":"#VALUE!"}]
["","","","","","",{"$error":"#VALUE!"},{"$error":"#VALUE!"}]
["","","","","","",{"$error":"#VALUE!"},{"$error":"#VALUE!"}]
["","","","","","",{"$error":"#VALUE!"},{"$error":"#VALUE!"}]
["","","","","","",{"$error":"#VALUE!"},{"$error":"#VALUE!"}]
["","","","","","",{"$error":"#VALUE!"},{"$error":"#VALUE!"}]
["","","","","","",{"$error":"#VALUE!"},{"$error":"#VALUE!"}]
["","","","","","",{"$error":"#VALUE!"},{"$error":"#VALUE!"}]
["","","","","","",{"$error":"#VALUE!"},{"$error":"#VALUE!"}]
["","","","","","",{"$error":"#VALUE!"},{"$error":"#VALUE!"}]
["","","","","","",{"$error":"#VALUE!"},{"$error":"#VALUE!"}]
["","","","","","",{"$error":"#VALUE!"},{"$error":"#VALUE!"}]
["","","","","","",{"$error":"#VALUE!"},{"$error":"#VALUE!"}]
["","","","","","",{"$error":"#VALUE!"},{"$error":"#VALUE!"}]
["","","","","","",{"$error":"#VALUE!"},{"$error":"#VALUE!"}]
["","","","","","",{"$error":"#VALUE!"},{"$error":"#VALUE!"}]
["","","","","","",{"$error":"#VALUE!"},{"$error":"#VALUE!"}]
["","","","","","",{"$error":"#VALUE!"},{"$error":"#VALUE!"}]
["","","","","","",{"$error":"#VALUE!"},{"$error":"#VALUE!"}]
["","","","","","",{"$error":"#VALUE!"},{"$error":"#VALUE!"}]
["","","","","","",{"$error":"#VALUE!"},{"$error":"#VALUE!"}]
["","","","","","",{"$error":"#VALUE!"},{"$error":"#VALUE!"}]
["","","","","","",{"$error":"#VALUE!"},{"$error":"#VALUE!"}]
["","","","","","",{"$error":"#VALUE!"},{"$error":"#VALUE!"}]
["","","","","","",{"$error":"#VALUE!"},{"$error":"#VALUE!"}]
["","","","","","",{"$error":"#VALUE!"},{"$error":"#VALUE!"}]
["","","","","","",{"$error":"#VALUE!"},{"$error":"#VALUE!"}]
["","","","","","",{"$error":"#VALUE!"},{"$error":"#VALUE!"}]
[{"$f":"IF(IF(A2769<>\"\",A2769+1<=$B$16,0),A2769+1,\"\")","v":""},{"$f":"IF(A2770<>\"\",A2770*$B$13,\"\")","v":""},{"$f":"IF(A2770<>\"\",ROUNDDOWN(A2770*$B$13/24,0),\"\")","v":""},"",{"$f":"IF(A2770<>\"\",($B$4+$B$5)/2+($B$5-$B$4)/2*COS(2*PI()/$B$15*B2770),\"\")","v":""},{"$f":"IF(A2770<>\"\",E2770*COS(2*PI()/$B$7*B2770),\"\")","v":""},{"$error":"#VALUE!"},{"$error":"#VALUE!"}]
[{"$f":"IF(IF(A2770<>\"\",A2770+1<=$B$16,0),A2770+1,\"\")","v":""},{"$f":"IF(A2771<>\"\",A2771*$B$13,\"\")","v":""},{"$f":"IF(A2771<>\"\",ROUNDDOWN(A2771*$B$13/24,0),\"\")","v":""},"",{"$f":"IF(A2771<>\"\",($B$4+$B$5)/2+($B$5-$B$4)/2*COS(2*PI()/$B$15*B2771),\"\")","v":""},{"$f":"IF(A2771<>\"\",E2771*COS(2*PI()/$B$7*B2771),\"\")","v":""},{"$error":"#VALUE!"},{"$error":"#VALUE!"}]
["","","","","","",{"$error":"#VALUE!"},{"$error":"#VALUE!"}]
["","","",{"$f":"IF(A2773<>\"\",MOD(B2773,24)/24,\"\")","v":""},"","",{"$f":"ABS(0.5*1.025*1*(F2773^3))","v":{"$error":"#VALUE!"}},{"$f":"G2773*$B$13","v":{"$error":"#VALUE!"}}]
["","","","","","",{"$error":"#VALUE!"},{"$error":"#VALUE!"}]
["","","","","","",{"$error":"#VALUE!"},{"$error":"#VALUE!"}]
["","","","","","",{"$error":"#VALUE!"},{"$error":"#VALUE!"}]
["","","","","","",{"$error":"#VALUE!"},{"$error":"#VALUE!"}]
["","","","","","",{"$error":"#VALUE!"},{"$error":"#VALUE!"}]
["","","","","","",{"$error":"#VALUE!"},{"$error":"#VALUE!"}]
[null,null,null,null,"Total Energy (kWh/m^2)",null,"-",{"$f":"IF(ISERROR(SUM(H20:H2779)),\"\",SUM(H20:H2779))","v":""},"per lunar cycle"]
[null,null,null,null,null,null,"-",{"$f":"IF(ISERROR(H2780*(365/$B$6)),\"\",(H2780*(365/$B$6)))","v":""},"per year"]
[null,null,null,null,"Average Power (kW/m^2)",null,{"$f":"IF(ISERROR(AVERAGE(G20:G2779)),\"\",(AVERAGE(G20:G2779)))","v":""},"-"]

{"sheet":"Tidal Stream 5","index":7,"n_rows":2782,"n_cols":9,"rows_kept":2782,"cut":false,"hidden":false,"merged":[[2781,4,2781,5],[17,0,18,0],[17,1,17,3],[2779,4,2780,5],[2,1,2,2],[7,1,7,2],[8,1,8,2],[9,1,9,2],[10,1,10,2],[13,0,14,0]]}
["Tidal Stream Resource"]
[]
[{"$f":"Input!A45","v":"Site Name"},{"$f":"IF(Input!B85<>\"\",Input!B85,\"-\")","v":"[Enter Name]"},{"$f":"Input!C45","v":0},null,null,null,null,null,"Plots:"]
[{"$f":"Input!A46","v":"Peak Flow (Springs)"},{"$f":"IF((AND(Input!B86<>\"\",Input!B86<>\"[Enter Value]\")),Input!B86,\"0\")","v":"0"},{"$f":"Input!C46","v":"m/s"}]
[{"$f":"Input!A47","v":"Peak Flow (Neaps)"},{"$f":"IF((AND(Input!B87<>\"\",Input!B87<>\"[Enter Value]\")),Input!B87,\"0\")","v":"0"},{"$f":"Input!C47","v":"m/s"}]
[{"$f":"Input!A48","v":"Lunar Cycle Period"},{"$f":"IF((AND(Input!B88<>\"\",Input!B88<>\"[Enter Value]\")),Input!B88,\"0\")","v":"0"},{"$f":"Input!C48","v":"days"}]
[{"$f":"Input!A49","v":"Tidal Period"},{"$f":"IF((AND(Input!B89<>\"\",Input!B89<>\"[Enter Value]\")),Input!B89,\"0\")","v":"0"},{"$f":"Input!C49","v":"hours"}]
[{"$f":"Input!A50","v":"Proximity to Grid Connection"},{"$f":"IF(Input!B90<>\"\",Input!B90,\"-\")","v":"[Select Value]"}]
[{"$f":"Input!A51","v":"Average Water Depth"},{"$f":"IF(Input!B91<>\"\",Input!B91,\"-\")","v":"[Select Value]"}]
[{"$f":"Input!A52","v":"Seabed Topography"},{"$f":"IF(Input!B92<>\"\",Input!B92,\"-\")","v":"[Select Value]"}]
[{"$f":"Input!A53","v":"Accessibility"},{"$f":"IF(Input!B93<>\"\",Input!B93,\"-\")","v":"[Select Value]"}]
[]
["Time Step",0.25,"hours"]
["Period",{"$f":"B6/2","v":0},"days"]
[null,{"$f":"B14*24","v":0},"hours"]
["Number of Steps",{"$f":"B15/B13*2","v":0},"-"]
[]
["No.","Time",null,null,"Amplitude","Current","Power","Energy"]
[null,"Hours","Day","Time","m/s","m/s","kW/(m^2)","kWh/(m^2)"]
[0,{"$f":"A20*$B$13","v":0},{"$f":"ROUNDDOWN(A20*$B$1/24,0)","v":0},{"$f":"MOD(B20,24)/24","v":0},{"$f":"IF(A20<>\"\",($B$4+$B$5)/2+($B$5-$B$4)/2*COS(2*PI()/$B$15*B20),\"\")","v":{"$error":"#DIV/0!"}},{"$f":"IF(A20<>\"\",E20*COS(2*PI()/$B$7*B20),\"\")","v":{"$error":"#DIV/0!"}},{"$f":"ABS(0.5*1.025*1*(F20^3))","v":{"$error":"#DIV/0!"}},{"$f":"G20*$B$13","v":{"$error":"#DIV/0!"}}]
[{"$f":"IF(IF(A20<>\"\",A20+1<=$B$16,0),A20+1,\"\")","v":""},{"$f":"IF(A21<>\"\",A21*$B$13,\"\")","v":""},{"$f":"IF(A21<>\"\",ROUNDDOWN(A21*$B$13/24,0),\"\")","v":""},{"$f":"IF(A21<>\"\",MOD(B21,24)/24,\"\")","v":""},{"$f":"IF(A21<>\"\",($B$4+$B$5)/2+($B$5-$B$4)/2*COS(2*PI()/$B$15*B21),\"\")","v":""},{"$f":"IF(A21<>\"\",E21*COS(2*PI()/$B$7*B21),\"\")","v":""},{"$f":"ABS(0.5*1.025*1*(F21^3))","v":{"$error":"#VALUE!"}},{"$f":"G21*$B$13","v":{"$error":"#VALUE!"}}]
[{"$f":"IF(IF(A21<>\"\",A21+1<=$B$16,0),A21+1,\"\")","v":""},{"$f":"IF(A22<>\"\",A22*$B$13,\"\")","v":""},{"$f":"IF(A22<>\"\",ROUNDDOWN(A22*$B$13/24,0),\"\")","v":""},"",{"$f":"IF(A22<>\"\",($B$4+$B$5)/2+($B$5-$B$4)/2*COS(2*PI()/$B$15*B22),\"\")","v":""},{"$f":"IF(A22<>\"\",E22*COS(2*PI()/$B$7*B22),\"\")","v":""},{"$error":"#VALUE!"},{"$error":"#VALUE!"}]
["","","","","","",{"$error":"#VALUE!"},{"$error":"#VALUE!"}]
["","","","","","",{"$error":"#VALUE!"},{"$error":"#VALUE!"}]
["","","","","","",{"$error":"#VALUE!"},{"$error":"#VALUE!"}]
["","","","","","",{"$error":"#VALUE!"},{"$error":"#VALUE!"}]
["","","","","","",{"$error":"#VALUE!"},{"$error":"#VALUE!"}]
["","","","","","",{"$error":"#VALUE!"},{"$error":"#VALUE!"}]
["","","","","","",{"$error":"#VALUE!"},{"$error":"#VALUE!"}]
["","","","","","",{"$error":"#VALUE!"},{"$error":"#VALUE!"}]
["","","","","","",{"$error":"#VALUE!"},{"$error":"#VALUE!"}]
["","","","","","",{"$error":"#VALUE!"},{"$error":"#VALUE!"}]
["","","","","","",{"$error":"#VALUE!"},{"$error":"#VALUE!"}]
["","","","","","",{"$error":"#VALUE!"},{"$error":"#VALUE!"}]
["","","","","","",{"$error":"#VALUE!"},{"$error":"#VALUE!"}]
["","","","","","",{"$error":"#VALUE!"},{"$error":"#VALUE!"}]
["","","","","","",{"$error":"#VALUE!"},{"$error":"#VALUE!"}]
["","","","","","",{"$error":"#VALUE!"},{"$error":"#VALUE!"}]
["","","","","","",{"$error":"#VALUE!"},{"$error":"#VALUE!"}]
["","","","","","",{"$error":"#VALUE!"},{"$error":"#VALUE!"}]
["","","","","","",{"$error":"#VALUE!"},{"$error":"#VALUE!"}]
["","","","","","",{"$error":"#VALUE!"},{"$error":"#VALUE!"}]
["","","","","","",{"$error":"#VALUE!"},{"$error":"#VALUE!"}]
["","","","","","",{"$error":"#VALUE!"},{"$error":"#VALUE!"}]
["","","","","","",{"$error":"#VALUE!"},{"$error":"#VALUE!"}]
["","","","","","",{"$error":"#VALUE!"},{"$error":"#VALUE!"}]
["","","","","","",{"$error":"#VALUE!"},{"$error":"#VALUE!"}]
["","","","","","",{"$error":"#VALUE!"},{"$error":"#VALUE!"}]
["","","","","","",{"$error":"#VALUE!"},{"$error":"#VALUE!"}]
["","","","","","",{"$error":"#VALUE!"},{"$error":"#VALUE!"}]
["","","","","","",{"$error":"#VALUE!"},{"$error":"#VALUE!"}]
["","","","","","",{"$error":"#VALUE!"},{"$error":"#VALUE!"}]
["","","","","","",{"$error":"#VALUE!"},{"$error":"#VALUE!"}]
["","","","","","",{"$error":"#VALUE!"},{"$error":"#VALUE!"}]
["","","","","","",{"$error":"#VALUE!"},{"$error":"#VALUE!"}]
["","","","","","",{"$error":"#VALUE!"},{"$error":"#VALUE!"}]
["","","","","","",{"$error":"#VALUE!"},{"$error":"#VALUE!"}]
["","","","","","",{"$error":"#VALUE!"},{"$error":"#VALUE!"}]
["","","","","","",{"$error":"#VALUE!"},{"$error":"#VALUE!"}]
["","","","","","",{"$error":"#VALUE!"},{"$error":"#VALUE!"}]
["","","","","","",{"$error":"#VALUE!"},{"$error":"#VALUE!"}]
["","","","","","",{"$error":"#VALUE!"},{"$error":"#VALUE!"}]
["","","","","","",{"$error":"#VALUE!"},{"$error":"#VALUE!"}]
["","","","","","",{"$error":"#VALUE!"},{"$error":"#VALUE!"}]
["","","","","","",{"$error":"#VALUE!"},{"$error":"#VALUE!"}]
["","","","","","",{"$error":"#VALUE!"},{"$error":"#VALUE!"}]
["","","","","","",{"$error":"#VALUE!"},{"$error":"#VALUE!"}]
["","","","","","",{"$error":"#VALUE!"},{"$error":"#VALUE!"}]
["","","","","","",{"$error":"#VALUE!"},{"$error":"#VALUE!"}]
["","","","","","",{"$error":"#VALUE!"},{"$error":"#VALUE!"}]
["","","","","","",{"$error":"#VALUE!"},{"$error":"#VALUE!"}]
["","","","","","",{"$error":"#VALUE!"},{"$error":"#VALUE!"}]
["","","","","","",{"$error":"#VALUE!"},{"$error":"#VALUE!"}]
["","","","","","",{"$error":"#VALUE!"},{"$error":"#VALUE!"}]
["","","","","","",{"$error":"#VALUE!"},{"$error":"#VALUE!"}]
["","","","","","",{"$error":"#VALUE!"},{"$error":"#VALUE!"}]
["","","","","","",{"$error":"#VALUE!"},{"$error":"#VALUE!"}]
["","","","","","",{"$error":"#VALUE!"},{"$error":"#VALUE!"}]
["","","","","","",{"$error":"#VALUE!"},{"$error":"#VALUE!"}]
["","","","","","",{"$error":"#VALUE!"},{"$error":"#VALUE!"}]
["","","","","","",{"$error":"#VALUE!"},{"$error":"#VALUE!"}]
["","","","","","",{"$error":"#VALUE!"},{"$error":"#VALUE!"}]
["","","","","","",{"$error":"#VALUE!"},{"$error":"#VALUE!"}]
["","","","","","",{"$error":"#VALUE!"},{"$error":"#VALUE!"}]
["","","",{"$f":"IF(A85<>\"\",MOD(B85,24)/24,\"\")","v":""},"","",{"$f":"ABS(0.5*1.025*1*(F85^3))","v":{"$error":"#VALUE!"}},{"$f":"G85*$B$13","v":{"$error":"#VALUE!"}}]
[{"$f":"IF(IF(A85<>\"\",A85+1<=$B$16,0),A85+1,\"\")","v":""},{"$f":"IF(A86<>\"\",A86*$B$13,\"\")","v":""},{"$f":"IF(A86<>\"\",ROUNDDOWN(A86*$B$13/24,0),\"\")","v":""},"",{"$f":"IF(A86<>\"\",($B$4+$B$5)/2+($B$5-$B$4)/2*COS(2*PI()/$B$15*B86),\"\")","v":""},{"$f":"IF(A86<>\"\",E86*COS(2*PI()/$B$7*B86),\"\")","v":""},{"$error":"#VALUE!"},{"$error":"#VALUE!"}]
["","","","","","",{"$error":"#VALUE!"},{"$error":"#VALUE!"}]
["","","","","","",{"$error":"#VALUE!"},{"$error":"#VALUE!"}]
["","","","","","",{"$error":"#VALUE!"},{"$error":"#VALUE!"}]
["","","","","","",{"$error":"#VALUE!"},{"$error":"#VALUE!"}]
["","","","","","",{"$error":"#VALUE!"},{"$error":"#VALUE!"}]
["","","","","","",{"$error":"#VALUE!"},{"$error":"#VALUE!"}]
["","","","","","",{"$error":"#VALUE!"},{"$error":"#VALUE!"}]
["","","","","","",{"$error":"#VALUE!"},{"$error":"#VALUE!"}]
["","","","","","",{"$error":"#VALUE!"},{"$error":"#VALUE!"}]
["","","","","","",{"$error":"#VALUE!"},{"$error":"#VALUE!"}]
["","","","","","",{"$error":"#VALUE!"},{"$error":"#VALUE!"}]
["","","","","","",{"$error":"#VALUE!"},{"$error":"#VALUE!"}]
["","","","","","",{"$error":"#VALUE!"},{"$error":"#VALUE!"}]
["","","","","","",{"$error":"#VALUE!"},{"$error":"#VALUE!"}]
["","","","","","",{"$error":"#VALUE!"},{"$error":"#VALUE!"}]
["","","","","","",{"$error":"#VALUE!"},{"$error":"#VALUE!"}]
["","","","","","",{"$error":"#VALUE!"},{"$error":"#VALUE!"}]
["","","","","","",{"$error":"#VALUE!"},{"$error":"#VALUE!"}]
["","","","","","",{"$error":"#VALUE!"},{"$error":"#VALUE!"}]
["","","","","","",{"$error":"#VALUE!"},{"$error":"#VALUE!"}]
["","","","","","",{"$error":"#VALUE!"},{"$error":"#VALUE!"}]
["","","","","","",{"$error":"#VALUE!"},{"$error":"#VALUE!"}]
["","","","","","",{"$error":"#VALUE!"},{"$error":"#VALUE!"}]
["","","","","","",{"$error":"#VALUE!"},{"$error":"#VALUE!"}]
["","","","","","",{"$error":"#VALUE!"},{"$error":"#VALUE!"}]
["","","","","","",{"$error":"#VALUE!"},{"$error":"#VALUE!"}]
["","","","","","",{"$error":"#VALUE!"},{"$error":"#VALUE!"}]
["","","","","","",{"$error":"#VALUE!"},{"$error":"#VALUE!"}]
["","","","","","",{"$error":"#VALUE!"},{"$error":"#VALUE!"}]
["","","","","","",{"$error":"#VALUE!"},{"$error":"#VALUE!"}]
["","","","","","",{"$error":"#VALUE!"},{"$error":"#VALUE!"}]
["","","","","","",{"$error":"#VALUE!"},{"$error":"#VALUE!"}]
["","","","","","",{"$error":"#VALUE!"},{"$error":"#VALUE!"}]
["","","","","","",{"$error":"#VALUE!"},{"$error":"#VALUE!"}]
["","","","","","",{"$error":"#VALUE!"},{"$error":"#VALUE!"}]
["","","","","","",{"$error":"#VALUE!"},{"$error":"#VALUE!"}]
["","","","","","",{"$error":"#VALUE!"},{"$error":"#VALUE!"}]
["","","","","","",{"$error":"#VALUE!"},{"$error":"#VALUE!"}]
["","","","","","",{"$error":"#VALUE!"},{"$error":"#VALUE!"}]
["","","","","","",{"$error":"#VALUE!"},{"$error":"#VALUE!"}]
["","","","","","",{"$error":"#VALUE!"},{"$error":"#VALUE!"}]
["","","","","","",{"$error":"#VALUE!"},{"$error":"#VALUE!"}]
["","","","","","",{"$error":"#VALUE!"},{"$error":"#VALUE!"}]
["","","","","","",{"$error":"#VALUE!"},{"$error":"#VALUE!"}]
["","","","","","",{"$error":"#VALUE!"},{"$error":"#VALUE!"}]
["","","","","","",{"$error":"#VALUE!"},{"$error":"#VALUE!"}]
["","","","","","",{"$error":"#VALUE!"},{"$error":"#VALUE!"}]
["","","","","","",{"$error":"#VALUE!"},{"$error":"#VALUE!"}]
["","","","","","",{"$error":"#VALUE!"},{"$error":"#VALUE!"}]
["","","","","","",{"$error":"#VALUE!"},{"$error":"#VALUE!"}]
["","","","","","",{"$error":"#VALUE!"},{"$error":"#VALUE!"}]
["","","","","","",{"$error":"#VALUE!"},{"$error":"#VALUE!"}]
["","","","","","",{"$error":"#VALUE!"},{"$error":"#VALUE!"}]
["","","","","","",{"$error":"#VALUE!"},{"$error":"#VALUE!"}]
["","","","","","",{"$error":"#VALUE!"},{"$error":"#VALUE!"}]
["","","","","","",{"$error":"#VALUE!"},{"$error":"#VALUE!"}]
["","","","","","",{"$error":"#VALUE!"},{"$error":"#VALUE!"}]
["","","","","","",{"$error":"#VALUE!"},{"$error":"#VALUE!"}]
["","","","","","",{"$error":"#VALUE!"},{"$error":"#VALUE!"}]
["","","","","","",{"$error":"#VALUE!"},{"$error":"#VALUE!"}]
["","","","","","",{"$error":"#VALUE!"},{"$error":"#VALUE!"}]
["","","","","","",{"$error":"#VALUE!"},{"$error":"#VALUE!"}]
["","","",{"$f":"IF(A149<>\"\",MOD(B149,24)/24,\"\")","v":""},"","",{"$f":"ABS(0.5*1.025*1*(F149^3))","v":{"$error":"#VALUE!"}},{"$f":"G149*$B$13","v":{"$error":"#VALUE!"}}]
[{"$f":"IF(IF(A149<>\"\",A149+1<=$B$16,0),A149+1,\"\")","v":""},{"$f":"IF(A150<>\"\",A150*$B$13,\"\")","v":""},{"$f":"IF(A150<>\"\",ROUNDDOWN(A150*$B$13/24,0),\"\")","v":""},"",{"$f":"IF(A150<>\"\",($B$4+$B$5)/2+($B$5-$B$4)/2*COS(2*PI()/$B$15*B150),\"\")","v":""},{"$f":"IF(A150<>\"\",E150*COS(2*PI()/$B$7*B150),\"\")","v":""},{"$error":"#VALUE!"},{"$error":"#VALUE!"}]
["","","","","","",{"$error":"#VALUE!"},{"$error":"#VALUE!"}]
["","","","","","",{"$error":"#VALUE!"},{"$error":"#VALUE!"}]
["","","","","","",{"$error":"#VALUE!"},{"$error":"#VALUE!"}]
["","","","","","",{"$error":"#VALUE!"},{"$error":"#VALUE!"}]
["","","","","","",{"$error":"#VALUE!"},{"$error":"#VALUE!"}]
["","","","","","",{"$error":"#VALUE!"},{"$error":"#VALUE!"}]
["","","","","","",{"$error":"#VALUE!"},{"$error":"#VALUE!"}]
["","","","","","",{"$error":"#VALUE!"},{"$error":"#VALUE!"}]
["","","","","","",{"$error":"#VALUE!"},{"$error":"#VALUE!"}]
["","","","","","",{"$error":"#VALUE!"},{"$error":"#VALUE!"}]
["","","","","","",{"$error":"#VALUE!"},{"$error":"#VALUE!"}]
["","","","","","",{"$error":"#VALUE!"},{"$error":"#VALUE!"}]
["","","","","","",{"$error":"#VALUE!"},{"$error":"#VALUE!"}]
["","","","","","",{"$error":"#VALUE!"},{"$error":"#VALUE!"}]
["","","","","","",{"$error":"#VALUE!"},{"$error":"#VALUE!"}]
["","","","","","",{"$error":"#VALUE!"},{"$error":"#VALUE!"}]
["","","","","","",{"$error":"#VALUE!"},{"$error":"#VALUE!"}]
["","","","","","",{"$error":"#VALUE!"},{"$error":"#VALUE!"}]
["","","","","","",{"$error":"#VALUE!"},{"$error":"#VALUE!"}]
["","","","","","",{"$error":"#VALUE!"},{"$error":"#VALUE!"}]
["","","","","","",{"$error":"#VALUE!"},{"$error":"#VALUE!"}]
["","","","","","",{"$error":"#VALUE!"},{"$error":"#VALUE!"}]
["","","","","","",{"$error":"#VALUE!"},{"$error":"#VALUE!"}]
["","","","","","",{"$error":"#VALUE!"},{"$error":"#VALUE!"}]
["","","","","","",{"$error":"#VALUE!"},{"$error":"#VALUE!"}]
["","","","","","",{"$error":"#VALUE!"},{"$error":"#VALUE!"}]
["","","","","","",{"$error":"#VALUE!"},{"$error":"#VALUE!"}]
["","","","","","",{"$error":"#VALUE!"},{"$error":"#VALUE!"}]
["","","","","","",{"$error":"#VALUE!"},{"$error":"#VALUE!"}]
["","","","","","",{"$error":"#VALUE!"},{"$error":"#VALUE!"}]
["","","","","","",{"$error":"#VALUE!"},{"$error":"#VALUE!"}]
["","","","","","",{"$error":"#VALUE!"},{"$error":"#VALUE!"}]
["","","","","","",{"$error":"#VALUE!"},{"$error":"#VALUE!"}]
["","","","","","",{"$error":"#VALUE!"},{"$error":"#VALUE!"}]
["","","","","","",{"$error":"#VALUE!"},{"$error":"#VALUE!"}]
["","","","","","",{"$error":"#VALUE!"},{"$error":"#VALUE!"}]
["","","","","","",{"$error":"#VALUE!"},{"$error":"#VALUE!"}]
["","","","","","",{"$error":"#VALUE!"},{"$error":"#VALUE!"}]
["","","","","","",{"$error":"#VALUE!"},{"$error":"#VALUE!"}]
["","","","","","",{"$error":"#VALUE!"},{"$error":"#VALUE!"}]
["","","","","","",{"$error":"#VALUE!"},{"$error":"#VALUE!"}]
["","","","","","",{"$error":"#VALUE!"},{"$error":"#VALUE!"}]
["","","","","","",{"$error":"#VALUE!"},{"$error":"#VALUE!"}]
["","","","","","",{"$error":"#VALUE!"},{"$error":"#VALUE!"}]
["","","","","","",{"$error":"#VALUE!"},{"$error":"#VALUE!"}]
["","","","","","",{"$error":"#VALUE!"},{"$error":"#VALUE!"}]
["","","","","","",{"$error":"#VALUE!"},{"$error":"#VALUE!"}]
["","","","","","",{"$error":"#VALUE!"},{"$error":"#VALUE!"}]
["","","","","","",{"$error":"#VALUE!"},{"$error":"#VALUE!"}]
["","","","","","",{"$error":"#VALUE!"},{"$error":"#VALUE!"}]
["","","","","","",{"$error":"#VALUE!"},{"$error":"#VALUE!"}]
["","","","","","",{"$error":"#VALUE!"},{"$error":"#VALUE!"}]
["","","","","","",{"$error":"#VALUE!"},{"$error":"#VALUE!"}]
["","","","","","",{"$error":"#VALUE!"},{"$error":"#VALUE!"}]
["","","","","","",{"$error":"#VALUE!"},{"$error":"#VALUE!"}]
["","","","","","",{"$error":"#VALUE!"},{"$error":"#VALUE!"}]
["","","","","","",{"$error":"#VALUE!"},{"$error":"#VALUE!"}]
["","","","","","",{"$error":"#VALUE!"},{"$error":"#VALUE!"}]
["","","","","","",{"$error":"#VALUE!"},{"$error":"#VALUE!"}]
["","","","","","",{"$error":"#VALUE!"},{"$error":"#VALUE!"}]
["","","","","","",{"$error":"#VALUE!"},{"$error":"#VALUE!"}]
["","","","","","",{"$error":"#VALUE!"},{"$error":"#VALUE!"}]
["","","",{"$f":"IF(A213<>\"\",MOD(B213,24)/24,\"\")","v":""},"","",{"$f":"ABS(0.5*1.025*1*(F213^3))","v":{"$error":"#VALUE!"}},{"$f":"G213*$B$13","v":{"$error":"#VALUE!"}}]
[{"$f":"IF(IF(A213<>\"\",A213+1<=$B$16,0),A213+1,\"\")","v":""},{"$f":"IF(A214<>\"\",A214*$B$13,\"\")","v":""},{"$f":"IF(A214<>\"\",ROUNDDOWN(A214*$B$13/24,0),\"\")","v":""},"",{"$f":"IF(A214<>\"\",($B$4+$B$5)/2+($B$5-$B$4)/2*COS(2*PI()/$B$15*B214),\"\")","v":""},{"$f":"IF(A214<>\"\",E214*COS(2*PI()/$B$7*B214),\"\")","v":""},{"$error":"#VALUE!"},{"$error":"#VALUE!"}]
["","","","","","",{"$error":"#VALUE!"},{"$error":"#VALUE!"}]
["","","","","","",{"$error":"#VALUE!"},{"$error":"#VALUE!"}]
["","","","","","",{"$error":"#VALUE!"},{"$error":"#VALUE!"}]
["","","","","","",{"$error":"#VALUE!"},{"$error":"#VALUE!"}]
["","","","","","",{"$error":"#VALUE!"},{"$error":"#VALUE!"}]
["","","","","","",{"$error":"#VALUE!"},{"$error":"#VALUE!"}]
["","","","","","",{"$error":"#VALUE!"},{"$error":"#VALUE!"}]
["","","","","","",{"$error":"#VALUE!"},{"$error":"#VALUE!"}]
["","","","","","",{"$error":"#VALUE!"},{"$error":"#VALUE!"}]
["","","","","","",{"$error":"#VALUE!"},{"$error":"#VALUE!"}]
["","","","","","",{"$error":"#VALUE!"},{"$error":"#VALUE!"}]
["","","","","","",{"$error":"#VALUE!"},{"$error":"#VALUE!"}]
["","","","","","",{"$error":"#VALUE!"},{"$error":"#VALUE!"}]
["","","","","","",{"$error":"#VALUE!"},{"$error":"#VALUE!"}]
["","","","","","",{"$error":"#VALUE!"},{"$error":"#VALUE!"}]
["","","","","","",{"$error":"#VALUE!"},{"$error":"#VALUE!"}]
["","","","","","",{"$error":"#VALUE!"},{"$error":"#VALUE!"}]
["","","","","","",{"$error":"#VALUE!"},{"$error":"#VALUE!"}]
["","","","","","",{"$error":"#VALUE!"},{"$error":"#VALUE!"}]
["","","","","","",{"$error":"#VALUE!"},{"$error":"#VALUE!"}]
["","","","","","",{"$error":"#VALUE!"},{"$error":"#VALUE!"}]
["","","","","","",{"$error":"#VALUE!"},{"$error":"#VALUE!"}]
["","","","","","",{"$error":"#VALUE!"},{"$error":"#VALUE!"}]
["","","","","","",{"$error":"#VALUE!"},{"$error":"#VALUE!"}]
["","","","","","",{"$error":"#VALUE!"},{"$error":"#VALUE!"}]
["","","","","","",{"$error":"#VALUE!"},{"$error":"#VALUE!"}]
["","","","","","",{"$error":"#VALUE!"},{"$error":"#VALUE!"}]
["","","","","","",{"$error":"#VALUE!"},{"$error":"#VALUE!"}]
["","","","","","",{"$error":"#VALUE!"},{"$error":"#VALUE!"}]
["","","","","","",{"$error":"#VALUE!"},{"$error":"#VALUE!"}]
["","","","","","",{"$error":"#VALUE!"},{"$error":"#VALUE!"}]
["","","","","","",{"$error":"#VALUE!"},{"$error":"#VALUE!"}]
["","","","","","",{"$error":"#VALUE!"},{"$error":"#VALUE!"}]
["","","","","","",{"$error":"#VALUE!"},{"$error":"#VALUE!"}]
["","","","","","",{"$error":"#VALUE!"},{"$error":"#VALUE!"}]
["","","","","","",{"$error":"#VALUE!"},{"$error":"#VALUE!"}]
["","","","","","",{"$error":"#VALUE!"},{"$error":"#VALUE!"}]
["","","","","","",{"$error":"#VALUE!"},{"$error":"#VALUE!"}]
["","","","","","",{"$error":"#VALUE!"},{"$error":"#VALUE!"}]
["","","","","","",{"$error":"#VALUE!"},{"$error":"#VALUE!"}]
["","","","","","",{"$error":"#VALUE!"},{"$error":"#VALUE!"}]
["","","","","","",{"$error":"#VALUE!"},{"$error":"#VALUE!"}]
["","","","","","",{"$error":"#VALUE!"},{"$error":"#VALUE!"}]
["","","","","","",{"$error":"#VALUE!"},{"$error":"#VALUE!"}]
["","","","","","",{"$error":"#VALUE!"},{"$error":"#VALUE!"}]
["","","","","","",{"$error":"#VALUE!"},{"$error":"#VALUE!"}]
["","","","","","",{"$error":"#VALUE!"},{"$error":"#VALUE!"}]
["","","","","","",{"$error":"#VALUE!"},{"$error":"#VALUE!"}]
["","","","","","",{"$error":"#VALUE!"},{"$error":"#VALUE!"}]
["","","","","","",{"$error":"#VALUE!"},{"$error":"#VALUE!"}]
["","","","","","",{"$error":"#VALUE!"},{"$error":"#VALUE!"}]
["","","","","","",{"$error":"#VALUE!"},{"$error":"#VALUE!"}]
["","","","","","",{"$error":"#VALUE!"},{"$error":"#VALUE!"}]
["","","","","","",{"$error":"#VALUE!"},{"$error":"#VALUE!"}]
["","","","","","",{"$error":"#VALUE!"},{"$error":"#VALUE!"}]
["","","","","","",{"$error":"#VALUE!"},{"$error":"#VALUE!"}]
["","","","","","",{"$error":"#VALUE!"},{"$error":"#VALUE!"}]
["","","","","","",{"$error":"#VALUE!"},{"$error":"#VALUE!"}]
["","","","","","",{"$error":"#VALUE!"},{"$error":"#VALUE!"}]
["","","","","","",{"$error":"#VALUE!"},{"$error":"#VALUE!"}]
["","","","","","",{"$error":"#VALUE!"},{"$error":"#VALUE!"}]
["","","","","","",{"$error":"#VALUE!"},{"$error":"#VALUE!"}]
["","","",{"$f":"IF(A277<>\"\",MOD(B277,24)/24,\"\")","v":""},"","",{"$f":"ABS(0.5*1.025*1*(F277^3))","v":{"$error":"#VALUE!"}},{"$f":"G277*$B$13","v":{"$error":"#VALUE!"}}]
[{"$f":"IF(IF(A277<>\"\",A277+1<=$B$16,0),A277+1,\"\")","v":""},{"$f":"IF(A278<>\"\",A278*$B$13,\"\")","v":""},{"$f":"IF(A278<>\"\",ROUNDDOWN(A278*$B$13/24,0),\"\")","v":""},"",{"$f":"IF(A278<>\"\",($B$4+$B$5)/2+($B$5-$B$4)/2*COS(2*PI()/$B$15*B278),\"\")","v":""},{"$f":"IF(A278<>\"\",E278*COS(2*PI()/$B$7*B278),\"\")","v":""},{"$error":"#VALUE!"},{"$error":"#VALUE!"}]
["","","","","","",{"$error":"#VALUE!"},{"$error":"#VALUE!"}]
["","","","","","",{"$error":"#VALUE!"},{"$error":"#VALUE!"}]
["","","","","","",{"$error":"#VALUE!"},{"$error":"#VALUE!"}]
["","","","","","",{"$error":"#VALUE!"},{"$error":"#VALUE!"}]
["","","","","","",{"$error":"#VALUE!"},{"$error":"#VALUE!"}]
["","","","","","",{"$error":"#VALUE!"},{"$error":"#VALUE!"}]
["","","","","","",{"$error":"#VALUE!"},{"$error":"#VALUE!"}]
["","","","","","",{"$error":"#VALUE!"},{"$error":"#VALUE!"}]
["","","","","","",{"$error":"#VALUE!"},{"$error":"#VALUE!"}]
["","","","","","",{"$error":"#VALUE!"},{"$error":"#VALUE!"}]
["","","","","","",{"$error":"#VALUE!"},{"$error":"#VALUE!"}]
["","","","","","",{"$error":"#VALUE!"},{"$error":"#VALUE!"}]
["","","","","","",{"$error":"#VALUE!"},{"$error":"#VALUE!"}]
["","","","","","",{"$error":"#VALUE!"},{"$error":"#VALUE!"}]
["","","","","","",{"$error":"#VALUE!"},{"$error":"#VALUE!"}]
["","","","","","",{"$error":"#VALUE!"},{"$error":"#VALUE!"}]
["","","","","","",{"$error":"#VALUE!"},{"$error":"#VALUE!"}]
["","","","","","",{"$error":"#VALUE!"},{"$error":"#VALUE!"}]
["","","","","","",{"$error":"#VALUE!"},{"$error":"#VALUE!"}]
["","","","","","",{"$error":"#VALUE!"},{"$error":"#VALUE!"}]
["","","","","","",{"$error":"#VALUE!"},{"$error":"#VALUE!"}]
["","","","","","",{"$error":"#VALUE!"},{"$error":"#VALUE!"}]
["","","","","","",{"$error":"#VALUE!"},{"$error":"#VALUE!"}]
["","","","","","",{"$error":"#VALUE!"},{"$error":"#VALUE!"}]
["","","","","","",{"$error":"#VALUE!"},{"$error":"#VALUE!"}]
["","","","","","",{"$error":"#VALUE!"},{"$error":"#VALUE!"}]
["","","","","","",{"$error":"#VALUE!"},{"$error":"#VALUE!"}]
["","","","","","",{"$error":"#VALUE!"},{"$error":"#VALUE!"}]
["","","","","","",{"$error":"#VALUE!"},{"$error":"#VALUE!"}]
["","","","","","",{"$error":"#VALUE!"},{"$error":"#VALUE!"}]
["","","","","","",{"$error":"#VALUE!"},{"$error":"#VALUE!"}]
["","","","","","",{"$error":"#VALUE!"},{"$error":"#VALUE!"}]
["","","","","","",{"$error":"#VALUE!"},{"$error":"#VALUE!"}]
["","","","","","",{"$error":"#VALUE!"},{"$error":"#VALUE!"}]
["","","","","","",{"$error":"#VALUE!"},{"$error":"#VALUE!"}]
["","","","","","",{"$error":"#VALUE!"},{"$error":"#VALUE!"}]
["","","","","","",{"$error":"#VALUE!"},{"$error":"#VALUE!"}]
["","","","","","",{"$error":"#VALUE!"},{"$error":"#VALUE!"}]
["","","","","","",{"$error":"#VALUE!"},{"$error":"#VALUE!"}]
["","","","","","",{"$error":"#VALUE!"},{"$error":"#VALUE!"}]
["","","","","","",{"$error":"#VALUE!"},{"$error":"#VALUE!"}]
["","","","","","",{"$error":"#VALUE!"},{"$error":"#VALUE!"}]
["","","","","","",{"$error":"#VALUE!"},{"$error":"#VALUE!"}]
["","","","","","",{"$error":"#VALUE!"},{"$error":"#VALUE!"}]
["","","","","","",{"$error":"#VALUE!"},{"$error":"#VALUE!"}]
["","","","","","",{"$error":"#VALUE!"},{"$error":"#VALUE!"}]
["","","","","","",{"$error":"#VALUE!"},{"$error":"#VALUE!"}]
["","","","","","",{"$error":"#VALUE!"},{"$error":"#VALUE!"}]
["","","","","","",{"$error":"#VALUE!"},{"$error":"#VALUE!"}]
["","","","","","",{"$error":"#VALUE!"},{"$error":"#VALUE!"}]
["","","","","","",{"$error":"#VALUE!"},{"$error":"#VALUE!"}]
["","","","","","",{"$error":"#VALUE!"},{"$error":"#VALUE!"}]
["","","","","","",{"$error":"#VALUE!"},{"$error":"#VALUE!"}]
["","","","","","",{"$error":"#VALUE!"},{"$error":"#VALUE!"}]
["","","","","","",{"$error":"#VALUE!"},{"$error":"#VALUE!"}]
["","","","","","",{"$error":"#VALUE!"},{"$error":"#VALUE!"}]
["","","","","","",{"$error":"#VALUE!"},{"$error":"#VALUE!"}]
["","","","","","",{"$error":"#VALUE!"},{"$error":"#VALUE!"}]
["","","","","","",{"$error":"#VALUE!"},{"$error":"#VALUE!"}]
["","","","","","",{"$error":"#VALUE!"},{"$error":"#VALUE!"}]
["","","","","","",{"$error":"#VALUE!"},{"$error":"#VALUE!"}]
["","","","","","",{"$error":"#VALUE!"},{"$error":"#VALUE!"}]
["","","",{"$f":"IF(A341<>\"\",MOD(B341,24)/24,\"\")","v":""},"","",{"$f":"ABS(0.5*1.025*1*(F341^3))","v":{"$error":"#VALUE!"}},{"$f":"G341*$B$13","v":{"$error":"#VALUE!"}}]
[{"$f":"IF(IF(A341<>\"\",A341+1<=$B$16,0),A341+1,\"\")","v":""},{"$f":"IF(A342<>\"\",A342*$B$13,\"\")","v":""},{"$f":"IF(A342<>\"\",ROUNDDOWN(A342*$B$13/24,0),\"\")","v":""},"",{"$f":"IF(A342<>\"\",($B$4+$B$5)/2+($B$5-$B$4)/2*COS(2*PI()/$B$15*B342),\"\")","v":""},{"$f":"IF(A342<>\"\",E342*COS(2*PI()/$B$7*B342),\"\")","v":""},{"$error":"#VALUE!"},{"$error":"#VALUE!"}]
["","","","","","",{"$error":"#VALUE!"},{"$error":"#VALUE!"}]
["","","","","","",{"$error":"#VALUE!"},{"$error":"#VALUE!"}]
["","","","","","",{"$error":"#VALUE!"},{"$error":"#VALUE!"}]
["","","","","","",{"$error":"#VALUE!"},{"$error":"#VALUE!"}]
["","","","","","",{"$error":"#VALUE!"},{"$error":"#VALUE!"}]
["","","","","","",{"$error":"#VALUE!"},{"$error":"#VALUE!"}]
["","","","","","",{"$error":"#VALUE!"},{"$error":"#VALUE!"}]
["","","","","","",{"$error":"#VALUE!"},{"$error":"#VALUE!"}]
["","","","","","",{"$error":"#VALUE!"},{"$error":"#VALUE!"}]
["","","","","","",{"$error":"#VALUE!"},{"$error":"#VALUE!"}]
["","","","","","",{"$error":"#VALUE!"},{"$error":"#VALUE!"}]
["","","","","","",{"$error":"#VALUE!"},{"$error":"#VALUE!"}]
["","","","","","",{"$error":"#VALUE!"},{"$error":"#VALUE!"}]
["","","","","","",{"$error":"#VALUE!"},{"$error":"#VALUE!"}]
["","","","","","",{"$error":"#VALUE!"},{"$error":"#VALUE!"}]
["","","","","","",{"$error":"#VALUE!"},{"$error":"#VALUE!"}]
["","","","","","",{"$error":"#VALUE!"},{"$error":"#VALUE!"}]
["","","","","","",{"$error":"#VALUE!"},{"$error":"#VALUE!"}]
["","","","","","",{"$error":"#VALUE!"},{"$error":"#VALUE!"}]
["","","","","","",{"$error":"#VALUE!"},{"$error":"#VALUE!"}]
["","","","","","",{"$error":"#VALUE!"},{"$error":"#VALUE!"}]
["","","","","","",{"$error":"#VALUE!"},{"$error":"#VALUE!"}]
["","","","","","",{"$error":"#VALUE!"},{"$error":"#VALUE!"}]
["","","","","","",{"$error":"#VALUE!"},{"$error":"#VALUE!"}]
["","","","","","",{"$error":"#VALUE!"},{"$error":"#VALUE!"}]
["","","","","","",{"$error":"#VALUE!"},{"$error":"#VALUE!"}]
["","","","","","",{"$error":"#VALUE!"},{"$error":"#VALUE!"}]
["","","","","","",{"$error":"#VALUE!"},{"$error":"#VALUE!"}]
["","","","","","",{"$error":"#VALUE!"},{"$error":"#VALUE!"}]
["","","","","","",{"$error":"#VALUE!"},{"$error":"#VALUE!"}]
["","","","","","",{"$error":"#VALUE!"},{"$error":"#VALUE!"}]
["","","","","","",{"$error":"#VALUE!"},{"$error":"#VALUE!"}]
["","","","","","",{"$error":"#VALUE!"},{"$error":"#VALUE!"}]
["","","","","","",{"$error":"#VALUE!"},{"$error":"#VALUE!"}]
["","","","","","",{"$error":"#VALUE!"},{"$error":"#VALUE!"}]
["","","","","","",{"$error":"#VALUE!"},{"$error":"#VALUE!"}]
["","","","","","",{"$error":"#VALUE!"},{"$error":"#VALUE!"}]
["","","","","","",{"$error":"#VALUE!"},{"$error":"#VALUE!"}]
["","","","","","",{"$error":"#VALUE!"},{"$error":"#VALUE!"}]
["","","","","","",{"$error":"#VALUE!"},{"$error":"#VALUE!"}]
["","","","","","",{"$error":"#VALUE!"},{"$error":"#VALUE!"}]
["","","","","","",{"$error":"#VALUE!"},{"$error":"#VALUE!"}]
["","","","","","",{"$error":"#VALUE!"},{"$error":"#VALUE!"}]
["","","","","","",{"$error":"#VALUE!"},{"$error":"#VALUE!"}]
["","","","","","",{"$error":"#VALUE!"},{"$error":"#VALUE!"}]
["","","","","","",{"$error":"#VALUE!"},{"$error":"#VALUE!"}]
["","","","","","",{"$error":"#VALUE!"},{"$error":"#VALUE!"}]
["","","","","","",{"$error":"#VALUE!"},{"$error":"#VALUE!"}]
["","","","","","",{"$error":"#VALUE!"},{"$error":"#VALUE!"}]
["","","","","","",{"$error":"#VALUE!"},{"$error":"#VALUE!"}]
["","","","","","",{"$error":"#VALUE!"},{"$error":"#VALUE!"}]
["","","","","","",{"$error":"#VALUE!"},{"$error":"#VALUE!"}]
["","","","","","",{"$error":"#VALUE!"},{"$error":"#VALUE!"}]
["","","","","","",{"$error":"#VALUE!"},{"$error":"#VALUE!"}]
["","","","","","",{"$error":"#VALUE!"},{"$error":"#VALUE!"}]
["","","","","","",{"$error":"#VALUE!"},{"$error":"#VALUE!"}]
["","","","","","",{"$error":"#VALUE!"},{"$error":"#VALUE!"}]
["","","","","","",{"$error":"#VALUE!"},{"$error":"#VALUE!"}]
["","","","","","",{"$error":"#VALUE!"},{"$error":"#VALUE!"}]
["","","","","","",{"$error":"#VALUE!"},{"$error":"#VALUE!"}]
["","","","","","",{"$error":"#VALUE!"},{"$error":"#VALUE!"}]
["","","","","","",{"$error":"#VALUE!"},{"$error":"#VALUE!"}]
["","","",{"$f":"IF(A405<>\"\",MOD(B405,24)/24,\"\")","v":""},"","",{"$f":"ABS(0.5*1.025*1*(F405^3))","v":{"$error":"#VALUE!"}},{"$f":"G405*$B$13","v":{"$error":"#VALUE!"}}]
[{"$f":"IF(IF(A405<>\"\",A405+1<=$B$16,0),A405+1,\"\")","v":""},{"$f":"IF(A406<>\"\",A406*$B$13,\"\")","v":""},{"$f":"IF(A406<>\"\",ROUNDDOWN(A406*$B$13/24,0),\"\")","v":""},"",{"$f":"IF(A406<>\"\",($B$4+$B$5)/2+($B$5-$B$4)/2*COS(2*PI()/$B$15*B406),\"\")","v":""},{"$f":"IF(A406<>\"\",E406*COS(2*PI()/$B$7*B406),\"\")","v":""},{"$error":"#VALUE!"},{"$error":"#VALUE!"}]
["","","","","","",{"$error":"#VALUE!"},{"$error":"#VALUE!"}]
["","","","","","",{"$error":"#VALUE!"},{"$error":"#VALUE!"}]
["","","","","","",{"$error":"#VALUE!"},{"$error":"#VALUE!"}]
["","","","","","",{"$error":"#VALUE!"},{"$error":"#VALUE!"}]
["","","","","","",{"$error":"#VALUE!"},{"$error":"#VALUE!"}]
["","","","","","",{"$error":"#VALUE!"},{"$error":"#VALUE!"}]
["","","","","","",{"$error":"#VALUE!"},{"$error":"#VALUE!"}]
["","","","","","",{"$error":"#VALUE!"},{"$error":"#VALUE!"}]
["","","","","","",{"$error":"#VALUE!"},{"$error":"#VALUE!"}]
["","","","","","",{"$error":"#VALUE!"},{"$error":"#VALUE!"}]
["","","","","","",{"$error":"#VALUE!"},{"$error":"#VALUE!"}]
["","","","","","",{"$error":"#VALUE!"},{"$error":"#VALUE!"}]
["","","","","","",{"$error":"#VALUE!"},{"$error":"#VALUE!"}]
["","","","","","",{"$error":"#VALUE!"},{"$error":"#VALUE!"}]
["","","","","","",{"$error":"#VALUE!"},{"$error":"#VALUE!"}]
["","","","","","",{"$error":"#VALUE!"},{"$error":"#VALUE!"}]
["","","","","","",{"$error":"#VALUE!"},{"$error":"#VALUE!"}]
["","","","","","",{"$error":"#VALUE!"},{"$error":"#VALUE!"}]
["","","","","","",{"$error":"#VALUE!"},{"$error":"#VALUE!"}]
["","","","","","",{"$error":"#VALUE!"},{"$error":"#VALUE!"}]
["","","","","","",{"$error":"#VALUE!"},{"$error":"#VALUE!"}]
["","","","","","",{"$error":"#VALUE!"},{"$error":"#VALUE!"}]
["","","","","","",{"$error":"#VALUE!"},{"$error":"#VALUE!"}]
["","","","","","",{"$error":"#VALUE!"},{"$error":"#VALUE!"}]
["","","","","","",{"$error":"#VALUE!"},{"$error":"#VALUE!"}]
["","","","","","",{"$error":"#VALUE!"},{"$error":"#VALUE!"}]
["","","","","","",{"$error":"#VALUE!"},{"$error":"#VALUE!"}]
["","","","","","",{"$error":"#VALUE!"},{"$error":"#VALUE!"}]
["","","","","","",{"$error":"#VALUE!"},{"$error":"#VALUE!"}]
["","","","","","",{"$error":"#VALUE!"},{"$error":"#VALUE!"}]
["","","","","","",{"$error":"#VALUE!"},{"$error":"#VALUE!"}]
["","","","","","",{"$error":"#VALUE!"},{"$error":"#VALUE!"}]
["","","","","","",{"$error":"#VALUE!"},{"$error":"#VALUE!"}]
["","","","","","",{"$error":"#VALUE!"},{"$error":"#VALUE!"}]
["","","","","","",{"$error":"#VALUE!"},{"$error":"#VALUE!"}]
["","","","","","",{"$error":"#VALUE!"},{"$error":"#VALUE!"}]
["","","","","","",{"$error":"#VALUE!"},{"$error":"#VALUE!"}]
["","","","","","",{"$error":"#VALUE!"},{"$error":"#VALUE!"}]
["","","","","","",{"$error":"#VALUE!"},{"$error":"#VALUE!"}]
["","","","","","",{"$error":"#VALUE!"},{"$error":"#VALUE!"}]
["","","","","","",{"$error":"#VALUE!"},{"$error":"#VALUE!"}]
["","","","","","",{"$error":"#VALUE!"},{"$error":"#VALUE!"}]
["","","","","","",{"$error":"#VALUE!"},{"$error":"#VALUE!"}]
["","","","","","",{"$error":"#VALUE!"},{"$error":"#VALUE!"}]
["","","","","","",{"$error":"#VALUE!"},{"$error":"#VALUE!"}]
["","","","","","",{"$error":"#VALUE!"},{"$error":"#VALUE!"}]
["","","","","","",{"$error":"#VALUE!"},{"$error":"#VALUE!"}]
["","","","","","",{"$error":"#VALUE!"},{"$error":"#VALUE!"}]
["","","","","","",{"$error":"#VALUE!"},{"$error":"#VALUE!"}]
["","","","","","",{"$error":"#VALUE!"},{"$error":"#VALUE!"}]
["","","","","","",{"$error":"#VALUE!"},{"$error":"#VALUE!"}]
["","","","","","",{"$error":"#VALUE!"},{"$error":"#VALUE!"}]
["","","","","","",{"$error":"#VALUE!"},{"$error":"#VALUE!"}]
["","","","","","",{"$error":"#VALUE!"},{"$error":"#VALUE!"}]
["","","","","","",{"$error":"#VALUE!"},{"$error":"#VALUE!"}]
["","","","","","",{"$error":"#VALUE!"},{"$error":"#VALUE!"}]
["","","","","","",{"$error":"#VALUE!"},{"$error":"#VALUE!"}]
["","","","","","",{"$error":"#VALUE!"},{"$error":"#VALUE!"}]
["","","","","","",{"$error":"#VALUE!"},{"$error":"#VALUE!"}]
["","","","","","",{"$error":"#VALUE!"},{"$error":"#VALUE!"}]
["","","","","","",{"$error":"#VALUE!"},{"$error":"#VALUE!"}]
["","","","","","",{"$error":"#VALUE!"},{"$error":"#VALUE!"}]
["","","",{"$f":"IF(A469<>\"\",MOD(B469,24)/24,\"\")","v":""},"","",{"$f":"ABS(0.5*1.025*1*(F469^3))","v":{"$error":"#VALUE!"}},{"$f":"G469*$B$13","v":{"$error":"#VALUE!"}}]
[{"$f":"IF(IF(A469<>\"\",A469+1<=$B$16,0),A469+1,\"\")","v":""},{"$f":"IF(A470<>\"\",A470*$B$13,\"\")","v":""},{"$f":"IF(A470<>\"\",ROUNDDOWN(A470*$B$13/24,0),\"\")","v":""},"",{"$f":"IF(A470<>\"\",($B$4+$B$5)/2+($B$5-$B$4)/2*COS(2*PI()/$B$15*B470),\"\")","v":""},{"$f":"IF(A470<>\"\",E470*COS(2*PI()/$B$7*B470),\"\")","v":""},{"$error":"#VALUE!"},{"$error":"#VALUE!"}]
["","","","","","",{"$error":"#VALUE!"},{"$error":"#VALUE!"}]
["","","","","","",{"$error":"#VALUE!"},{"$error":"#VALUE!"}]
["","","","","","",{"$error":"#VALUE!"},{"$error":"#VALUE!"}]
["","","","","","",{"$error":"#VALUE!"},{"$error":"#VALUE!"}]
["","","","","","",{"$error":"#VALUE!"},{"$error":"#VALUE!"}]
["","","","","","",{"$error":"#VALUE!"},{"$error":"#VALUE!"}]
["","","","","","",{"$error":"#VALUE!"},{"$error":"#VALUE!"}]
["","","","","","",{"$error":"#VALUE!"},{"$error":"#VALUE!"}]
["","","","","","",{"$error":"#VALUE!"},{"$error":"#VALUE!"}]
["","","","","","",{"$error":"#VALUE!"},{"$error":"#VALUE!"}]
["","","","","","",{"$error":"#VALUE!"},{"$error":"#VALUE!"}]
["","","","","","",{"$error":"#VALUE!"},{"$error":"#VALUE!"}]
["","","","","","",{"$error":"#VALUE!"},{"$error":"#VALUE!"}]
["","","","","","",{"$error":"#VALUE!"},{"$error":"#VALUE!"}]
["","","","","","",{"$error":"#VALUE!"},{"$error":"#VALUE!"}]
["","","","","","",{"$error":"#VALUE!"},{"$error":"#VALUE!"}]
["","","","","","",{"$error":"#VALUE!"},{"$error":"#VALUE!"}]
["","","","","","",{"$error":"#VALUE!"},{"$error":"#VALUE!"}]
["","","","","","",{"$error":"#VALUE!"},{"$error":"#VALUE!"}]
["","","","","","",{"$error":"#VALUE!"},{"$error":"#VALUE!"}]
["","","","","","",{"$error":"#VALUE!"},{"$error":"#VALUE!"}]
["","","","","","",{"$error":"#VALUE!"},{"$error":"#VALUE!"}]
["","","","","","",{"$error":"#VALUE!"},{"$error":"#VALUE!"}]
["","","","","","",{"$error":"#VALUE!"},{"$error":"#VALUE!"}]
["","","","","","",{"$error":"#VALUE!"},{"$error":"#VALUE!"}]
["","","","","","",{"$error":"#VALUE!"},{"$error":"#VALUE!"}]
["","","","","","",{"$error":"#VALUE!"},{"$error":"#VALUE!"}]
["","","","","","",{"$error":"#VALUE!"},{"$error":"#VALUE!"}]
["","","","","","",{"$error":"#VALUE!"},{"$error":"#VALUE!"}]
["","","","","","",{"$error":"#VALUE!"},{"$error":"#VALUE!"}]
["","","","","","",{"$error":"#VALUE!"},{"$error":"#VALUE!"}]
["","","","","","",{"$error":"#VALUE!"},{"$error":"#VALUE!"}]
["","","","","","",{"$error":"#VALUE!"},{"$error":"#VALUE!"}]
["","","","","","",{"$error":"#VALUE!"},{"$error":"#VALUE!"}]
["","","","","","",{"$error":"#VALUE!"},{"$error":"#VALUE!"}]
["","","","","","",{"$error":"#VALUE!"},{"$error":"#VALUE!"}]
["","","","","","",{"$error":"#VALUE!"},{"$error":"#VALUE!"}]
["","","","","","",{"$error":"#VALUE!"},{"$error":"#VALUE!"}]
["","","","","","",{"$error":"#VALUE!"},{"$error":"#VALUE!"}]
["","","","","","",{"$error":"#VALUE!"},{"$error":"#VALUE!"}]
["","","","","","",{"$error":"#VALUE!"},{"$error":"#VALUE!"}]
["","","","","","",{"$error":"#VALUE!"},{"$error":"#VALUE!"}]
["","","","","","",{"$error":"#VALUE!"},{"$error":"#VALUE!"}]
["","","","","","",{"$error":"#VALUE!"},{"$error":"#VALUE!"}]
["","","","","","",{"$error":"#VALUE!"},{"$error":"#VALUE!"}]
["","","","","","",{"$error":"#VALUE!"},{"$error":"#VALUE!"}]
["","","","","","",{"$error":"#VALUE!"},{"$error":"#VALUE!"}]
["","","","","","",{"$error":"#VALUE!"},{"$error":"#VALUE!"}]
["","","","","","",{"$error":"#VALUE!"},{"$error":"#VALUE!"}]
["","","","","","",{"$error":"#VALUE!"},{"$error":"#VALUE!"}]
["","","","","","",{"$error":"#VALUE!"},{"$error":"#VALUE!"}]
["","","","","","",{"$error":"#VALUE!"},{"$error":"#VALUE!"}]
["","","","","","",{"$error":"#VALUE!"},{"$error":"#VALUE!"}]
["","","","","","",{"$error":"#VALUE!"},{"$error":"#VALUE!"}]
["","","","","","",{"$error":"#VALUE!"},{"$error":"#VALUE!"}]
["","","","","","",{"$error":"#VALUE!"},{"$error":"#VALUE!"}]
["","","","","","",{"$error":"#VALUE!"},{"$error":"#VALUE!"}]
["","","","","","",{"$error":"#VALUE!"},{"$error":"#VALUE!"}]
["","","","","","",{"$error":"#VALUE!"},{"$error":"#VALUE!"}]
["","","","","","",{"$error":"#VALUE!"},{"$error":"#VALUE!"}]
["","","","","","",{"$error":"#VALUE!"},{"$error":"#VALUE!"}]
["","","","","","",{"$error":"#VALUE!"},{"$error":"#VALUE!"}]
["","","",{"$f":"IF(A533<>\"\",MOD(B533,24)/24,\"\")","v":""},"","",{"$f":"ABS(0.5*1.025*1*(F533^3))","v":{"$error":"#VALUE!"}},{"$f":"G533*$B$13","v":{"$error":"#VALUE!"}}]
[{"$f":"IF(IF(A533<>\"\",A533+1<=$B$16,0),A533+1,\"\")","v":""},{"$f":"IF(A534<>\"\",A534*$B$13,\"\")","v":""},{"$f":"IF(A534<>\"\",ROUNDDOWN(A534*$B$13/24,0),\"\")","v":""},"",{"$f":"IF(A534<>\"\",($B$4+$B$5)/2+($B$5-$B$4)/2*COS(2*PI()/$B$15*B534),\"\")","v":""},{"$f":"IF(A534<>\"\",E534*COS(2*PI()/$B$7*B534),\"\")","v":""},{"$error":"#VALUE!"},{"$error":"#VALUE!"}]
["","","","","","",{"$error":"#VALUE!"},{"$error":"#VALUE!"}]
["","","","","","",{"$error":"#VALUE!"},{"$error":"#VALUE!"}]
["","","","","","",{"$error":"#VALUE!"},{"$error":"#VALUE!"}]
["","","","","","",{"$error":"#VALUE!"},{"$error":"#VALUE!"}]
["","","","","","",{"$error":"#VALUE!"},{"$error":"#VALUE!"}]
["","","","","","",{"$error":"#VALUE!"},{"$error":"#VALUE!"}]
["","","","","","",{"$error":"#VALUE!"},{"$error":"#VALUE!"}]
["","","","","","",{"$error":"#VALUE!"},{"$error":"#VALUE!"}]
["","","","","","",{"$error":"#VALUE!"},{"$error":"#VALUE!"}]
["","","","","","",{"$error":"#VALUE!"},{"$error":"#VALUE!"}]
["","","","","","",{"$error":"#VALUE!"},{"$error":"#VALUE!"}]
["","","","","","",{"$error":"#VALUE!"},{"$error":"#VALUE!"}]
["","","","","","",{"$error":"#VALUE!"},{"$error":"#VALUE!"}]
["","","","","","",{"$error":"#VALUE!"},{"$error":"#VALUE!"}]
["","","","","","",{"$error":"#VALUE!"},{"$error":"#VALUE!"}]
["","","","","","",{"$error":"#VALUE!"},{"$error":"#VALUE!"}]
["","","","","","",{"$error":"#VALUE!"},{"$error":"#VALUE!"}]
["","","","","","",{"$error":"#VALUE!"},{"$error":"#VALUE!"}]
["","","","","","",{"$error":"#VALUE!"},{"$error":"#VALUE!"}]
["","","","","","",{"$error":"#VALUE!"},{"$error":"#VALUE!"}]
["","","","","","",{"$error":"#VALUE!"},{"$error":"#VALUE!"}]
["","","","","","",{"$error":"#VALUE!"},{"$error":"#VALUE!"}]
["","","","","","",{"$error":"#VALUE!"},{"$error":"#VALUE!"}]
["","","","","","",{"$error":"#VALUE!"},{"$error":"#VALUE!"}]
["","","","","","",{"$error":"#VALUE!"},{"$error":"#VALUE!"}]
["","","","","","",{"$error":"#VALUE!"},{"$error":"#VALUE!"}]
["","","","","","",{"$error":"#VALUE!"},{"$error":"#VALUE!"}]
["","","","","","",{"$error":"#VALUE!"},{"$error":"#VALUE!"}]
["","","","","","",{"$error":"#VALUE!"},{"$error":"#VALUE!"}]
["","","","","","",{"$error":"#VALUE!"},{"$error":"#VALUE!"}]
["","","","","","",{"$error":"#VALUE!"},{"$error":"#VALUE!"}]
["","","","","","",{"$error":"#VALUE!"},{"$error":"#VALUE!"}]
["","","","","","",{"$error":"#VALUE!"},{"$error":"#VALUE!"}]
["","","","","","",{"$error":"#VALUE!"},{"$error":"#VALUE!"}]
["","","","","","",{"$error":"#VALUE!"},{"$error":"#VALUE!"}]
["","","","","","",{"$error":"#VALUE!"},{"$error":"#VALUE!"}]
["","","","","","",{"$error":"#VALUE!"},{"$error":"#VALUE!"}]
["","","","","","",{"$error":"#VALUE!"},{"$error":"#VALUE!"}]
["","","","","","",{"$error":"#VALUE!"},{"$error":"#VALUE!"}]
["","","","","","",{"$error":"#VALUE!"},{"$error":"#VALUE!"}]
["","","","","","",{"$error":"#VALUE!"},{"$error":"#VALUE!"}]
["","","","","","",{"$error":"#VALUE!"},{"$error":"#VALUE!"}]
["","","","","","",{"$error":"#VALUE!"},{"$error":"#VALUE!"}]
["","","","","","",{"$error":"#VALUE!"},{"$error":"#VALUE!"}]
["","","","","","",{"$error":"#VALUE!"},{"$error":"#VALUE!"}]
["","","","","","",{"$error":"#VALUE!"},{"$error":"#VALUE!"}]
["","","","","","",{"$error":"#VALUE!"},{"$error":"#VALUE!"}]
["","","","","","",{"$error":"#VALUE!"},{"$error":"#VALUE!"}]
["","","","","","",{"$error":"#VALUE!"},{"$error":"#VALUE!"}]
["","","","","","",{"$error":"#VALUE!"},{"$error":"#VALUE!"}]
["","","","","","",{"$error":"#VALUE!"},{"$error":"#VALUE!"}]
["","","","","","",{"$error":"#VALUE!"},{"$error":"#VALUE!"}]
["","","","","","",{"$error":"#VALUE!"},{"$error":"#VALUE!"}]
["","","","","","",{"$error":"#VALUE!"},{"$error":"#VALUE!"}]
["","","","","","",{"$error":"#VALUE!"},{"$error":"#VALUE!"}]
["","","","","","",{"$error":"#VALUE!"},{"$error":"#VALUE!"}]
["","","","","","",{"$error":"#VALUE!"},{"$error":"#VALUE!"}]
["","","","","","",{"$error":"#VALUE!"},{"$error":"#VALUE!"}]
["","","","","","",{"$error":"#VALUE!"},{"$error":"#VALUE!"}]
["","","","","","",{"$error":"#VALUE!"},{"$error":"#VALUE!"}]
["","","","","","",{"$error":"#VALUE!"},{"$error":"#VALUE!"}]
["","","","","","",{"$error":"#VALUE!"},{"$error":"#VALUE!"}]
["","","",{"$f":"IF(A597<>\"\",MOD(B597,24)/24,\"\")","v":""},"","",{"$f":"ABS(0.5*1.025*1*(F597^3))","v":{"$error":"#VALUE!"}},{"$f":"G597*$B$13","v":{"$error":"#VALUE!"}}]
[{"$f":"IF(IF(A597<>\"\",A597+1<=$B$16,0),A597+1,\"\")","v":""},{"$f":"IF(A598<>\"\",A598*$B$13,\"\")","v":""},{"$f":"IF(A598<>\"\",ROUNDDOWN(A598*$B$13/24,0),\"\")","v":""},"",{"$f":"IF(A598<>\"\",($B$4+$B$5)/2+($B$5-$B$4)/2*COS(2*PI()/$B$15*B598),\"\")","v":""},{"$f":"IF(A598<>\"\",E598*COS(2*PI()/$B$7*B598),\"\")","v":""},{"$error":"#VALUE!"},{"$error":"#VALUE!"}]
["","","","","","",{"$error":"#VALUE!"},{"$error":"#VALUE!"}]
["","","","","","",{"$error":"#VALUE!"},{"$error":"#VALUE!"}]
["","","","","","",{"$error":"#VALUE!"},{"$error":"#VALUE!"}]
["","","","","","",{"$error":"#VALUE!"},{"$error":"#VALUE!"}]
["","","","","","",{"$error":"#VALUE!"},{"$error":"#VALUE!"}]
["","","","","","",{"$error":"#VALUE!"},{"$error":"#VALUE!"}]
["","","","","","",{"$error":"#VALUE!"},{"$error":"#VALUE!"}]
["","","","","","",{"$error":"#VALUE!"},{"$error":"#VALUE!"}]
["","","","","","",{"$error":"#VALUE!"},{"$error":"#VALUE!"}]
["","","","","","",{"$error":"#VALUE!"},{"$error":"#VALUE!"}]
["","","","","","",{"$error":"#VALUE!"},{"$error":"#VALUE!"}]
["","","","","","",{"$error":"#VALUE!"},{"$error":"#VALUE!"}]
["","","","","","",{"$error":"#VALUE!"},{"$error":"#VALUE!"}]
["","","","","","",{"$error":"#VALUE!"},{"$error":"#VALUE!"}]
["","","","","","",{"$error":"#VALUE!"},{"$error":"#VALUE!"}]
["","","","","","",{"$error":"#VALUE!"},{"$error":"#VALUE!"}]
["","","","","","",{"$error":"#VALUE!"},{"$error":"#VALUE!"}]
["","","","","","",{"$error":"#VALUE!"},{"$error":"#VALUE!"}]
["","","","","","",{"$error":"#VALUE!"},{"$error":"#VALUE!"}]
["","","","","","",{"$error":"#VALUE!"},{"$error":"#VALUE!"}]
["","","","","","",{"$error":"#VALUE!"},{"$error":"#VALUE!"}]
["","","","","","",{"$error":"#VALUE!"},{"$error":"#VALUE!"}]
["","","","","","",{"$error":"#VALUE!"},{"$error":"#VALUE!"}]
["","","","","","",{"$error":"#VALUE!"},{"$error":"#VALUE!"}]
["","","","","","",{"$error":"#VALUE!"},{"$error":"#VALUE!"}]
["","","","","","",{"$error":"#VALUE!"},{"$error":"#VALUE!"}]
["","","","","","",{"$error":"#VALUE!"},{"$error":"#VALUE!"}]
["","","","","","",{"$error":"#VALUE!"},{"$error":"#VALUE!"}]
["","","","","","",{"$error":"#VALUE!"},{"$error":"#VALUE!"}]
["","","","","","",{"$error":"#VALUE!"},{"$error":"#VALUE!"}]
["","","","","","",{"$error":"#VALUE!"},{"$error":"#VALUE!"}]
["","","","","","",{"$error":"#VALUE!"},{"$error":"#VALUE!"}]
["","","","","","",{"$error":"#VALUE!"},{"$error":"#VALUE!"}]
["","","","","","",{"$error":"#VALUE!"},{"$error":"#VALUE!"}]
["","","","","","",{"$error":"#VALUE!"},{"$error":"#VALUE!"}]
["","","","","","",{"$error":"#VALUE!"},{"$error":"#VALUE!"}]
["","","","","","",{"$error":"#VALUE!"},{"$error":"#VALUE!"}]
["","","","","","",{"$error":"#VALUE!"},{"$error":"#VALUE!"}]
["","","","","","",{"$error":"#VALUE!"},{"$error":"#VALUE!"}]
["","","","","","",{"$error":"#VALUE!"},{"$error":"#VALUE!"}]
["","","","","","",{"$error":"#VALUE!"},{"$error":"#VALUE!"}]
["","","","","","",{"$error":"#VALUE!"},{"$error":"#VALUE!"}]
["","","","","","",{"$error":"#VALUE!"},{"$error":"#VALUE!"}]
["","","","","","",{"$error":"#VALUE!"},{"$error":"#VALUE!"}]
["","","","","","",{"$error":"#VALUE!"},{"$error":"#VALUE!"}]
["","","","","","",{"$error":"#VALUE!"},{"$error":"#VALUE!"}]
["","","","","","",{"$error":"#VALUE!"},{"$error":"#VALUE!"}]
["","","","","","",{"$error":"#VALUE!"},{"$error":"#VALUE!"}]
["","","","","","",{"$error":"#VALUE!"},{"$error":"#VALUE!"}]
["","","","","","",{"$error":"#VALUE!"},{"$error":"#VALUE!"}]
["","","","","","",{"$error":"#VALUE!"},{"$error":"#VALUE!"}]
["","","","","","",{"$error":"#VALUE!"},{"$error":"#VALUE!"}]
["","","","","","",{"$error":"#VALUE!"},{"$error":"#VALUE!"}]
["","","","","","",{"$error":"#VALUE!"},{"$error":"#VALUE!"}]
["","","","","","",{"$error":"#VALUE!"},{"$error":"#VALUE!"}]
["","","","","","",{"$error":"#VALUE!"},{"$error":"#VALUE!"}]
["","","","","","",{"$error":"#VALUE!"},{"$error":"#VALUE!"}]
["","","","","","",{"$error":"#VALUE!"},{"$error":"#VALUE!"}]
["","","","","","",{"$error":"#VALUE!"},{"$error":"#VALUE!"}]
["","","","","","",{"$error":"#VALUE!"},{"$error":"#VALUE!"}]
["","","","","","",{"$error":"#VALUE!"},{"$error":"#VALUE!"}]
["","","","","","",{"$error":"#VALUE!"},{"$error":"#VALUE!"}]
["","","",{"$f":"IF(A661<>\"\",MOD(B661,24)/24,\"\")","v":""},"","",{"$f":"ABS(0.5*1.025*1*(F661^3))","v":{"$error":"#VALUE!"}},{"$f":"G661*$B$13","v":{"$error":"#VALUE!"}}]
[{"$f":"IF(IF(A661<>\"\",A661+1<=$B$16,0),A661+1,\"\")","v":""},{"$f":"IF(A662<>\"\",A662*$B$13,\"\")","v":""},{"$f":"IF(A662<>\"\",ROUNDDOWN(A662*$B$13/24,0),\"\")","v":""},"",{"$f":"IF(A662<>\"\",($B$4+$B$5)/2+($B$5-$B$4)/2*COS(2*PI()/$B$15*B662),\"\")","v":""},{"$f":"IF(A662<>\"\",E662*COS(2*PI()/$B$7*B662),\"\")","v":""},{"$error":"#VALUE!"},{"$error":"#VALUE!"}]
["","","","","","",{"$error":"#VALUE!"},{"$error":"#VALUE!"}]
["","","","","","",{"$error":"#VALUE!"},{"$error":"#VALUE!"}]
["","","","","","",{"$error":"#VALUE!"},{"$error":"#VALUE!"}]
["","","","","","",{"$error":"#VALUE!"},{"$error":"#VALUE!"}]
["","","","","","",{"$error":"#VALUE!"},{"$error":"#VALUE!"}]
["","","","","","",{"$error":"#VALUE!"},{"$error":"#VALUE!"}]
["","","","","","",{"$error":"#VALUE!"},{"$error":"#VALUE!"}]
["","","","","","",{"$error":"#VALUE!"},{"$error":"#VALUE!"}]
["","","","","","",{"$error":"#VALUE!"},{"$error":"#VALUE!"}]
["","","","","","",{"$error":"#VALUE!"},{"$error":"#VALUE!"}]
["","","","","","",{"$error":"#VALUE!"},{"$error":"#VALUE!"}]
["","","","","","",{"$error":"#VALUE!"},{"$error":"#VALUE!"}]
["","","","","","",{"$error":"#VALUE!"},{"$error":"#VALUE!"}]
["","","","","","",{"$error":"#VALUE!"},{"$error":"#VALUE!"}]
["","","","","","",{"$error":"#VALUE!"},{"$error":"#VALUE!"}]
["","","","","","",{"$error":"#VALUE!"},{"$error":"#VALUE!"}]
["","","","","","",{"$error":"#VALUE!"},{"$error":"#VALUE!"}]
["","","","","","",{"$error":"#VALUE!"},{"$error":"#VALUE!"}]
["","","","","","",{"$error":"#VALUE!"},{"$error":"#VALUE!"}]
["","","","","","",{"$error":"#VALUE!"},{"$error":"#VALUE!"}]
["","","","","","",{"$error":"#VALUE!"},{"$error":"#VALUE!"}]
["","","","","","",{"$error":"#VALUE!"},{"$error":"#VALUE!"}]
["","","","","","",{"$error":"#VALUE!"},{"$error":"#VALUE!"}]
["","","","","","",{"$error":"#VALUE!"},{"$error":"#VALUE!"}]
["","","","","","",{"$error":"#VALUE!"},{"$error":"#VALUE!"}]
["","","","","","",{"$error":"#VALUE!"},{"$error":"#VALUE!"}]
["","","","","","",{"$error":"#VALUE!"},{"$error":"#VALUE!"}]
["","","","","","",{"$error":"#VALUE!"},{"$error":"#VALUE!"}]
["","","","","","",{"$error":"#VALUE!"},{"$error":"#VALUE!"}]
["","","","","","",{"$error":"#VALUE!"},{"$error":"#VALUE!"}]
["","","","","","",{"$error":"#VALUE!"},{"$error":"#VALUE!"}]
["","","","","","",{"$error":"#VALUE!"},{"$error":"#VALUE!"}]
["","","","","","",{"$error":"#VALUE!"},{"$error":"#VALUE!"}]
["","","","","","",{"$error":"#VALUE!"},{"$error":"#VALUE!"}]
["","","","","","",{"$error":"#VALUE!"},{"$error":"#VALUE!"}]
["","","","","","",{"$error":"#VALUE!"},{"$error":"#VALUE!"}]
["","","","","","",{"$error":"#VALUE!"},{"$error":"#VALUE!"}]
["","","","","","",{"$error":"#VALUE!"},{"$error":"#VALUE!"}]
["","","","","","",{"$error":"#VALUE!"},{"$error":"#VALUE!"}]
["","","","","","",{"$error":"#VALUE!"},{"$error":"#VALUE!"}]
["","","","","","",{"$error":"#VALUE!"},{"$error":"#VALUE!"}]
["","","","","","",{"$error":"#VALUE!"},{"$error":"#VALUE!"}]
["","","","","","",{"$error":"#VALUE!"},{"$error":"#VALUE!"}]
["","","","","","",{"$error":"#VALUE!"},{"$error":"#VALUE!"}]
["","","","","","",{"$error":"#VALUE!"},{"$error":"#VALUE!"}]
["","","","","","",{"$error":"#VALUE!"},{"$error":"#VALUE!"}]
["","","","","","",{"$error":"#VALUE!"},{"$error":"#VALUE!"}]
["","","","","","",{"$error":"#VALUE!"},{"$error":"#VALUE!"}]
["","","","","","",{"$error":"#VALUE!"},{"$error":"#VALUE!"}]
["","","","","","",{"$error":"#VALUE!"},{"$error":"#VALUE!"}]
["","","","","","",{"$error":"#VALUE!"},{"$error":"#VALUE!"}]
["","","","","","",{"$error":"#VALUE!"},{"$error":"#VALUE!"}]
["","","","","","",{"$error":"#VALUE!"},{"$error":"#VALUE!"}]
["","","","","","",{"$error":"#VALUE!"},{"$error":"#VALUE!"}]
["","","","","","",{"$error":"#VALUE!"},{"$error":"#VALUE!"}]
["","","","","","",{"$error":"#VALUE!"},{"$error":"#VALUE!"}]
["","","","","","",{"$error":"#VALUE!"},{"$error":"#VALUE!"}]
["","","","","","",{"$error":"#VALUE!"},{"$error":"#VALUE!"}]
["","","","","","",{"$error":"#VALUE!"},{"$error":"#VALUE!"}]
["","","","","","",{"$error":"#VALUE!"},{"$error":"#VALUE!"}]
["","","","","","",{"$error":"#VALUE!"},{"$error":"#VALUE!"}]
["","","","","","",{"$error":"#VALUE!"},{"$error":"#VALUE!"}]
["","","",{"$f":"IF(A725<>\"\",MOD(B725,24)/24,\"\")","v":""},"","",{"$f":"ABS(0.5*1.025*1*(F725^3))","v":{"$error":"#VALUE!"}},{"$f":"G725*$B$13","v":{"$error":"#VALUE!"}}]
[{"$f":"IF(IF(A725<>\"\",A725+1<=$B$16,0),A725+1,\"\")","v":""},{"$f":"IF(A726<>\"\",A726*$B$13,\"\")","v":""},{"$f":"IF(A726<>\"\",ROUNDDOWN(A726*$B$13/24,0),\"\")","v":""},"",{"$f":"IF(A726<>\"\",($B$4+$B$5)/2+($B$5-$B$4)/2*COS(2*PI()/$B$15*B726),\"\")","v":""},{"$f":"IF(A726<>\"\",E726*COS(2*PI()/$B$7*B726),\"\")","v":""},{"$error":"#VALUE!"},{"$error":"#VALUE!"}]
["","","","","","",{"$error":"#VALUE!"},{"$error":"#VALUE!"}]
["","","","","","",{"$error":"#VALUE!"},{"$error":"#VALUE!"}]
["","","","","","",{"$error":"#VALUE!"},{"$error":"#VALUE!"}]
["","","","","","",{"$error":"#VALUE!"},{"$error":"#VALUE!"}]
["","","","","","",{"$error":"#VALUE!"},{"$error":"#VALUE!"}]
["","","","","","",{"$error":"#VALUE!"},{"$error":"#VALUE!"}]
["","","","","","",{"$error":"#VALUE!"},{"$error":"#VALUE!"}]
["","","","","","",{"$error":"#VALUE!"},{"$error":"#VALUE!"}]
["","","","","","",{"$error":"#VALUE!"},{"$error":"#VALUE!"}]
["","","","","","",{"$error":"#VALUE!"},{"$error":"#VALUE!"}]
["","","","","","",{"$error":"#VALUE!"},{"$error":"#VALUE!"}]
["","","","","","",{"$error":"#VALUE!"},{"$error":"#VALUE!"}]
["","","","","","",{"$error":"#VALUE!"},{"$error":"#VALUE!"}]
["","","","","","",{"$error":"#VALUE!"},{"$error":"#VALUE!"}]
["","","","","","",{"$error":"#VALUE!"},{"$error":"#VALUE!"}]
["","","","","","",{"$error":"#VALUE!"},{"$error":"#VALUE!"}]
["","","","","","",{"$error":"#VALUE!"},{"$error":"#VALUE!"}]
["","","","","","",{"$error":"#VALUE!"},{"$error":"#VALUE!"}]
["","","","","","",{"$error":"#VALUE!"},{"$error":"#VALUE!"}]
["","","","","","",{"$error":"#VALUE!"},{"$error":"#VALUE!"}]
["","","","","","",{"$error":"#VALUE!"},{"$error":"#VALUE!"}]
["","","","","","",{"$error":"#VALUE!"},{"$error":"#VALUE!"}]
["","","","","","",{"$error":"#VALUE!"},{"$error":"#VALUE!"}]
["","","","","","",{"$error":"#VALUE!"},{"$error":"#VALUE!"}]
["","","","","","",{"$error":"#VALUE!"},{"$error":"#VALUE!"}]
["","","","","","",{"$error":"#VALUE!"},{"$error":"#VALUE!"}]
["","","","","","",{"$error":"#VALUE!"},{"$error":"#VALUE!"}]
["","","","","","",{"$error":"#VALUE!"},{"$error":"#VALUE!"}]
["","","","","","",{"$error":"#VALUE!"},{"$error":"#VALUE!"}]
["","","","","","",{"$error":"#VALUE!"},{"$error":"#VALUE!"}]
["","","","","","",{"$error":"#VALUE!"},{"$error":"#VALUE!"}]
["","","","","","",{"$error":"#VALUE!"},{"$error":"#VALUE!"}]
["","","","","","",{"$error":"#VALUE!"},{"$error":"#VALUE!"}]
["","","","","","",{"$error":"#VALUE!"},{"$error":"#VALUE!"}]
["","","","","","",{"$error":"#VALUE!"},{"$error":"#VALUE!"}]
["","","","","","",{"$error":"#VALUE!"},{"$error":"#VALUE!"}]
["","","","","","",{"$error":"#VALUE!"},{"$error":"#VALUE!"}]
["","","","","","",{"$error":"#VALUE!"},{"$error":"#VALUE!"}]
["","","","","","",{"$error":"#VALUE!"},{"$error":"#VALUE!"}]
["","","","","","",{"$error":"#VALUE!"},{"$error":"#VALUE!"}]
["","","","","","",{"$error":"#VALUE!"},{"$error":"#VALUE!"}]
["","","","","","",{"$error":"#VALUE!"},{"$error":"#VALUE!"}]
["","","","","","",{"$error":"#VALUE!"},{"$error":"#VALUE!"}]
["","","","","","",{"$error":"#VALUE!"},{"$error":"#VALUE!"}]
["","","","","","",{"$error":"#VALUE!"},{"$error":"#VALUE!"}]
["","","","","","",{"$error":"#VALUE!"},{"$error":"#VALUE!"}]
["","","","","","",{"$error":"#VALUE!"},{"$error":"#VALUE!"}]
["","","","","","",{"$error":"#VALUE!"},{"$error":"#VALUE!"}]
["","","","","","",{"$error":"#VALUE!"},{"$error":"#VALUE!"}]
["","","","","","",{"$error":"#VALUE!"},{"$error":"#VALUE!"}]
["","","","","","",{"$error":"#VALUE!"},{"$error":"#VALUE!"}]
["","","","","","",{"$error":"#VALUE!"},{"$error":"#VALUE!"}]
["","","","","","",{"$error":"#VALUE!"},{"$error":"#VALUE!"}]
["","","","","","",{"$error":"#VALUE!"},{"$error":"#VALUE!"}]
["","","","","","",{"$error":"#VALUE!"},{"$error":"#VALUE!"}]
["","","","","","",{"$error":"#VALUE!"},{"$error":"#VALUE!"}]
["","","","","","",{"$error":"#VALUE!"},{"$error":"#VALUE!"}]
["","","","","","",{"$error":"#VALUE!"},{"$error":"#VALUE!"}]
["","","","","","",{"$error":"#VALUE!"},{"$error":"#VALUE!"}]
["","","","","","",{"$error":"#VALUE!"},{"$error":"#VALUE!"}]
["","","","","","",{"$error":"#VALUE!"},{"$error":"#VALUE!"}]
["","","","","","",{"$error":"#VALUE!"},{"$error":"#VALUE!"}]
["","","",{"$f":"IF(A789<>\"\",MOD(B789,24)/24,\"\")","v":""},"","",{"$f":"ABS(0.5*1.025*1*(F789^3))","v":{"$error":"#VALUE!"}},{"$f":"G789*$B$13","v":{"$error":"#VALUE!"}}]
[{"$f":"IF(IF(A789<>\"\",A789+1<=$B$16,0),A789+1,\"\")","v":""},{"$f":"IF(A790<>\"\",A790*$B$13,\"\")","v":""},{"$f":"IF(A790<>\"\",ROUNDDOWN(A790*$B$13/24,0),\"\")","v":""},"",{"$f":"IF(A790<>\"\",($B$4+$B$5)/2+($B$5-$B$4)/2*COS(2*PI()/$B$15*B790),\"\")","v":""},{"$f":"IF(A790<>\"\",E790*COS(2*PI()/$B$7*B790),\"\")","v":""},{"$error":"#VALUE!"},{"$error":"#VALUE!"}]
["","","","","","",{"$error":"#VALUE!"},{"$error":"#VALUE!"}]
["","","","","","",{"$error":"#VALUE!"},{"$error":"#VALUE!"}]
["","","","","","",{"$error":"#VALUE!"},{"$error":"#VALUE!"}]
["","","","","","",{"$error":"#VALUE!"},{"$error":"#VALUE!"}]
["","","","","","",{"$error":"#VALUE!"},{"$error":"#VALUE!"}]
["","","","","","",{"$error":"#VALUE!"},{"$error":"#VALUE!"}]
["","","","","","",{"$error":"#VALUE!"},{"$error":"#VALUE!"}]
["","","","","","",{"$error":"#VALUE!"},{"$error":"#VALUE!"}]
["","","","","","",{"$error":"#VALUE!"},{"$error":"#VALUE!"}]
["","","","","","",{"$error":"#VALUE!"},{"$error":"#VALUE!"}]
["","","","","","",{"$error":"#VALUE!"},{"$error":"#VALUE!"}]
["","","","","","",{"$error":"#VALUE!"},{"$error":"#VALUE!"}]
["","","","","","",{"$error":"#VALUE!"},{"$error":"#VALUE!"}]
["","","","","","",{"$error":"#VALUE!"},{"$error":"#VALUE!"}]
["","","","","","",{"$error":"#VALUE!"},{"$error":"#VALUE!"}]
["","","","","","",{"$error":"#VALUE!"},{"$error":"#VALUE!"}]
["","","","","","",{"$error":"#VALUE!"},{"$error":"#VALUE!"}]
["","","","","","",{"$error":"#VALUE!"},{"$error":"#VALUE!"}]
["","","","","","",{"$error":"#VALUE!"},{"$error":"#VALUE!"}]
["","","","","","",{"$error":"#VALUE!"},{"$error":"#VALUE!"}]
["","","","","","",{"$error":"#VALUE!"},{"$error":"#VALUE!"}]
["","","","","","",{"$error":"#VALUE!"},{"$error":"#VALUE!"}]
["","","","","","",{"$error":"#VALUE!"},{"$error":"#VALUE!"}]
["","","","","","",{"$error":"#VALUE!"},{"$error":"#VALUE!"}]
["","","","","","",{"$error":"#VALUE!"},{"$error":"#VALUE!"}]
["","","","","","",{"$error":"#VALUE!"},{"$error":"#VALUE!"}]
["","","","","","",{"$error":"#VALUE!"},{"$error":"#VALUE!"}]
["","","","","","",{"$error":"#VALUE!"},{"$error":"#VALUE!"}]
["","","","","","",{"$error":"#VALUE!"},{"$error":"#VALUE!"}]
["","","","","","",{"$error":"#VALUE!"},{"$error":"#VALUE!"}]
["","","","","","",{"$error":"#VALUE!"},{"$error":"#VALUE!"}]
["","","","","","",{"$error":"#VALUE!"},{"$error":"#VALUE!"}]
["","","","","","",{"$error":"#VALUE!"},{"$error":"#VALUE!"}]
["","","","","","",{"$error":"#VALUE!"},{"$error":"#VALUE!"}]
["","","","","","",{"$error":"#VALUE!"},{"$error":"#VALUE!"}]
["","","","","","",{"$error":"#VALUE!"},{"$error":"#VALUE!"}]
["","","","","","",{"$error":"#VALUE!"},{"$error":"#VALUE!"}]
["","","","","","",{"$error":"#VALUE!"},{"$error":"#VALUE!"}]
["","","","","","",{"$error":"#VALUE!"},{"$error":"#VALUE!"}]
["","","","","","",{"$error":"#VALUE!"},{"$error":"#VALUE!"}]
["","","","","","",{"$error":"#VALUE!"},{"$error":"#VALUE!"}]
["","","","","","",{"$error":"#VALUE!"},{"$error":"#VALUE!"}]
["","","","","","",{"$error":"#VALUE!"},{"$error":"#VALUE!"}]
["","","","","","",{"$error":"#VALUE!"},{"$error":"#VALUE!"}]
["","","","","","",{"$error":"#VALUE!"},{"$error":"#VALUE!"}]
["","","","","","",{"$error":"#VALUE!"},{"$error":"#VALUE!"}]
["","","","","","",{"$error":"#VALUE!"},{"$error":"#VALUE!"}]
["","","","","","",{"$error":"#VALUE!"},{"$error":"#VALUE!"}]
["","","","","","",{"$error":"#VALUE!"},{"$error":"#VALUE!"}]
["","","","","","",{"$error":"#VALUE!"},{"$error":"#VALUE!"}]
["","","","","","",{"$error":"#VALUE!"},{"$error":"#VALUE!"}]
["","","","","","",{"$error":"#VALUE!"},{"$error":"#VALUE!"}]
["","","","","","",{"$error":"#VALUE!"},{"$error":"#VALUE!"}]
["","","","","","",{"$error":"#VALUE!"},{"$error":"#VALUE!"}]
["","","","","","",{"$error":"#VALUE!"},{"$error":"#VALUE!"}]
["","","","","","",{"$error":"#VALUE!"},{"$error":"#VALUE!"}]
["","","","","","",{"$error":"#VALUE!"},{"$error":"#VALUE!"}]
["","","","","","",{"$error":"#VALUE!"},{"$error":"#VALUE!"}]
["","","","","","",{"$error":"#VALUE!"},{"$error":"#VALUE!"}]
["","","","","","",{"$error":"#VALUE!"},{"$error":"#VALUE!"}]
["","","","","","",{"$error":"#VALUE!"},{"$error":"#VALUE!"}]
["","","","","","",{"$error":"#VALUE!"},{"$error":"#VALUE!"}]
["","","",{"$f":"IF(A853<>\"\",MOD(B853,24)/24,\"\")","v":""},"","",{"$f":"ABS(0.5*1.025*1*(F853^3))","v":{"$error":"#VALUE!"}},{"$f":"G853*$B$13","v":{"$error":"#VALUE!"}}]
[{"$f":"IF(IF(A853<>\"\",A853+1<=$B$16,0),A853+1,\"\")","v":""},{"$f":"IF(A854<>\"\",A854*$B$13,\"\")","v":""},{"$f":"IF(A854<>\"\",ROUNDDOWN(A854*$B$13/24,0),\"\")","v":""},"",{"$f":"IF(A854<>\"\",($B$4+$B$5)/2+($B$5-$B$4)/2*COS(2*PI()/$B$15*B854),\"\")","v":""},{"$f":"IF(A854<>\"\",E854*COS(2*PI()/$B$7*B854),\"\")","v":""},{"$error":"#VALUE!"},{"$error":"#VALUE!"}]
["","","","","","",{"$error":"#VALUE!"},{"$error":"#VALUE!"}]
["","","","","","",{"$error":"#VALUE!"},{"$error":"#VALUE!"}]
["","","","","","",{"$error":"#VALUE!"},{"$error":"#VALUE!"}]
["","","","","","",{"$error":"#VALUE!"},{"$error":"#VALUE!"}]
["","","","","","",{"$error":"#VALUE!"},{"$error":"#VALUE!"}]
["","","","","","",{"$error":"#VALUE!"},{"$error":"#VALUE!"}]
["","","","","","",{"$error":"#VALUE!"},{"$error":"#VALUE!"}]
["","","","","","",{"$error":"#VALUE!"},{"$error":"#VALUE!"}]
["","","","","","",{"$error":"#VALUE!"},{"$error":"#VALUE!"}]
["","","","","","",{"$error":"#VALUE!"},{"$error":"#VALUE!"}]
["","","","","","",{"$error":"#VALUE!"},{"$error":"#VALUE!"}]
["","","","","","",{"$error":"#VALUE!"},{"$error":"#VALUE!"}]
["","","","","","",{"$error":"#VALUE!"},{"$error":"#VALUE!"}]
["","","","","","",{"$error":"#VALUE!"},{"$error":"#VALUE!"}]
["","","","","","",{"$error":"#VALUE!"},{"$error":"#VALUE!"}]
["","","","","","",{"$error":"#VALUE!"},{"$error":"#VALUE!"}]
["","","","","","",{"$error":"#VALUE!"},{"$error":"#VALUE!"}]
["","","","","","",{"$error":"#VALUE!"},{"$error":"#VALUE!"}]
["","","","","","",{"$error":"#VALUE!"},{"$error":"#VALUE!"}]
["","","","","","",{"$error":"#VALUE!"},{"$error":"#VALUE!"}]
["","","","","","",{"$error":"#VALUE!"},{"$error":"#VALUE!"}]
["","","","","","",{"$error":"#VALUE!"},{"$error":"#VALUE!"}]
["","","","","","",{"$error":"#VALUE!"},{"$error":"#VALUE!"}]
["","","","","","",{"$error":"#VALUE!"},{"$error":"#VALUE!"}]
["","","","","","",{"$error":"#VALUE!"},{"$error":"#VALUE!"}]
["","","","","","",{"$error":"#VALUE!"},{"$error":"#VALUE!"}]
["","","","","","",{"$error":"#VALUE!"},{"$error":"#VALUE!"}]
["","","","","","",{"$error":"#VALUE!"},{"$error":"#VALUE!"}]
["","","","","","",{"$error":"#VALUE!"},{"$error":"#VALUE!"}]
["","","","","","",{"$error":"#VALUE!"},{"$error":"#VALUE!"}]
["","","","","","",{"$error":"#VALUE!"},{"$error":"#VALUE!"}]
["","","","","","",{"$error":"#VALUE!"},{"$error":"#VALUE!"}]
["","","","","","",{"$error":"#VALUE!"},{"$error":"#VALUE!"}]
["","","","","","",{"$error":"#VALUE!"},{"$error":"#VALUE!"}]
["","","","","","",{"$error":"#VALUE!"},{"$error":"#VALUE!"}]
["","","","","","",{"$error":"#VALUE!"},{"$error":"#VALUE!"}]
["","","","","","",{"$error":"#VALUE!"},{"$error":"#VALUE!"}]
["","","","","","",{"$error":"#VALUE!"},{"$error":"#VALUE!"}]
["","","","","","",{"$error":"#VALUE!"},{"$error":"#VALUE!"}]
["","","","","","",{"$error":"#VALUE!"},{"$error":"#VALUE!"}]
["","","","","","",{"$error":"#VALUE!"},{"$error":"#VALUE!"}]
["","","","","","",{"$error":"#VALUE!"},{"$error":"#VALUE!"}]
["","","","","","",{"$error":"#VALUE!"},{"$error":"#VALUE!"}]
["","","","","","",{"$error":"#VALUE!"},{"$error":"#VALUE!"}]
["","","","","","",{"$error":"#VALUE!"},{"$error":"#VALUE!"}]
["","","","","","",{"$error":"#VALUE!"},{"$error":"#VALUE!"}]
["","","","","","",{"$error":"#VALUE!"},{"$error":"#VALUE!"}]
["","","","","","",{"$error":"#VALUE!"},{"$error":"#VALUE!"}]
["","","","","","",{"$error":"#VALUE!"},{"$error":"#VALUE!"}]
["","","","","","",{"$error":"#VALUE!"},{"$error":"#VALUE!"}]
["","","","","","",{"$error":"#VALUE!"},{"$error":"#VALUE!"}]
["","","","","","",{"$error":"#VALUE!"},{"$error":"#VALUE!"}]
["","","","","","",{"$error":"#VALUE!"},{"$error":"#VALUE!"}]
["","","","","","",{"$error":"#VALUE!"},{"$error":"#VALUE!"}]
["","","","","","",{"$error":"#VALUE!"},{"$error":"#VALUE!"}]
["","","","","","",{"$error":"#VALUE!"},{"$error":"#VALUE!"}]
["","","","","","",{"$error":"#VALUE!"},{"$error":"#VALUE!"}]
["","","","","","",{"$error":"#VALUE!"},{"$error":"#VALUE!"}]
["","","","","","",{"$error":"#VALUE!"},{"$error":"#VALUE!"}]
["","","","","","",{"$error":"#VALUE!"},{"$error":"#VALUE!"}]
["","","","","","",{"$error":"#VALUE!"},{"$error":"#VALUE!"}]
["","","","","","",{"$error":"#VALUE!"},{"$error":"#VALUE!"}]
["","","",{"$f":"IF(A917<>\"\",MOD(B917,24)/24,\"\")","v":""},"","",{"$f":"ABS(0.5*1.025*1*(F917^3))","v":{"$error":"#VALUE!"}},{"$f":"G917*$B$13","v":{"$error":"#VALUE!"}}]
[{"$f":"IF(IF(A917<>\"\",A917+1<=$B$16,0),A917+1,\"\")","v":""},{"$f":"IF(A918<>\"\",A918*$B$13,\"\")","v":""},{"$f":"IF(A918<>\"\",ROUNDDOWN(A918*$B$13/24,0),\"\")","v":""},"",{"$f":"IF(A918<>\"\",($B$4+$B$5)/2+($B$5-$B$4)/2*COS(2*PI()/$B$15*B918),\"\")","v":""},{"$f":"IF(A918<>\"\",E918*COS(2*PI()/$B$7*B918),\"\")","v":""},{"$error":"#VALUE!"},{"$error":"#VALUE!"}]
["","","","","","",{"$error":"#VALUE!"},{"$error":"#VALUE!"}]
["","","","","","",{"$error":"#VALUE!"},{"$error":"#VALUE!"}]
["","","","","","",{"$error":"#VALUE!"},{"$error":"#VALUE!"}]
["","","","","","",{"$error":"#VALUE!"},{"$error":"#VALUE!"}]
["","","","","","",{"$error":"#VALUE!"},{"$error":"#VALUE!"}]
["","","","","","",{"$error":"#VALUE!"},{"$error":"#VALUE!"}]
["","","","","","",{"$error":"#VALUE!"},{"$error":"#VALUE!"}]
["","","","","","",{"$error":"#VALUE!"},{"$error":"#VALUE!"}]
["","","","","","",{"$error":"#VALUE!"},{"$error":"#VALUE!"}]
["","","","","","",{"$error":"#VALUE!"},{"$error":"#VALUE!"}]
["","","","","","",{"$error":"#VALUE!"},{"$error":"#VALUE!"}]
["","","","","","",{"$error":"#VALUE!"},{"$error":"#VALUE!"}]
["","","","","","",{"$error":"#VALUE!"},{"$error":"#VALUE!"}]
["","","","","","",{"$error":"#VALUE!"},{"$error":"#VALUE!"}]
["","","","","","",{"$error":"#VALUE!"},{"$error":"#VALUE!"}]
["","","","","","",{"$error":"#VALUE!"},{"$error":"#VALUE!"}]
["","","","","","",{"$error":"#VALUE!"},{"$error":"#VALUE!"}]
["","","","","","",{"$error":"#VALUE!"},{"$error":"#VALUE!"}]
["","","","","","",{"$error":"#VALUE!"},{"$error":"#VALUE!"}]
["","","","","","",{"$error":"#VALUE!"},{"$error":"#VALUE!"}]
["","","","","","",{"$error":"#VALUE!"},{"$error":"#VALUE!"}]
["","","","","","",{"$error":"#VALUE!"},{"$error":"#VALUE!"}]
["","","","","","",{"$error":"#VALUE!"},{"$error":"#VALUE!"}]
["","","","","","",{"$error":"#VALUE!"},{"$error":"#VALUE!"}]
["","","","","","",{"$error":"#VALUE!"},{"$error":"#VALUE!"}]
["","","","","","",{"$error":"#VALUE!"},{"$error":"#VALUE!"}]
["","","","","","",{"$error":"#VALUE!"},{"$error":"#VALUE!"}]
["","","","","","",{"$error":"#VALUE!"},{"$error":"#VALUE!"}]
["","","","","","",{"$error":"#VALUE!"},{"$error":"#VALUE!"}]
["","","","","","",{"$error":"#VALUE!"},{"$error":"#VALUE!"}]
["","","","","","",{"$error":"#VALUE!"},{"$error":"#VALUE!"}]
["","","","","","",{"$error":"#VALUE!"},{"$error":"#VALUE!"}]
["","","","","","",{"$error":"#VALUE!"},{"$error":"#VALUE!"}]
["","","","","","",{"$error":"#VALUE!"},{"$error":"#VALUE!"}]
["","","","","","",{"$error":"#VALUE!"},{"$error":"#VALUE!"}]
["","","","","","",{"$error":"#VALUE!"},{"$error":"#VALUE!"}]
["","","","","","",{"$error":"#VALUE!"},{"$error":"#VALUE!"}]
["","","","","","",{"$error":"#VALUE!"},{"$error":"#VALUE!"}]
["","","","","","",{"$error":"#VALUE!"},{"$error":"#VALUE!"}]
["","","","","","",{"$error":"#VALUE!"},{"$error":"#VALUE!"}]
["","","","","","",{"$error":"#VALUE!"},{"$error":"#VALUE!"}]
["","","","","","",{"$error":"#VALUE!"},{"$error":"#VALUE!"}]
["","","","","","",{"$error":"#VALUE!"},{"$error":"#VALUE!"}]
["","","","","","",{"$error":"#VALUE!"},{"$error":"#VALUE!"}]
["","","","","","",{"$error":"#VALUE!"},{"$error":"#VALUE!"}]
["","","","","","",{"$error":"#VALUE!"},{"$error":"#VALUE!"}]
["","","","","","",{"$error":"#VALUE!"},{"$error":"#VALUE!"}]
["","","","","","",{"$error":"#VALUE!"},{"$error":"#VALUE!"}]
["","","","","","",{"$error":"#VALUE!"},{"$error":"#VALUE!"}]
["","","","","","",{"$error":"#VALUE!"},{"$error":"#VALUE!"}]
["","","","","","",{"$error":"#VALUE!"},{"$error":"#VALUE!"}]
["","","","","","",{"$error":"#VALUE!"},{"$error":"#VALUE!"}]
["","","","","","",{"$error":"#VALUE!"},{"$error":"#VALUE!"}]
["","","","","","",{"$error":"#VALUE!"},{"$error":"#VALUE!"}]
["","","","","","",{"$error":"#VALUE!"},{"$error":"#VALUE!"}]
["","","","","","",{"$error":"#VALUE!"},{"$error":"#VALUE!"}]
["","","","","","",{"$error":"#VALUE!"},{"$error":"#VALUE!"}]
["","","","","","",{"$error":"#VALUE!"},{"$error":"#VALUE!"}]
["","","","","","",{"$error":"#VALUE!"},{"$error":"#VALUE!"}]
["","","","","","",{"$error":"#VALUE!"},{"$error":"#VALUE!"}]
["","","","","","",{"$error":"#VALUE!"},{"$error":"#VALUE!"}]
["","","","","","",{"$error":"#VALUE!"},{"$error":"#VALUE!"}]
["","","",{"$f":"IF(A981<>\"\",MOD(B981,24)/24,\"\")","v":""},"","",{"$f":"ABS(0.5*1.025*1*(F981^3))","v":{"$error":"#VALUE!"}},{"$f":"G981*$B$13","v":{"$error":"#VALUE!"}}]
[{"$f":"IF(IF(A981<>\"\",A981+1<=$B$16,0),A981+1,\"\")","v":""},{"$f":"IF(A982<>\"\",A982*$B$13,\"\")","v":""},{"$f":"IF(A982<>\"\",ROUNDDOWN(A982*$B$13/24,0),\"\")","v":""},"",{"$f":"IF(A982<>\"\",($B$4+$B$5)/2+($B$5-$B$4)/2*COS(2*PI()/$B$15*B982),\"\")","v":""},{"$f":"IF(A982<>\"\",E982*COS(2*PI()/$B$7*B982),\"\")","v":""},{"$error":"#VALUE!"},{"$error":"#VALUE!"}]
["","","","","","",{"$error":"#VALUE!"},{"$error":"#VALUE!"}]
["","","","","","",{"$error":"#VALUE!"},{"$error":"#VALUE!"}]
["","","","","","",{"$error":"#VALUE!"},{"$error":"#VALUE!"}]
["","","","","","",{"$error":"#VALUE!"},{"$error":"#VALUE!"}]
["","","","","","",{"$error":"#VALUE!"},{"$error":"#VALUE!"}]
["","","","","","",{"$error":"#VALUE!"},{"$error":"#VALUE!"}]
["","","","","","",{"$error":"#VALUE!"},{"$error":"#VALUE!"}]
["","","","","","",{"$error":"#VALUE!"},{"$error":"#VALUE!"}]
["","","","","","",{"$error":"#VALUE!"},{"$error":"#VALUE!"}]
["","","","","","",{"$error":"#VALUE!"},{"$error":"#VALUE!"}]
["","","","","","",{"$error":"#VALUE!"},{"$error":"#VALUE!"}]
["","","","","","",{"$error":"#VALUE!"},{"$error":"#VALUE!"}]
["","","","","","",{"$error":"#VALUE!"},{"$error":"#VALUE!"}]
["","","","","","",{"$error":"#VALUE!"},{"$error":"#VALUE!"}]
["","","","","","",{"$error":"#VALUE!"},{"$error":"#VALUE!"}]
["","","","","","",{"$error":"#VALUE!"},{"$error":"#VALUE!"}]
["","","","","","",{"$error":"#VALUE!"},{"$error":"#VALUE!"}]
["","","","","","",{"$error":"#VALUE!"},{"$error":"#VALUE!"}]
["","","","","","",{"$error":"#VALUE!"},{"$error":"#VALUE!"}]
["","","","","","",{"$error":"#VALUE!"},{"$error":"#VALUE!"}]
["","","","","","",{"$error":"#VALUE!"},{"$error":"#VALUE!"}]
["","","","","","",{"$error":"#VALUE!"},{"$error":"#VALUE!"}]
["","","","","","",{"$error":"#VALUE!"},{"$error":"#VALUE!"}]
["","","","","","",{"$error":"#VALUE!"},{"$error":"#VALUE!"}]
["","","","","","",{"$error":"#VALUE!"},{"$error":"#VALUE!"}]
["","","","","","",{"$error":"#VALUE!"},{"$error":"#VALUE!"}]
["","","","","","",{"$error":"#VALUE!"},{"$error":"#VALUE!"}]
["","","","","","",{"$error":"#VALUE!"},{"$error":"#VALUE!"}]
["","","","","","",{"$error":"#VALUE!"},{"$error":"#VALUE!"}]
["","","","","","",{"$error":"#VALUE!"},{"$error":"#VALUE!"}]
["","","","","","",{"$error":"#VALUE!"},{"$error":"#VALUE!"}]
["","","","","","",{"$error":"#VALUE!"},{"$error":"#VALUE!"}]
["","","","","","",{"$error":"#VALUE!"},{"$error":"#VALUE!"}]
["","","","","","",{"$error":"#VALUE!"},{"$error":"#VALUE!"}]
["","","","","","",{"$error":"#VALUE!"},{"$error":"#VALUE!"}]
["","","","","","",{"$error":"#VALUE!"},{"$error":"#VALUE!"}]
["","","","","","",{"$error":"#VALUE!"},{"$error":"#VALUE!"}]
["","","","","","",{"$error":"#VALUE!"},{"$error":"#VALUE!"}]
["","","","","","",{"$error":"#VALUE!"},{"$error":"#VALUE!"}]
["","","","","","",{"$error":"#VALUE!"},{"$error":"#VALUE!"}]
["","","","","","",{"$error":"#VALUE!"},{"$error":"#VALUE!"}]
["","","","","","",{"$error":"#VALUE!"},{"$error":"#VALUE!"}]
["","","","","","",{"$error":"#VALUE!"},{"$error":"#VALUE!"}]
["","","","","","",{"$error":"#VALUE!"},{"$error":"#VALUE!"}]
["","","","","","",{"$error":"#VALUE!"},{"$error":"#VALUE!"}]
["","","","","","",{"$error":"#VALUE!"},{"$error":"#VALUE!"}]
["","","","","","",{"$error":"#VALUE!"},{"$error":"#VALUE!"}]
["","","","","","",{"$error":"#VALUE!"},{"$error":"#VALUE!"}]
["","","","","","",{"$error":"#VALUE!"},{"$error":"#VALUE!"}]
["","","","","","",{"$error":"#VALUE!"},{"$error":"#VALUE!"}]
["","","","","","",{"$error":"#VALUE!"},{"$error":"#VALUE!"}]
["","","","","","",{"$error":"#VALUE!"},{"$error":"#VALUE!"}]
["","","","","","",{"$error":"#VALUE!"},{"$error":"#VALUE!"}]
["","","","","","",{"$error":"#VALUE!"},{"$error":"#VALUE!"}]
["","","","","","",{"$error":"#VALUE!"},{"$error":"#VALUE!"}]
["","","","","","",{"$error":"#VALUE!"},{"$error":"#VALUE!"}]
["","","","","","",{"$error":"#VALUE!"},{"$error":"#VALUE!"}]
["","","","","","",{"$error":"#VALUE!"},{"$error":"#VALUE!"}]
["","","","","","",{"$error":"#VALUE!"},{"$error":"#VALUE!"}]
["","","","","","",{"$error":"#VALUE!"},{"$error":"#VALUE!"}]
["","","","","","",{"$error":"#VALUE!"},{"$error":"#VALUE!"}]
["","","","","","",{"$error":"#VALUE!"},{"$error":"#VALUE!"}]
["","","",{"$f":"IF(A1045<>\"\",MOD(B1045,24)/24,\"\")","v":""},"","",{"$f":"ABS(0.5*1.025*1*(F1045^3))","v":{"$error":"#VALUE!"}},{"$f":"G1045*$B$13","v":{"$error":"#VALUE!"}}]
[{"$f":"IF(IF(A1045<>\"\",A1045+1<=$B$16,0),A1045+1,\"\")","v":""},{"$f":"IF(A1046<>\"\",A1046*$B$13,\"\")","v":""},{"$f":"IF(A1046<>\"\",ROUNDDOWN(A1046*$B$13/24,0),\"\")","v":""},"",{"$f":"IF(A1046<>\"\",($B$4+$B$5)/2+($B$5-$B$4)/2*COS(2*PI()/$B$15*B1046),\"\")","v":""},{"$f":"IF(A1046<>\"\",E1046*COS(2*PI()/$B$7*B1046),\"\")","v":""},{"$error":"#VALUE!"},{"$error":"#VALUE!"}]
["","","","","","",{"$error":"#VALUE!"},{"$error":"#VALUE!"}]
["","","","","","",{"$error":"#VALUE!"},{"$error":"#VALUE!"}]
["","","","","","",{"$error":"#VALUE!"},{"$error":"#VALUE!"}]
["","","","","","",{"$error":"#VALUE!"},{"$error":"#VALUE!"}]
["","","","","","",{"$error":"#VALUE!"},{"$error":"#VALUE!"}]
["","","","","","",{"$error":"#VALUE!"},{"$error":"#VALUE!"}]
["","","","","","",{"$error":"#VALUE!"},{"$error":"#VALUE!"}]
["","","","","","",{"$error":"#VALUE!"},{"$error":"#VALUE!"}]
["","","","","","",{"$error":"#VALUE!"},{"$error":"#VALUE!"}]
["","","","","","",{"$error":"#VALUE!"},{"$error":"#VALUE!"}]
["","","","","","",{"$error":"#VALUE!"},{"$error":"#VALUE!"}]
["","","","","","",{"$error":"#VALUE!"},{"$error":"#VALUE!"}]
["","","","","","",{"$error":"#VALUE!"},{"$error":"#VALUE!"}]
["","","","","","",{"$error":"#VALUE!"},{"$error":"#VALUE!"}]
["","","","","","",{"$error":"#VALUE!"},{"$error":"#VALUE!"}]
["","","","","","",{"$error":"#VALUE!"},{"$error":"#VALUE!"}]
["","","","","","",{"$error":"#VALUE!"},{"$error":"#VALUE!"}]
["","","","","","",{"$error":"#VALUE!"},{"$error":"#VALUE!"}]
["","","","","","",{"$error":"#VALUE!"},{"$error":"#VALUE!"}]
["","","","","","",{"$error":"#VALUE!"},{"$error":"#VALUE!"}]
["","","","","","",{"$error":"#VALUE!"},{"$error":"#VALUE!"}]
["","","","","","",{"$error":"#VALUE!"},{"$error":"#VALUE!"}]
["","","","","","",{"$error":"#VALUE!"},{"$error":"#VALUE!"}]
["","","","","","",{"$error":"#VALUE!"},{"$error":"#VALUE!"}]
["","","","","","",{"$error":"#VALUE!"},{"$error":"#VALUE!"}]
["","","","","","",{"$error":"#VALUE!"},{"$error":"#VALUE!"}]
["","","","","","",{"$error":"#VALUE!"},{"$error":"#VALUE!"}]
["","","","","","",{"$error":"#VALUE!"},{"$error":"#VALUE!"}]
["","","","","","",{"$error":"#VALUE!"},{"$error":"#VALUE!"}]
["","","","","","",{"$error":"#VALUE!"},{"$error":"#VALUE!"}]
["","","","","","",{"$error":"#VALUE!"},{"$error":"#VALUE!"}]
["","","","","","",{"$error":"#VALUE!"},{"$error":"#VALUE!"}]
["","","","","","",{"$error":"#VALUE!"},{"$error":"#VALUE!"}]
["","","","","","",{"$error":"#VALUE!"},{"$error":"#VALUE!"}]
["","","","","","",{"$error":"#VALUE!"},{"$error":"#VALUE!"}]
["","","","","","",{"$error":"#VALUE!"},{"$error":"#VALUE!"}]
["","","","","","",{"$error":"#VALUE!"},{"$error":"#VALUE!"}]
["","","","","","",{"$error":"#VALUE!"},{"$error":"#VALUE!"}]
["","","","","","",{"$error":"#VALUE!"},{"$error":"#VALUE!"}]
["","","","","","",{"$error":"#VALUE!"},{"$error":"#VALUE!"}]
["","","","","","",{"$error":"#VALUE!"},{"$error":"#VALUE!"}]
["","","","","","",{"$error":"#VALUE!"},{"$error":"#VALUE!"}]
["","","","","","",{"$error":"#VALUE!"},{"$error":"#VALUE!"}]
["","","","","","",{"$error":"#VALUE!"},{"$error":"#VALUE!"}]
["","","","","","",{"$error":"#VALUE!"},{"$error":"#VALUE!"}]
["","","","","","",{"$error":"#VALUE!"},{"$error":"#VALUE!"}]
["","","","","","",{"$error":"#VALUE!"},{"$error":"#VALUE!"}]
["","","","","","",{"$error":"#VALUE!"},{"$error":"#VALUE!"}]
["","","","","","",{"$error":"#VALUE!"},{"$error":"#VALUE!"}]
["","","","","","",{"$error":"#VALUE!"},{"$error":"#VALUE!"}]
["","","","","","",{"$error":"#VALUE!"},{"$error":"#VALUE!"}]
["","","","","","",{"$error":"#VALUE!"},{"$error":"#VALUE!"}]
["","","","","","",{"$error":"#VALUE!"},{"$error":"#VALUE!"}]
["","","","","","",{"$error":"#VALUE!"},{"$error":"#VALUE!"}]
["","","","","","",{"$error":"#VALUE!"},{"$error":"#VALUE!"}]
["","","","","","",{"$error":"#VALUE!"},{"$error":"#VALUE!"}]
["","","","","","",{"$error":"#VALUE!"},{"$error":"#VALUE!"}]
["","","","","","",{"$error":"#VALUE!"},{"$error":"#VALUE!"}]
["","","","","","",{"$error":"#VALUE!"},{"$error":"#VALUE!"}]
["","","","","","",{"$error":"#VALUE!"},{"$error":"#VALUE!"}]
["","","","","","",{"$error":"#VALUE!"},{"$error":"#VALUE!"}]
["","","","","","",{"$error":"#VALUE!"},{"$error":"#VALUE!"}]
["","","",{"$f":"IF(A1109<>\"\",MOD(B1109,24)/24,\"\")","v":""},"","",{"$f":"ABS(0.5*1.025*1*(F1109^3))","v":{"$error":"#VALUE!"}},{"$f":"G1109*$B$13","v":{"$error":"#VALUE!"}}]
[{"$f":"IF(IF(A1109<>\"\",A1109+1<=$B$16,0),A1109+1,\"\")","v":""},{"$f":"IF(A1110<>\"\",A1110*$B$13,\"\")","v":""},{"$f":"IF(A1110<>\"\",ROUNDDOWN(A1110*$B$13/24,0),\"\")","v":""},"",{"$f":"IF(A1110<>\"\",($B$4+$B$5)/2+($B$5-$B$4)/2*COS(2*PI()/$B$15*B1110),\"\")","v":""},{"$f":"IF(A1110<>\"\",E1110*COS(2*PI()/$B$7*B1110),\"\")","v":""},{"$error":"#VALUE!"},{"$error":"#VALUE!"}]
["","","","","","",{"$error":"#VALUE!"},{"$error":"#VALUE!"}]
["","","","","","",{"$error":"#VALUE!"},{"$error":"#VALUE!"}]
["","","","","","",{"$error":"#VALUE!"},{"$error":"#VALUE!"}]
["","","","","","",{"$error":"#VALUE!"},{"$error":"#VALUE!"}]
["","","","","","",{"$error":"#VALUE!"},{"$error":"#VALUE!"}]
["","","","","","",{"$error":"#VALUE!"},{"$error":"#VALUE!"}]
["","","","","","",{"$error":"#VALUE!"},{"$error":"#VALUE!"}]
["","","","","","",{"$error":"#VALUE!"},{"$error":"#VALUE!"}]
["","","","","","",{"$error":"#VALUE!"},{"$error":"#VALUE!"}]
["","","","","","",{"$error":"#VALUE!"},{"$error":"#VALUE!"}]
["","","","","","",{"$error":"#VALUE!"},{"$error":"#VALUE!"}]
["","","","","","",{"$error":"#VALUE!"},{"$error":"#VALUE!"}]
["","","","","","",{"$error":"#VALUE!"},{"$error":"#VALUE!"}]
["","","","","","",{"$error":"#VALUE!"},{"$error":"#VALUE!"}]
["","","","","","",{"$error":"#VALUE!"},{"$error":"#VALUE!"}]
["","","","","","",{"$error":"#VALUE!"},{"$error":"#VALUE!"}]
["","","","","","",{"$error":"#VALUE!"},{"$error":"#VALUE!"}]
["","","","","","",{"$error":"#VALUE!"},{"$error":"#VALUE!"}]
["","","","","","",{"$error":"#VALUE!"},{"$error":"#VALUE!"}]
["","","","","","",{"$error":"#VALUE!"},{"$error":"#VALUE!"}]
["","","","","","",{"$error":"#VALUE!"},{"$error":"#VALUE!"}]
["","","","","","",{"$error":"#VALUE!"},{"$error":"#VALUE!"}]
["","","","","","",{"$error":"#VALUE!"},{"$error":"#VALUE!"}]
["","","","","","",{"$error":"#VALUE!"},{"$error":"#VALUE!"}]
["","","","","","",{"$error":"#VALUE!"},{"$error":"#VALUE!"}]
["","","","","","",{"$error":"#VALUE!"},{"$error":"#VALUE!"}]
["","","","","","",{"$error":"#VALUE!"},{"$error":"#VALUE!"}]
["","","","","","",{"$error":"#VALUE!"},{"$error":"#VALUE!"}]
["","","","","","",{"$error":"#VALUE!"},{"$error":"#VALUE!"}]
["","","","","","",{"$error":"#VALUE!"},{"$error":"#VALUE!"}]
["","","","","","",{"$error":"#VALUE!"},{"$error":"#VALUE!"}]
["","","","","","",{"$error":"#VALUE!"},{"$error":"#VALUE!"}]
["","","","","","",{"$error":"#VALUE!"},{"$error":"#VALUE!"}]
["","","","","","",{"$error":"#VALUE!"},{"$error":"#VALUE!"}]
["","","","","","",{"$error":"#VALUE!"},{"$error":"#VALUE!"}]
["","","","","","",{"$error":"#VALUE!"},{"$error":"#VALUE!"}]
["","","","","","",{"$error":"#VALUE!"},{"$error":"#VALUE!"}]
["","","","","","",{"$error":"#VALUE!"},{"$error":"#VALUE!"}]
["","","","","","",{"$error":"#VALUE!"},{"$error":"#VALUE!"}]
["","","","","","",{"$error":"#VALUE!"},{"$error":"#VALUE!"}]
["","","","","","",{"$error":"#VALUE!"},{"$error":"#VALUE!"}]
["","","","","","",{"$error":"#VALUE!"},{"$error":"#VALUE!"}]
["","","","","","",{"$error":"#VALUE!"},{"$error":"#VALUE!"}]
["","","","","","",{"$error":"#VALUE!"},{"$error":"#VALUE!"}]
["","","","","","",{"$error":"#VALUE!"},{"$error":"#VALUE!"}]
["","","","","","",{"$error":"#VALUE!"},{"$error":"#VALUE!"}]
["","","","","","",{"$error":"#VALUE!"},{"$error":"#VALUE!"}]
["","","","","","",{"$error":"#VALUE!"},{"$error":"#VALUE!"}]
["","","","","","",{"$error":"#VALUE!"},{"$error":"#VALUE!"}]
["","","","","","",{"$error":"#VALUE!"},{"$error":"#VALUE!"}]
["","","","","","",{"$error":"#VALUE!"},{"$error":"#VALUE!"}]
["","","","","","",{"$error":"#VALUE!"},{"$error":"#VALUE!"}]
["","","","","","",{"$error":"#VALUE!"},{"$error":"#VALUE!"}]
["","","","","","",{"$error":"#VALUE!"},{"$error":"#VALUE!"}]
["","","","","","",{"$error":"#VALUE!"},{"$error":"#VALUE!"}]
["","","","","","",{"$error":"#VALUE!"},{"$error":"#VALUE!"}]
["","","","","","",{"$error":"#VALUE!"},{"$error":"#VALUE!"}]
["","","","","","",{"$error":"#VALUE!"},{"$error":"#VALUE!"}]
["","","","","","",{"$error":"#VALUE!"},{"$error":"#VALUE!"}]
["","","","","","",{"$error":"#VALUE!"},{"$error":"#VALUE!"}]
["","","","","","",{"$error":"#VALUE!"},{"$error":"#VALUE!"}]
["","","","","","",{"$error":"#VALUE!"},{"$error":"#VALUE!"}]
["","","",{"$f":"IF(A1173<>\"\",MOD(B1173,24)/24,\"\")","v":""},"","",{"$f":"ABS(0.5*1.025*1*(F1173^3))","v":{"$error":"#VALUE!"}},{"$f":"G1173*$B$13","v":{"$error":"#VALUE!"}}]
[{"$f":"IF(IF(A1173<>\"\",A1173+1<=$B$16,0),A1173+1,\"\")","v":""},{"$f":"IF(A1174<>\"\",A1174*$B$13,\"\")","v":""},{"$f":"IF(A1174<>\"\",ROUNDDOWN(A1174*$B$13/24,0),\"\")","v":""},"",{"$f":"IF(A1174<>\"\",($B$4+$B$5)/2+($B$5-$B$4)/2*COS(2*PI()/$B$15*B1174),\"\")","v":""},{"$f":"IF(A1174<>\"\",E1174*COS(2*PI()/$B$7*B1174),\"\")","v":""},{"$error":"#VALUE!"},{"$error":"#VALUE!"}]
["","","","","","",{"$error":"#VALUE!"},{"$error":"#VALUE!"}]
["","","","","","",{"$error":"#VALUE!"},{"$error":"#VALUE!"}]
["","","","","","",{"$error":"#VALUE!"},{"$error":"#VALUE!"}]
["","","","","","",{"$error":"#VALUE!"},{"$error":"#VALUE!"}]
["","","","","","",{"$error":"#VALUE!"},{"$error":"#VALUE!"}]
["","","","","","",{"$error":"#VALUE!"},{"$error":"#VALUE!"}]
["","","","","","",{"$error":"#VALUE!"},{"$error":"#VALUE!"}]
["","","","","","",{"$error":"#VALUE!"},{"$error":"#VALUE!"}]
["","","","","","",{"$error":"#VALUE!"},{"$error":"#VALUE!"}]
["","","","","","",{"$error":"#VALUE!"},{"$error":"#VALUE!"}]
["","","","","","",{"$error":"#VALUE!"},{"$error":"#VALUE!"}]
["","","","","","",{"$error":"#VALUE!"},{"$error":"#VALUE!"}]
["","","","","","",{"$error":"#VALUE!"},{"$error":"#VALUE!"}]
["","","","","","",{"$error":"#VALUE!"},{"$error":"#VALUE!"}]
["","","","","","",{"$error":"#VALUE!"},{"$error":"#VALUE!"}]
["","","","","","",{"$error":"#VALUE!"},{"$error":"#VALUE!"}]
["","","","","","",{"$error":"#VALUE!"},{"$error":"#VALUE!"}]
["","","","","","",{"$error":"#VALUE!"},{"$error":"#VALUE!"}]
["","","","","","",{"$error":"#VALUE!"},{"$error":"#VALUE!"}]
["","","","","","",{"$error":"#VALUE!"},{"$error":"#VALUE!"}]
["","","","","","",{"$error":"#VALUE!"},{"$error":"#VALUE!"}]
["","","","","","",{"$error":"#VALUE!"},{"$error":"#VALUE!"}]
["","","","","","",{"$error":"#VALUE!"},{"$error":"#VALUE!"}]
["","","","","","",{"$error":"#VALUE!"},{"$error":"#VALUE!"}]
["","","","","","",{"$error":"#VALUE!"},{"$error":"#VALUE!"}]
["","","","","","",{"$error":"#VALUE!"},{"$error":"#VALUE!"}]
["","","","","","",{"$error":"#VALUE!"},{"$error":"#VALUE!"}]
["","","","","","",{"$error":"#VALUE!"},{"$error":"#VALUE!"}]
["","","","","","",{"$error":"#VALUE!"},{"$error":"#VALUE!"}]
["","","","","","",{"$error":"#VALUE!"},{"$error":"#VALUE!"}]
["","","","","","",{"$error":"#VALUE!"},{"$error":"#VALUE!"}]
["","","","","","",{"$error":"#VALUE!"},{"$error":"#VALUE!"}]
["","","","","","",{"$error":"#VALUE!"},{"$error":"#VALUE!"}]
["","","","","","",{"$error":"#VALUE!"},{"$error":"#VALUE!"}]
["","","","","","",{"$error":"#VALUE!"},{"$error":"#VALUE!"}]
["","","","","","",{"$error":"#VALUE!"},{"$error":"#VALUE!"}]
["","","","","","",{"$error":"#VALUE!"},{"$error":"#VALUE!"}]
["","","","","","",{"$error":"#VALUE!"},{"$error":"#VALUE!"}]
["","","","","","",{"$error":"#VALUE!"},{"$error":"#VALUE!"}]
["","","","","","",{"$error":"#VALUE!"},{"$error":"#VALUE!"}]
["","","","","","",{"$error":"#VALUE!"},{"$error":"#VALUE!"}]
["","","","","","",{"$error":"#VALUE!"},{"$error":"#VALUE!"}]
["","","","","","",{"$error":"#VALUE!"},{"$error":"#VALUE!"}]
["","","","","","",{"$error":"#VALUE!"},{"$error":"#VALUE!"}]
["","","","","","",{"$error":"#VALUE!"},{"$error":"#VALUE!"}]
["","","","","","",{"$error":"#VALUE!"},{"$error":"#VALUE!"}]
["","","","","","",{"$error":"#VALUE!"},{"$error":"#VALUE!"}]
["","","","","","",{"$error":"#VALUE!"},{"$error":"#VALUE!"}]
["","","","","","",{"$error":"#VALUE!"},{"$error":"#VALUE!"}]
["","","","","","",{"$error":"#VALUE!"},{"$error":"#VALUE!"}]
["","","","","","",{"$error":"#VALUE!"},{"$error":"#VALUE!"}]
["","","","","","",{"$error":"#VALUE!"},{"$error":"#VALUE!"}]
["","","","","","",{"$error":"#VALUE!"},{"$error":"#VALUE!"}]
["","","","","","",{"$error":"#VALUE!"},{"$error":"#VALUE!"}]
["","","","","","",{"$error":"#VALUE!"},{"$error":"#VALUE!"}]
["","","","","","",{"$error":"#VALUE!"},{"$error":"#VALUE!"}]
["","","","","","",{"$error":"#VALUE!"},{"$error":"#VALUE!"}]
["","","","","","",{"$error":"#VALUE!"},{"$error":"#VALUE!"}]
["","","","","","",{"$error":"#VALUE!"},{"$error":"#VALUE!"}]
["","","","","","",{"$error":"#VALUE!"},{"$error":"#VALUE!"}]
["","","","","","",{"$error":"#VALUE!"},{"$error":"#VALUE!"}]
["","","","","","",{"$error":"#VALUE!"},{"$error":"#VALUE!"}]
["","","",{"$f":"IF(A1237<>\"\",MOD(B1237,24)/24,\"\")","v":""},"","",{"$f":"ABS(0.5*1.025*1*(F1237^3))","v":{"$error":"#VALUE!"}},{"$f":"G1237*$B$13","v":{"$error":"#VALUE!"}}]
[{"$f":"IF(IF(A1237<>\"\",A1237+1<=$B$16,0),A1237+1,\"\")","v":""},{"$f":"IF(A1238<>\"\",A1238*$B$13,\"\")","v":""},{"$f":"IF(A1238<>\"\",ROUNDDOWN(A1238*$B$13/24,0),\"\")","v":""},"",{"$f":"IF(A1238<>\"\",($B$4+$B$5)/2+($B$5-$B$4)/2*COS(2*PI()/$B$15*B1238),\"\")","v":""},{"$f":"IF(A1238<>\"\",E1238*COS(2*PI()/$B$7*B1238),\"\")","v":""},{"$error":"#VALUE!"},{"$error":"#VALUE!"}]
["","","","","","",{"$error":"#VALUE!"},{"$error":"#VALUE!"}]
["","","","","","",{"$error":"#VALUE!"},{"$error":"#VALUE!"}]
["","","","","","",{"$error":"#VALUE!"},{"$error":"#VALUE!"}]
["","","","","","",{"$error":"#VALUE!"},{"$error":"#VALUE!"}]
["","","","","","",{"$error":"#VALUE!"},{"$error":"#VALUE!"}]
["","","","","","",{"$error":"#VALUE!"},{"$error":"#VALUE!"}]
["","","","","","",{"$error":"#VALUE!"},{"$error":"#VALUE!"}]
["","","","","","",{"$error":"#VALUE!"},{"$error":"#VALUE!"}]
["","","","","","",{"$error":"#VALUE!"},{"$error":"#VALUE!"}]
["","","","","","",{"$error":"#VALUE!"},{"$error":"#VALUE!"}]
["","","","","","",{"$error":"#VALUE!"},{"$error":"#VALUE!"}]
["","","","","","",{"$error":"#VALUE!"},{"$error":"#VALUE!"}]
["","","","","","",{"$error":"#VALUE!"},{"$error":"#VALUE!"}]
["","","","","","",{"$error":"#VALUE!"},{"$error":"#VALUE!"}]
["","","","","","",{"$error":"#VALUE!"},{"$error":"#VALUE!"}]
["","","","","","",{"$error":"#VALUE!"},{"$error":"#VALUE!"}]
["","","","","","",{"$error":"#VALUE!"},{"$error":"#VALUE!"}]
["","","","","","",{"$error":"#VALUE!"},{"$error":"#VALUE!"}]
["","","","","","",{"$error":"#VALUE!"},{"$error":"#VALUE!"}]
["","","","","","",{"$error":"#VALUE!"},{"$error":"#VALUE!"}]
["","","","","","",{"$error":"#VALUE!"},{"$error":"#VALUE!"}]
["","","","","","",{"$error":"#VALUE!"},{"$error":"#VALUE!"}]
["","","","","","",{"$error":"#VALUE!"},{"$error":"#VALUE!"}]
["","","","","","",{"$error":"#VALUE!"},{"$error":"#VALUE!"}]
["","","","","","",{"$error":"#VALUE!"},{"$error":"#VALUE!"}]
["","","","","","",{"$error":"#VALUE!"},{"$error":"#VALUE!"}]
["","","","","","",{"$error":"#VALUE!"},{"$error":"#VALUE!"}]
["","","","","","",{"$error":"#VALUE!"},{"$error":"#VALUE!"}]
["","","","","","",{"$error":"#VALUE!"},{"$error":"#VALUE!"}]
["","","","","","",{"$error":"#VALUE!"},{"$error":"#VALUE!"}]
["","","","","","",{"$error":"#VALUE!"},{"$error":"#VALUE!"}]
["","","","","","",{"$error":"#VALUE!"},{"$error":"#VALUE!"}]
["","","","","","",{"$error":"#VALUE!"},{"$error":"#VALUE!"}]
["","","","","","",{"$error":"#VALUE!"},{"$error":"#VALUE!"}]
["","","","","","",{"$error":"#VALUE!"},{"$error":"#VALUE!"}]
["","","","","","",{"$error":"#VALUE!"},{"$error":"#VALUE!"}]
["","","","","","",{"$error":"#VALUE!"},{"$error":"#VALUE!"}]
["","","","","","",{"$error":"#VALUE!"},{"$error":"#VALUE!"}]
["","","","","","",{"$error":"#VALUE!"},{"$error":"#VALUE!"}]
["","","","","","",{"$error":"#VALUE!"},{"$error":"#VALUE!"}]
["","","","","","",{"$error":"#VALUE!"},{"$error":"#VALUE!"}]
["","","","","","",{"$error":"#VALUE!"},{"$error":"#VALUE!"}]
["","","","","","",{"$error":"#VALUE!"},{"$error":"#VALUE!"}]
["","","","","","",{"$error":"#VALUE!"},{"$error":"#VALUE!"}]
["","","","","","",{"$error":"#VALUE!"},{"$error":"#VALUE!"}]
["","","","","","",{"$error":"#VALUE!"},{"$error":"#VALUE!"}]
["","","","","","",{"$error":"#VALUE!"},{"$error":"#VALUE!"}]
["","","","","","",{"$error":"#VALUE!"},{"$error":"#VALUE!"}]
["","","","","","",{"$error":"#VALUE!"},{"$error":"#VALUE!"}]
["","","","","","",{"$error":"#VALUE!"},{"$error":"#VALUE!"}]
["","","","","","",{"$error":"#VALUE!"},{"$error":"#VALUE!"}]
["","","","","","",{"$error":"#VALUE!"},{"$error":"#VALUE!"}]
["","","","","","",{"$error":"#VALUE!"},{"$error":"#VALUE!"}]
["","","","","","",{"$error":"#VALUE!"},{"$error":"#VALUE!"}]
["","","","","","",{"$error":"#VALUE!"},{"$error":"#VALUE!"}]
["","","","","","",{"$error":"#VALUE!"},{"$error":"#VALUE!"}]
["","","","","","",{"$error":"#VALUE!"},{"$error":"#VALUE!"}]
["","","","","","",{"$error":"#VALUE!"},{"$error":"#VALUE!"}]
["","","","","","",{"$error":"#VALUE!"},{"$error":"#VALUE!"}]
["","","","","","",{"$error":"#VALUE!"},{"$error":"#VALUE!"}]
["","","","","","",{"$error":"#VALUE!"},{"$error":"#VALUE!"}]
["","","","","","",{"$error":"#VALUE!"},{"$error":"#VALUE!"}]
["","","",{"$f":"IF(A1301<>\"\",MOD(B1301,24)/24,\"\")","v":""},"","",{"$f":"ABS(0.5*1.025*1*(F1301^3))","v":{"$error":"#VALUE!"}},{"$f":"G1301*$B$13","v":{"$error":"#VALUE!"}}]
[{"$f":"IF(IF(A1301<>\"\",A1301+1<=$B$16,0),A1301+1,\"\")","v":""},{"$f":"IF(A1302<>\"\",A1302*$B$13,\"\")","v":""},{"$f":"IF(A1302<>\"\",ROUNDDOWN(A1302*$B$13/24,0),\"\")","v":""},"",{"$f":"IF(A1302<>\"\",($B$4+$B$5)/2+($B$5-$B$4)/2*COS(2*PI()/$B$15*B1302),\"\")","v":""},{"$f":"IF(A1302<>\"\",E1302*COS(2*PI()/$B$7*B1302),\"\")","v":""},{"$error":"#VALUE!"},{"$error":"#VALUE!"}]
["","","","","","",{"$error":"#VALUE!"},{"$error":"#VALUE!"}]
["","","","","","",{"$error":"#VALUE!"},{"$error":"#VALUE!"}]
["","","","","","",{"$error":"#VALUE!"},{"$error":"#VALUE!"}]
["","","","","","",{"$error":"#VALUE!"},{"$error":"#VALUE!"}]
["","","","","","",{"$error":"#VALUE!"},{"$error":"#VALUE!"}]
["","","","","","",{"$error":"#VALUE!"},{"$error":"#VALUE!"}]
["","","","","","",{"$error":"#VALUE!"},{"$error":"#VALUE!"}]
["","","","","","",{"$error":"#VALUE!"},{"$error":"#VALUE!"}]
["","","","","","",{"$error":"#VALUE!"},{"$error":"#VALUE!"}]
["","","","","","",{"$error":"#VALUE!"},{"$error":"#VALUE!"}]
["","","","","","",{"$error":"#VALUE!"},{"$error":"#VALUE!"}]
["","","","","","",{"$error":"#VALUE!"},{"$error":"#VALUE!"}]
["","","","","","",{"$error":"#VALUE!"},{"$error":"#VALUE!"}]
["","","","","","",{"$error":"#VALUE!"},{"$error":"#VALUE!"}]
["","","","","","",{"$error":"#VALUE!"},{"$error":"#VALUE!"}]
["","","","","","",{"$error":"#VALUE!"},{"$error":"#VALUE!"}]
["","","","","","",{"$error":"#VALUE!"},{"$error":"#VALUE!"}]
["","","","","","",{"$error":"#VALUE!"},{"$error":"#VALUE!"}]
["","","","","","",{"$error":"#VALUE!"},{"$error":"#VALUE!"}]
["","","","","","",{"$error":"#VALUE!"},{"$error":"#VALUE!"}]
["","","","","","",{"$error":"#VALUE!"},{"$error":"#VALUE!"}]
["","","","","","",{"$error":"#VALUE!"},{"$error":"#VALUE!"}]
["","","","","","",{"$error":"#VALUE!"},{"$error":"#VALUE!"}]
["","","","","","",{"$error":"#VALUE!"},{"$error":"#VALUE!"}]
["","","","","","",{"$error":"#VALUE!"},{"$error":"#VALUE!"}]
["","","","","","",{"$error":"#VALUE!"},{"$error":"#VALUE!"}]
["","","","","","",{"$error":"#VALUE!"},{"$error":"#VALUE!"}]
["","","","","","",{"$error":"#VALUE!"},{"$error":"#VALUE!"}]
["","","","","","",{"$error":"#VALUE!"},{"$error":"#VALUE!"}]
["","","","","","",{"$error":"#VALUE!"},{"$error":"#VALUE!"}]
["","","","","","",{"$error":"#VALUE!"},{"$error":"#VALUE!"}]
["","","","","","",{"$error":"#VALUE!"},{"$error":"#VALUE!"}]
["","","","","","",{"$error":"#VALUE!"},{"$error":"#VALUE!"}]
["","","","","","",{"$error":"#VALUE!"},{"$error":"#VALUE!"}]
["","","","","","",{"$error":"#VALUE!"},{"$error":"#VALUE!"}]
["","","","","","",{"$error":"#VALUE!"},{"$error":"#VALUE!"}]
["","","","","","",{"$error":"#VALUE!"},{"$error":"#VALUE!"}]
["","","","","","",{"$error":"#VALUE!"},{"$error":"#VALUE!"}]
["","","","","","",{"$error":"#VALUE!"},{"$error":"#VALUE!"}]
["","","","","","",{"$error":"#VALUE!"},{"$error":"#VALUE!"}]
["","","","","","",{"$error":"#VALUE!"},{"$error":"#VALUE!"}]
["","","","","","",{"$error":"#VALUE!"},{"$error":"#VALUE!"}]
["","","","","","",{"$error":"#VALUE!"},{"$error":"#VALUE!"}]
["","","","","","",{"$error":"#VALUE!"},{"$error":"#VALUE!"}]
["","","","","","",{"$error":"#VALUE!"},{"$error":"#VALUE!"}]
["","","","","","",{"$error":"#VALUE!"},{"$error":"#VALUE!"}]
["","","","","","",{"$error":"#VALUE!"},{"$error":"#VALUE!"}]
["","","","","","",{"$error":"#VALUE!"},{"$error":"#VALUE!"}]
["","","","","","",{"$error":"#VALUE!"},{"$error":"#VALUE!"}]
["","","","","","",{"$error":"#VALUE!"},{"$error":"#VALUE!"}]
["","","","","","",{"$error":"#VALUE!"},{"$error":"#VALUE!"}]
["","","","","","",{"$error":"#VALUE!"},{"$error":"#VALUE!"}]
["","","","","","",{"$error":"#VALUE!"},{"$error":"#VALUE!"}]
["","","","","","",{"$error":"#VALUE!"},{"$error":"#VALUE!"}]
["","","","","","",{"$error":"#VALUE!"},{"$error":"#VALUE!"}]
["","","","","","",{"$error":"#VALUE!"},{"$error":"#VALUE!"}]
["","","","","","",{"$error":"#VALUE!"},{"$error":"#VALUE!"}]
["","","","","","",{"$error":"#VALUE!"},{"$error":"#VALUE!"}]
["","","","","","",{"$error":"#VALUE!"},{"$error":"#VALUE!"}]
["","","","","","",{"$error":"#VALUE!"},{"$error":"#VALUE!"}]
["","","","","","",{"$error":"#VALUE!"},{"$error":"#VALUE!"}]
["","","","","","",{"$error":"#VALUE!"},{"$error":"#VALUE!"}]
["","","",{"$f":"IF(A1365<>\"\",MOD(B1365,24)/24,\"\")","v":""},"","",{"$f":"ABS(0.5*1.025*1*(F1365^3))","v":{"$error":"#VALUE!"}},{"$f":"G1365*$B$13","v":{"$error":"#VALUE!"}}]
[{"$f":"IF(IF(A1365<>\"\",A1365+1<=$B$16,0),A1365+1,\"\")","v":""},{"$f":"IF(A1366<>\"\",A1366*$B$13,\"\")","v":""},{"$f":"IF(A1366<>\"\",ROUNDDOWN(A1366*$B$13/24,0),\"\")","v":""},"",{"$f":"IF(A1366<>\"\",($B$4+$B$5)/2+($B$5-$B$4)/2*COS(2*PI()/$B$15*B1366),\"\")","v":""},{"$f":"IF(A1366<>\"\",E1366*COS(2*PI()/$B$7*B1366),\"\")","v":""},{"$error":"#VALUE!"},{"$error":"#VALUE!"}]
["","","","","","",{"$error":"#VALUE!"},{"$error":"#VALUE!"}]
["","","","","","",{"$error":"#VALUE!"},{"$error":"#VALUE!"}]
["","","","","","",{"$error":"#VALUE!"},{"$error":"#VALUE!"}]
["","","","","","",{"$error":"#VALUE!"},{"$error":"#VALUE!"}]
["","","","","","",{"$error":"#VALUE!"},{"$error":"#VALUE!"}]
["","","","","","",{"$error":"#VALUE!"},{"$error":"#VALUE!"}]
["","","","","","",{"$error":"#VALUE!"},{"$error":"#VALUE!"}]
["","","","","","",{"$error":"#VALUE!"},{"$error":"#VALUE!"}]
["","","","","","",{"$error":"#VALUE!"},{"$error":"#VALUE!"}]
["","","","","","",{"$error":"#VALUE!"},{"$error":"#VALUE!"}]
["","","","","","",{"$error":"#VALUE!"},{"$error":"#VALUE!"}]
["","","","","","",{"$error":"#VALUE!"},{"$error":"#VALUE!"}]
["","","","","","",{"$error":"#VALUE!"},{"$error":"#VALUE!"}]
["","","","","","",{"$error":"#VALUE!"},{"$error":"#VALUE!"}]
["","","","","","",{"$error":"#VALUE!"},{"$error":"#VALUE!"}]
["","","","","","",{"$error":"#VALUE!"},{"$error":"#VALUE!"}]
["","","","","","",{"$error":"#VALUE!"},{"$error":"#VALUE!"}]
["","","","","","",{"$error":"#VALUE!"},{"$error":"#VALUE!"}]
["","","","","","",{"$error":"#VALUE!"},{"$error":"#VALUE!"}]
["","","","","","",{"$error":"#VALUE!"},{"$error":"#VALUE!"}]
["","","","","","",{"$error":"#VALUE!"},{"$error":"#VALUE!"}]
["","","","","","",{"$error":"#VALUE!"},{"$error":"#VALUE!"}]
["","","","","","",{"$error":"#VALUE!"},{"$error":"#VALUE!"}]
["","","","","","",{"$error":"#VALUE!"},{"$error":"#VALUE!"}]
["","","","","","",{"$error":"#VALUE!"},{"$error":"#VALUE!"}]
["","","","","","",{"$error":"#VALUE!"},{"$error":"#VALUE!"}]
["","","","","","",{"$error":"#VALUE!"},{"$error":"#VALUE!"}]
["","","","","","",{"$error":"#VALUE!"},{"$error":"#VALUE!"}]
["","","","","","",{"$error":"#VALUE!"},{"$error":"#VALUE!"}]
["","","","","","",{"$error":"#VALUE!"},{"$error":"#VALUE!"}]
["","","","","","",{"$error":"#VALUE!"},{"$error":"#VALUE!"}]
["","","","","","",{"$error":"#VALUE!"},{"$error":"#VALUE!"}]
["","","","","","",{"$error":"#VALUE!"},{"$error":"#VALUE!"}]
["","","","","","",{"$error":"#VALUE!"},{"$error":"#VALUE!"}]
["","","","","","",{"$error":"#VALUE!"},{"$error":"#VALUE!"}]
["","","","","","",{"$error":"#VALUE!"},{"$error":"#VALUE!"}]
["","","","","","",{"$error":"#VALUE!"},{"$error":"#VALUE!"}]
["","","","","","",{"$error":"#VALUE!"},{"$error":"#VALUE!"}]
["","","","","","",{"$error":"#VALUE!"},{"$error":"#VALUE!"}]
["","","","","","",{"$error":"#VALUE!"},{"$error":"#VALUE!"}]
["","","","","","",{"$error":"#VALUE!"},{"$error":"#VALUE!"}]
["","","","","","",{"$error":"#VALUE!"},{"$error":"#VALUE!"}]
["","","","","","",{"$error":"#VALUE!"},{"$error":"#VALUE!"}]
["","","","","","",{"$error":"#VALUE!"},{"$error":"#VALUE!"}]
["","","","","","",{"$error":"#VALUE!"},{"$error":"#VALUE!"}]
["","","","","","",{"$error":"#VALUE!"},{"$error":"#VALUE!"}]
["","","","","","",{"$error":"#VALUE!"},{"$error":"#VALUE!"}]
["","","","","","",{"$error":"#VALUE!"},{"$error":"#VALUE!"}]
["","","","","","",{"$error":"#VALUE!"},{"$error":"#VALUE!"}]
["","","","","","",{"$error":"#VALUE!"},{"$error":"#VALUE!"}]
["","","","","","",{"$error":"#VALUE!"},{"$error":"#VALUE!"}]
["","","","","","",{"$error":"#VALUE!"},{"$error":"#VALUE!"}]
["","","","","","",{"$error":"#VALUE!"},{"$error":"#VALUE!"}]
["","","","","","",{"$error":"#VALUE!"},{"$error":"#VALUE!"}]
["","","","","","",{"$error":"#VALUE!"},{"$error":"#VALUE!"}]
["","","","","","",{"$error":"#VALUE!"},{"$error":"#VALUE!"}]
["","","","","","",{"$error":"#VALUE!"},{"$error":"#VALUE!"}]
["","","","","","",{"$error":"#VALUE!"},{"$error":"#VALUE!"}]
["","","","","","",{"$error":"#VALUE!"},{"$error":"#VALUE!"}]
["","","","","","",{"$error":"#VALUE!"},{"$error":"#VALUE!"}]
["","","","","","",{"$error":"#VALUE!"},{"$error":"#VALUE!"}]
["","","","","","",{"$error":"#VALUE!"},{"$error":"#VALUE!"}]
["","","",{"$f":"IF(A1429<>\"\",MOD(B1429,24)/24,\"\")","v":""},"","",{"$f":"ABS(0.5*1.025*1*(F1429^3))","v":{"$error":"#VALUE!"}},{"$f":"G1429*$B$13","v":{"$error":"#VALUE!"}}]
[{"$f":"IF(IF(A1429<>\"\",A1429+1<=$B$16,0),A1429+1,\"\")","v":""},{"$f":"IF(A1430<>\"\",A1430*$B$13,\"\")","v":""},{"$f":"IF(A1430<>\"\",ROUNDDOWN(A1430*$B$13/24,0),\"\")","v":""},"",{"$f":"IF(A1430<>\"\",($B$4+$B$5)/2+($B$5-$B$4)/2*COS(2*PI()/$B$15*B1430),\"\")","v":""},{"$f":"IF(A1430<>\"\",E1430*COS(2*PI()/$B$7*B1430),\"\")","v":""},{"$error":"#VALUE!"},{"$error":"#VALUE!"}]
["","","","","","",{"$error":"#VALUE!"},{"$error":"#VALUE!"}]
["","","","","","",{"$error":"#VALUE!"},{"$error":"#VALUE!"}]
["","","","","","",{"$error":"#VALUE!"},{"$error":"#VALUE!"}]
["","","","","","",{"$error":"#VALUE!"},{"$error":"#VALUE!"}]
["","","","","","",{"$error":"#VALUE!"},{"$error":"#VALUE!"}]
["","","","","","",{"$error":"#VALUE!"},{"$error":"#VALUE!"}]
["","","","","","",{"$error":"#VALUE!"},{"$error":"#VALUE!"}]
["","","","","","",{"$error":"#VALUE!"},{"$error":"#VALUE!"}]
["","","","","","",{"$error":"#VALUE!"},{"$error":"#VALUE!"}]
["","","","","","",{"$error":"#VALUE!"},{"$error":"#VALUE!"}]
["","","","","","",{"$error":"#VALUE!"},{"$error":"#VALUE!"}]
["","","","","","",{"$error":"#VALUE!"},{"$error":"#VALUE!"}]
["","","","","","",{"$error":"#VALUE!"},{"$error":"#VALUE!"}]
["","","","","","",{"$error":"#VALUE!"},{"$error":"#VALUE!"}]
["","","","","","",{"$error":"#VALUE!"},{"$error":"#VALUE!"}]
["","","","","","",{"$error":"#VALUE!"},{"$error":"#VALUE!"}]
["","","","","","",{"$error":"#VALUE!"},{"$error":"#VALUE!"}]
["","","","","","",{"$error":"#VALUE!"},{"$error":"#VALUE!"}]
["","","","","","",{"$error":"#VALUE!"},{"$error":"#VALUE!"}]
["","","","","","",{"$error":"#VALUE!"},{"$error":"#VALUE!"}]
["","","","","","",{"$error":"#VALUE!"},{"$error":"#VALUE!"}]
["","","","","","",{"$error":"#VALUE!"},{"$error":"#VALUE!"}]
["","","","","","",{"$error":"#VALUE!"},{"$error":"#VALUE!"}]
["","","","","","",{"$error":"#VALUE!"},{"$error":"#VALUE!"}]
["","","","","","",{"$error":"#VALUE!"},{"$error":"#VALUE!"}]
["","","","","","",{"$error":"#VALUE!"},{"$error":"#VALUE!"}]
["","","","","","",{"$error":"#VALUE!"},{"$error":"#VALUE!"}]
["","","","","","",{"$error":"#VALUE!"},{"$error":"#VALUE!"}]
["","","","","","",{"$error":"#VALUE!"},{"$error":"#VALUE!"}]
["","","","","","",{"$error":"#VALUE!"},{"$error":"#VALUE!"}]
["","","","","","",{"$error":"#VALUE!"},{"$error":"#VALUE!"}]
["","","","","","",{"$error":"#VALUE!"},{"$error":"#VALUE!"}]
["","","","","","",{"$error":"#VALUE!"},{"$error":"#VALUE!"}]
["","","","","","",{"$error":"#VALUE!"},{"$error":"#VALUE!"}]
["","","","","","",{"$error":"#VALUE!"},{"$error":"#VALUE!"}]
["","","","","","",{"$error":"#VALUE!"},{"$error":"#VALUE!"}]
["","","","","","",{"$error":"#VALUE!"},{"$error":"#VALUE!"}]
["","","","","","",{"$error":"#VALUE!"},{"$error":"#VALUE!"}]
["","","","","","",{"$error":"#VALUE!"},{"$error":"#VALUE!"}]
["","","","","","",{"$error":"#VALUE!"},{"$error":"#VALUE!"}]
["","","","","","",{"$error":"#VALUE!"},{"$error":"#VALUE!"}]
["","","","","","",{"$error":"#VALUE!"},{"$error":"#VALUE!"}]
["","","","","","",{"$error":"#VALUE!"},{"$error":"#VALUE!"}]
["","","","","","",{"$error":"#VALUE!"},{"$error":"#VALUE!"}]
["","","","","","",{"$error":"#VALUE!"},{"$error":"#VALUE!"}]
["","","","","","",{"$error":"#VALUE!"},{"$error":"#VALUE!"}]
["","","","","","",{"$error":"#VALUE!"},{"$error":"#VALUE!"}]
["","","","","","",{"$error":"#VALUE!"},{"$error":"#VALUE!"}]
["","","","","","",{"$error":"#VALUE!"},{"$error":"#VALUE!"}]
["","","","","","",{"$error":"#VALUE!"},{"$error":"#VALUE!"}]
["","","","","","",{"$error":"#VALUE!"},{"$error":"#VALUE!"}]
["","","","","","",{"$error":"#VALUE!"},{"$error":"#VALUE!"}]
["","","","","","",{"$error":"#VALUE!"},{"$error":"#VALUE!"}]
["","","","","","",{"$error":"#VALUE!"},{"$error":"#VALUE!"}]
["","","","","","",{"$error":"#VALUE!"},{"$error":"#VALUE!"}]
["","","","","","",{"$error":"#VALUE!"},{"$error":"#VALUE!"}]
["","","","","","",{"$error":"#VALUE!"},{"$error":"#VALUE!"}]
["","","","","","",{"$error":"#VALUE!"},{"$error":"#VALUE!"}]
["","","","","","",{"$error":"#VALUE!"},{"$error":"#VALUE!"}]
["","","","","","",{"$error":"#VALUE!"},{"$error":"#VALUE!"}]
["","","","","","",{"$error":"#VALUE!"},{"$error":"#VALUE!"}]
["","","","","","",{"$error":"#VALUE!"},{"$error":"#VALUE!"}]
["","","",{"$f":"IF(A1493<>\"\",MOD(B1493,24)/24,\"\")","v":""},"","",{"$f":"ABS(0.5*1.025*1*(F1493^3))","v":{"$error":"#VALUE!"}},{"$f":"G1493*$B$13","v":{"$error":"#VALUE!"}}]
[{"$f":"IF(IF(A1493<>\"\",A1493+1<=$B$16,0),A1493+1,\"\")","v":""},{"$f":"IF(A1494<>\"\",A1494*$B$13,\"\")","v":""},{"$f":"IF(A1494<>\"\",ROUNDDOWN(A1494*$B$13/24,0),\"\")","v":""},"",{"$f":"IF(A1494<>\"\",($B$4+$B$5)/2+($B$5-$B$4)/2*COS(2*PI()/$B$15*B1494),\"\")","v":""},{"$f":"IF(A1494<>\"\",E1494*COS(2*PI()/$B$7*B1494),\"\")","v":""},{"$error":"#VALUE!"},{"$error":"#VALUE!"}]
["","","","","","",{"$error":"#VALUE!"},{"$error":"#VALUE!"}]
["","","","","","",{"$error":"#VALUE!"},{"$error":"#VALUE!"}]
["","","","","","",{"$error":"#VALUE!"},{"$error":"#VALUE!"}]
["","","","","","",{"$error":"#VALUE!"},{"$error":"#VALUE!"}]
["","","","","","",{"$error":"#VALUE!"},{"$error":"#VALUE!"}]
["","","","","","",{"$error":"#VALUE!"},{"$error":"#VALUE!"}]
["","","","","","",{"$error":"#VALUE!"},{"$error":"#VALUE!"}]
["","","","","","",{"$error":"#VALUE!"},{"$error":"#VALUE!"}]
["","","","","","",{"$error":"#VALUE!"},{"$error":"#VALUE!"}]
["","","","","","",{"$error":"#VALUE!"},{"$error":"#VALUE!"}]
["","","","","","",{"$error":"#VALUE!"},{"$error":"#VALUE!"}]
["","","","","","",{"$error":"#VALUE!"},{"$error":"#VALUE!"}]
["","","","","","",{"$error":"#VALUE!"},{"$error":"#VALUE!"}]
["","","","","","",{"$error":"#VALUE!"},{"$error":"#VALUE!"}]
["","","","","","",{"$error":"#VALUE!"},{"$error":"#VALUE!"}]
["","","","","","",{"$error":"#VALUE!"},{"$error":"#VALUE!"}]
["","","","","","",{"$error":"#VALUE!"},{"$error":"#VALUE!"}]
["","","","","","",{"$error":"#VALUE!"},{"$error":"#VALUE!"}]
["","","","","","",{"$error":"#VALUE!"},{"$error":"#VALUE!"}]
["","","","","","",{"$error":"#VALUE!"},{"$error":"#VALUE!"}]
["","","","","","",{"$error":"#VALUE!"},{"$error":"#VALUE!"}]
["","","","","","",{"$error":"#VALUE!"},{"$error":"#VALUE!"}]
["","","","","","",{"$error":"#VALUE!"},{"$error":"#VALUE!"}]
["","","","","","",{"$error":"#VALUE!"},{"$error":"#VALUE!"}]
["","","","","","",{"$error":"#VALUE!"},{"$error":"#VALUE!"}]
["","","","","","",{"$error":"#VALUE!"},{"$error":"#VALUE!"}]
["","","","","","",{"$error":"#VALUE!"},{"$error":"#VALUE!"}]
["","","","","","",{"$error":"#VALUE!"},{"$error":"#VALUE!"}]
["","","","","","",{"$error":"#VALUE!"},{"$error":"#VALUE!"}]
["","","","","","",{"$error":"#VALUE!"},{"$error":"#VALUE!"}]
["","","","","","",{"$error":"#VALUE!"},{"$error":"#VALUE!"}]
["","","","","","",{"$error":"#VALUE!"},{"$error":"#VALUE!"}]
["","","","","","",{"$error":"#VALUE!"},{"$error":"#VALUE!"}]
["","","","","","",{"$error":"#VALUE!"},{"$error":"#VALUE!"}]
["","","","","","",{"$error":"#VALUE!"},{"$error":"#VALUE!"}]
["","","","","","",{"$error":"#VALUE!"},{"$error":"#VALUE!"}]
["","","","","","",{"$error":"#VALUE!"},{"$error":"#VALUE!"}]
["","","","","","",{"$error":"#VALUE!"},{"$error":"#VALUE!"}]
["","","","","","",{"$error":"#VALUE!"},{"$error":"#VALUE!"}]
["","","","","","",{"$error":"#VALUE!"},{"$error":"#VALUE!"}]
["","","","","","",{"$error":"#VALUE!"},{"$error":"#VALUE!"}]
["","","","","","",{"$error":"#VALUE!"},{"$error":"#VALUE!"}]
["","","","","","",{"$error":"#VALUE!"},{"$error":"#VALUE!"}]
["","","","","","",{"$error":"#VALUE!"},{"$error":"#VALUE!"}]
["","","","","","",{"$error":"#VALUE!"},{"$error":"#VALUE!"}]
["","","","","","",{"$error":"#VALUE!"},{"$error":"#VALUE!"}]
["","","","","","",{"$error":"#VALUE!"},{"$error":"#VALUE!"}]
["","","","","","",{"$error":"#VALUE!"},{"$error":"#VALUE!"}]
["","","","","","",{"$error":"#VALUE!"},{"$error":"#VALUE!"}]
["","","","","","",{"$error":"#VALUE!"},{"$error":"#VALUE!"}]
["","","","","","",{"$error":"#VALUE!"},{"$error":"#VALUE!"}]
["","","","","","",{"$error":"#VALUE!"},{"$error":"#VALUE!"}]
["","","","","","",{"$error":"#VALUE!"},{"$error":"#VALUE!"}]
["","","","","","",{"$error":"#VALUE!"},{"$error":"#VALUE!"}]
["","","","","","",{"$error":"#VALUE!"},{"$error":"#VALUE!"}]
["","","","","","",{"$error":"#VALUE!"},{"$error":"#VALUE!"}]
["","","","","","",{"$error":"#VALUE!"},{"$error":"#VALUE!"}]
["","","","","","",{"$error":"#VALUE!"},{"$error":"#VALUE!"}]
["","","","","","",{"$error":"#VALUE!"},{"$error":"#VALUE!"}]
["","","","","","",{"$error":"#VALUE!"},{"$error":"#VALUE!"}]
["","","","","","",{"$error":"#VALUE!"},{"$error":"#VALUE!"}]
["","","","","","",{"$error":"#VALUE!"},{"$error":"#VALUE!"}]
["","","",{"$f":"IF(A1557<>\"\",MOD(B1557,24)/24,\"\")","v":""},"","",{"$f":"ABS(0.5*1.025*1*(F1557^3))","v":{"$error":"#VALUE!"}},{"$f":"G1557*$B$13","v":{"$error":"#VALUE!"}}]
[{"$f":"IF(IF(A1557<>\"\",A1557+1<=$B$16,0),A1557+1,\"\")","v":""},{"$f":"IF(A1558<>\"\",A1558*$B$13,\"\")","v":""},{"$f":"IF(A1558<>\"\",ROUNDDOWN(A1558*$B$13/24,0),\"\")","v":""},"",{"$f":"IF(A1558<>\"\",($B$4+$B$5)/2+($B$5-$B$4)/2*COS(2*PI()/$B$15*B1558),\"\")","v":""},{"$f":"IF(A1558<>\"\",E1558*COS(2*PI()/$B$7*B1558),\"\")","v":""},{"$error":"#VALUE!"},{"$error":"#VALUE!"}]
["","","","","","",{"$error":"#VALUE!"},{"$error":"#VALUE!"}]
["","","","","","",{"$error":"#VALUE!"},{"$error":"#VALUE!"}]
["","","","","","",{"$error":"#VALUE!"},{"$error":"#VALUE!"}]
["","","","","","",{"$error":"#VALUE!"},{"$error":"#VALUE!"}]
["","","","","","",{"$error":"#VALUE!"},{"$error":"#VALUE!"}]
["","","","","","",{"$error":"#VALUE!"},{"$error":"#VALUE!"}]
["","","","","","",{"$error":"#VALUE!"},{"$error":"#VALUE!"}]
["","","","","","",{"$error":"#VALUE!"},{"$error":"#VALUE!"}]
["","","","","","",{"$error":"#VALUE!"},{"$error":"#VALUE!"}]
["","","","","","",{"$error":"#VALUE!"},{"$error":"#VALUE!"}]
["","","","","","",{"$error":"#VALUE!"},{"$error":"#VALUE!"}]
["","","","","","",{"$error":"#VALUE!"},{"$error":"#VALUE!"}]
["","","","","","",{"$error":"#VALUE!"},{"$error":"#VALUE!"}]
["","","","","","",{"$error":"#VALUE!"},{"$error":"#VALUE!"}]
["","","","","","",{"$error":"#VALUE!"},{"$error":"#VALUE!"}]
["","","","","","",{"$error":"#VALUE!"},{"$error":"#VALUE!"}]
["","","","","","",{"$error":"#VALUE!"},{"$error":"#VALUE!"}]
["","","","","","",{"$error":"#VALUE!"},{"$error":"#VALUE!"}]
["","","","","","",{"$error":"#VALUE!"},{"$error":"#VALUE!"}]
["","","","","","",{"$error":"#VALUE!"},{"$error":"#VALUE!"}]
["","","","","","",{"$error":"#VALUE!"},{"$error":"#VALUE!"}]
["","","","","","",{"$error":"#VALUE!"},{"$error":"#VALUE!"}]
["","","","","","",{"$error":"#VALUE!"},{"$error":"#VALUE!"}]
["","","","","","",{"$error":"#VALUE!"},{"$error":"#VALUE!"}]
["","","","","","",{"$error":"#VALUE!"},{"$error":"#VALUE!"}]
["","","","","","",{"$error":"#VALUE!"},{"$error":"#VALUE!"}]
["","","","","","",{"$error":"#VALUE!"},{"$error":"#VALUE!"}]
["","","","","","",{"$error":"#VALUE!"},{"$error":"#VALUE!"}]
["","","","","","",{"$error":"#VALUE!"},{"$error":"#VALUE!"}]
["","","","","","",{"$error":"#VALUE!"},{"$error":"#VALUE!"}]
["","","","","","",{"$error":"#VALUE!"},{"$error":"#VALUE!"}]
["","","","","","",{"$error":"#VALUE!"},{"$error":"#VALUE!"}]
["","","","","","",{"$error":"#VALUE!"},{"$error":"#VALUE!"}]
["","","","","","",{"$error":"#VALUE!"},{"$error":"#VALUE!"}]
["","","","","","",{"$error":"#VALUE!"},{"$error":"#VALUE!"}]
["","","","","","",{"$error":"#VALUE!"},{"$error":"#VALUE!"}]
["","","","","","",{"$error":"#VALUE!"},{"$error":"#VALUE!"}]
["","","","","","",{"$error":"#VALUE!"},{"$error":"#VALUE!"}]
["","","","","","",{"$error":"#VALUE!"},{"$error":"#VALUE!"}]
["","","","","","",{"$error":"#VALUE!"},{"$error":"#VALUE!"}]
["","","","","","",{"$error":"#VALUE!"},{"$error":"#VALUE!"}]
["","","","","","",{"$error":"#VALUE!"},{"$error":"#VALUE!"}]
["","","","","","",{"$error":"#VALUE!"},{"$error":"#VALUE!"}]
["","","","","","",{"$error":"#VALUE!"},{"$error":"#VALUE!"}]
["","","","","","",{"$error":"#VALUE!"},{"$error":"#VALUE!"}]
["","","","","","",{"$error":"#VALUE!"},{"$error":"#VALUE!"}]
["","","","","","",{"$error":"#VALUE!"},{"$error":"#VALUE!"}]
["","","","","","",{"$error":"#VALUE!"},{"$error":"#VALUE!"}]
["","","","","","",{"$error":"#VALUE!"},{"$error":"#VALUE!"}]
["","","","","","",{"$error":"#VALUE!"},{"$error":"#VALUE!"}]
["","","","","","",{"$error":"#VALUE!"},{"$error":"#VALUE!"}]
["","","","","","",{"$error":"#VALUE!"},{"$error":"#VALUE!"}]
["","","","","","",{"$error":"#VALUE!"},{"$error":"#VALUE!"}]
["","","","","","",{"$error":"#VALUE!"},{"$error":"#VALUE!"}]
["","","","","","",{"$error":"#VALUE!"},{"$error":"#VALUE!"}]
["","","","","","",{"$error":"#VALUE!"},{"$error":"#VALUE!"}]
["","","","","","",{"$error":"#VALUE!"},{"$error":"#VALUE!"}]
["","","","","","",{"$error":"#VALUE!"},{"$error":"#VALUE!"}]
["","","","","","",{"$error":"#VALUE!"},{"$error":"#VALUE!"}]
["","","","","","",{"$error":"#VALUE!"},{"$error":"#VALUE!"}]
["","","","","","",{"$error":"#VALUE!"},{"$error":"#VALUE!"}]
["","","","","","",{"$error":"#VALUE!"},{"$error":"#VALUE!"}]
["","","",{"$f":"IF(A1621<>\"\",MOD(B1621,24)/24,\"\")","v":""},"","",{"$f":"ABS(0.5*1.025*1*(F1621^3))","v":{"$error":"#VALUE!"}},{"$f":"G1621*$B$13","v":{"$error":"#VALUE!"}}]
[{"$f":"IF(IF(A1621<>\"\",A1621+1<=$B$16,0),A1621+1,\"\")","v":""},{"$f":"IF(A1622<>\"\",A1622*$B$13,\"\")","v":""},{"$f":"IF(A1622<>\"\",ROUNDDOWN(A1622*$B$13/24,0),\"\")","v":""},"",{"$f":"IF(A1622<>\"\",($B$4+$B$5)/2+($B$5-$B$4)/2*COS(2*PI()/$B$15*B1622),\"\")","v":""},{"$f":"IF(A1622<>\"\",E1622*COS(2*PI()/$B$7*B1622),\"\")","v":""},{"$error":"#VALUE!"},{"$error":"#VALUE!"}]
["","","","","","",{"$error":"#VALUE!"},{"$error":"#VALUE!"}]
["","","","","","",{"$error":"#VALUE!"},{"$error":"#VALUE!"}]
["","","","","","",{"$error":"#VALUE!"},{"$error":"#VALUE!"}]
["","","","","","",{"$error":"#VALUE!"},{"$error":"#VALUE!"}]
["","","","","","",{"$error":"#VALUE!"},{"$error":"#VALUE!"}]
["","","","","","",{"$error":"#VALUE!"},{"$error":"#VALUE!"}]
["","","","","","",{"$error":"#VALUE!"},{"$error":"#VALUE!"}]
["","","","","","",{"$error":"#VALUE!"},{"$error":"#VALUE!"}]
["","","","","","",{"$error":"#VALUE!"},{"$error":"#VALUE!"}]
["","","","","","",{"$error":"#VALUE!"},{"$error":"#VALUE!"}]
["","","","","","",{"$error":"#VALUE!"},{"$error":"#VALUE!"}]
["","","","","","",{"$error":"#VALUE!"},{"$error":"#VALUE!"}]
["","","","","","",{"$error":"#VALUE!"},{"$error":"#VALUE!"}]
["","","","","","",{"$error":"#VALUE!"},{"$error":"#VALUE!"}]
["","","","","","",{"$error":"#VALUE!"},{"$error":"#VALUE!"}]
["","","","","","",{"$error":"#VALUE!"},{"$error":"#VALUE!"}]
["","","","","","",{"$error":"#VALUE!"},{"$error":"#VALUE!"}]
["","","","","","",{"$error":"#VALUE!"},{"$error":"#VALUE!"}]
["","","","","","",{"$error":"#VALUE!"},{"$error":"#VALUE!"}]
["","","","","","",{"$error":"#VALUE!"},{"$error":"#VALUE!"}]
["","","","","","",{"$error":"#VALUE!"},{"$error":"#VALUE!"}]
["","","","","","",{"$error":"#VALUE!"},{"$error":"#VALUE!"}]
["","","","","","",{"$error":"#VALUE!"},{"$error":"#VALUE!"}]
["","","","","","",{"$error":"#VALUE!"},{"$error":"#VALUE!"}]
["","","","","","",{"$error":"#VALUE!"},{"$error":"#VALUE!"}]
["","","","","","",{"$error":"#VALUE!"},{"$error":"#VALUE!"}]
["","","","","","",{"$error":"#VALUE!"},{"$error":"#VALUE!"}]
["","","","","","",{"$error":"#VALUE!"},{"$error":"#VALUE!"}]
["","","","","","",{"$error":"#VALUE!"},{"$error":"#VALUE!"}]
["","","","","","",{"$error":"#VALUE!"},{"$error":"#VALUE!"}]
["","","","","","",{"$error":"#VALUE!"},{"$error":"#VALUE!"}]
["","","","","","",{"$error":"#VALUE!"},{"$error":"#VALUE!"}]
["","","","","","",{"$error":"#VALUE!"},{"$error":"#VALUE!"}]
["","","","","","",{"$error":"#VALUE!"},{"$error":"#VALUE!"}]
["","","","","","",{"$error":"#VALUE!"},{"$error":"#VALUE!"}]
["","","","","","",{"$error":"#VALUE!"},{"$error":"#VALUE!"}]
["","","","","","",{"$error":"#VALUE!"},{"$error":"#VALUE!"}]
["","","","","","",{"$error":"#VALUE!"},{"$error":"#VALUE!"}]
["","","","","","",{"$error":"#VALUE!"},{"$error":"#VALUE!"}]
["","","","","","",{"$error":"#VALUE!"},{"$error":"#VALUE!"}]
["","","","","","",{"$error":"#VALUE!"},{"$error":"#VALUE!"}]
["","","","","","",{"$error":"#VALUE!"},{"$error":"#VALUE!"}]
["","","","","","",{"$error":"#VALUE!"},{"$error":"#VALUE!"}]
["","","","","","",{"$error":"#VALUE!"},{"$error":"#VALUE!"}]
["","","","","","",{"$error":"#VALUE!"},{"$error":"#VALUE!"}]
["","","","","","",{"$error":"#VALUE!"},{"$error":"#VALUE!"}]
["","","","","","",{"$error":"#VALUE!"},{"$error":"#VALUE!"}]
["","","","","","",{"$error":"#VALUE!"},{"$error":"#VALUE!"}]
["","","","","","",{"$error":"#VALUE!"},{"$error":"#VALUE!"}]
["","","","","","",{"$error":"#VALUE!"},{"$error":"#VALUE!"}]
["","","","","","",{"$error":"#VALUE!"},{"$error":"#VALUE!"}]
["","","","","","",{"$error":"#VALUE!"},{"$error":"#VALUE!"}]
["","","","","","",{"$error":"#VALUE!"},{"$error":"#VALUE!"}]
["","","","","","",{"$error":"#VALUE!"},{"$error":"#VALUE!"}]
["","","","","","",{"$error":"#VALUE!"},{"$error":"#VALUE!"}]
["","","","","","",{"$error":"#VALUE!"},{"$error":"#VALUE!"}]
["","","","","","",{"$error":"#VALUE!"},{"$error":"#VALUE!"}]
["","","","","","",{"$error":"#VALUE!"},{"$error":"#VALUE!"}]
["","","","","","",{"$error":"#VALUE!"},{"$error":"#VALUE!"}]
["","","","","","",{"$error":"#VALUE!"},{"$error":"#VALUE!"}]
["","","","","","",{"$error":"#VALUE!"},{"$error":"#VALUE!"}]
["","","","","","",{"$error":"#VALUE!"},{"$error":"#VALUE!"}]
["","","",{"$f":"IF(A1685<>\"\",MOD(B1685,24)/24,\"\")","v":""},"","",{"$f":"ABS(0.5*1.025*1*(F1685^3))","v":{"$error":"#VALUE!"}},{"$f":"G1685*$B$13","v":{"$error":"#VALUE!"}}]
[{"$f":"IF(IF(A1685<>\"\",A1685+1<=$B$16,0),A1685+1,\"\")","v":""},{"$f":"IF(A1686<>\"\",A1686*$B$13,\"\")","v":""},{"$f":"IF(A1686<>\"\",ROUNDDOWN(A1686*$B$13/24,0),\"\")","v":""},"",{"$f":"IF(A1686<>\"\",($B$4+$B$5)/2+($B$5-$B$4)/2*COS(2*PI()/$B$15*B1686),\"\")","v":""},{"$f":"IF(A1686<>\"\",E1686*COS(2*PI()/$B$7*B1686),\"\")","v":""},{"$error":"#VALUE!"},{"$error":"#VALUE!"}]
["","","","","","",{"$error":"#VALUE!"},{"$error":"#VALUE!"}]
["","","","","","",{"$error":"#VALUE!"},{"$error":"#VALUE!"}]
["","","","","","",{"$error":"#VALUE!"},{"$error":"#VALUE!"}]
["","","","","","",{"$error":"#VALUE!"},{"$error":"#VALUE!"}]
["","","","","","",{"$error":"#VALUE!"},{"$error":"#VALUE!"}]
["","","","","","",{"$error":"#VALUE!"},{"$error":"#VALUE!"}]
["","","","","","",{"$error":"#VALUE!"},{"$error":"#VALUE!"}]
["","","","","","",{"$error":"#VALUE!"},{"$error":"#VALUE!"}]
["","","","","","",{"$error":"#VALUE!"},{"$error":"#VALUE!"}]
["","","","","","",{"$error":"#VALUE!"},{"$error":"#VALUE!"}]
["","","","","","",{"$error":"#VALUE!"},{"$error":"#VALUE!"}]
["","","","","","",{"$error":"#VALUE!"},{"$error":"#VALUE!"}]
["","","","","","",{"$error":"#VALUE!"},{"$error":"#VALUE!"}]
["","","","","","",{"$error":"#VALUE!"},{"$error":"#VALUE!"}]
["","","","","","",{"$error":"#VALUE!"},{"$error":"#VALUE!"}]
["","","","","","",{"$error":"#VALUE!"},{"$error":"#VALUE!"}]
["","","","","","",{"$error":"#VALUE!"},{"$error":"#VALUE!"}]
["","","","","","",{"$error":"#VALUE!"},{"$error":"#VALUE!"}]
["","","","","","",{"$error":"#VALUE!"},{"$error":"#VALUE!"}]
["","","","","","",{"$error":"#VALUE!"},{"$error":"#VALUE!"}]
["","","","","","",{"$error":"#VALUE!"},{"$error":"#VALUE!"}]
["","","","","","",{"$error":"#VALUE!"},{"$error":"#VALUE!"}]
["","","","","","",{"$error":"#VALUE!"},{"$error":"#VALUE!"}]
["","","","","","",{"$error":"#VALUE!"},{"$error":"#VALUE!"}]
["","","","","","",{"$error":"#VALUE!"},{"$error":"#VALUE!"}]
["","","","","","",{"$error":"#VALUE!"},{"$error":"#VALUE!"}]
["","","","","","",{"$error":"#VALUE!"},{"$error":"#VALUE!"}]
["","","","","","",{"$error":"#VALUE!"},{"$error":"#VALUE!"}]
["","","","","","",{"$error":"#VALUE!"},{"$error":"#VALUE!"}]
["","","","","","",{"$error":"#VALUE!"},{"$error":"#VALUE!"}]
["","","","","","",{"$error":"#VALUE!"},{"$error":"#VALUE!"}]
["","","","","","",{"$error":"#VALUE!"},{"$error":"#VALUE!"}]
["","","","","","",{"$error":"#VALUE!"},{"$error":"#VALUE!"}]
["","","","","","",{"$error":"#VALUE!"},{"$error":"#VALUE!"}]
["","","","","","",{"$error":"#VALUE!"},{"$error":"#VALUE!"}]
["","","","","","",{"$error":"#VALUE!"},{"$error":"#VALUE!"}]
["","","","","","",{"$error":"#VALUE!"},{"$error":"#VALUE!"}]
["","","","","","",{"$error":"#VALUE!"},{"$error":"#VALUE!"}]
["","","","","","",{"$error":"#VALUE!"},{"$error":"#VALUE!"}]
["","","","","","",{"$error":"#VALUE!"},{"$error":"#VALUE!"}]
["","","","","","",{"$error":"#VALUE!"},{"$error":"#VALUE!"}]
["","","","","","",{"$error":"#VALUE!"},{"$error":"#VALUE!"}]
["","","","","","",{"$error":"#VALUE!"},{"$error":"#VALUE!"}]
["","","","","","",{"$error":"#VALUE!"},{"$error":"#VALUE!"}]
["","","","","","",{"$error":"#VALUE!"},{"$error":"#VALUE!"}]
["","","","","","",{"$error":"#VALUE!"},{"$error":"#VALUE!"}]
["","","","","","",{"$error":"#VALUE!"},{"$error":"#VALUE!"}]
["","","","","","",{"$error":"#VALUE!"},{"$error":"#VALUE!"}]
["","","","","","",{"$error":"#VALUE!"},{"$error":"#VALUE!"}]
["","","","","","",{"$error":"#VALUE!"},{"$error":"#VALUE!"}]
["","","","","","",{"$error":"#VALUE!"},{"$error":"#VALUE!"}]
["","","","","","",{"$error":"#VALUE!"},{"$error":"#VALUE!"}]
["","","","","","",{"$error":"#VALUE!"},{"$error":"#VALUE!"}]
["","","","","","",{"$error":"#VALUE!"},{"$error":"#VALUE!"}]
["","","","","","",{"$error":"#VALUE!"},{"$error":"#VALUE!"}]
["","","","","","",{"$error":"#VALUE!"},{"$error":"#VALUE!"}]
["","","","","","",{"$error":"#VALUE!"},{"$error":"#VALUE!"}]
["","","","","","",{"$error":"#VALUE!"},{"$error":"#VALUE!"}]
["","","","","","",{"$error":"#VALUE!"},{"$error":"#VALUE!"}]
["","","","","","",{"$error":"#VALUE!"},{"$error":"#VALUE!"}]
["","","","","","",{"$error":"#VALUE!"},{"$error":"#VALUE!"}]
["","","","","","",{"$error":"#VALUE!"},{"$error":"#VALUE!"}]
["","","",{"$f":"IF(A1749<>\"\",MOD(B1749,24)/24,\"\")","v":""},"","",{"$f":"ABS(0.5*1.025*1*(F1749^3))","v":{"$error":"#VALUE!"}},{"$f":"G1749*$B$13","v":{"$error":"#VALUE!"}}]
[{"$f":"IF(IF(A1749<>\"\",A1749+1<=$B$16,0),A1749+1,\"\")","v":""},{"$f":"IF(A1750<>\"\",A1750*$B$13,\"\")","v":""},{"$f":"IF(A1750<>\"\",ROUNDDOWN(A1750*$B$13/24,0),\"\")","v":""},"",{"$f":"IF(A1750<>\"\",($B$4+$B$5)/2+($B$5-$B$4)/2*COS(2*PI()/$B$15*B1750),\"\")","v":""},{"$f":"IF(A1750<>\"\",E1750*COS(2*PI()/$B$7*B1750),\"\")","v":""},{"$error":"#VALUE!"},{"$error":"#VALUE!"}]
["","","","","","",{"$error":"#VALUE!"},{"$error":"#VALUE!"}]
["","","","","","",{"$error":"#VALUE!"},{"$error":"#VALUE!"}]
["","","","","","",{"$error":"#VALUE!"},{"$error":"#VALUE!"}]
["","","","","","",{"$error":"#VALUE!"},{"$error":"#VALUE!"}]
["","","","","","",{"$error":"#VALUE!"},{"$error":"#VALUE!"}]
["","","","","","",{"$error":"#VALUE!"},{"$error":"#VALUE!"}]
["","","","","","",{"$error":"#VALUE!"},{"$error":"#VALUE!"}]
["","","","","","",{"$error":"#VALUE!"},{"$error":"#VALUE!"}]
["","","","","","",{"$error":"#VALUE!"},{"$error":"#VALUE!"}]
["","","","","","",{"$error":"#VALUE!"},{"$error":"#VALUE!"}]
["","","","","","",{"$error":"#VALUE!"},{"$error":"#VALUE!"}]
["","","","","","",{"$error":"#VALUE!"},{"$error":"#VALUE!"}]
["","","","","","",{"$error":"#VALUE!"},{"$error":"#VALUE!"}]
["","","","","","",{"$error":"#VALUE!"},{"$error":"#VALUE!"}]
["","","","","","",{"$error":"#VALUE!"},{"$error":"#VALUE!"}]
["","","","","","",{"$error":"#VALUE!"},{"$error":"#VALUE!"}]
["","","","","","",{"$error":"#VALUE!"},{"$error":"#VALUE!"}]
["","","","","","",{"$error":"#VALUE!"},{"$error":"#VALUE!"}]
["","","","","","",{"$error":"#VALUE!"},{"$error":"#VALUE!"}]
["","","","","","",{"$error":"#VALUE!"},{"$error":"#VALUE!"}]
["","","","","","",{"$error":"#VALUE!"},{"$error":"#VALUE!"}]
["","","","","","",{"$error":"#VALUE!"},{"$error":"#VALUE!"}]
["","","","","","",{"$error":"#VALUE!"},{"$error":"#VALUE!"}]
["","","","","","",{"$error":"#VALUE!"},{"$error":"#VALUE!"}]
["","","","","","",{"$error":"#VALUE!"},{"$error":"#VALUE!"}]
["","","","","","",{"$error":"#VALUE!"},{"$error":"#VALUE!"}]
["","","","","","",{"$error":"#VALUE!"},{"$error":"#VALUE!"}]
["","","","","","",{"$error":"#VALUE!"},{"$error":"#VALUE!"}]
["","","","","","",{"$error":"#VALUE!"},{"$error":"#VALUE!"}]
["","","","","","",{"$error":"#VALUE!"},{"$error":"#VALUE!"}]
["","","","","","",{"$error":"#VALUE!"},{"$error":"#VALUE!"}]
["","","","","","",{"$error":"#VALUE!"},{"$error":"#VALUE!"}]
["","","","","","",{"$error":"#VALUE!"},{"$error":"#VALUE!"}]
["","","","","","",{"$error":"#VALUE!"},{"$error":"#VALUE!"}]
["","","","","","",{"$error":"#VALUE!"},{"$error":"#VALUE!"}]
["","","","","","",{"$error":"#VALUE!"},{"$error":"#VALUE!"}]
["","","","","","",{"$error":"#VALUE!"},{"$error":"#VALUE!"}]
["","","","","","",{"$error":"#VALUE!"},{"$error":"#VALUE!"}]
["","","","","","",{"$error":"#VALUE!"},{"$error":"#VALUE!"}]
["","","","","","",{"$error":"#VALUE!"},{"$error":"#VALUE!"}]
["","","","","","",{"$error":"#VALUE!"},{"$error":"#VALUE!"}]
["","","","","","",{"$error":"#VALUE!"},{"$error":"#VALUE!"}]
["","","","","","",{"$error":"#VALUE!"},{"$error":"#VALUE!"}]
["","","","","","",{"$error":"#VALUE!"},{"$error":"#VALUE!"}]
["","","","","","",{"$error":"#VALUE!"},{"$error":"#VALUE!"}]
["","","","","","",{"$error":"#VALUE!"},{"$error":"#VALUE!"}]
["","","","","","",{"$error":"#VALUE!"},{"$error":"#VALUE!"}]
["","","","","","",{"$error":"#VALUE!"},{"$error":"#VALUE!"}]
["","","","","","",{"$error":"#VALUE!"},{"$error":"#VALUE!"}]
["","","","","","",{"$error":"#VALUE!"},{"$error":"#VALUE!"}]
["","","","","","",{"$error":"#VALUE!"},{"$error":"#VALUE!"}]
["","","","","","",{"$error":"#VALUE!"},{"$error":"#VALUE!"}]
["","","","","","",{"$error":"#VALUE!"},{"$error":"#VALUE!"}]
["","","","","","",{"$error":"#VALUE!"},{"$error":"#VALUE!"}]
["","","","","","",{"$error":"#VALUE!"},{"$error":"#VALUE!"}]
["","","","","","",{"$error":"#VALUE!"},{"$error":"#VALUE!"}]
["","","","","","",{"$error":"#VALUE!"},{"$error":"#VALUE!"}]
["","","","","","",{"$error":"#VALUE!"},{"$error":"#VALUE!"}]
["","","","","","",{"$error":"#VALUE!"},{"$error":"#VALUE!"}]
["","","","","","",{"$error":"#VALUE!"},{"$error":"#VALUE!"}]
["","","","","","",{"$error":"#VALUE!"},{"$error":"#VALUE!"}]
["","","","","","",{"$error":"#VALUE!"},{"$error":"#VALUE!"}]
["","","",{"$f":"IF(A1813<>\"\",MOD(B1813,24)/24,\"\")","v":""},"","",{"$f":"ABS(0.5*1.025*1*(F1813^3))","v":{"$error":"#VALUE!"}},{"$f":"G1813*$B$13","v":{"$error":"#VALUE!"}}]
[{"$f":"IF(IF(A1813<>\"\",A1813+1<=$B$16,0),A1813+1,\"\")","v":""},{"$f":"IF(A1814<>\"\",A1814*$B$13,\"\")","v":""},{"$f":"IF(A1814<>\"\",ROUNDDOWN(A1814*$B$13/24,0),\"\")","v":""},"",{"$f":"IF(A1814<>\"\",($B$4+$B$5)/2+($B$5-$B$4)/2*COS(2*PI()/$B$15*B1814),\"\")","v":""},{"$f":"IF(A1814<>\"\",E1814*COS(2*PI()/$B$7*B1814),\"\")","v":""},{"$error":"#VALUE!"},{"$error":"#VALUE!"}]
["","","","","","",{"$error":"#VALUE!"},{"$error":"#VALUE!"}]
["","","","","","",{"$error":"#VALUE!"},{"$error":"#VALUE!"}]
["","","","","","",{"$error":"#VALUE!"},{"$error":"#VALUE!"}]
["","","","","","",{"$error":"#VALUE!"},{"$error":"#VALUE!"}]
["","","","","","",{"$error":"#VALUE!"},{"$error":"#VALUE!"}]
["","","","","","",{"$error":"#VALUE!"},{"$error":"#VALUE!"}]
["","","","","","",{"$error":"#VALUE!"},{"$error":"#VALUE!"}]
["","","","","","",{"$error":"#VALUE!"},{"$error":"#VALUE!"}]
["","","","","","",{"$error":"#VALUE!"},{"$error":"#VALUE!"}]
["","","","","","",{"$error":"#VALUE!"},{"$error":"#VALUE!"}]
["","","","","","",{"$error":"#VALUE!"},{"$error":"#VALUE!"}]
["","","","","","",{"$error":"#VALUE!"},{"$error":"#VALUE!"}]
["","","","","","",{"$error":"#VALUE!"},{"$error":"#VALUE!"}]
["","","","","","",{"$error":"#VALUE!"},{"$error":"#VALUE!"}]
["","","","","","",{"$error":"#VALUE!"},{"$error":"#VALUE!"}]
["","","","","","",{"$error":"#VALUE!"},{"$error":"#VALUE!"}]
["","","","","","",{"$error":"#VALUE!"},{"$error":"#VALUE!"}]
["","","","","","",{"$error":"#VALUE!"},{"$error":"#VALUE!"}]
["","","","","","",{"$error":"#VALUE!"},{"$error":"#VALUE!"}]
["","","","","","",{"$error":"#VALUE!"},{"$error":"#VALUE!"}]
["","","","","","",{"$error":"#VALUE!"},{"$error":"#VALUE!"}]
["","","","","","",{"$error":"#VALUE!"},{"$error":"#VALUE!"}]
["","","","","","",{"$error":"#VALUE!"},{"$error":"#VALUE!"}]
["","","","","","",{"$error":"#VALUE!"},{"$error":"#VALUE!"}]
["","","","","","",{"$error":"#VALUE!"},{"$error":"#VALUE!"}]
["","","","","","",{"$error":"#VALUE!"},{"$error":"#VALUE!"}]
["","","","","","",{"$error":"#VALUE!"},{"$error":"#VALUE!"}]
["","","","","","",{"$error":"#VALUE!"},{"$error":"#VALUE!"}]
["","","","","","",{"$error":"#VALUE!"},{"$error":"#VALUE!"}]
["","","","","","",{"$error":"#VALUE!"},{"$error":"#VALUE!"}]
["","","","","","",{"$error":"#VALUE!"},{"$error":"#VALUE!"}]
["","","","","","",{"$error":"#VALUE!"},{"$error":"#VALUE!"}]
["","","","","","",{"$error":"#VALUE!"},{"$error":"#VALUE!"}]
["","","","","","",{"$error":"#VALUE!"},{"$error":"#VALUE!"}]
["","","","","","",{"$error":"#VALUE!"},{"$error":"#VALUE!"}]
["","","","","","",{"$error":"#VALUE!"},{"$error":"#VALUE!"}]
["","","","","","",{"$error":"#VALUE!"},{"$error":"#VALUE!"}]
["","","","","","",{"$error":"#VALUE!"},{"$error":"#VALUE!"}]
["","","","","","",{"$error":"#VALUE!"},{"$error":"#VALUE!"}]
["","","","","","",{"$error":"#VALUE!"},{"$error":"#VALUE!"}]
["","","","","","",{"$error":"#VALUE!"},{"$error":"#VALUE!"}]
["","","","","","",{"$error":"#VALUE!"},{"$error":"#VALUE!"}]
["","","","","","",{"$error":"#VALUE!"},{"$error":"#VALUE!"}]
["","","","","","",{"$error":"#VALUE!"},{"$error":"#VALUE!"}]
["","","","","","",{"$error":"#VALUE!"},{"$error":"#VALUE!"}]
["","","","","","",{"$error":"#VALUE!"},{"$error":"#VALUE!"}]
["","","","","","",{"$error":"#VALUE!"},{"$error":"#VALUE!"}]
["","","","","","",{"$error":"#VALUE!"},{"$error":"#VALUE!"}]
["","","","","","",{"$error":"#VALUE!"},{"$error":"#VALUE!"}]
["","","","","","",{"$error":"#VALUE!"},{"$error":"#VALUE!"}]
["","","","","","",{"$error":"#VALUE!"},{"$error":"#VALUE!"}]
["","","","","","",{"$error":"#VALUE!"},{"$error":"#VALUE!"}]
["","","","","","",{"$error":"#VALUE!"},{"$error":"#VALUE!"}]
["","","","","","",{"$error":"#VALUE!"},{"$error":"#VALUE!"}]
["","","","","","",{"$error":"#VALUE!"},{"$error":"#VALUE!"}]
["","","","","","",{"$error":"#VALUE!"},{"$error":"#VALUE!"}]
["","","","","","",{"$error":"#VALUE!"},{"$error":"#VALUE!"}]
["","","","","","",{"$error":"#VALUE!"},{"$error":"#VALUE!"}]
["","","","","","",{"$error":"#VALUE!"},{"$error":"#VALUE!"}]
["","","","","","",{"$error":"#VALUE!"},{"$error":"#VALUE!"}]
["","","","","","",{"$error":"#VALUE!"},{"$error":"#VALUE!"}]
["","","","","","",{"$error":"#VALUE!"},{"$error":"#VALUE!"}]
["","","",{"$f":"IF(A1877<>\"\",MOD(B1877,24)/24,\"\")","v":""},"","",{"$f":"ABS(0.5*1.025*1*(F1877^3))","v":{"$error":"#VALUE!"}},{"$f":"G1877*$B$13","v":{"$error":"#VALUE!"}}]
[{"$f":"IF(IF(A1877<>\"\",A1877+1<=$B$16,0),A1877+1,\"\")","v":""},{"$f":"IF(A1878<>\"\",A1878*$B$13,\"\")","v":""},{"$f":"IF(A1878<>\"\",ROUNDDOWN(A1878*$B$13/24,0),\"\")","v":""},"",{"$f":"IF(A1878<>\"\",($B$4+$B$5)/2+($B$5-$B$4)/2*COS(2*PI()/$B$15*B1878),\"\")","v":""},{"$f":"IF(A1878<>\"\",E1878*COS(2*PI()/$B$7*B1878),\"\")","v":""},{"$error":"#VALUE!"},{"$error":"#VALUE!"}]
["","","","","","",{"$error":"#VALUE!"},{"$error":"#VALUE!"}]
["","","","","","",{"$error":"#VALUE!"},{"$error":"#VALUE!"}]
["","","","","","",{"$error":"#VALUE!"},{"$error":"#VALUE!"}]
["","","","","","",{"$error":"#VALUE!"},{"$error":"#VALUE!"}]
["","","","","","",{"$error":"#VALUE!"},{"$error":"#VALUE!"}]
["","","","","","",{"$error":"#VALUE!"},{"$error":"#VALUE!"}]
["","","","","","",{"$error":"#VALUE!"},{"$error":"#VALUE!"}]
["","","","","","",{"$error":"#VALUE!"},{"$error":"#VALUE!"}]
["","","","","","",{"$error":"#VALUE!"},{"$error":"#VALUE!"}]
["","","","","","",{"$error":"#VALUE!"},{"$error":"#VALUE!"}]
["","","","","","",{"$error":"#VALUE!"},{"$error":"#VALUE!"}]
["","","","","","",{"$error":"#VALUE!"},{"$error":"#VALUE!"}]
["","","","","","",{"$error":"#VALUE!"},{"$error":"#VALUE!"}]
["","","","","","",{"$error":"#VALUE!"},{"$error":"#VALUE!"}]
["","","","","","",{"$error":"#VALUE!"},{"$error":"#VALUE!"}]
["","","","","","",{"$error":"#VALUE!"},{"$error":"#VALUE!"}]
["","","","","","",{"$error":"#VALUE!"},{"$error":"#VALUE!"}]
["","","","","","",{"$error":"#VALUE!"},{"$error":"#VALUE!"}]
["","","","","","",{"$error":"#VALUE!"},{"$error":"#VALUE!"}]
["","","","","","",{"$error":"#VALUE!"},{"$error":"#VALUE!"}]
["","","","","","",{"$error":"#VALUE!"},{"$error":"#VALUE!"}]
["","","","","","",{"$error":"#VALUE!"},{"$error":"#VALUE!"}]
["","","","","","",{"$error":"#VALUE!"},{"$error":"#VALUE!"}]
["","","","","","",{"$error":"#VALUE!"},{"$error":"#VALUE!"}]
["","","","","","",{"$error":"#VALUE!"},{"$error":"#VALUE!"}]
["","","","","","",{"$error":"#VALUE!"},{"$error":"#VALUE!"}]
["","","","","","",{"$error":"#VALUE!"},{"$error":"#VALUE!"}]
["","","","","","",{"$error":"#VALUE!"},{"$error":"#VALUE!"}]
["","","","","","",{"$error":"#VALUE!"},{"$error":"#VALUE!"}]
["","","","","","",{"$error":"#VALUE!"},{"$error":"#VALUE!"}]
["","","","","","",{"$error":"#VALUE!"},{"$error":"#VALUE!"}]
["","","","","","",{"$error":"#VALUE!"},{"$error":"#VALUE!"}]
["","","","","","",{"$error":"#VALUE!"},{"$error":"#VALUE!"}]
["","","","","","",{"$error":"#VALUE!"},{"$error":"#VALUE!"}]
["","","","","","",{"$error":"#VALUE!"},{"$error":"#VALUE!"}]
["","","","","","",{"$error":"#VALUE!"},{"$error":"#VALUE!"}]
["","","","","","",{"$error":"#VALUE!"},{"$error":"#VALUE!"}]
["","","","","","",{"$error":"#VALUE!"},{"$error":"#VALUE!"}]
["","","","","","",{"$error":"#VALUE!"},{"$error":"#VALUE!"}]
["","","","","","",{"$error":"#VALUE!"},{"$error":"#VALUE!"}]
["","","","","","",{"$error":"#VALUE!"},{"$error":"#VALUE!"}]
["","","","","","",{"$error":"#VALUE!"},{"$error":"#VALUE!"}]
["","","","","","",{"$error":"#VALUE!"},{"$error":"#VALUE!"}]
["","","","","","",{"$error":"#VALUE!"},{"$error":"#VALUE!"}]
["","","","","","",{"$error":"#VALUE!"},{"$error":"#VALUE!"}]
["","","","","","",{"$error":"#VALUE!"},{"$error":"#VALUE!"}]
["","","","","","",{"$error":"#VALUE!"},{"$error":"#VALUE!"}]
["","","","","","",{"$error":"#VALUE!"},{"$error":"#VALUE!"}]
["","","","","","",{"$error":"#VALUE!"},{"$error":"#VALUE!"}]
["","","","","","",{"$error":"#VALUE!"},{"$error":"#VALUE!"}]
["","","","","","",{"$error":"#VALUE!"},{"$error":"#VALUE!"}]
["","","","","","",{"$error":"#VALUE!"},{"$error":"#VALUE!"}]
["","","","","","",{"$error":"#VALUE!"},{"$error":"#VALUE!"}]
["","","","","","",{"$error":"#VALUE!"},{"$error":"#VALUE!"}]
["","","","","","",{"$error":"#VALUE!"},{"$error":"#VALUE!"}]
["","","","","","",{"$error":"#VALUE!"},{"$error":"#VALUE!"}]
["","","","","","",{"$error":"#VALUE!"},{"$error":"#VALUE!"}]
["","","","","","",{"$error":"#VALUE!"},{"$error":"#VALUE!"}]
["","","","","","",{"$error":"#VALUE!"},{"$error":"#VALUE!"}]
["","","","","","",{"$error":"#VALUE!"},{"$error":"#VALUE!"}]
["","","","","","",{"$error":"#VALUE!"},{"$error":"#VALUE!"}]
["","","","","","",{"$error":"#VALUE!"},{"$error":"#VALUE!"}]
["","","",{"$f":"IF(A1941<>\"\",MOD(B1941,24)/24,\"\")","v":""},"","",{"$f":"ABS(0.5*1.025*1*(F1941^3))","v":{"$error":"#VALUE!"}},{"$f":"G1941*$B$13","v":{"$error":"#VALUE!"}}]
[{"$f":"IF(IF(A1941<>\"\",A1941+1<=$B$16,0),A1941+1,\"\")","v":""},{"$f":"IF(A1942<>\"\",A1942*$B$13,\"\")","v":""},{"$f":"IF(A1942<>\"\",ROUNDDOWN(A1942*$B$13/24,0),\"\")","v":""},"",{"$f":"IF(A1942<>\"\",($B$4+$B$5)/2+($B$5-$B$4)/2*COS(2*PI()/$B$15*B1942),\"\")","v":""},{"$f":"IF(A1942<>\"\",E1942*COS(2*PI()/$B$7*B1942),\"\")","v":""},{"$error":"#VALUE!"},{"$error":"#VALUE!"}]
["","","","","","",{"$error":"#VALUE!"},{"$error":"#VALUE!"}]
["","","","","","",{"$error":"#VALUE!"},{"$error":"#VALUE!"}]
["","","","","","",{"$error":"#VALUE!"},{"$error":"#VALUE!"}]
["","","","","","",{"$error":"#VALUE!"},{"$error":"#VALUE!"}]
["","","","","","",{"$error":"#VALUE!"},{"$error":"#VALUE!"}]
["","","","","","",{"$error":"#VALUE!"},{"$error":"#VALUE!"}]
["","","","","","",{"$error":"#VALUE!"},{"$error":"#VALUE!"}]
["","","","","","",{"$error":"#VALUE!"},{"$error":"#VALUE!"}]
["","","","","","",{"$error":"#VALUE!"},{"$error":"#VALUE!"}]
["","","","","","",{"$error":"#VALUE!"},{"$error":"#VALUE!"}]
["","","","","","",{"$error":"#VALUE!"},{"$error":"#VALUE!"}]
["","","","","","",{"$error":"#VALUE!"},{"$error":"#VALUE!"}]
["","","","","","",{"$error":"#VALUE!"},{"$error":"#VALUE!"}]
["","","","","","",{"$error":"#VALUE!"},{"$error":"#VALUE!"}]
["","","","","","",{"$error":"#VALUE!"},{"$error":"#VALUE!"}]
["","","","","","",{"$error":"#VALUE!"},{"$error":"#VALUE!"}]
["","","","","","",{"$error":"#VALUE!"},{"$error":"#VALUE!"}]
["","","","","","",{"$error":"#VALUE!"},{"$error":"#VALUE!"}]
["","","","","","",{"$error":"#VALUE!"},{"$error":"#VALUE!"}]
["","","","","","",{"$error":"#VALUE!"},{"$error":"#VALUE!"}]
["","","","","","",{"$error":"#VALUE!"},{"$error":"#VALUE!"}]
["","","","","","",{"$error":"#VALUE!"},{"$error":"#VALUE!"}]
["","","","","","",{"$error":"#VALUE!"},{"$error":"#VALUE!"}]
["","","","","","",{"$error":"#VALUE!"},{"$error":"#VALUE!"}]
["","","","","","",{"$error":"#VALUE!"},{"$error":"#VALUE!"}]
["","","","","","",{"$error":"#VALUE!"},{"$error":"#VALUE!"}]
["","","","","","",{"$error":"#VALUE!"},{"$error":"#VALUE!"}]
["","","","","","",{"$error":"#VALUE!"},{"$error":"#VALUE!"}]
["","","","","","",{"$error":"#VALUE!"},{"$error":"#VALUE!"}]
["","","","","","",{"$error":"#VALUE!"},{"$error":"#VALUE!"}]
["","","","","","",{"$error":"#VALUE!"},{"$error":"#VALUE!"}]
["","","","","","",{"$error":"#VALUE!"},{"$error":"#VALUE!"}]
["","","","","","",{"$error":"#VALUE!"},{"$error":"#VALUE!"}]
["","","","","","",{"$error":"#VALUE!"},{"$error":"#VALUE!"}]
["","","","","","",{"$error":"#VALUE!"},{"$error":"#VALUE!"}]
["","","","","","",{"$error":"#VALUE!"},{"$error":"#VALUE!"}]
["","","","","","",{"$error":"#VALUE!"},{"$error":"#VALUE!"}]
["","","","","","",{"$error":"#VALUE!"},{"$error":"#VALUE!"}]
["","","","","","",{"$error":"#VALUE!"},{"$error":"#VALUE!"}]
["","","","","","",{"$error":"#VALUE!"},{"$error":"#VALUE!"}]
["","","","","","",{"$error":"#VALUE!"},{"$error":"#VALUE!"}]
["","","","","","",{"$error":"#VALUE!"},{"$error":"#VALUE!"}]
["","","","","","",{"$error":"#VALUE!"},{"$error":"#VALUE!"}]
["","","","","","",{"$error":"#VALUE!"},{"$error":"#VALUE!"}]
["","","","","","",{"$error":"#VALUE!"},{"$error":"#VALUE!"}]
["","","","","","",{"$error":"#VALUE!"},{"$error":"#VALUE!"}]
["","","","","","",{"$error":"#VALUE!"},{"$error":"#VALUE!"}]
["","","","","","",{"$error":"#VALUE!"},{"$error":"#VALUE!"}]
["","","","","","",{"$error":"#VALUE!"},{"$error":"#VALUE!"}]
["","","","","","",{"$error":"#VALUE!"},{"$error":"#VALUE!"}]
["","","","","","",{"$error":"#VALUE!"},{"$error":"#VALUE!"}]
["","","","","","",{"$error":"#VALUE!"},{"$error":"#VALUE!"}]
["","","","","","",{"$error":"#VALUE!"},{"$error":"#VALUE!"}]
["","","","","","",{"$error":"#VALUE!"},{"$error":"#VALUE!"}]
["","","","","","",{"$error":"#VALUE!"},{"$error":"#VALUE!"}]
["","","","","","",{"$error":"#VALUE!"},{"$error":"#VALUE!"}]
["","","","","","",{"$error":"#VALUE!"},{"$error":"#VALUE!"}]
["","","","","","",{"$error":"#VALUE!"},{"$error":"#VALUE!"}]
["","","","","","",{"$error":"#VALUE!"},{"$error":"#VALUE!"}]
["","","","","","",{"$error":"#VALUE!"},{"$error":"#VALUE!"}]
["","","","","","",{"$error":"#VALUE!"},{"$error":"#VALUE!"}]
["","","","","","",{"$error":"#VALUE!"},{"$error":"#VALUE!"}]
["","","",{"$f":"IF(A2005<>\"\",MOD(B2005,24)/24,\"\")","v":""},"","",{"$f":"ABS(0.5*1.025*1*(F2005^3))","v":{"$error":"#VALUE!"}},{"$f":"G2005*$B$13","v":{"$error":"#VALUE!"}}]
[{"$f":"IF(IF(A2005<>\"\",A2005+1<=$B$16,0),A2005+1,\"\")","v":""},{"$f":"IF(A2006<>\"\",A2006*$B$13,\"\")","v":""},{"$f":"IF(A2006<>\"\",ROUNDDOWN(A2006*$B$13/24,0),\"\")","v":""},"",{"$f":"IF(A2006<>\"\",($B$4+$B$5)/2+($B$5-$B$4)/2*COS(2*PI()/$B$15*B2006),\"\")","v":""},{"$f":"IF(A2006<>\"\",E2006*COS(2*PI()/$B$7*B2006),\"\")","v":""},{"$error":"#VALUE!"},{"$error":"#VALUE!"}]
["","","","","","",{"$error":"#VALUE!"},{"$error":"#VALUE!"}]
["","","","","","",{"$error":"#VALUE!"},{"$error":"#VALUE!"}]
["","","","","","",{"$error":"#VALUE!"},{"$error":"#VALUE!"}]
["","","","","","",{"$error":"#VALUE!"},{"$error":"#VALUE!"}]
["","","","","","",{"$error":"#VALUE!"},{"$error":"#VALUE!"}]
["","","","","","",{"$error":"#VALUE!"},{"$error":"#VALUE!"}]
["","","","","","",{"$error":"#VALUE!"},{"$error":"#VALUE!"}]
["","","","","","",{"$error":"#VALUE!"},{"$error":"#VALUE!"}]
["","","","","","",{"$error":"#VALUE!"},{"$error":"#VALUE!"}]
["","","","","","",{"$error":"#VALUE!"},{"$error":"#VALUE!"}]
["","","","","","",{"$error":"#VALUE!"},{"$error":"#VALUE!"}]
["","","","","","",{"$error":"#VALUE!"},{"$error":"#VALUE!"}]
["","","","","","",{"$error":"#VALUE!"},{"$error":"#VALUE!"}]
["","","","","","",{"$error":"#VALUE!"},{"$error":"#VALUE!"}]
["","","","","","",{"$error":"#VALUE!"},{"$error":"#VALUE!"}]
["","","","","","",{"$error":"#VALUE!"},{"$error":"#VALUE!"}]
["","","","","","",{"$error":"#VALUE!"},{"$error":"#VALUE!"}]
["","","","","","",{"$error":"#VALUE!"},{"$error":"#VALUE!"}]
["","","","","","",{"$error":"#VALUE!"},{"$error":"#VALUE!"}]
["","","","","","",{"$error":"#VALUE!"},{"$error":"#VALUE!"}]
["","","","","","",{"$error":"#VALUE!"},{"$error":"#VALUE!"}]
["","","","","","",{"$error":"#VALUE!"},{"$error":"#VALUE!"}]
["","","","","","",{"$error":"#VALUE!"},{"$error":"#VALUE!"}]
["","","","","","",{"$error":"#VALUE!"},{"$error":"#VALUE!"}]
["","","","","","",{"$error":"#VALUE!"},{"$error":"#VALUE!"}]
["","","","","","",{"$error":"#VALUE!"},{"$error":"#VALUE!"}]
["","","","","","",{"$error":"#VALUE!"},{"$error":"#VALUE!"}]
["","","","","","",{"$error":"#VALUE!"},{"$error":"#VALUE!"}]
["","","","","","",{"$error":"#VALUE!"},{"$error":"#VALUE!"}]
["","","","","","",{"$error":"#VALUE!"},{"$error":"#VALUE!"}]
["","","","","","",{"$error":"#VALUE!"},{"$error":"#VALUE!"}]
["","","","","","",{"$error":"#VALUE!"},{"$error":"#VALUE!"}]
["","","","","","",{"$error":"#VALUE!"},{"$error":"#VALUE!"}]
["","","","","","",{"$error":"#VALUE!"},{"$error":"#VALUE!"}]
["","","","","","",{"$error":"#VALUE!"},{"$error":"#VALUE!"}]
["","","","","","",{"$error":"#VALUE!"},{"$error":"#VALUE!"}]
["","","","","","",{"$error":"#VALUE!"},{"$error":"#VALUE!"}]
["","","","","","",{"$error":"#VALUE!"},{"$error":"#VALUE!"}]
["","","","","","",{"$error":"#VALUE!"},{"$error":"#VALUE!"}]
["","","","","","",{"$error":"#VALUE!"},{"$error":"#VALUE!"}]
["","","","","","",{"$error":"#VALUE!"},{"$error":"#VALUE!"}]
["","","","","","",{"$error":"#VALUE!"},{"$error":"#VALUE!"}]
["","","","","","",{"$error":"#VALUE!"},{"$error":"#VALUE!"}]
["","","","","","",{"$error":"#VALUE!"},{"$error":"#VALUE!"}]
["","","","","","",{"$error":"#VALUE!"},{"$error":"#VALUE!"}]
["","","","","","",{"$error":"#VALUE!"},{"$error":"#VALUE!"}]
["","","","","","",{"$error":"#VALUE!"},{"$error":"#VALUE!"}]
["","","","","","",{"$error":"#VALUE!"},{"$error":"#VALUE!"}]
["","","","","","",{"$error":"#VALUE!"},{"$error":"#VALUE!"}]
["","","","","","",{"$error":"#VALUE!"},{"$error":"#VALUE!"}]
["","","","","","",{"$error":"#VALUE!"},{"$error":"#VALUE!"}]
["","","","","","",{"$error":"#VALUE!"},{"$error":"#VALUE!"}]
["","","","","","",{"$error":"#VALUE!"},{"$error":"#VALUE!"}]
["","","","","","",{"$error":"#VALUE!"},{"$error":"#VALUE!"}]
["","","","","","",{"$error":"#VALUE!"},{"$error":"#VALUE!"}]
["","","","","","",{"$error":"#VALUE!"},{"$error":"#VALUE!"}]
["","","","","","",{"$error":"#VALUE!"},{"$error":"#VALUE!"}]
["","","","","","",{"$error":"#VALUE!"},{"$error":"#VALUE!"}]
["","","","","","",{"$error":"#VALUE!"},{"$error":"#VALUE!"}]
["","","","","","",{"$error":"#VALUE!"},{"$error":"#VALUE!"}]
["","","","","","",{"$error":"#VALUE!"},{"$error":"#VALUE!"}]
["","","","","","",{"$error":"#VALUE!"},{"$error":"#VALUE!"}]
["","","",{"$f":"IF(A2069<>\"\",MOD(B2069,24)/24,\"\")","v":""},"","",{"$f":"ABS(0.5*1.025*1*(F2069^3))","v":{"$error":"#VALUE!"}},{"$f":"G2069*$B$13","v":{"$error":"#VALUE!"}}]
[{"$f":"IF(IF(A2069<>\"\",A2069+1<=$B$16,0),A2069+1,\"\")","v":""},{"$f":"IF(A2070<>\"\",A2070*$B$13,\"\")","v":""},{"$f":"IF(A2070<>\"\",ROUNDDOWN(A2070*$B$13/24,0),\"\")","v":""},"",{"$f":"IF(A2070<>\"\",($B$4+$B$5)/2+($B$5-$B$4)/2*COS(2*PI()/$B$15*B2070),\"\")","v":""},{"$f":"IF(A2070<>\"\",E2070*COS(2*PI()/$B$7*B2070),\"\")","v":""},{"$error":"#VALUE!"},{"$error":"#VALUE!"}]
["","","","","","",{"$error":"#VALUE!"},{"$error":"#VALUE!"}]
["","","","","","",{"$error":"#VALUE!"},{"$error":"#VALUE!"}]
["","","","","","",{"$error":"#VALUE!"},{"$error":"#VALUE!"}]
["","","","","","",{"$error":"#VALUE!"},{"$error":"#VALUE!"}]
["","","","","","",{"$error":"#VALUE!"},{"$error":"#VALUE!"}]
["","","","","","",{"$error":"#VALUE!"},{"$error":"#VALUE!"}]
["","","","","","",{"$error":"#VALUE!"},{"$error":"#VALUE!"}]
["","","","","","",{"$error":"#VALUE!"},{"$error":"#VALUE!"}]
["","","","","","",{"$error":"#VALUE!"},{"$error":"#VALUE!"}]
["","","","","","",{"$error":"#VALUE!"},{"$error":"#VALUE!"}]
["","","","","","",{"$error":"#VALUE!"},{"$error":"#VALUE!"}]
["","","","","","",{"$error":"#VALUE!"},{"$error":"#VALUE!"}]
["","","","","","",{"$error":"#VALUE!"},{"$error":"#VALUE!"}]
["","","","","","",{"$error":"#VALUE!"},{"$error":"#VALUE!"}]
["","","","","","",{"$error":"#VALUE!"},{"$error":"#VALUE!"}]
["","","","","","",{"$error":"#VALUE!"},{"$error":"#VALUE!"}]
["","","","","","",{"$error":"#VALUE!"},{"$error":"#VALUE!"}]
["","","","","","",{"$error":"#VALUE!"},{"$error":"#VALUE!"}]
["","","","","","",{"$error":"#VALUE!"},{"$error":"#VALUE!"}]
["","","","","","",{"$error":"#VALUE!"},{"$error":"#VALUE!"}]
["","","","","","",{"$error":"#VALUE!"},{"$error":"#VALUE!"}]
["","","","","","",{"$error":"#VALUE!"},{"$error":"#VALUE!"}]
["","","","","","",{"$error":"#VALUE!"},{"$error":"#VALUE!"}]
["","","","","","",{"$error":"#VALUE!"},{"$error":"#VALUE!"}]
["","","","","","",{"$error":"#VALUE!"},{"$error":"#VALUE!"}]
["","","","","","",{"$error":"#VALUE!"},{"$error":"#VALUE!"}]
["","","","","","",{"$error":"#VALUE!"},{"$error":"#VALUE!"}]
["","","","","","",{"$error":"#VALUE!"},{"$error":"#VALUE!"}]
["","","","","","",{"$error":"#VALUE!"},{"$error":"#VALUE!"}]
["","","","","","",{"$error":"#VALUE!"},{"$error":"#VALUE!"}]
["","","","","","",{"$error":"#VALUE!"},{"$error":"#VALUE!"}]
["","","","","","",{"$error":"#VALUE!"},{"$error":"#VALUE!"}]
["","","","","","",{"$error":"#VALUE!"},{"$error":"#VALUE!"}]
["","","","","","",{"$error":"#VALUE!"},{"$error":"#VALUE!"}]
["","","","","","",{"$error":"#VALUE!"},{"$error":"#VALUE!"}]
["","","","","","",{"$error":"#VALUE!"},{"$error":"#VALUE!"}]
["","","","","","",{"$error":"#VALUE!"},{"$error":"#VALUE!"}]
["","","","","","",{"$error":"#VALUE!"},{"$error":"#VALUE!"}]
["","","","","","",{"$error":"#VALUE!"},{"$error":"#VALUE!"}]
["","","","","","",{"$error":"#VALUE!"},{"$error":"#VALUE!"}]
["","","","","","",{"$error":"#VALUE!"},{"$error":"#VALUE!"}]
["","","","","","",{"$error":"#VALUE!"},{"$error":"#VALUE!"}]
["","","","","","",{"$error":"#VALUE!"},{"$error":"#VALUE!"}]
["","","","","","",{"$error":"#VALUE!"},{"$error":"#VALUE!"}]
["","","","","","",{"$error":"#VALUE!"},{"$error":"#VALUE!"}]
["","","","","","",{"$error":"#VALUE!"},{"$error":"#VALUE!"}]
["","","","","","",{"$error":"#VALUE!"},{"$error":"#VALUE!"}]
["","","","","","",{"$error":"#VALUE!"},{"$error":"#VALUE!"}]
["","","","","","",{"$error":"#VALUE!"},{"$error":"#VALUE!"}]
["","","","","","",{"$error":"#VALUE!"},{"$error":"#VALUE!"}]
["","","","","","",{"$error":"#VALUE!"},{"$error":"#VALUE!"}]
["","","","","","",{"$error":"#VALUE!"},{"$error":"#VALUE!"}]
["","","","","","",{"$error":"#VALUE!"},{"$error":"#VALUE!"}]
["","","","","","",{"$error":"#VALUE!"},{"$error":"#VALUE!"}]
["","","","","","",{"$error":"#VALUE!"},{"$error":"#VALUE!"}]
["","","","","","",{"$error":"#VALUE!"},{"$error":"#VALUE!"}]
["","","","","","",{"$error":"#VALUE!"},{"$error":"#VALUE!"}]
["","","","","","",{"$error":"#VALUE!"},{"$error":"#VALUE!"}]
["","","","","","",{"$error":"#VALUE!"},{"$error":"#VALUE!"}]
["","","","","","",{"$error":"#VALUE!"},{"$error":"#VALUE!"}]
["","","","","","",{"$error":"#VALUE!"},{"$error":"#VALUE!"}]
["","","","","","",{"$error":"#VALUE!"},{"$error":"#VALUE!"}]
["","","",{"$f":"IF(A2133<>\"\",MOD(B2133,24)/24,\"\")","v":""},"","",{"$f":"ABS(0.5*1.025*1*(F2133^3))","v":{"$error":"#VALUE!"}},{"$f":"G2133*$B$13","v":{"$error":"#VALUE!"}}]
[{"$f":"IF(IF(A2133<>\"\",A2133+1<=$B$16,0),A2133+1,\"\")","v":""},{"$f":"IF(A2134<>\"\",A2134*$B$13,\"\")","v":""},{"$f":"IF(A2134<>\"\",ROUNDDOWN(A2134*$B$13/24,0),\"\")","v":""},"",{"$f":"IF(A2134<>\"\",($B$4+$B$5)/2+($B$5-$B$4)/2*COS(2*PI()/$B$15*B2134),\"\")","v":""},{"$f":"IF(A2134<>\"\",E2134*COS(2*PI()/$B$7*B2134),\"\")","v":""},{"$error":"#VALUE!"},{"$error":"#VALUE!"}]
["","","","","","",{"$error":"#VALUE!"},{"$error":"#VALUE!"}]
["","","","","","",{"$error":"#VALUE!"},{"$error":"#VALUE!"}]
["","","","","","",{"$error":"#VALUE!"},{"$error":"#VALUE!"}]
["","","","","","",{"$error":"#VALUE!"},{"$error":"#VALUE!"}]
["","","","","","",{"$error":"#VALUE!"},{"$error":"#VALUE!"}]
["","","","","","",{"$error":"#VALUE!"},{"$error":"#VALUE!"}]
["","","","","","",{"$error":"#VALUE!"},{"$error":"#VALUE!"}]
["","","","","","",{"$error":"#VALUE!"},{"$error":"#VALUE!"}]
["","","","","","",{"$error":"#VALUE!"},{"$error":"#VALUE!"}]
["","","","","","",{"$error":"#VALUE!"},{"$error":"#VALUE!"}]
["","","","","","",{"$error":"#VALUE!"},{"$error":"#VALUE!"}]
["","","","","","",{"$error":"#VALUE!"},{"$error":"#VALUE!"}]
["","","","","","",{"$error":"#VALUE!"},{"$error":"#VALUE!"}]
["","","","","","",{"$error":"#VALUE!"},{"$error":"#VALUE!"}]
["","","","","","",{"$error":"#VALUE!"},{"$error":"#VALUE!"}]
["","","","","","",{"$error":"#VALUE!"},{"$error":"#VALUE!"}]
["","","","","","",{"$error":"#VALUE!"},{"$error":"#VALUE!"}]
["","","","","","",{"$error":"#VALUE!"},{"$error":"#VALUE!"}]
["","","","","","",{"$error":"#VALUE!"},{"$error":"#VALUE!"}]
["","","","","","",{"$error":"#VALUE!"},{"$error":"#VALUE!"}]
["","","","","","",{"$error":"#VALUE!"},{"$error":"#VALUE!"}]
["","","","","","",{"$error":"#VALUE!"},{"$error":"#VALUE!"}]
["","","","","","",{"$error":"#VALUE!"},{"$error":"#VALUE!"}]
["","","","","","",{"$error":"#VALUE!"},{"$error":"#VALUE!"}]
["","","","","","",{"$error":"#VALUE!"},{"$error":"#VALUE!"}]
["","","","","","",{"$error":"#VALUE!"},{"$error":"#VALUE!"}]
["","","","","","",{"$error":"#VALUE!"},{"$error":"#VALUE!"}]
["","","","","","",{"$error":"#VALUE!"},{"$error":"#VALUE!"}]
["","","","","","",{"$error":"#VALUE!"},{"$error":"#VALUE!"}]
["","","","","","",{"$error":"#VALUE!"},{"$error":"#VALUE!"}]
["","","","","","",{"$error":"#VALUE!"},{"$error":"#VALUE!"}]
["","","","","","",{"$error":"#VALUE!"},{"$error":"#VALUE!"}]
["","","","","","",{"$error":"#VALUE!"},{"$error":"#VALUE!"}]
["","","","","","",{"$error":"#VALUE!"},{"$error":"#VALUE!"}]
["","","","","","",{"$error":"#VALUE!"},{"$error":"#VALUE!"}]
["","","","","","",{"$error":"#VALUE!"},{"$error":"#VALUE!"}]
["","","","","","",{"$error":"#VALUE!"},{"$error":"#VALUE!"}]
["","","","","","",{"$error":"#VALUE!"},{"$error":"#VALUE!"}]
["","","","","","",{"$error":"#VALUE!"},{"$error":"#VALUE!"}]
["","","","","","",{"$error":"#VALUE!"},{"$error":"#VALUE!"}]
["","","","","","",{"$error":"#VALUE!"},{"$error":"#VALUE!"}]
["","","","","","",{"$error":"#VALUE!"},{"$error":"#VALUE!"}]
["","","","","","",{"$error":"#VALUE!"},{"$error":"#VALUE!"}]
["","","","","","",{"$error":"#VALUE!"},{"$error":"#VALUE!"}]
["","","","","","",{"$error":"#VALUE!"},{"$error":"#VALUE!"}]
["","","","","","",{"$error":"#VALUE!"},{"$error":"#VALUE!"}]
["","","","","","",{"$error":"#VALUE!"},{"$error":"#VALUE!"}]
["","","","","","",{"$error":"#VALUE!"},{"$error":"#VALUE!"}]
["","","","","","",{"$error":"#VALUE!"},{"$error":"#VALUE!"}]
["","","","","","",{"$error":"#VALUE!"},{"$error":"#VALUE!"}]
["","","","","","",{"$error":"#VALUE!"},{"$error":"#VALUE!"}]
["","","","","","",{"$error":"#VALUE!"},{"$error":"#VALUE!"}]
["","","","","","",{"$error":"#VALUE!"},{"$error":"#VALUE!"}]
["","","","","","",{"$error":"#VALUE!"},{"$error":"#VALUE!"}]
["","","","","","",{"$error":"#VALUE!"},{"$error":"#VALUE!"}]
["","","","","","",{"$error":"#VALUE!"},{"$error":"#VALUE!"}]
["","","","","","",{"$error":"#VALUE!"},{"$error":"#VALUE!"}]
["","","","","","",{"$error":"#VALUE!"},{"$error":"#VALUE!"}]
["","","","","","",{"$error":"#VALUE!"},{"$error":"#VALUE!"}]
["","","","","","",{"$error":"#VALUE!"},{"$error":"#VALUE!"}]
["","","","","","",{"$error":"#VALUE!"},{"$error":"#VALUE!"}]
["","","","","","",{"$error":"#VALUE!"},{"$error":"#VALUE!"}]
["","","",{"$f":"IF(A2197<>\"\",MOD(B2197,24)/24,\"\")","v":""},"","",{"$f":"ABS(0.5*1.025*1*(F2197^3))","v":{"$error":"#VALUE!"}},{"$f":"G2197*$B$13","v":{"$error":"#VALUE!"}}]
[{"$f":"IF(IF(A2197<>\"\",A2197+1<=$B$16,0),A2197+1,\"\")","v":""},{"$f":"IF(A2198<>\"\",A2198*$B$13,\"\")","v":""},{"$f":"IF(A2198<>\"\",ROUNDDOWN(A2198*$B$13/24,0),\"\")","v":""},"",{"$f":"IF(A2198<>\"\",($B$4+$B$5)/2+($B$5-$B$4)/2*COS(2*PI()/$B$15*B2198),\"\")","v":""},{"$f":"IF(A2198<>\"\",E2198*COS(2*PI()/$B$7*B2198),\"\")","v":""},{"$error":"#VALUE!"},{"$error":"#VALUE!"}]
["","","","","","",{"$error":"#VALUE!"},{"$error":"#VALUE!"}]
["","","","","","",{"$error":"#VALUE!"},{"$error":"#VALUE!"}]
["","","","","","",{"$error":"#VALUE!"},{"$error":"#VALUE!"}]
["","","","","","",{"$error":"#VALUE!"},{"$error":"#VALUE!"}]
["","","","","","",{"$error":"#VALUE!"},{"$error":"#VALUE!"}]
["","","","","","",{"$error":"#VALUE!"},{"$error":"#VALUE!"}]
["","","","","","",{"$error":"#VALUE!"},{"$error":"#VALUE!"}]
["","","","","","",{"$error":"#VALUE!"},{"$error":"#VALUE!"}]
["","","","","","",{"$error":"#VALUE!"},{"$error":"#VALUE!"}]
["","","","","","",{"$error":"#VALUE!"},{"$error":"#VALUE!"}]
["","","","","","",{"$error":"#VALUE!"},{"$error":"#VALUE!"}]
["","","","","","",{"$error":"#VALUE!"},{"$error":"#VALUE!"}]
["","","","","","",{"$error":"#VALUE!"},{"$error":"#VALUE!"}]
["","","","","","",{"$error":"#VALUE!"},{"$error":"#VALUE!"}]
["","","","","","",{"$error":"#VALUE!"},{"$error":"#VALUE!"}]
["","","","","","",{"$error":"#VALUE!"},{"$error":"#VALUE!"}]
["","","","","","",{"$error":"#VALUE!"},{"$error":"#VALUE!"}]
["","","","","","",{"$error":"#VALUE!"},{"$error":"#VALUE!"}]
["","","","","","",{"$error":"#VALUE!"},{"$error":"#VALUE!"}]
["","","","","","",{"$error":"#VALUE!"},{"$error":"#VALUE!"}]
["","","","","","",{"$error":"#VALUE!"},{"$error":"#VALUE!"}]
["","","","","","",{"$error":"#VALUE!"},{"$error":"#VALUE!"}]
["","","","","","",{"$error":"#VALUE!"},{"$error":"#VALUE!"}]
["","","","","","",{"$error":"#VALUE!"},{"$error":"#VALUE!"}]
["","","","","","",{"$error":"#VALUE!"},{"$error":"#VALUE!"}]
["","","","","","",{"$error":"#VALUE!"},{"$error":"#VALUE!"}]
["","","","","","",{"$error":"#VALUE!"},{"$error":"#VALUE!"}]
["","","","","","",{"$error":"#VALUE!"},{"$error":"#VALUE!"}]
["","","","","","",{"$error":"#VALUE!"},{"$error":"#VALUE!"}]
["","","","","","",{"$error":"#VALUE!"},{"$error":"#VALUE!"}]
["","","","","","",{"$error":"#VALUE!"},{"$error":"#VALUE!"}]
["","","","","","",{"$error":"#VALUE!"},{"$error":"#VALUE!"}]
["","","","","","",{"$error":"#VALUE!"},{"$error":"#VALUE!"}]
["","","","","","",{"$error":"#VALUE!"},{"$error":"#VALUE!"}]
["","","","","","",{"$error":"#VALUE!"},{"$error":"#VALUE!"}]
["","","","","","",{"$error":"#VALUE!"},{"$error":"#VALUE!"}]
["","","","","","",{"$error":"#VALUE!"},{"$error":"#VALUE!"}]
["","","","","","",{"$error":"#VALUE!"},{"$error":"#VALUE!"}]
["","","","","","",{"$error":"#VALUE!"},{"$error":"#VALUE!"}]
["","","","","","",{"$error":"#VALUE!"},{"$error":"#VALUE!"}]
["","","","","","",{"$error":"#VALUE!"},{"$error":"#VALUE!"}]
["","","","","","",{"$error":"#VALUE!"},{"$error":"#VALUE!"}]
["","","","","","",{"$error":"#VALUE!"},{"$error":"#VALUE!"}]
["","","","","","",{"$error":"#VALUE!"},{"$error":"#VALUE!"}]
["","","","","","",{"$error":"#VALUE!"},{"$error":"#VALUE!"}]
["","","","","","",{"$error":"#VALUE!"},{"$error":"#VALUE!"}]
["","","","","","",{"$error":"#VALUE!"},{"$error":"#VALUE!"}]
["","","","","","",{"$error":"#VALUE!"},{"$error":"#VALUE!"}]
["","","","","","",{"$error":"#VALUE!"},{"$error":"#VALUE!"}]
["","","","","","",{"$error":"#VALUE!"},{"$error":"#VALUE!"}]
["","","","","","",{"$error":"#VALUE!"},{"$error":"#VALUE!"}]
["","","","","","",{"$error":"#VALUE!"},{"$error":"#VALUE!"}]
["","","","","","",{"$error":"#VALUE!"},{"$error":"#VALUE!"}]
["","","","","","",{"$error":"#VALUE!"},{"$error":"#VALUE!"}]
["","","","","","",{"$error":"#VALUE!"},{"$error":"#VALUE!"}]
["","","","","","",{"$error":"#VALUE!"},{"$error":"#VALUE!"}]
["","","","","","",{"$error":"#VALUE!"},{"$error":"#VALUE!"}]
["","","","","","",{"$error":"#VALUE!"},{"$error":"#VALUE!"}]
["","","","","","",{"$error":"#VALUE!"},{"$error":"#VALUE!"}]
["","","","","","",{"$error":"#VALUE!"},{"$error":"#VALUE!"}]
["","","","","","",{"$error":"#VALUE!"},{"$error":"#VALUE!"}]
["","","","","","",{"$error":"#VALUE!"},{"$error":"#VALUE!"}]
["","","",{"$f":"IF(A2261<>\"\",MOD(B2261,24)/24,\"\")","v":""},"","",{"$f":"ABS(0.5*1.025*1*(F2261^3))","v":{"$error":"#VALUE!"}},{"$f":"G2261*$B$13","v":{"$error":"#VALUE!"}}]
[{"$f":"IF(IF(A2261<>\"\",A2261+1<=$B$16,0),A2261+1,\"\")","v":""},{"$f":"IF(A2262<>\"\",A2262*$B$13,\"\")","v":""},{"$f":"IF(A2262<>\"\",ROUNDDOWN(A2262*$B$13/24,0),\"\")","v":""},"",{"$f":"IF(A2262<>\"\",($B$4+$B$5)/2+($B$5-$B$4)/2*COS(2*PI()/$B$15*B2262),\"\")","v":""},{"$f":"IF(A2262<>\"\",E2262*COS(2*PI()/$B$7*B2262),\"\")","v":""},{"$error":"#VALUE!"},{"$error":"#VALUE!"}]
["","","","","","",{"$error":"#VALUE!"},{"$error":"#VALUE!"}]
["","","","","","",{"$error":"#VALUE!"},{"$error":"#VALUE!"}]
["","","","","","",{"$error":"#VALUE!"},{"$error":"#VALUE!"}]
["","","","","","",{"$error":"#VALUE!"},{"$error":"#VALUE!"}]
["","","","","","",{"$error":"#VALUE!"},{"$error":"#VALUE!"}]
["","","","","","",{"$error":"#VALUE!"},{"$error":"#VALUE!"}]
["","","","","","",{"$error":"#VALUE!"},{"$error":"#VALUE!"}]
["","","","","","",{"$error":"#VALUE!"},{"$error":"#VALUE!"}]
["","","","","","",{"$error":"#VALUE!"},{"$error":"#VALUE!"}]
["","","","","","",{"$error":"#VALUE!"},{"$error":"#VALUE!"}]
["","","","","","",{"$error":"#VALUE!"},{"$error":"#VALUE!"}]
["","","","","","",{"$error":"#VALUE!"},{"$error":"#VALUE!"}]
["","","","","","",{"$error":"#VALUE!"},{"$error":"#VALUE!"}]
["","","","","","",{"$error":"#VALUE!"},{"$error":"#VALUE!"}]
["","","","","","",{"$error":"#VALUE!"},{"$error":"#VALUE!"}]
["","","","","","",{"$error":"#VALUE!"},{"$error":"#VALUE!"}]
["","","","","","",{"$error":"#VALUE!"},{"$error":"#VALUE!"}]
["","","","","","",{"$error":"#VALUE!"},{"$error":"#VALUE!"}]
["","","","","","",{"$error":"#VALUE!"},{"$error":"#VALUE!"}]
["","","","","","",{"$error":"#VALUE!"},{"$error":"#VALUE!"}]
["","","","","","",{"$error":"#VALUE!"},{"$error":"#VALUE!"}]
["","","","","","",{"$error":"#VALUE!"},{"$error":"#VALUE!"}]
["","","","","","",{"$error":"#VALUE!"},{"$error":"#VALUE!"}]
["","","","","","",{"$error":"#VALUE!"},{"$error":"#VALUE!"}]
["","","","","","",{"$error":"#VALUE!"},{"$error":"#VALUE!"}]
["","","","","","",{"$error":"#VALUE!"},{"$error":"#VALUE!"}]
["","","","","","",{"$error":"#VALUE!"},{"$error":"#VALUE!"}]
["","","","","","",{"$error":"#VALUE!"},{"$error":"#VALUE!"}]
["","","","","","",{"$error":"#VALUE!"},{"$error":"#VALUE!"}]
["","","","","","",{"$error":"#VALUE!"},{"$error":"#VALUE!"}]
["","","","","","",{"$error":"#VALUE!"},{"$error":"#VALUE!"}]
["","","","","","",{"$error":"#VALUE!"},{"$error":"#VALUE!"}]
["","","","","","",{"$error":"#VALUE!"},{"$error":"#VALUE!"}]
["","","","","","",{"$error":"#VALUE!"},{"$error":"#VALUE!"}]
["","","","","","",{"$error":"#VALUE!"},{"$error":"#VALUE!"}]
["","","","","","",{"$error":"#VALUE!"},{"$error":"#VALUE!"}]
["","","","","","",{"$error":"#VALUE!"},{"$error":"#VALUE!"}]
["","","","","","",{"$error":"#VALUE!"},{"$error":"#VALUE!"}]
["","","","","","",{"$error":"#VALUE!"},{"$error":"#VALUE!"}]
["","","","","","",{"$error":"#VALUE!"},{"$error":"#VALUE!"}]
["","","","","","",{"$error":"#VALUE!"},{"$error":"#VALUE!"}]
["","","","","","",{"$error":"#VALUE!"},{"$error":"#VALUE!"}]
["","","","","","",{"$error":"#VALUE!"},{"$error":"#VALUE!"}]
["","","","","","",{"$error":"#VALUE!"},{"$error":"#VALUE!"}]
["","","","","","",{"$error":"#VALUE!"},{"$error":"#VALUE!"}]
["","","","","","",{"$error":"#VALUE!"},{"$error":"#VALUE!"}]
["","","","","","",{"$error":"#VALUE!"},{"$error":"#VALUE!"}]
["","","","","","",{"$error":"#VALUE!"},{"$error":"#VALUE!"}]
["","","","","","",{"$error":"#VALUE!"},{"$error":"#VALUE!"}]
["","","","","","",{"$error":"#VALUE!"},{"$error":"#VALUE!"}]
["","","","","","",{"$error":"#VALUE!"},{"$error":"#VALUE!"}]
["","","","","","",{"$error":"#VALUE!"},{"$error":"#VALUE!"}]
["","","","","","",{"$error":"#VALUE!"},{"$error":"#VALUE!"}]
["","","","","","",{"$error":"#VALUE!"},{"$error":"#VALUE!"}]
["","","","","","",{"$error":"#VALUE!"},{"$error":"#VALUE!"}]
["","","","","","",{"$error":"#VALUE!"},{"$error":"#VALUE!"}]
["","","","","","",{"$error":"#VALUE!"},{"$error":"#VALUE!"}]
["","","","","","",{"$error":"#VALUE!"},{"$error":"#VALUE!"}]
["","","","","","",{"$error":"#VALUE!"},{"$error":"#VALUE!"}]
["","","","","","",{"$error":"#VALUE!"},{"$error":"#VALUE!"}]
["","","","","","",{"$error":"#VALUE!"},{"$error":"#VALUE!"}]
["","","","","","",{"$error":"#VALUE!"},{"$error":"#VALUE!"}]
["","","",{"$f":"IF(A2325<>\"\",MOD(B2325,24)/24,\"\")","v":""},"","",{"$f":"ABS(0.5*1.025*1*(F2325^3))","v":{"$error":"#VALUE!"}},{"$f":"G2325*$B$13","v":{"$error":"#VALUE!"}}]
[{"$f":"IF(IF(A2325<>\"\",A2325+1<=$B$16,0),A2325+1,\"\")","v":""},{"$f":"IF(A2326<>\"\",A2326*$B$13,\"\")","v":""},{"$f":"IF(A2326<>\"\",ROUNDDOWN(A2326*$B$13/24,0),\"\")","v":""},"",{"$f":"IF(A2326<>\"\",($B$4+$B$5)/2+($B$5-$B$4)/2*COS(2*PI()/$B$15*B2326),\"\")","v":""},{"$f":"IF(A2326<>\"\",E2326*COS(2*PI()/$B$7*B2326),\"\")","v":""},{"$error":"#VALUE!"},{"$error":"#VALUE!"}]
["","","","","","",{"$error":"#VALUE!"},{"$error":"#VALUE!"}]
["","","","","","",{"$error":"#VALUE!"},{"$error":"#VALUE!"}]
["","","","","","",{"$error":"#VALUE!"},{"$error":"#VALUE!"}]
["","","","","","",{"$error":"#VALUE!"},{"$error":"#VALUE!"}]
["","","","","","",{"$error":"#VALUE!"},{"$error":"#VALUE!"}]
["","","","","","",{"$error":"#VALUE!"},{"$error":"#VALUE!"}]
["","","","","","",{"$error":"#VALUE!"},{"$error":"#VALUE!"}]
["","","","","","",{"$error":"#VALUE!"},{"$error":"#VALUE!"}]
["","","","","","",{"$error":"#VALUE!"},{"$error":"#VALUE!"}]
["","","","","","",{"$error":"#VALUE!"},{"$error":"#VALUE!"}]
["","","","","","",{"$error":"#VALUE!"},{"$error":"#VALUE!"}]
["","","","","","",{"$error":"#VALUE!"},{"$error":"#VALUE!"}]
["","","","","","",{"$error":"#VALUE!"},{"$error":"#VALUE!"}]
["","","","","","",{"$error":"#VALUE!"},{"$error":"#VALUE!"}]
["","","","","","",{"$error":"#VALUE!"},{"$error":"#VALUE!"}]
["","","","","","",{"$error":"#VALUE!"},{"$error":"#VALUE!"}]
["","","","","","",{"$error":"#VALUE!"},{"$error":"#VALUE!"}]
["","","","","","",{"$error":"#VALUE!"},{"$error":"#VALUE!"}]
["","","","","","",{"$error":"#VALUE!"},{"$error":"#VALUE!"}]
["","","","","","",{"$error":"#VALUE!"},{"$error":"#VALUE!"}]
["","","","","","",{"$error":"#VALUE!"},{"$error":"#VALUE!"}]
["","","","","","",{"$error":"#VALUE!"},{"$error":"#VALUE!"}]
["","","","","","",{"$error":"#VALUE!"},{"$error":"#VALUE!"}]
["","","","","","",{"$error":"#VALUE!"},{"$error":"#VALUE!"}]
["","","","","","",{"$error":"#VALUE!"},{"$error":"#VALUE!"}]
["","","","","","",{"$error":"#VALUE!"},{"$error":"#VALUE!"}]
["","","","","","",{"$error":"#VALUE!"},{"$error":"#VALUE!"}]
["","","","","","",{"$error":"#VALUE!"},{"$error":"#VALUE!"}]
["","","","","","",{"$error":"#VALUE!"},{"$error":"#VALUE!"}]
["","","","","","",{"$error":"#VALUE!"},{"$error":"#VALUE!"}]
["","","","","","",{"$error":"#VALUE!"},{"$error":"#VALUE!"}]
["","","","","","",{"$error":"#VALUE!"},{"$error":"#VALUE!"}]
["","","","","","",{"$error":"#VALUE!"},{"$error":"#VALUE!"}]
["","","","","","",{"$error":"#VALUE!"},{"$error":"#VALUE!"}]
["","","","","","",{"$error":"#VALUE!"},{"$error":"#VALUE!"}]
["","","","","","",{"$error":"#VALUE!"},{"$error":"#VALUE!"}]
["","","","","","",{"$error":"#VALUE!"},{"$error":"#VALUE!"}]
["","","","","","",{"$error":"#VALUE!"},{"$error":"#VALUE!"}]
["","","","","","",{"$error":"#VALUE!"},{"$error":"#VALUE!"}]
["","","","","","",{"$error":"#VALUE!"},{"$error":"#VALUE!"}]
["","","","","","",{"$error":"#VALUE!"},{"$error":"#VALUE!"}]
["","","","","","",{"$error":"#VALUE!"},{"$error":"#VALUE!"}]
["","","","","","",{"$error":"#VALUE!"},{"$error":"#VALUE!"}]
["","","","","","",{"$error":"#VALUE!"},{"$error":"#VALUE!"}]
["","","","","","",{"$error":"#VALUE!"},{"$error":"#VALUE!"}]
["","","","","","",{"$error":"#VALUE!"},{"$error":"#VALUE!"}]
["","","","","","",{"$error":"#VALUE!"},{"$error":"#VALUE!"}]
["","","","","","",{"$error":"#VALUE!"},{"$error":"#VALUE!"}]
["","","","","","",{"$error":"#VALUE!"},{"$error":"#VALUE!"}]
["","","","","","",{"$error":"#VALUE!"},{"$error":"#VALUE!"}]
["","","","","","",{"$error":"#VALUE!"},{"$error":"#VALUE!"}]
["","","","","","",{"$error":"#VALUE!"},{"$error":"#VALUE!"}]
["","","","","","",{"$error":"#VALUE!"},{"$error":"#VALUE!"}]
["","","","","","",{"$error":"#VALUE!"},{"$error":"#VALUE!"}]
["","","","","","",{"$error":"#VALUE!"},{"$error":"#VALUE!"}]
["","","","","","",{"$error":"#VALUE!"},{"$error":"#VALUE!"}]
["","","","","","",{"$error":"#VALUE!"},{"$error":"#VALUE!"}]
["","","","","","",{"$error":"#VALUE!"},{"$error":"#VALUE!"}]
["","","","","","",{"$error":"#VALUE!"},{"$error":"#VALUE!"}]
["","","","","","",{"$error":"#VALUE!"},{"$error":"#VALUE!"}]
["","","","","","",{"$error":"#VALUE!"},{"$error":"#VALUE!"}]
["","","","","","",{"$error":"#VALUE!"},{"$error":"#VALUE!"}]
["","","",{"$f":"IF(A2389<>\"\",MOD(B2389,24)/24,\"\")","v":""},"","",{"$f":"ABS(0.5*1.025*1*(F2389^3))","v":{"$error":"#VALUE!"}},{"$f":"G2389*$B$13","v":{"$error":"#VALUE!"}}]
[{"$f":"IF(IF(A2389<>\"\",A2389+1<=$B$16,0),A2389+1,\"\")","v":""},{"$f":"IF(A2390<>\"\",A2390*$B$13,\"\")","v":""},{"$f":"IF(A2390<>\"\",ROUNDDOWN(A2390*$B$13/24,0),\"\")","v":""},"",{"$f":"IF(A2390<>\"\",($B$4+$B$5)/2+($B$5-$B$4)/2*COS(2*PI()/$B$15*B2390),\"\")","v":""},{"$f":"IF(A2390<>\"\",E2390*COS(2*PI()/$B$7*B2390),\"\")","v":""},{"$error":"#VALUE!"},{"$error":"#VALUE!"}]
["","","","","","",{"$error":"#VALUE!"},{"$error":"#VALUE!"}]
["","","","","","",{"$error":"#VALUE!"},{"$error":"#VALUE!"}]
["","","","","","",{"$error":"#VALUE!"},{"$error":"#VALUE!"}]
["","","","","","",{"$error":"#VALUE!"},{"$error":"#VALUE!"}]
["","","","","","",{"$error":"#VALUE!"},{"$error":"#VALUE!"}]
["","","","","","",{"$error":"#VALUE!"},{"$error":"#VALUE!"}]
["","","","","","",{"$error":"#VALUE!"},{"$error":"#VALUE!"}]
["","","","","","",{"$error":"#VALUE!"},{"$error":"#VALUE!"}]
["","","","","","",{"$error":"#VALUE!"},{"$error":"#VALUE!"}]
["","","","","","",{"$error":"#VALUE!"},{"$error":"#VALUE!"}]
["","","","","","",{"$error":"#VALUE!"},{"$error":"#VALUE!"}]
["","","","","","",{"$error":"#VALUE!"},{"$error":"#VALUE!"}]
["","","","","","",{"$error":"#VALUE!"},{"$error":"#VALUE!"}]
["","","","","","",{"$error":"#VALUE!"},{"$error":"#VALUE!"}]
["","","","","","",{"$error":"#VALUE!"},{"$error":"#VALUE!"}]
["","","","","","",{"$error":"#VALUE!"},{"$error":"#VALUE!"}]
["","","","","","",{"$error":"#VALUE!"},{"$error":"#VALUE!"}]
["","","","","","",{"$error":"#VALUE!"},{"$error":"#VALUE!"}]
["","","","","","",{"$error":"#VALUE!"},{"$error":"#VALUE!"}]
["","","","","","",{"$error":"#VALUE!"},{"$error":"#VALUE!"}]
["","","","","","",{"$error":"#VALUE!"},{"$error":"#VALUE!"}]
["","","","","","",{"$error":"#VALUE!"},{"$error":"#VALUE!"}]
["","","","","","",{"$error":"#VALUE!"},{"$error":"#VALUE!"}]
["","","","","","",{"$error":"#VALUE!"},{"$error":"#VALUE!"}]
["","","","","","",{"$error":"#VALUE!"},{"$error":"#VALUE!"}]
["","","","","","",{"$error":"#VALUE!"},{"$error":"#VALUE!"}]
["","","","","","",{"$error":"#VALUE!"},{"$error":"#VALUE!"}]
["","","","","","",{"$error":"#VALUE!"},{"$error":"#VALUE!"}]
["","","","","","",{"$error":"#VALUE!"},{"$error":"#VALUE!"}]
["","","","","","",{"$error":"#VALUE!"},{"$error":"#VALUE!"}]
["","","","","","",{"$error":"#VALUE!"},{"$error":"#VALUE!"}]
["","","","","","",{"$error":"#VALUE!"},{"$error":"#VALUE!"}]
["","","","","","",{"$error":"#VALUE!"},{"$error":"#VALUE!"}]
["","","","","","",{"$error":"#VALUE!"},{"$error":"#VALUE!"}]
["","","","","","",{"$error":"#VALUE!"},{"$error":"#VALUE!"}]
["","","","","","",{"$error":"#VALUE!"},{"$error":"#VALUE!"}]
["","","","","","",{"$error":"#VALUE!"},{"$error":"#VALUE!"}]
["","","","","","",{"$error":"#VALUE!"},{"$error":"#VALUE!"}]
["","","","","","",{"$error":"#VALUE!"},{"$error":"#VALUE!"}]
["","","","","","",{"$error":"#VALUE!"},{"$error":"#VALUE!"}]
["","","","","","",{"$error":"#VALUE!"},{"$error":"#VALUE!"}]
["","","","","","",{"$error":"#VALUE!"},{"$error":"#VALUE!"}]
["","","","","","",{"$error":"#VALUE!"},{"$error":"#VALUE!"}]
["","","","","","",{"$error":"#VALUE!"},{"$error":"#VALUE!"}]
["","","","","","",{"$error":"#VALUE!"},{"$error":"#VALUE!"}]
["","","","","","",{"$error":"#VALUE!"},{"$error":"#VALUE!"}]
["","","","","","",{"$error":"#VALUE!"},{"$error":"#VALUE!"}]
["","","","","","",{"$error":"#VALUE!"},{"$error":"#VALUE!"}]
["","","","","","",{"$error":"#VALUE!"},{"$error":"#VALUE!"}]
["","","","","","",{"$error":"#VALUE!"},{"$error":"#VALUE!"}]
["","","","","","",{"$error":"#VALUE!"},{"$error":"#VALUE!"}]
["","","","","","",{"$error":"#VALUE!"},{"$error":"#VALUE!"}]
["","","","","","",{"$error":"#VALUE!"},{"$error":"#VALUE!"}]
["","","","","","",{"$error":"#VALUE!"},{"$error":"#VALUE!"}]
["","","","","","",{"$error":"#VALUE!"},{"$error":"#VALUE!"}]
["","","","","","",{"$error":"#VALUE!"},{"$error":"#VALUE!"}]
["","","","","","",{"$error":"#VALUE!"},{"$error":"#VALUE!"}]
["","","","","","",{"$error":"#VALUE!"},{"$error":"#VALUE!"}]
["","","","","","",{"$error":"#VALUE!"},{"$error":"#VALUE!"}]
["","","","","","",{"$error":"#VALUE!"},{"$error":"#VALUE!"}]
["","","","","","",{"$error":"#VALUE!"},{"$error":"#VALUE!"}]
["","","","","","",{"$error":"#VALUE!"},{"$error":"#VALUE!"}]
["","","",{"$f":"IF(A2453<>\"\",MOD(B2453,24)/24,\"\")","v":""},"","",{"$f":"ABS(0.5*1.025*1*(F2453^3))","v":{"$error":"#VALUE!"}},{"$f":"G2453*$B$13","v":{"$error":"#VALUE!"}}]
[{"$f":"IF(IF(A2453<>\"\",A2453+1<=$B$16,0),A2453+1,\"\")","v":""},{"$f":"IF(A2454<>\"\",A2454*$B$13,\"\")","v":""},{"$f":"IF(A2454<>\"\",ROUNDDOWN(A2454*$B$13/24,0),\"\")","v":""},"",{"$f":"IF(A2454<>\"\",($B$4+$B$5)/2+($B$5-$B$4)/2*COS(2*PI()/$B$15*B2454),\"\")","v":""},{"$f":"IF(A2454<>\"\",E2454*COS(2*PI()/$B$7*B2454),\"\")","v":""},{"$error":"#VALUE!"},{"$error":"#VALUE!"}]
["","","","","","",{"$error":"#VALUE!"},{"$error":"#VALUE!"}]
["","","","","","",{"$error":"#VALUE!"},{"$error":"#VALUE!"}]
["","","","","","",{"$error":"#VALUE!"},{"$error":"#VALUE!"}]
["","","","","","",{"$error":"#VALUE!"},{"$error":"#VALUE!"}]
["","","","","","",{"$error":"#VALUE!"},{"$error":"#VALUE!"}]
["","","","","","",{"$error":"#VALUE!"},{"$error":"#VALUE!"}]
["","","","","","",{"$error":"#VALUE!"},{"$error":"#VALUE!"}]
["","","","","","",{"$error":"#VALUE!"},{"$error":"#VALUE!"}]
["","","","","","",{"$error":"#VALUE!"},{"$error":"#VALUE!"}]
["","","","","","",{"$error":"#VALUE!"},{"$error":"#VALUE!"}]
["","","","","","",{"$error":"#VALUE!"},{"$error":"#VALUE!"}]
["","","","","","",{"$error":"#VALUE!"},{"$error":"#VALUE!"}]
["","","","","","",{"$error":"#VALUE!"},{"$error":"#VALUE!"}]
["","","","","","",{"$error":"#VALUE!"},{"$error":"#VALUE!"}]
["","","","","","",{"$error":"#VALUE!"},{"$error":"#VALUE!"}]
["","","","","","",{"$error":"#VALUE!"},{"$error":"#VALUE!"}]
["","","","","","",{"$error":"#VALUE!"},{"$error":"#VALUE!"}]
["","","","","","",{"$error":"#VALUE!"},{"$error":"#VALUE!"}]
["","","","","","",{"$error":"#VALUE!"},{"$error":"#VALUE!"}]
["","","","","","",{"$error":"#VALUE!"},{"$error":"#VALUE!"}]
["","","","","","",{"$error":"#VALUE!"},{"$error":"#VALUE!"}]
["","","","","","",{"$error":"#VALUE!"},{"$error":"#VALUE!"}]
["","","","","","",{"$error":"#VALUE!"},{"$error":"#VALUE!"}]
["","","","","","",{"$error":"#VALUE!"},{"$error":"#VALUE!"}]
["","","","","","",{"$error":"#VALUE!"},{"$error":"#VALUE!"}]
["","","","","","",{"$error":"#VALUE!"},{"$error":"#VALUE!"}]
["","","","","","",{"$error":"#VALUE!"},{"$error":"#VALUE!"}]
["","","","","","",{"$error":"#VALUE!"},{"$error":"#VALUE!"}]
["","","","","","",{"$error":"#VALUE!"},{"$error":"#VALUE!"}]
["","","","","","",{"$error":"#VALUE!"},{"$error":"#VALUE!"}]
["","","","","","",{"$error":"#VALUE!"},{"$error":"#VALUE!"}]
["","","","","","",{"$error":"#VALUE!"},{"$error":"#VALUE!"}]
["","","","","","",{"$error":"#VALUE!"},{"$error":"#VALUE!"}]
["","","","","","",{"$error":"#VALUE!"},{"$error":"#VALUE!"}]
["","","","","","",{"$error":"#VALUE!"},{"$error":"#VALUE!"}]
["","","","","","",{"$error":"#VALUE!"},{"$error":"#VALUE!"}]
["","","","","","",{"$error":"#VALUE!"},{"$error":"#VALUE!"}]
["","","","","","",{"$error":"#VALUE!"},{"$error":"#VALUE!"}]
["","","","","","",{"$error":"#VALUE!"},{"$error":"#VALUE!"}]
["","","","","","",{"$error":"#VALUE!"},{"$error":"#VALUE!"}]
["","","","","","",{"$error":"#VALUE!"},{"$error":"#VALUE!"}]
["","","","","","",{"$error":"#VALUE!"},{"$error":"#VALUE!"}]
["","","","","","",{"$error":"#VALUE!"},{"$error":"#VALUE!"}]
["","","","","","",{"$error":"#VALUE!"},{"$error":"#VALUE!"}]
["","","","","","",{"$error":"#VALUE!"},{"$error":"#VALUE!"}]
["","","","","","",{"$error":"#VALUE!"},{"$error":"#VALUE!"}]
["","","","","","",{"$error":"#VALUE!"},{"$error":"#VALUE!"}]
["","","","","","",{"$error":"#VALUE!"},{"$error":"#VALUE!"}]
["","","","","","",{"$error":"#VALUE!"},{"$error":"#VALUE!"}]
["","","","","","",{"$error":"#VALUE!"},{"$error":"#VALUE!"}]
["","","","","","",{"$error":"#VALUE!"},{"$error":"#VALUE!"}]
["","","","","","",{"$error":"#VALUE!"},{"$error":"#VALUE!"}]
["","","","","","",{"$error":"#VALUE!"},{"$error":"#VALUE!"}]
["","","","","","",{"$error":"#VALUE!"},{"$error":"#VALUE!"}]
["","","","","","",{"$error":"#VALUE!"},{"$error":"#VALUE!"}]
["","","","","","",{"$error":"#VALUE!"},{"$error":"#VALUE!"}]
["","","","","","",{"$error":"#VALUE!"},{"$error":"#VALUE!"}]
["","","","","","",{"$error":"#VALUE!"},{"$error":"#VALUE!"}]
["","","","","","",{"$error":"#VALUE!"},{"$error":"#VALUE!"}]
["","","","","","",{"$error":"#VALUE!"},{"$error":"#VALUE!"}]
["","","","","","",{"$error":"#VALUE!"},{"$error":"#VALUE!"}]
["","","","","","",{"$error":"#VALUE!"},{"$error":"#VALUE!"}]
["","","",{"$f":"IF(A2517<>\"\",MOD(B2517,24)/24,\"\")","v":""},"","",{"$f":"ABS(0.5*1.025*1*(F2517^3))","v":{"$error":"#VALUE!"}},{"$f":"G2517*$B$13","v":{"$error":"#VALUE!"}}]
[{"$f":"IF(IF(A2517<>\"\",A2517+1<=$B$16,0),A2517+1,\"\")","v":""},{"$f":"IF(A2518<>\"\",A2518*$B$13,\"\")","v":""},{"$f":"IF(A2518<>\"\",ROUNDDOWN(A2518*$B$13/24,0),\"\")","v":""},"",{"$f":"IF(A2518<>\"\",($B$4+$B$5)/2+($B$5-$B$4)/2*COS(2*PI()/$B$15*B2518),\"\")","v":""},{"$f":"IF(A2518<>\"\",E2518*COS(2*PI()/$B$7*B2518),\"\")","v":""},{"$error":"#VALUE!"},{"$error":"#VALUE!"}]
["","","","","","",{"$error":"#VALUE!"},{"$error":"#VALUE!"}]
["","","","","","",{"$error":"#VALUE!"},{"$error":"#VALUE!"}]
["","","","","","",{"$error":"#VALUE!"},{"$error":"#VALUE!"}]
["","","","","","",{"$error":"#VALUE!"},{"$error":"#VALUE!"}]
["","","","","","",{"$error":"#VALUE!"},{"$error":"#VALUE!"}]
["","","","","","",{"$error":"#VALUE!"},{"$error":"#VALUE!"}]
["","","","","","",{"$error":"#VALUE!"},{"$error":"#VALUE!"}]
["","","","","","",{"$error":"#VALUE!"},{"$error":"#VALUE!"}]
["","","","","","",{"$error":"#VALUE!"},{"$error":"#VALUE!"}]
["","","","","","",{"$error":"#VALUE!"},{"$error":"#VALUE!"}]
["","","","","","",{"$error":"#VALUE!"},{"$error":"#VALUE!"}]
["","","","","","",{"$error":"#VALUE!"},{"$error":"#VALUE!"}]
["","","","","","",{"$error":"#VALUE!"},{"$error":"#VALUE!"}]
["","","","","","",{"$error":"#VALUE!"},{"$error":"#VALUE!"}]
["","","","","","",{"$error":"#VALUE!"},{"$error":"#VALUE!"}]
["","","","","","",{"$error":"#VALUE!"},{"$error":"#VALUE!"}]
["","","","","","",{"$error":"#VALUE!"},{"$error":"#VALUE!"}]
["","","","","","",{"$error":"#VALUE!"},{"$error":"#VALUE!"}]
["","","","","","",{"$error":"#VALUE!"},{"$error":"#VALUE!"}]
["","","","","","",{"$error":"#VALUE!"},{"$error":"#VALUE!"}]
["","","","","","",{"$error":"#VALUE!"},{"$error":"#VALUE!"}]
["","","","","","",{"$error":"#VALUE!"},{"$error":"#VALUE!"}]
["","","","","","",{"$error":"#VALUE!"},{"$error":"#VALUE!"}]
["","","","","","",{"$error":"#VALUE!"},{"$error":"#VALUE!"}]
["","","","","","",{"$error":"#VALUE!"},{"$error":"#VALUE!"}]
["","","","","","",{"$error":"#VALUE!"},{"$error":"#VALUE!"}]
["","","","","","",{"$error":"#VALUE!"},{"$error":"#VALUE!"}]
["","","","","","",{"$error":"#VALUE!"},{"$error":"#VALUE!"}]
["","","","","","",{"$error":"#VALUE!"},{"$error":"#VALUE!"}]
["","","","","","",{"$error":"#VALUE!"},{"$error":"#VALUE!"}]
["","","","","","",{"$error":"#VALUE!"},{"$error":"#VALUE!"}]
["","","","","","",{"$error":"#VALUE!"},{"$error":"#VALUE!"}]
["","","","","","",{"$error":"#VALUE!"},{"$error":"#VALUE!"}]
["","","","","","",{"$error":"#VALUE!"},{"$error":"#VALUE!"}]
["","","","","","",{"$error":"#VALUE!"},{"$error":"#VALUE!"}]
["","","","","","",{"$error":"#VALUE!"},{"$error":"#VALUE!"}]
["","","","","","",{"$error":"#VALUE!"},{"$error":"#VALUE!"}]
["","","","","","",{"$error":"#VALUE!"},{"$error":"#VALUE!"}]
["","","","","","",{"$error":"#VALUE!"},{"$error":"#VALUE!"}]
["","","","","","",{"$error":"#VALUE!"},{"$error":"#VALUE!"}]
["","","","","","",{"$error":"#VALUE!"},{"$error":"#VALUE!"}]
["","","","","","",{"$error":"#VALUE!"},{"$error":"#VALUE!"}]
["","","","","","",{"$error":"#VALUE!"},{"$error":"#VALUE!"}]
["","","","","","",{"$error":"#VALUE!"},{"$error":"#VALUE!"}]
["","","","","","",{"$error":"#VALUE!"},{"$error":"#VALUE!"}]
["","","","","","",{"$error":"#VALUE!"},{"$error":"#VALUE!"}]
["","","","","","",{"$error":"#VALUE!"},{"$error":"#VALUE!"}]
["","","","","","",{"$error":"#VALUE!"},{"$error":"#VALUE!"}]
["","","","","","",{"$error":"#VALUE!"},{"$error":"#VALUE!"}]
["","","","","","",{"$error":"#VALUE!"},{"$error":"#VALUE!"}]
["","","","","","",{"$error":"#VALUE!"},{"$error":"#VALUE!"}]
["","","","","","",{"$error":"#VALUE!"},{"$error":"#VALUE!"}]
["","","","","","",{"$error":"#VALUE!"},{"$error":"#VALUE!"}]
["","","","","","",{"$error":"#VALUE!"},{"$error":"#VALUE!"}]
["","","","","","",{"$error":"#VALUE!"},{"$error":"#VALUE!"}]
["","","","","","",{"$error":"#VALUE!"},{"$error":"#VALUE!"}]
["","","","","","",{"$error":"#VALUE!"},{"$error":"#VALUE!"}]
["","","","","","",{"$error":"#VALUE!"},{"$error":"#VALUE!"}]
["","","","","","",{"$error":"#VALUE!"},{"$error":"#VALUE!"}]
["","","","","","",{"$error":"#VALUE!"},{"$error":"#VALUE!"}]
["","","","","","",{"$error":"#VALUE!"},{"$error":"#VALUE!"}]
["","","","","","",{"$error":"#VALUE!"},{"$error":"#VALUE!"}]
["","","",{"$f":"IF(A2581<>\"\",MOD(B2581,24)/24,\"\")","v":""},"","",{"$f":"ABS(0.5*1.025*1*(F2581^3))","v":{"$error":"#VALUE!"}},{"$f":"G2581*$B$13","v":{"$error":"#VALUE!"}}]
[{"$f":"IF(IF(A2581<>\"\",A2581+1<=$B$16,0),A2581+1,\"\")","v":""},{"$f":"IF(A2582<>\"\",A2582*$B$13,\"\")","v":""},{"$f":"IF(A2582<>\"\",ROUNDDOWN(A2582*$B$13/24,0),\"\")","v":""},"",{"$f":"IF(A2582<>\"\",($B$4+$B$5)/2+($B$5-$B$4)/2*COS(2*PI()/$B$15*B2582),\"\")","v":""},{"$f":"IF(A2582<>\"\",E2582*COS(2*PI()/$B$7*B2582),\"\")","v":""},{"$error":"#VALUE!"},{"$error":"#VALUE!"}]
["","","","","","",{"$error":"#VALUE!"},{"$error":"#VALUE!"}]
["","","","","","",{"$error":"#VALUE!"},{"$error":"#VALUE!"}]
["","","","","","",{"$error":"#VALUE!"},{"$error":"#VALUE!"}]
["","","","","","",{"$error":"#VALUE!"},{"$error":"#VALUE!"}]
["","","","","","",{"$error":"#VALUE!"},{"$error":"#VALUE!"}]
["","","","","","",{"$error":"#VALUE!"},{"$error":"#VALUE!"}]
["","","","","","",{"$error":"#VALUE!"},{"$error":"#VALUE!"}]
["","","","","","",{"$error":"#VALUE!"},{"$error":"#VALUE!"}]
["","","","","","",{"$error":"#VALUE!"},{"$error":"#VALUE!"}]
["","","","","","",{"$error":"#VALUE!"},{"$error":"#VALUE!"}]
["","","","","","",{"$error":"#VALUE!"},{"$error":"#VALUE!"}]
["","","","","","",{"$error":"#VALUE!"},{"$error":"#VALUE!"}]
["","","","","","",{"$error":"#VALUE!"},{"$error":"#VALUE!"}]
["","","","","","",{"$error":"#VALUE!"},{"$error":"#VALUE!"}]
["","","","","","",{"$error":"#VALUE!"},{"$error":"#VALUE!"}]
["","","","","","",{"$error":"#VALUE!"},{"$error":"#VALUE!"}]
["","","","","","",{"$error":"#VALUE!"},{"$error":"#VALUE!"}]
["","","","","","",{"$error":"#VALUE!"},{"$error":"#VALUE!"}]
["","","","","","",{"$error":"#VALUE!"},{"$error":"#VALUE!"}]
["","","","","","",{"$error":"#VALUE!"},{"$error":"#VALUE!"}]
["","","","","","",{"$error":"#VALUE!"},{"$error":"#VALUE!"}]
["","","","","","",{"$error":"#VALUE!"},{"$error":"#VALUE!"}]
["","","","","","",{"$error":"#VALUE!"},{"$error":"#VALUE!"}]
["","","","","","",{"$error":"#VALUE!"},{"$error":"#VALUE!"}]
["","","","","","",{"$error":"#VALUE!"},{"$error":"#VALUE!"}]
["","","","","","",{"$error":"#VALUE!"},{"$error":"#VALUE!"}]
["","","","","","",{"$error":"#VALUE!"},{"$error":"#VALUE!"}]
["","","","","","",{"$error":"#VALUE!"},{"$error":"#VALUE!"}]
["","","","","","",{"$error":"#VALUE!"},{"$error":"#VALUE!"}]
["","","","","","",{"$error":"#VALUE!"},{"$error":"#VALUE!"}]
["","","","","","",{"$error":"#VALUE!"},{"$error":"#VALUE!"}]
["","","","","","",{"$error":"#VALUE!"},{"$error":"#VALUE!"}]
["","","","","","",{"$error":"#VALUE!"},{"$error":"#VALUE!"}]
["","","","","","",{"$error":"#VALUE!"},{"$error":"#VALUE!"}]
["","","","","","",{"$error":"#VALUE!"},{"$error":"#VALUE!"}]
["","","","","","",{"$error":"#VALUE!"},{"$error":"#VALUE!"}]
["","","","","","",{"$error":"#VALUE!"},{"$error":"#VALUE!"}]
["","","","","","",{"$error":"#VALUE!"},{"$error":"#VALUE!"}]
["","","","","","",{"$error":"#VALUE!"},{"$error":"#VALUE!"}]
["","","","","","",{"$error":"#VALUE!"},{"$error":"#VALUE!"}]
["","","","","","",{"$error":"#VALUE!"},{"$error":"#VALUE!"}]
["","","","","","",{"$error":"#VALUE!"},{"$error":"#VALUE!"}]
["","","","","","",{"$error":"#VALUE!"},{"$error":"#VALUE!"}]
["","","","","","",{"$error":"#VALUE!"},{"$error":"#VALUE!"}]
["","","","","","",{"$error":"#VALUE!"},{"$error":"#VALUE!"}]
["","","","","","",{"$error":"#VALUE!"},{"$error":"#VALUE!"}]
["","","","","","",{"$error":"#VALUE!"},{"$error":"#VALUE!"}]
["","","","","","",{"$error":"#VALUE!"},{"$error":"#VALUE!"}]
["","","","","","",{"$error":"#VALUE!"},{"$error":"#VALUE!"}]
["","","","","","",{"$error":"#VALUE!"},{"$error":"#VALUE!"}]
["","","","","","",{"$error":"#VALUE!"},{"$error":"#VALUE!"}]
["","","","","","",{"$error":"#VALUE!"},{"$error":"#VALUE!"}]
["","","","","","",{"$error":"#VALUE!"},{"$error":"#VALUE!"}]
["","","","","","",{"$error":"#VALUE!"},{"$error":"#VALUE!"}]
["","","","","","",{"$error":"#VALUE!"},{"$error":"#VALUE!"}]
["","","","","","",{"$error":"#VALUE!"},{"$error":"#VALUE!"}]
["","","","","","",{"$error":"#VALUE!"},{"$error":"#VALUE!"}]
["","","","","","",{"$error":"#VALUE!"},{"$error":"#VALUE!"}]
["","","","","","",{"$error":"#VALUE!"},{"$error":"#VALUE!"}]
["","","","","","",{"$error":"#VALUE!"},{"$error":"#VALUE!"}]
["","","","","","",{"$error":"#VALUE!"},{"$error":"#VALUE!"}]
["","","","","","",{"$error":"#VALUE!"},{"$error":"#VALUE!"}]
["","","",{"$f":"IF(A2645<>\"\",MOD(B2645,24)/24,\"\")","v":""},"","",{"$f":"ABS(0.5*1.025*1*(F2645^3))","v":{"$error":"#VALUE!"}},{"$f":"G2645*$B$13","v":{"$error":"#VALUE!"}}]
[{"$f":"IF(IF(A2645<>\"\",A2645+1<=$B$16,0),A2645+1,\"\")","v":""},{"$f":"IF(A2646<>\"\",A2646*$B$13,\"\")","v":""},{"$f":"IF(A2646<>\"\",ROUNDDOWN(A2646*$B$13/24,0),\"\")","v":""},"",{"$f":"IF(A2646<>\"\",($B$4+$B$5)/2+($B$5-$B$4)/2*COS(2*PI()/$B$15*B2646),\"\")","v":""},{"$f":"IF(A2646<>\"\",E2646*COS(2*PI()/$B$7*B2646),\"\")","v":""},{"$error":"#VALUE!"},{"$error":"#VALUE!"}]
["","","","","","",{"$error":"#VALUE!"},{"$error":"#VALUE!"}]
["","","","","","",{"$error":"#VALUE!"},{"$error":"#VALUE!"}]
["","","","","","",{"$error":"#VALUE!"},{"$error":"#VALUE!"}]
["","","","","","",{"$error":"#VALUE!"},{"$error":"#VALUE!"}]
["","","","","","",{"$error":"#VALUE!"},{"$error":"#VALUE!"}]
["","","","","","",{"$error":"#VALUE!"},{"$error":"#VALUE!"}]
["","","","","","",{"$error":"#VALUE!"},{"$error":"#VALUE!"}]
["","","","","","",{"$error":"#VALUE!"},{"$error":"#VALUE!"}]
["","","","","","",{"$error":"#VALUE!"},{"$error":"#VALUE!"}]
["","","","","","",{"$error":"#VALUE!"},{"$error":"#VALUE!"}]
["","","","","","",{"$error":"#VALUE!"},{"$error":"#VALUE!"}]
["","","","","","",{"$error":"#VALUE!"},{"$error":"#VALUE!"}]
["","","","","","",{"$error":"#VALUE!"},{"$error":"#VALUE!"}]
["","","","","","",{"$error":"#VALUE!"},{"$error":"#VALUE!"}]
["","","","","","",{"$error":"#VALUE!"},{"$error":"#VALUE!"}]
["","","","","","",{"$error":"#VALUE!"},{"$error":"#VALUE!"}]
["","","","","","",{"$error":"#VALUE!"},{"$error":"#VALUE!"}]
["","","","","","",{"$error":"#VALUE!"},{"$error":"#VALUE!"}]
["","","","","","",{"$error":"#VALUE!"},{"$error":"#VALUE!"}]
["","","","","","",{"$error":"#VALUE!"},{"$error":"#VALUE!"}]
["","","","","","",{"$error":"#VALUE!"},{"$error":"#VALUE!"}]
["","","","","","",{"$error":"#VALUE!"},{"$error":"#VALUE!"}]
["","","","","","",{"$error":"#VALUE!"},{"$error":"#VALUE!"}]
["","","","","","",{"$error":"#VALUE!"},{"$error":"#VALUE!"}]
["","","","","","",{"$error":"#VALUE!"},{"$error":"#VALUE!"}]
["","","","","","",{"$error":"#VALUE!"},{"$error":"#VALUE!"}]
["","","","","","",{"$error":"#VALUE!"},{"$error":"#VALUE!"}]
["","","","","","",{"$error":"#VALUE!"},{"$error":"#VALUE!"}]
["","","","","","",{"$error":"#VALUE!"},{"$error":"#VALUE!"}]
["","","","","","",{"$error":"#VALUE!"},{"$error":"#VALUE!"}]
["","","","","","",{"$error":"#VALUE!"},{"$error":"#VALUE!"}]
["","","","","","",{"$error":"#VALUE!"},{"$error":"#VALUE!"}]
["","","","","","",{"$error":"#VALUE!"},{"$error":"#VALUE!"}]
["","","","","","",{"$error":"#VALUE!"},{"$error":"#VALUE!"}]
["","","","","","",{"$error":"#VALUE!"},{"$error":"#VALUE!"}]
["","","","","","",{"$error":"#VALUE!"},{"$error":"#VALUE!"}]
["","","","","","",{"$error":"#VALUE!"},{"$error":"#VALUE!"}]
["","","","","","",{"$error":"#VALUE!"},{"$error":"#VALUE!"}]
["","","","","","",{"$error":"#VALUE!"},{"$error":"#VALUE!"}]
["","","","","","",{"$error":"#VALUE!"},{"$error":"#VALUE!"}]
["","","","","","",{"$error":"#VALUE!"},{"$error":"#VALUE!"}]
["","","","","","",{"$error":"#VALUE!"},{"$error":"#VALUE!"}]
["","","","","","",{"$error":"#VALUE!"},{"$error":"#VALUE!"}]
["","","","","","",{"$error":"#VALUE!"},{"$error":"#VALUE!"}]
["","","","","","",{"$error":"#VALUE!"},{"$error":"#VALUE!"}]
["","","","","","",{"$error":"#VALUE!"},{"$error":"#VALUE!"}]
["","","","","","",{"$error":"#VALUE!"},{"$error":"#VALUE!"}]
["","","","","","",{"$error":"#VALUE!"},{"$error":"#VALUE!"}]
["","","","","","",{"$error":"#VALUE!"},{"$error":"#VALUE!"}]
["","","","","","",{"$error":"#VALUE!"},{"$error":"#VALUE!"}]
["","","","","","",{"$error":"#VALUE!"},{"$error":"#VALUE!"}]
["","","","","","",{"$error":"#VALUE!"},{"$error":"#VALUE!"}]
["","","","","","",{"$error":"#VALUE!"},{"$error":"#VALUE!"}]
["","","","","","",{"$error":"#VALUE!"},{"$error":"#VALUE!"}]
["","","","","","",{"$error":"#VALUE!"},{"$error":"#VALUE!"}]
["","","","","","",{"$error":"#VALUE!"},{"$error":"#VALUE!"}]
["","","","","","",{"$error":"#VALUE!"},{"$error":"#VALUE!"}]
["","","","","","",{"$error":"#VALUE!"},{"$error":"#VALUE!"}]
["","","","","","",{"$error":"#VALUE!"},{"$error":"#VALUE!"}]
["","","","","","",{"$error":"#VALUE!"},{"$error":"#VALUE!"}]
["","","","","","",{"$error":"#VALUE!"},{"$error":"#VALUE!"}]
["","","","","","",{"$error":"#VALUE!"},{"$error":"#VALUE!"}]
["","","",{"$f":"IF(A2709<>\"\",MOD(B2709,24)/24,\"\")","v":""},"","",{"$f":"ABS(0.5*1.025*1*(F2709^3))","v":{"$error":"#VALUE!"}},{"$f":"G2709*$B$13","v":{"$error":"#VALUE!"}}]
[{"$f":"IF(IF(A2709<>\"\",A2709+1<=$B$16,0),A2709+1,\"\")","v":""},{"$f":"IF(A2710<>\"\",A2710*$B$13,\"\")","v":""},{"$f":"IF(A2710<>\"\",ROUNDDOWN(A2710*$B$13/24,0),\"\")","v":""},"",{"$f":"IF(A2710<>\"\",($B$4+$B$5)/2+($B$5-$B$4)/2*COS(2*PI()/$B$15*B2710),\"\")","v":""},{"$f":"IF(A2710<>\"\",E2710*COS(2*PI()/$B$7*B2710),\"\")","v":""},{"$error":"#VALUE!"},{"$error":"#VALUE!"}]
["","","","","","",{"$error":"#VALUE!"},{"$error":"#VALUE!"}]
["","","","","","",{"$error":"#VALUE!"},{"$error":"#VALUE!"}]
["","","","","","",{"$error":"#VALUE!"},{"$error":"#VALUE!"}]
["","","","","","",{"$error":"#VALUE!"},{"$error":"#VALUE!"}]
["","","","","","",{"$error":"#VALUE!"},{"$error":"#VALUE!"}]
["","","","","","",{"$error":"#VALUE!"},{"$error":"#VALUE!"}]
["","","","","","",{"$error":"#VALUE!"},{"$error":"#VALUE!"}]
["","","","","","",{"$error":"#VALUE!"},{"$error":"#VALUE!"}]
["","","","","","",{"$error":"#VALUE!"},{"$error":"#VALUE!"}]
["","","","","","",{"$error":"#VALUE!"},{"$error":"#VALUE!"}]
["","","","","","",{"$error":"#VALUE!"},{"$error":"#VALUE!"}]
["","","","","","",{"$error":"#VALUE!"},{"$error":"#VALUE!"}]
["","","","","","",{"$error":"#VALUE!"},{"$error":"#VALUE!"}]
["","","","","","",{"$error":"#VALUE!"},{"$error":"#VALUE!"}]
["","","","","","",{"$error":"#VALUE!"},{"$error":"#VALUE!"}]
["","","","","","",{"$error":"#VALUE!"},{"$error":"#VALUE!"}]
["","","","","","",{"$error":"#VALUE!"},{"$error":"#VALUE!"}]
["","","","","","",{"$error":"#VALUE!"},{"$error":"#VALUE!"}]
["","","","","","",{"$error":"#VALUE!"},{"$error":"#VALUE!"}]
["","","","","","",{"$error":"#VALUE!"},{"$error":"#VALUE!"}]
["","","","","","",{"$error":"#VALUE!"},{"$error":"#VALUE!"}]
["","","","","","",{"$error":"#VALUE!"},{"$error":"#VALUE!"}]
["","","","","","",{"$error":"#VALUE!"},{"$error":"#VALUE!"}]
["","","","","","",{"$error":"#VALUE!"},{"$error":"#VALUE!"}]
["","","","","","",{"$error":"#VALUE!"},{"$error":"#VALUE!"}]
["","","","","","",{"$error":"#VALUE!"},{"$error":"#VALUE!"}]
["","","","","","",{"$error":"#VALUE!"},{"$error":"#VALUE!"}]
["","","","","","",{"$error":"#VALUE!"},{"$error":"#VALUE!"}]
["","","","","","",{"$error":"#VALUE!"},{"$error":"#VALUE!"}]
["","","","","","",{"$error":"#VALUE!"},{"$error":"#VALUE!"}]
["","","","","","",{"$error":"#VALUE!"},{"$error":"#VALUE!"}]
["","","","","","",{"$error":"#VALUE!"},{"$error":"#VALUE!"}]
["","","","","","",{"$error":"#VALUE!"},{"$error":"#VALUE!"}]
["","","","","","",{"$error":"#VALUE!"},{"$error":"#VALUE!"}]
["","","","","","",{"$error":"#VALUE!"},{"$error":"#VALUE!"}]
["","","","","","",{"$error":"#VALUE!"},{"$error":"#VALUE!"}]
["","","","","","",{"$error":"#VALUE!"},{"$error":"#VALUE!"}]
["","","","","","",{"$error":"#VALUE!"},{"$error":"#VALUE!"}]
["","","","","","",{"$error":"#VALUE!"},{"$error":"#VALUE!"}]
["","","","","","",{"$error":"#VALUE!"},{"$error":"#VALUE!"}]
["","","","","","",{"$error":"#VALUE!"},{"$error":"#VALUE!"}]
["","","","","","",{"$error":"#VALUE!"},{"$error":"#VALUE!"}]
["","","","","","",{"$error":"#VALUE!"},{"$error":"#VALUE!"}]
["","","","","","",{"$error":"#VALUE!"},{"$error":"#VALUE!"}]
["","","","","","",{"$error":"#VALUE!"},{"$error":"#VALUE!"}]
["","","","","","",{"$error":"#VALUE!"},{"$error":"#VALUE!"}]
["","","","","","",{"$error":"#VALUE!"},{"$error":"#VALUE!"}]
["","","","","","",{"$error":"#VALUE!"},{"$error":"#VALUE!"}]
["","","","","","",{"$error":"#VALUE!"},{"$error":"#VALUE!"}]
["","","","","","",{"$error":"#VALUE!"},{"$error":"#VALUE!"}]
["","","","","","",{"$error":"#VALUE!"},{"$error":"#VALUE!"}]
["","","","","","",{"$error":"#VALUE!"},{"$error":"#VALUE!"}]
["","","","","","",{"$error":"#VALUE!"},{"$error":"#VALUE!"}]
["","","","","","",{"$error":"#VALUE!"},{"$error":"#VALUE!"}]
["","","","","","",{"$error":"#VALUE!"},{"$error":"#VALUE!"}]
["","","","","","",{"$error":"#VALUE!"},{"$error":"#VALUE!"}]
["","","","","","",{"$error":"#VALUE!"},{"$error":"#VALUE!"}]
["","","","","","",{"$error":"#VALUE!"},{"$error":"#VALUE!"}]
["","","","","","",{"$error":"#VALUE!"},{"$error":"#VALUE!"}]
[{"$f":"IF(IF(A2769<>\"\",A2769+1<=$B$16,0),A2769+1,\"\")","v":""},{"$f":"IF(A2770<>\"\",A2770*$B$13,\"\")","v":""},{"$f":"IF(A2770<>\"\",ROUNDDOWN(A2770*$B$13/24,0),\"\")","v":""},"",{"$f":"IF(A2770<>\"\",($B$4+$B$5)/2+($B$5-$B$4)/2*COS(2*PI()/$B$15*B2770),\"\")","v":""},{"$f":"IF(A2770<>\"\",E2770*COS(2*PI()/$B$7*B2770),\"\")","v":""},{"$error":"#VALUE!"},{"$error":"#VALUE!"}]
[{"$f":"IF(IF(A2770<>\"\",A2770+1<=$B$16,0),A2770+1,\"\")","v":""},{"$f":"IF(A2771<>\"\",A2771*$B$13,\"\")","v":""},{"$f":"IF(A2771<>\"\",ROUNDDOWN(A2771*$B$13/24,0),\"\")","v":""},"",{"$f":"IF(A2771<>\"\",($B$4+$B$5)/2+($B$5-$B$4)/2*COS(2*PI()/$B$15*B2771),\"\")","v":""},{"$f":"IF(A2771<>\"\",E2771*COS(2*PI()/$B$7*B2771),\"\")","v":""},{"$error":"#VALUE!"},{"$error":"#VALUE!"}]
["","","","","","",{"$error":"#VALUE!"},{"$error":"#VALUE!"}]
["","","",{"$f":"IF(A2773<>\"\",MOD(B2773,24)/24,\"\")","v":""},"","",{"$f":"ABS(0.5*1.025*1*(F2773^3))","v":{"$error":"#VALUE!"}},{"$f":"G2773*$B$13","v":{"$error":"#VALUE!"}}]
["","","","","","",{"$error":"#VALUE!"},{"$error":"#VALUE!"}]
["","","","","","",{"$error":"#VALUE!"},{"$error":"#VALUE!"}]
["","","","","","",{"$error":"#VALUE!"},{"$error":"#VALUE!"}]
["","","","","","",{"$error":"#VALUE!"},{"$error":"#VALUE!"}]
["","","","","","",{"$error":"#VALUE!"},{"$error":"#VALUE!"}]
["","","","","","",{"$error":"#VALUE!"},{"$error":"#VALUE!"}]
[null,null,null,null,"Total Energy (kWh/m^2)",null,"-",{"$f":"IF(ISERROR(SUM(H20:H2779)),\"\",SUM(H20:H2779))","v":""},"per lunar cycle"]
[null,null,null,null,null,null,"-",{"$f":"IF(ISERROR(H2780*(365/$B$6)),\"\",(H2780*(365/$B$6)))","v":""},"per year"]
[null,null,null,null,"Average Power (kW/m^2)",null,{"$f":"IF(ISERROR(AVERAGE(G20:G2779)),\"\",(AVERAGE(G20:G2779)))","v":""},"-"]

{"sheet":"Tidal Barrage 1","index":8,"n_rows":151,"n_cols":8,"rows_kept":151,"cut":false,"hidden":false,"merged":[[2,1,2,2],[25,0,26,0],[7,1,7,2],[8,1,8,2],[9,1,9,2],[10,1,10,2]]}
["Tidal Barrage Resource"]
[]
[{"$f":"Input!E45","v":"Site Name"},{"$f":"Input!F45","v":"[Enter Name]"},{"$f":"Input!G45","v":0}]
[{"$f":"Input!E46","v":"Max Tidal Range"},{"$f":"Input!F46","v":"[Enter Value]"},{"$f":"Input!G46","v":"m"}]
[{"$f":"Input!E47","v":"Mean Tidal Range"},{"$f":"Input!F47","v":"[Enter Value]"},{"$f":"Input!G47","v":"m"}]
[{"$f":"Input!E48","v":"Lunar Cycle Period"},{"$f":"Input!F48","v":"[Enter Value]"},{"$f":"Input!G48","v":"days"}]
[{"$f":"Input!E49","v":"Proposed Lagoon Surface Area"},{"$f":"Input!F49","v":"[Enter Value]"},{"$f":"Input!G49","v":"m^2"}]
[{"$f":"Input!E50","v":"Proximity to Grid Connection"},{"$f":"Input!F50","v":"[Select Value]"}]
[{"$f":"Input!E51","v":"Average Water Depth"},{"$f":"Input!F51","v":"[Select Value]"},{"$f":"Input!G51","v":0}]
[{"$f":"Input!E52","v":"Seabed Topography"},{"$f":"Input!F52","v":"[Select Value]"},{"$f":"Input!G52","v":0}]
[{"$f":"Input!E53","v":"Accessibility"},{"$f":"Input!F53","v":"[Select Value]"},{"$f":"Input!G53","v":0}]
[]
["Gravitational Acceleration",9.81,"m/s^2"]
["Specific Denisty of SeaWater",1025,"kg/m^3"]
["Tidal Volume",{"$f":"B5*B7","v":{"$error":"#VALUE!"}},"m^3"]
["Tidal Mass",{"$f":"B15*B14","v":{"$error":"#VALUE!"}},"kg/m^3"]
[]
["Potential Energy at High Tide",{"$f":"0.5*B7*B14*B13*(B5^2)","v":{"$error":"#VALUE!"}},"J"]
["Total Potential per day",{"$f":"2*B18","v":{"$error":"#VALUE!"}},"J"]
[]
["Daily Power Generation Potential",{"$f":"(B19/(60*60*24))/1000","v":{"$error":"#VALUE!"}},"kW"]
["Assumed Efficiency",0.3]
["Actual Power Generation",{"$f":"B21*B22","v":{"$error":"#VALUE!"}},"kW"]
["Daily Energy",{"$f":"B23*24","v":{"$error":"#VALUE!"}},"kWh"]
[]
["Available Energy (MWh)",{"$f":"IF(ISERROR(B24*B6/1000),\"\",(B24*B6/1000))","v":""},"per lunar cycle"]
[null,{"$f":"IF(ISERROR(365*B24/1000),\"\",(365*B24/1000))","v":""},"per year"]
[]
[]
[]
[null,{"$f":"24*B21","v":{"$error":"#VALUE!"}}]
[]
[]
[]
[]
[]
[]
[]
[]
[]
[]
[]
[]
[]
[]
[]
[]
[]
[]
[]
[]
[]
[]
[]
[]
[]
[]
[]
[]
[]
[]
[]
[]
[]
[]
[]
[]
[]
[]
[]
[]
[]
[]
[]
[]
[]
[]
[]
[]
[]
[]
[]
[]
[]
[]
[]
[]
[]
[]
[]
[]
[]
[]
[]
[]
[]
[]
[]
[]
[]
[]
[]
[]
[]
[]
[]
[]
[]
[]
[]
[]
[]
[]
[]
[]
[]
[]
[]
[]
[]
[]
[]
[]
[]
[]
[]
[]
[]
[]
[]
[]
[]
[]
[]
[]
[]
[]
[]
[]
[]
[]
[]
[]
[]
[]
[]
[]
[]
[]
[]
[null,null,null,null,null,null,null,{"$f":"MIN(H41:H144)","v":0}]

{"sheet":"Tidal Barrage 2","index":9,"n_rows":151,"n_cols":8,"rows_kept":151,"cut":false,"hidden":false,"merged":[[25,0,26,0],[2,1,2,2],[7,1,7,2],[8,1,8,2],[9,1,9,2],[10,1,10,2]]}
["Tidal Barrage Resource"]
[]
[{"$f":"Input!E45","v":"Site Name"},{"$f":"Input!F55","v":"[Enter Name]"},{"$f":"Input!G45","v":0}]
[{"$f":"Input!E46","v":"Max Tidal Range"},{"$f":"Input!F56","v":"[Enter Value]"},{"$f":"Input!G46","v":"m"}]
[{"$f":"Input!E47","v":"Mean Tidal Range"},{"$f":"Input!F57","v":"[Enter Value]"},{"$f":"Input!G47","v":"m"}]
[{"$f":"Input!E48","v":"Lunar Cycle Period"},{"$f":"Input!F58","v":"[Enter Value]"},{"$f":"Input!G48","v":"days"}]
[{"$f":"Input!E49","v":"Proposed Lagoon Surface Area"},{"$f":"Input!F59","v":"[Enter Value]"},{"$f":"Input!G49","v":"m^2"}]
[{"$f":"Input!E50","v":"Proximity to Grid Connection"},{"$f":"Input!F60","v":"[Select Value]"}]
[{"$f":"Input!E51","v":"Average Water Depth"},{"$f":"Input!F61","v":"[Select Value]"},{"$f":"Input!G51","v":0}]
[{"$f":"Input!E52","v":"Seabed Topography"},{"$f":"Input!F62","v":"[Select Value]"},{"$f":"Input!G52","v":0}]
[{"$f":"Input!E53","v":"Accessibility"},{"$f":"Input!F63","v":"[Select Value]"},{"$f":"Input!G53","v":0}]
[]
["Gravitational Acceleration",9.81,"m/s^2"]
["Specific Denisty of SeaWater",1025,"kg/m^3"]
["Tidal Volume",{"$f":"B5*B7","v":{"$error":"#VALUE!"}},"m^3"]
["Tidal Mass",{"$f":"B15*B14","v":{"$error":"#VALUE!"}},"kg/m^3"]
[]
["Potential Energy at High Tide",{"$f":"0.5*B7*B14*B13*(B5^2)","v":{"$error":"#VALUE!"}},"J"]
["Total Potential per day",{"$f":"2*B18","v":{"$error":"#VALUE!"}},"J"]
[]
["Daily Power Generation Potential",{"$f":"(B19/(60*60*24))/1000","v":{"$error":"#VALUE!"}},"kW"]
["Assumed Efficiency",0.3]
["Actual Power Generation",{"$f":"B21*B22","v":{"$error":"#VALUE!"}},"kW"]
["Daily Energy",{"$f":"B23*24","v":{"$error":"#VALUE!"}},"kWh"]
[]
["Output (kWh)",{"$f":"IF(ISERROR(B24*B6/1000),\"\",(B24*B6/1000))","v":""},"per lunar cycle"]
[null,{"$f":"IF(ISERROR(365*B24/1000),\"\",(365*B24/1000))","v":""},"per year"]
[]
[]
[]
[]
[]
[]
[]
[]
[]
[]
[]
[]
[]
[]
[]
[]
[]
[]
[]
[]
[]
[]
[]
[]
[]
[]
[]
[]
[]
[]
[]
[]
[]
[]
[]
[]
[]
[]
[]
[]
[]
[]
[]
[]
[]
[]
[]
[]
[]
[]
[]
[]
[]
[]
[]
[]
[]
[]
[]
[]
[]
[]
[]
[]
[]
[]
[]
[]
[]
[]
[]
[]
[]
[]
[]
[]
[]
[]
[]
[]
[]
[]
[]
[]
[]
[]
[]
[]
[]
[]
[]
[]
[]
[]
[]
[]
[]
[]
[]
[]
[]
[]
[]
[]
[]
[]
[]
[]
[]
[]
[]
[]
[]
[]
[]
[]
[]
[]
[]
[]
[]
[]
[]
[null,null,null,null,null,null,null,{"$f":"MIN(H41:H144)","v":0}]

{"sheet":"Tidal Barrage 3","index":10,"n_rows":151,"n_cols":8,"rows_kept":151,"cut":false,"hidden":false,"merged":[[25,0,26,0],[2,1,2,2],[7,1,7,2],[8,1,8,2],[9,1,9,2],[10,1,10,2]]}
["Tidal Barrage Resource"]
[]
[{"$f":"Input!E45","v":"Site Name"},{"$f":"Input!F65","v":"[Enter Name]"},{"$f":"Input!G45","v":0}]
[{"$f":"Input!E46","v":"Max Tidal Range"},{"$f":"Input!F66","v":"[Enter Value]"},{"$f":"Input!G46","v":"m"}]
[{"$f":"Input!E47","v":"Mean Tidal Range"},{"$f":"Input!F67","v":"[Enter Value]"},{"$f":"Input!G47","v":"m"}]
[{"$f":"Input!E48","v":"Lunar Cycle Period"},{"$f":"Input!F68","v":"[Enter Value]"},{"$f":"Input!G48","v":"days"}]
[{"$f":"Input!E49","v":"Proposed Lagoon Surface Area"},{"$f":"Input!F69","v":"[Enter Value]"},{"$f":"Input!G49","v":"m^2"}]
[{"$f":"Input!E50","v":"Proximity to Grid Connection"},{"$f":"Input!F70","v":"[Select Value]"}]
[{"$f":"Input!E51","v":"Average Water Depth"},{"$f":"Input!F71","v":"[Select Value]"},{"$f":"Input!G51","v":0}]
[{"$f":"Input!E52","v":"Seabed Topography"},{"$f":"Input!F72","v":"[Select Value]"},{"$f":"Input!G52","v":0}]
[{"$f":"Input!E53","v":"Accessibility"},{"$f":"Input!F73","v":"[Select Value]"},{"$f":"Input!G53","v":0}]
[]
["Gravitational Acceleration",9.81,"m/s^2"]
["Specific Denisty of SeaWater",1025,"kg/m^3"]
["Tidal Volume",{"$f":"B5*B7","v":{"$error":"#VALUE!"}},"m^3"]
["Tidal Mass",{"$f":"B15*B14","v":{"$error":"#VALUE!"}},"kg/m^3"]
[]
["Potential Energy at High Tide",{"$f":"0.5*B7*B14*B13*(B5^2)","v":{"$error":"#VALUE!"}},"J"]
["Total Potential per day",{"$f":"2*B18","v":{"$error":"#VALUE!"}},"J"]
[]
["Daily Power Generation Potential",{"$f":"(B19/(60*60*24))/1000","v":{"$error":"#VALUE!"}},"kW",{"$f":"24*B21","v":{"$error":"#VALUE!"}}]
["Assumed Efficiency",0.3]
["Actual Power Generation",{"$f":"B21*B22","v":{"$error":"#VALUE!"}},"kW"]
["Daily Energy",{"$f":"B23*24","v":{"$error":"#VALUE!"}},"kWh"]
[]
["Output (kWh)",{"$f":"IF(ISERROR(B24*B6/1000),\"\",(B24*B6/1000))","v":""},"per lunar cycle"]
[null,{"$f":"IF(ISERROR(365*B24/1000),\"\",(365*B24/1000))","v":""},"per year"]
[]
[]
[]
[]
[]
[]
[]
[]
[]
[]
[]
[]
[]
[]
[]
[]
[]
[]
[]
[]
[]
[]
[]
[]
[]
[]
[]
[]
[]
[]
[]
[]
[]
[]
[]
[]
[]
[]
[]
[]
[]
[]
[]
[]
[]
[]
[]
[]
[]
[]
[]
[]
[]
[]
[]
[]
[]
[]
[]
[]
[]
[]
[]
[]
[]
[]
[]
[]
[]
[]
[]
[]
[]
[]
[]
[]
[]
[]
[]
[]
[]
[]
[]
[]
[]
[]
[]
[]
[]
[]
[]
[]
[]
[]
[]
[]
[]
[]
[]
[]
[]
[]
[]
[]
[]
[]
[]
[]
[]
[]
[]
[]
[]
[]
[]
[]
[]
[]
[]
[]
[]
[]
[]
[null,null,null,null,null,null,null,{"$f":"MIN(H41:H144)","v":0}]

{"sheet":"Tidal Barrage 4","index":11,"n_rows":151,"n_cols":8,"rows_kept":151,"cut":false,"hidden":false,"merged":[[25,0,26,0],[2,1,2,2],[7,1,7,2],[8,1,8,2],[9,1,9,2],[10,1,10,2]]}
["Tidal Barrage Resource"]
[]
[{"$f":"Input!E45","v":"Site Name"},{"$f":"Input!F75","v":"[Enter Name]"},{"$f":"Input!G45","v":0}]
[{"$f":"Input!E46","v":"Max Tidal Range"},{"$f":"Input!F76","v":"[Enter Value]"},{"$f":"Input!G46","v":"m"}]
[{"$f":"Input!E47","v":"Mean Tidal Range"},{"$f":"Input!F77","v":"[Enter Value]"},{"$f":"Input!G47","v":"m"}]
[{"$f":"Input!E48","v":"Lunar Cycle Period"},{"$f":"Input!F78","v":"[Enter Value]"},{"$f":"Input!G48","v":"days"}]
[{"$f":"Input!E49","v":"Proposed Lagoon Surface Area"},{"$f":"Input!F79","v":"[Enter Value]"},{"$f":"Input!G49","v":"m^2"}]
[{"$f":"Input!E50","v":"Proximity to Grid Connection"},{"$f":"Input!F80","v":"[Select Value]"}]
[{"$f":"Input!E51","v":"Average Water Depth"},{"$f":"Input!F81","v":"[Select Value]"},{"$f":"Input!G51","v":0}]
[{"$f":"Input!E52","v":"Seabed Topography"},{"$f":"Input!F82","v":"[Select Value]"},{"$f":"Input!G52","v":0}]
[{"$f":"Input!E53","v":"Accessibility"},{"$f":"Input!F83","v":"[Select Value]"},{"$f":"Input!G53","v":0}]
[]
["Gravitational Acceleration",9.81,"m/s^2"]
["Specific Denisty of SeaWater",1025,"kg/m^3"]
["Tidal Volume",{"$f":"B5*B7","v":{"$error":"#VALUE!"}},"m^3"]
["Tidal Mass",{"$f":"B15*B14","v":{"$error":"#VALUE!"}},"kg/m^3"]
[]
["Potential Energy at High Tide",{"$f":"0.5*B7*B14*B13*(B5^2)","v":{"$error":"#VALUE!"}},"J"]
["Total Potential per day",{"$f":"2*B18","v":{"$error":"#VALUE!"}},"J"]
[]
["Daily Power Generation Potential",{"$f":"(B19/(60*60*24))/1000","v":{"$error":"#VALUE!"}},"kW"]
["Assumed Efficiency",0.3]
["Actual Power Generation",{"$f":"B21*B22","v":{"$error":"#VALUE!"}},"kW"]
["Daily Energy",{"$f":"B23*24","v":{"$error":"#VALUE!"}},"kWh"]
[]
["Output (kWh)",{"$f":"IF(ISERROR(B24*B6/1000),\"\",(B24*B6/1000))","v":""},"per lunar cycle"]
[null,{"$f":"IF(ISERROR(365*B24/1000),\"\",(365*B24/1000))","v":""},"per year"]
[]
[]
[]
[]
[]
[]
[]
[]
[]
[]
[]
[]
[]
[]
[]
[]
[]
[]
[]
[]
[]
[]
[]
[]
[]
[]
[]
[]
[]
[]
[]
[]
[]
[]
[]
[]
[]
[]
[]
[]
[]
[]
[]
[]
[]
[]
[]
[]
[]
[]
[]
[]
[]
[]
[]
[]
[]
[]
[]
[]
[]
[]
[]
[]
[]
[]
[]
[]
[]
[]
[]
[]
[]
[]
[]
[]
[]
[]
[]
[]
[]
[]
[]
[]
[]
[]
[]
[]
[]
[]
[]
[]
[]
[]
[]
[]
[]
[]
[]
[]
[]
[]
[]
[]
[]
[]
[]
[]
[]
[]
[]
[]
[]
[]
[]
[]
[]
[]
[]
[]
[]
[]
[]
[null,null,null,null,null,null,null,{"$f":"MIN(H41:H144)","v":0}]

{"sheet":"Tidal Barrage 5","index":12,"n_rows":151,"n_cols":8,"rows_kept":151,"cut":false,"hidden":false,"merged":[[25,0,26,0],[2,1,2,2],[7,1,7,2],[8,1,8,2],[9,1,9,2],[10,1,10,2]]}
["Tidal Barrage Resource"]
[]
[{"$f":"Input!E45","v":"Site Name"},{"$f":"Input!F85","v":"[Enter Name]"},{"$f":"Input!G45","v":0}]
[{"$f":"Input!E46","v":"Max Tidal Range"},{"$f":"Input!F86","v":"[Enter Value]"},{"$f":"Input!G46","v":"m"}]
[{"$f":"Input!E47","v":"Mean Tidal Range"},{"$f":"Input!F87","v":"[Enter Value]"},{"$f":"Input!G47","v":"m"}]
[{"$f":"Input!E48","v":"Lunar Cycle Period"},{"$f":"Input!F88","v":"[Enter Value]"},{"$f":"Input!G48","v":"days"}]
[{"$f":"Input!E49","v":"Proposed Lagoon Surface Area"},{"$f":"Input!F89","v":"[Enter Value]"},{"$f":"Input!G49","v":"m^2"}]
[{"$f":"Input!E50","v":"Proximity to Grid Connection"},{"$f":"Input!F90","v":"[Select Value]"}]
[{"$f":"Input!E51","v":"Average Water Depth"},{"$f":"Input!F91","v":"[Select Value]"},{"$f":"Input!G51","v":0}]
[{"$f":"Input!E52","v":"Seabed Topography"},{"$f":"Input!F92","v":"[Select Value]"},{"$f":"Input!G52","v":0}]
[{"$f":"Input!E53","v":"Accessibility"},{"$f":"Input!F93","v":"[Select Value]"},{"$f":"Input!G53","v":0}]
[]
["Gravitational Acceleration",9.81,"m/s^2"]
["Specific Denisty of SeaWater",1025,"kg/m^3"]
["Tidal Volume",{"$f":"B5*B7","v":{"$error":"#VALUE!"}},"m^3"]
["Tidal Mass",{"$f":"B15*B14","v":{"$error":"#VALUE!"}},"kg/m^3"]
[]
["Potential Energy at High Tide",{"$f":"0.5*B7*B14*B13*(B5^2)","v":{"$error":"#VALUE!"}},"J"]
["Total Potential per day",{"$f":"2*B18","v":{"$error":"#VALUE!"}},"J"]
[]
["Daily Power Generation Potential",{"$f":"(B19/(60*60*24))/1000","v":{"$error":"#VALUE!"}},"kW"]
["Assumed Efficiency",0.3]
["Actual Power Generation",{"$f":"B21*B22","v":{"$error":"#VALUE!"}},"kW"]
["Daily Energy",{"$f":"B23*24","v":{"$error":"#VALUE!"}},"kWh"]
[]
["Output (kWh)",{"$f":"IF(ISERROR(B24*B6/1000),\"\",(B24*B6/1000))","v":""},"per lunar cycle"]
[null,{"$f":"IF(ISERROR(365*B24/1000),\"\",(365*B24/1000))","v":""},"per year"]
[]
[]
[]
[]
[]
[]
[]
[]
[]
[]
[]
[]
[]
[]
[]
[]
[]
[]
[]
[]
[]
[]
[]
[]
[]
[]
[]
[]
[]
[]
[]
[]
[]
[]
[]
[]
[]
[]
[]
[]
[]
[]
[]
[]
[]
[]
[]
[]
[]
[]
[]
[]
[]
[]
[]
[]
[]
[]
[]
[]
[]
[]
[]
[]
[]
[]
[]
[]
[]
[]
[]
[]
[]
[]
[]
[]
[]
[]
[]
[]
[]
[]
[]
[]
[]
[]
[]
[]
[]
[]
[]
[]
[]
[]
[]
[]
[]
[]
[]
[]
[]
[]
[]
[]
[]
[]
[]
[]
[]
[]
[]
[]
[]
[]
[]
[]
[]
[]
[]
[]
[]
[]
[]
[null,null,null,null,null,null,null,{"$f":"MIN(H41:H144)","v":0}]

{"sheet":"Wave 1","index":13,"n_rows":63,"n_cols":58,"rows_kept":63,"cut":false,"hidden":false,"merged":[[58,17,58,27],[61,53,61,55],[62,53,62,55],[62,56,62,57],[57,0,57,1],[8,1,8,2],[44,17,44,28],[44,30,44,41],[44,44,44,55],[45,17,45,28],[45,30,45,41],[45,44,45,55],[45,2,45,12],[19,30,19,41],[32,17,32,27],[19,44,19,55],[19,17,19,28],[35,53,35,55],[36,56,36,57],[36,53,36,55],[44,2,44,12],[32,0,32,1],[9,1,9,2],[17,44,17,55],[16,30,16,31],[16,44,16,45],[18,17,18,28],[18,30,18,41],[18,44,18,55],[42,44,42,45],[42,17,42,19],[42,30,42,31],[19,2,19,12],[20,2,20,12],[2,1,2,2],[3,1,3,2],[4,1,4,2],[6,1,6,2],[7,1,7,2],[5,1,5,2]]}
["Wave Resource"]
[]
[{"$f":"Input!I45","v":"Site Name"},{"$f":"Input!J45","v":"[Enter Name]"}]
[{"$f":"Input!I46","v":"Position Relevant to Island"},{"$f":"Input!J46","v":"[Select Value]"}]
[{"$f":"Input!I47","v":"Relevant Ocean Wave Area"},{"$f":"Input!J47","v":"[Select Area]"}]
[{"$f":"Input!I48","v":"Average Wave Height"},{"$f":"Input!J48","v":"[Enter Value]"}]
[{"$f":"Input!I49","v":"Proximity to Grid Connection"},{"$f":"Input!J49","v":"[Select Value]"}]
[{"$f":"Input!I50","v":"Average Water Depth"},{"$f":"Input!J50","v":"[Select Value]"}]
[{"$f":"Input!I51","v":"Seabed Topography"},{"$f":"Input!J51","v":"[Select Value]"}]
[{"$f":"Input!I52","v":"Accessibility"},{"$f":"Input!J52","v":"[Select Value]"}]
[]
["Relavant Wave Power (kW/m)",{"$f":"IF(B8<>\"[Select Value]\",(IF(B8=\"> 20m\", BE63,BE37)),0)","v":0}]
[]
["Transitional Waters Calculation (",">20m"]
[]
["Wave Velocity C","(m/s)",{"$f":"(C17/C18)","v":5.4628571428571435},6.9888888888888889,8.3109090909090906,9.2892307692307696,9.9653333333333318,10.436470588235293,10.77157894736842,11.016190476190477,11.201739130434783,11.344799999999999,11.455555555555556]
["Wave Length (λ)","(m)",19.12,31.45,45.71,60.38,74.739999999999995,88.71,102.33,115.67,128.82,141.81,154.65]
["Wave Period (T)","(s)",3.5,4.5,5.5,6.5,7.5,8.5,9.5,10.5,11.5,12.5,13.5]
[null,null,null,null,null,null,null,null,null,null,null,null,null,null,null,null,null,"North Sea Area 10",null,null,null,null,null,null,null,null,null,null,null,null,"North Sea Area 10",null,null,null,null,null,null,null,null,null,null,null,null,null,"North Sea Area 10"]
["Energy","Wave Height (Hs)","Power",null,null,null,null,null,null,null,null,null,null,"Total Power",null,null,null,"Number of Occurences",null,null,null,null,null,null,null,null,null,null,null,null,"Percentage of Occurences",null,null,null,null,null,null,null,null,null,null,null,null,null,"Annual Power (W/m)",null,null,null,null,null,null,null,null,null,null,null,"Total Power"]
["(J)","(m)","(W/m)",null,null,null,null,null,null,null,null,null,null,"(W/m)",null,null,null,"Hs                      T",3.5,4.5,5.5,6.5,7.5,8.5,9.5,10.5,11.5,12.5,13.5,null,"Hs                 T",3.5,4.5,5.5,6.5,7.5,8.5,9.5,10.5,11.5,12.5,13.5,"Availability",null,"Hs           T",3.5,4.5,5.5,6.5,7.5,8.5,9.5,10.5,11.5,12.5,13.5,"(W/m)"]
[{"$f":"(1025*9.81*B22^2)/8","v":314.2265625},0.5,{"$f":"$A22*($C$16)","v":1716.5748214285716},{"$f":"$A22*(D16)","v":2196.0945312499998},{"$f":"A22*($E$16)","v":2611.5083948863635},{"$f":"$A22*($F$16)","v":2918.9230528846156},{"$f":"$A22*($G$16)","v":3131.3724374999997},{"$f":"$A22*($H$16)","v":3279.416277573529},0,0,0,0,0,{"$f":"SUM(C22:M22)","v":15853.889515523078},null,null,null,0.5,{"$f":"IF($B$4=\"SW\",'Wave Areas'!P115,(IF($B$4=\"N\",'Wave Areas'!B78,(IF($B$4=\"NE\",'Wave Areas'!P79,(IF($B$4=\"E\",'Wave Areas'!B96,(IF($B$4=\"SE\",'Wave Areas'!P97,(IF($B$4=\"S\",'Wave Areas'!B114,(IF($B$4=\"W\",'Wave Areas'!B132,(IF($B$4=\"NW\",'Wave Areas'!P133,0)))))))))))))))","v":0},{"$f":"IF($B$4=\"SW\",'Wave Areas'!Q115,(IF($B$4=\"N\",'Wave Areas'!C78,(IF($B$4=\"NE\",'Wave Areas'!Q79,(IF($B$4=\"E\",'Wave Areas'!C96,(IF($B$4=\"SE\",'Wave Areas'!Q97,(IF($B$4=\"S\",'Wave Areas'!C114,(IF($B$4=\"W\",'Wave Areas'!C132,(IF($B$4=\"NW\",'Wave Areas'!Q133,0)))))))))))))))","v":0},{"$f":"IF($B$4=\"SW\",'Wave Areas'!R115,(IF($B$4=\"N\",'Wave Areas'!D78,(IF($B$4=\"NE\",'Wave Areas'!R79,(IF($B$4=\"E\",'Wave Areas'!D96,(IF($B$4=\"SE\",'Wave Areas'!R97,(IF($B$4=\"S\",'Wave Areas'!D114,(IF($B$4=\"W\",'Wave Areas'!D132,(IF($B$4=\"NW\",'Wave Areas'!R133,0)))))))))))))))","v":0},{"$f":"IF($B$4=\"SW\",'Wave Areas'!S115,(IF($B$4=\"N\",'Wave Areas'!E78,(IF($B$4=\"NE\",'Wave Areas'!S79,(IF($B$4=\"E\",'Wave Areas'!E96,(IF($B$4=\"SE\",'Wave Areas'!S97,(IF($B$4=\"S\",'Wave Areas'!E114,(IF($B$4=\"W\",'Wave Areas'!E132,(IF($B$4=\"NW\",'Wave Areas'!S133,0)))))))))))))))","v":0},{"$f":"IF($B$4=\"SW\",'Wave Areas'!T115,(IF($B$4=\"N\",'Wave Areas'!F78,(IF($B$4=\"NE\",'Wave Areas'!T79,(IF($B$4=\"E\",'Wave Areas'!F96,(IF($B$4=\"SE\",'Wave Areas'!T97,(IF($B$4=\"S\",'Wave Areas'!F114,(IF($B$4=\"W\",'Wave Areas'!F132,(IF($B$4=\"NW\",'Wave Areas'!T133,0)))))))))))))))","v":0},{"$f":"IF($B$4=\"SW\",'Wave Areas'!U115,(IF($B$4=\"N\",'Wave Areas'!G78,(IF($B$4=\"NE\",'Wave Areas'!U79,(IF($B$4=\"E\",'Wave Areas'!G96,(IF($B$4=\"SE\",'Wave Areas'!U97,(IF($B$4=\"S\",'Wave Areas'!G114,(IF($B$4=\"W\",'Wave Areas'!G132,(IF($B$4=\"NW\",'Wave Areas'!U133,0)))))))))))))))","v":0},{"$f":"IF($B$4=\"SW\",'Wave Areas'!V115,(IF($B$4=\"N\",'Wave Areas'!H78,(IF($B$4=\"NE\",'Wave Areas'!V79,(IF($B$4=\"E\",'Wave Areas'!H96,(IF($B$4=\"SE\",'Wave Areas'!V97,(IF($B$4=\"S\",'Wave Areas'!H114,(IF($B$4=\"W\",'Wave Areas'!H132,(IF($B$4=\"NW\",'Wave Areas'!V133,0)))))))))))))))","v":0},{"$f":"IF($B$4=\"SW\",'Wave Areas'!W115,(IF($B$4=\"N\",'Wave Areas'!I78,(IF($B$4=\"NE\",'Wave Areas'!W79,(IF($B$4=\"E\",'Wave Areas'!I96,(IF($B$4=\"SE\",'Wave Areas'!W97,(IF($B$4=\"S\",'Wave Areas'!I114,(IF($B$4=\"W\",'Wave Areas'!I132,(IF($B$4=\"NW\",'Wave Areas'!W133,0)))))))))))))))","v":0},{"$f":"IF($B$4=\"SW\",'Wave Areas'!X115,(IF($B$4=\"N\",'Wave Areas'!J78,(IF($B$4=\"NE\",'Wave Areas'!X79,(IF($B$4=\"E\",'Wave Areas'!J96,(IF($B$4=\"SE\",'Wave Areas'!X97,(IF($B$4=\"S\",'Wave Areas'!J114,(IF($B$4=\"W\",'Wave Areas'!J132,(IF($B$4=\"NW\",'Wave Areas'!X133,0)))))))))))))))","v":0},{"$f":"IF($B$4=\"SW\",'Wave Areas'!Y115,(IF($B$4=\"N\",'Wave Areas'!K78,(IF($B$4=\"NE\",'Wave Areas'!Y79,(IF($B$4=\"E\",'Wave Areas'!K96,(IF($B$4=\"SE\",'Wave Areas'!Y97,(IF($B$4=\"S\",'Wave Areas'!K114,(IF($B$4=\"W\",'Wave Areas'!K132,(IF($B$4=\"NW\",'Wave Areas'!Y133,0)))))))))))))))","v":0},{"$f":"IF($B$4=\"SW\",'Wave Areas'!Z115,(IF($B$4=\"N\",'Wave Areas'!L78,(IF($B$4=\"NE\",'Wave Areas'!Z79,(IF($B$4=\"E\",'Wave Areas'!L96,(IF($B$4=\"SE\",'Wave Areas'!Z97,(IF($B$4=\"S\",'Wave Areas'!L114,(IF($B$4=\"W\",'Wave Areas'!L132,(IF($B$4=\"NW\",'Wave Areas'!Z133,0)))))))))))))))","v":0},null,0.5,{"$f":"S22/($AC$33)","v":{"$error":"#DIV/0!"}},{"$f":"T22/($AC$33)","v":{"$error":"#DIV/0!"}},{"$error":"#DIV/0!"},{"$error":"#DIV/0!"},{"$error":"#DIV/0!"},{"$error":"#DIV/0!"},{"$error":"#DIV/0!"},{"$error":"#DIV/0!"},{"$error":"#DIV/0!"},{"$error":"#DIV/0!"},{"$error":"#DIV/0!"},{"$f":"SUM(AF22:AP22)","v":{"$error":"#DIV/0!"}},null,0.5,{"$f":"C22*AF22","v":{"$error":"#DIV/0!"}},{"$error":"#DIV/0!"},{"$error":"#DIV/0!"},{"$error":"#DIV/0!"},{"$error":"#DIV/0!"},{"$error":"#DIV/0!"},{"$f":"AM22/1004","v":{"$error":"#DIV/0!"}},{"$f":"AN22/1004","v":{"$error":"#DIV/0!"}},{"$f":"AO22/1004","v":{"$error":"#DIV/0!"}},{"$f":"AP22/1004","v":{"$error":"#DIV/0!"}},{"$f":"AQ20/1004","v":0},{"$f":"SUM(AT22:BD22)","v":{"$error":"#DIV/0!"}}]
[2828.0390625,1.5,{"$f":"$A23*($C$16)","v":15449.173392857145},{"$f":"A23*($D$16)","v":19764.850781249999},23503.575553977273,{"$f":"$A23*($F$16)","v":26270.307475961541},28182.351937499996,29514.746498161763,{"$f":"$A23*($I$16)","v":30462.446027960523},{"$f":"$A23*($J$16)","v":31154.216986607145},0,0,0,204301.66865427536,null,null,null,1.5,{"$f":"IF($B$4=\"SW\",'Wave Areas'!P116,(IF($B$4=\"N\",'Wave Areas'!B79,(IF($B$4=\"NE\",'Wave Areas'!P80,(IF($B$4=\"E\",'Wave Areas'!B97,(IF($B$4=\"SE\",'Wave Areas'!P98,(IF($B$4=\"S\",'Wave Areas'!B115,(IF($B$4=\"W\",'Wave Areas'!B133,(IF($B$4=\"NW\",'Wave Areas'!P134,0)))))))))))))))","v":0},{"$f":"IF($B$4=\"SW\",'Wave Areas'!Q116,(IF($B$4=\"N\",'Wave Areas'!C79,(IF($B$4=\"NE\",'Wave Areas'!Q80,(IF($B$4=\"E\",'Wave Areas'!C97,(IF($B$4=\"SE\",'Wave Areas'!Q98,(IF($B$4=\"S\",'Wave Areas'!C115,(IF($B$4=\"W\",'Wave Areas'!C133,(IF($B$4=\"NW\",'Wave Areas'!Q134,0)))))))))))))))","v":0},{"$f":"IF($B$4=\"SW\",'Wave Areas'!R116,(IF($B$4=\"N\",'Wave Areas'!D79,(IF($B$4=\"NE\",'Wave Areas'!R80,(IF($B$4=\"E\",'Wave Areas'!D97,(IF($B$4=\"SE\",'Wave Areas'!R98,(IF($B$4=\"S\",'Wave Areas'!D115,(IF($B$4=\"W\",'Wave Areas'!D133,(IF($B$4=\"NW\",'Wave Areas'!R134,0)))))))))))))))","v":0},{"$f":"IF($B$4=\"SW\",'Wave Areas'!S116,(IF($B$4=\"N\",'Wave Areas'!E79,(IF($B$4=\"NE\",'Wave Areas'!S80,(IF($B$4=\"E\",'Wave Areas'!E97,(IF($B$4=\"SE\",'Wave Areas'!S98,(IF($B$4=\"S\",'Wave Areas'!E115,(IF($B$4=\"W\",'Wave Areas'!E133,(IF($B$4=\"NW\",'Wave Areas'!S134,0)))))))))))))))","v":0},{"$f":"IF($B$4=\"SW\",'Wave Areas'!T116,(IF($B$4=\"N\",'Wave Areas'!F79,(IF($B$4=\"NE\",'Wave Areas'!T80,(IF($B$4=\"E\",'Wave Areas'!F97,(IF($B$4=\"SE\",'Wave Areas'!T98,(IF($B$4=\"S\",'Wave Areas'!F115,(IF($B$4=\"W\",'Wave Areas'!F133,(IF($B$4=\"NW\",'Wave Areas'!T134,0)))))))))))))))","v":0},{"$f":"IF($B$4=\"SW\",'Wave Areas'!U116,(IF($B$4=\"N\",'Wave Areas'!G79,(IF($B$4=\"NE\",'Wave Areas'!U80,(IF($B$4=\"E\",'Wave Areas'!G97,(IF($B$4=\"SE\",'Wave Areas'!U98,(IF($B$4=\"S\",'Wave Areas'!G115,(IF($B$4=\"W\",'Wave Areas'!G133,(IF($B$4=\"NW\",'Wave Areas'!U134,0)))))))))))))))","v":0},{"$f":"IF($B$4=\"SW\",'Wave Areas'!V116,(IF($B$4=\"N\",'Wave Areas'!H79,(IF($B$4=\"NE\",'Wave Areas'!V80,(IF($B$4=\"E\",'Wave Areas'!H97,(IF($B$4=\"SE\",'Wave Areas'!V98,(IF($B$4=\"S\",'Wave Areas'!H115,(IF($B$4=\"W\",'Wave Areas'!H133,(IF($B$4=\"NW\",'Wave Areas'!V134,0)))))))))))))))","v":0},{"$f":"IF($B$4=\"SW\",'Wave Areas'!W116,(IF($B$4=\"N\",'Wave Areas'!I79,(IF($B$4=\"NE\",'Wave Areas'!W80,(IF($B$4=\"E\",'Wave Areas'!I97,(IF($B$4=\"SE\",'Wave Areas'!W98,(IF($B$4=\"S\",'Wave Areas'!I115,(IF($B$4=\"W\",'Wave Areas'!I133,(IF($B$4=\"NW\",'Wave Areas'!W134,0)))))))))))))))","v":0},{"$f":"IF($B$4=\"SW\",'Wave Areas'!X116,(IF($B$4=\"N\",'Wave Areas'!J79,(IF($B$4=\"NE\",'Wave Areas'!X80,(IF($B$4=\"E\",'Wave Areas'!J97,(IF($B$4=\"SE\",'Wave Areas'!X98,(IF($B$4=\"S\",'Wave Areas'!J115,(IF($B$4=\"W\",'Wave Areas'!J133,(IF($B$4=\"NW\",'Wave Areas'!X134,0)))))))))))))))","v":0},{"$f":"IF($B$4=\"SW\",'Wave Areas'!Y116,(IF($B$4=\"N\",'Wave Areas'!K79,(IF($B$4=\"NE\",'Wave Areas'!Y80,(IF($B$4=\"E\",'Wave Areas'!K97,(IF($B$4=\"SE\",'Wave Areas'!Y98,(IF($B$4=\"S\",'Wave Areas'!K115,(IF($B$4=\"W\",'Wave Areas'!K133,(IF($B$4=\"NW\",'Wave Areas'!Y134,0)))))))))))))))","v":0},{"$f":"IF($B$4=\"SW\",'Wave Areas'!Z116,(IF($B$4=\"N\",'Wave Areas'!L79,(IF($B$4=\"NE\",'Wave Areas'!Z80,(IF($B$4=\"E\",'Wave Areas'!L97,(IF($B$4=\"SE\",'Wave Areas'!Z98,(IF($B$4=\"S\",'Wave Areas'!L115,(IF($B$4=\"W\",'Wave Areas'!L133,(IF($B$4=\"NW\",'Wave Areas'!Z134,0)))))))))))))))","v":0},null,1.5,{"$f":"S23/($AC$33)","v":{"$error":"#DIV/0!"}},{"$f":"T23/($AC$33)","v":{"$error":"#DIV/0!"}},{"$f":"U23/($AC$33)","v":{"$error":"#DIV/0!"}},{"$f":"V23/($AC$33)","v":{"$error":"#DIV/0!"}},{"$f":"W23/($AC$33)","v":{"$error":"#DIV/0!"}},{"$f":"X23/($AC$33)","v":{"$error":"#DIV/0!"}},{"$f":"Y23/($AC$33)","v":{"$error":"#DIV/0!"}},{"$f":"Z23/($AC$33)","v":{"$error":"#DIV/0!"}},{"$f":"AA23/($AC$33)","v":{"$error":"#DIV/0!"}},{"$f":"AB23/($AC$33)","v":{"$error":"#DIV/0!"}},{"$f":"AC23/($AC$33)","v":{"$error":"#DIV/0!"}},{"$f":"SUM(AF23:AP23)","v":{"$error":"#DIV/0!"}},null,1.5,{"$error":"#DIV/0!"},{"$error":"#DIV/0!"},{"$error":"#DIV/0!"},{"$error":"#DIV/0!"},{"$error":"#DIV/0!"},{"$error":"#DIV/0!"},{"$f":"I23*AL23","v":{"$error":"#DIV/0!"}},{"$error":"#DIV/0!"},{"$f":"AO23/1004","v":{"$error":"#DIV/0!"}},{"$f":"AP23/1004","v":{"$error":"#DIV/0!"}},{"$f":"AQ22/1004","v":{"$error":"#DIV/0!"}},{"$error":"#DIV/0!"}]
[7855.6640625,2.5,0,{"$f":"A24*($D$16)","v":54902.36328125},65287.709872159088,{"$f":"$A24*($F$16)","v":72973.07632211539},78284.310937499991,81985.406939338223,84617.90563322368,86539.49162946429,0,0,0,524590.26461505075,null,null,null,2.5,{"$f":"IF($B$4=\"SW\",'Wave Areas'!P117,(IF($B$4=\"N\",'Wave Areas'!B80,(IF($B$4=\"NE\",'Wave Areas'!P81,(IF($B$4=\"E\",'Wave Areas'!B98,(IF($B$4=\"SE\",'Wave Areas'!P99,(IF($B$4=\"S\",'Wave Areas'!B116,(IF($B$4=\"W\",'Wave Areas'!B134,(IF($B$4=\"NW\",'Wave Areas'!P135,0)))))))))))))))","v":0},{"$f":"IF($B$4=\"SW\",'Wave Areas'!Q117,(IF($B$4=\"N\",'Wave Areas'!C80,(IF($B$4=\"NE\",'Wave Areas'!Q81,(IF($B$4=\"E\",'Wave Areas'!C98,(IF($B$4=\"SE\",'Wave Areas'!Q99,(IF($B$4=\"S\",'Wave Areas'!C116,(IF($B$4=\"W\",'Wave Areas'!C134,(IF($B$4=\"NW\",'Wave Areas'!Q135,0)))))))))))))))","v":0},{"$f":"IF($B$4=\"SW\",'Wave Areas'!R117,(IF($B$4=\"N\",'Wave Areas'!D80,(IF($B$4=\"NE\",'Wave Areas'!R81,(IF($B$4=\"E\",'Wave Areas'!D98,(IF($B$4=\"SE\",'Wave Areas'!R99,(IF($B$4=\"S\",'Wave Areas'!D116,(IF($B$4=\"W\",'Wave Areas'!D134,(IF($B$4=\"NW\",'Wave Areas'!R135,0)))))))))))))))","v":0},{"$f":"IF($B$4=\"SW\",'Wave Areas'!S117,(IF($B$4=\"N\",'Wave Areas'!E80,(IF($B$4=\"NE\",'Wave Areas'!S81,(IF($B$4=\"E\",'Wave Areas'!E98,(IF($B$4=\"SE\",'Wave Areas'!S99,(IF($B$4=\"S\",'Wave Areas'!E116,(IF($B$4=\"W\",'Wave Areas'!E134,(IF($B$4=\"NW\",'Wave Areas'!S135,0)))))))))))))))","v":0},{"$f":"IF($B$4=\"SW\",'Wave Areas'!T117,(IF($B$4=\"N\",'Wave Areas'!F80,(IF($B$4=\"NE\",'Wave Areas'!T81,(IF($B$4=\"E\",'Wave Areas'!F98,(IF($B$4=\"SE\",'Wave Areas'!T99,(IF($B$4=\"S\",'Wave Areas'!F116,(IF($B$4=\"W\",'Wave Areas'!F134,(IF($B$4=\"NW\",'Wave Areas'!T135,0)))))))))))))))","v":0},{"$f":"IF($B$4=\"SW\",'Wave Areas'!U117,(IF($B$4=\"N\",'Wave Areas'!G80,(IF($B$4=\"NE\",'Wave Areas'!U81,(IF($B$4=\"E\",'Wave Areas'!G98,(IF($B$4=\"SE\",'Wave Areas'!U99,(IF($B$4=\"S\",'Wave Areas'!G116,(IF($B$4=\"W\",'Wave Areas'!G134,(IF($B$4=\"NW\",'Wave Areas'!U135,0)))))))))))))))","v":0},{"$f":"IF($B$4=\"SW\",'Wave Areas'!V117,(IF($B$4=\"N\",'Wave Areas'!H80,(IF($B$4=\"NE\",'Wave Areas'!V81,(IF($B$4=\"E\",'Wave Areas'!H98,(IF($B$4=\"SE\",'Wave Areas'!V99,(IF($B$4=\"S\",'Wave Areas'!H116,(IF($B$4=\"W\",'Wave Areas'!H134,(IF($B$4=\"NW\",'Wave Areas'!V135,0)))))))))))))))","v":0},{"$f":"IF($B$4=\"SW\",'Wave Areas'!W117,(IF($B$4=\"N\",'Wave Areas'!I80,(IF($B$4=\"NE\",'Wave Areas'!W81,(IF($B$4=\"E\",'Wave Areas'!I98,(IF($B$4=\"SE\",'Wave Areas'!W99,(IF($B$4=\"S\",'Wave Areas'!I116,(IF($B$4=\"W\",'Wave Areas'!I134,(IF($B$4=\"NW\",'Wave Areas'!W135,0)))))))))))))))","v":0},{"$f":"IF($B$4=\"SW\",'Wave Areas'!X117,(IF($B$4=\"N\",'Wave Areas'!J80,(IF($B$4=\"NE\",'Wave Areas'!X81,(IF($B$4=\"E\",'Wave Areas'!J98,(IF($B$4=\"SE\",'Wave Areas'!X99,(IF($B$4=\"S\",'Wave Areas'!J116,(IF($B$4=\"W\",'Wave Areas'!J134,(IF($B$4=\"NW\",'Wave Areas'!X135,0)))))))))))))))","v":0},{"$f":"IF($B$4=\"SW\",'Wave Areas'!Y117,(IF($B$4=\"N\",'Wave Areas'!K80,(IF($B$4=\"NE\",'Wave Areas'!Y81,(IF($B$4=\"E\",'Wave Areas'!K98,(IF($B$4=\"SE\",'Wave Areas'!Y99,(IF($B$4=\"S\",'Wave Areas'!K116,(IF($B$4=\"W\",'Wave Areas'!K134,(IF($B$4=\"NW\",'Wave Areas'!Y135,0)))))))))))))))","v":0},{"$f":"IF($B$4=\"SW\",'Wave Areas'!Z117,(IF($B$4=\"N\",'Wave Areas'!L80,(IF($B$4=\"NE\",'Wave Areas'!Z81,(IF($B$4=\"E\",'Wave Areas'!L98,(IF($B$4=\"SE\",'Wave Areas'!Z99,(IF($B$4=\"S\",'Wave Areas'!L116,(IF($B$4=\"W\",'Wave Areas'!L134,(IF($B$4=\"NW\",'Wave Areas'!Z135,0)))))))))))))))","v":0},null,2.5,{"$error":"#DIV/0!"},{"$f":"T24/($AC$33)","v":{"$error":"#DIV/0!"}},{"$f":"U24/($AC$33)","v":{"$error":"#DIV/0!"}},{"$error":"#DIV/0!"},{"$error":"#DIV/0!"},{"$error":"#DIV/0!"},{"$error":"#DIV/0!"},{"$error":"#DIV/0!"},{"$error":"#DIV/0!"},{"$error":"#DIV/0!"},{"$error":"#DIV/0!"},{"$error":"#DIV/0!"},null,2.5,{"$f":"AG24/1004","v":{"$error":"#DIV/0!"}},{"$f":"D24*AG24","v":{"$error":"#DIV/0!"}},{"$f":"E24*AH24","v":{"$error":"#DIV/0!"}},{"$error":"#DIV/0!"},{"$error":"#DIV/0!"},{"$error":"#DIV/0!"},{"$error":"#DIV/0!"},{"$error":"#DIV/0!"},{"$error":"#DIV/0!"},{"$error":"#DIV/0!"},{"$error":"#DIV/0!"},{"$error":"#DIV/0!"}]
[15397.1015625,3.5,0,{"$f":"A25*($D$16)","v":107608.63203125},127963.91134943182,{"$f":"$A25*($F$16)","v":143027.22959134617},153437.24943749997,160691.39760110292,165851.09504111842,169617.40359375,0,0,0,1028196.9186454994,null,null,null,3.5,{"$f":"IF($B$4=\"SW\",'Wave Areas'!P118,(IF($B$4=\"N\",'Wave Areas'!B81,(IF($B$4=\"NE\",'Wave Areas'!P82,(IF($B$4=\"E\",'Wave Areas'!B99,(IF($B$4=\"SE\",'Wave Areas'!P100,(IF($B$4=\"S\",'Wave Areas'!B117,(IF($B$4=\"W\",'Wave Areas'!B135,(IF($B$4=\"NW\",'Wave Areas'!P136,0)))))))))))))))","v":0},{"$f":"IF($B$4=\"SW\",'Wave Areas'!Q118,(IF($B$4=\"N\",'Wave Areas'!C81,(IF($B$4=\"NE\",'Wave Areas'!Q82,(IF($B$4=\"E\",'Wave Areas'!C99,(IF($B$4=\"SE\",'Wave Areas'!Q100,(IF($B$4=\"S\",'Wave Areas'!C117,(IF($B$4=\"W\",'Wave Areas'!C135,(IF($B$4=\"NW\",'Wave Areas'!Q136,0)))))))))))))))","v":0},{"$f":"IF($B$4=\"SW\",'Wave Areas'!R118,(IF($B$4=\"N\",'Wave Areas'!D81,(IF($B$4=\"NE\",'Wave Areas'!R82,(IF($B$4=\"E\",'Wave Areas'!D99,(IF($B$4=\"SE\",'Wave Areas'!R100,(IF($B$4=\"S\",'Wave Areas'!D117,(IF($B$4=\"W\",'Wave Areas'!D135,(IF($B$4=\"NW\",'Wave Areas'!R136,0)))))))))))))))","v":0},{"$f":"IF($B$4=\"SW\",'Wave Areas'!S118,(IF($B$4=\"N\",'Wave Areas'!E81,(IF($B$4=\"NE\",'Wave Areas'!S82,(IF($B$4=\"E\",'Wave Areas'!E99,(IF($B$4=\"SE\",'Wave Areas'!S100,(IF($B$4=\"S\",'Wave Areas'!E117,(IF($B$4=\"W\",'Wave Areas'!E135,(IF($B$4=\"NW\",'Wave Areas'!S136,0)))))))))))))))","v":0},{"$f":"IF($B$4=\"SW\",'Wave Areas'!T118,(IF($B$4=\"N\",'Wave Areas'!F81,(IF($B$4=\"NE\",'Wave Areas'!T82,(IF($B$4=\"E\",'Wave Areas'!F99,(IF($B$4=\"SE\",'Wave Areas'!T100,(IF($B$4=\"S\",'Wave Areas'!F117,(IF($B$4=\"W\",'Wave Areas'!F135,(IF($B$4=\"NW\",'Wave Areas'!T136,0)))))))))))))))","v":0},{"$f":"IF($B$4=\"SW\",'Wave Areas'!U118,(IF($B$4=\"N\",'Wave Areas'!G81,(IF($B$4=\"NE\",'Wave Areas'!U82,(IF($B$4=\"E\",'Wave Areas'!G99,(IF($B$4=\"SE\",'Wave Areas'!U100,(IF($B$4=\"S\",'Wave Areas'!G117,(IF($B$4=\"W\",'Wave Areas'!G135,(IF($B$4=\"NW\",'Wave Areas'!U136,0)))))))))))))))","v":0},{"$f":"IF($B$4=\"SW\",'Wave Areas'!V118,(IF($B$4=\"N\",'Wave Areas'!H81,(IF($B$4=\"NE\",'Wave Areas'!V82,(IF($B$4=\"E\",'Wave Areas'!H99,(IF($B$4=\"SE\",'Wave Areas'!V100,(IF($B$4=\"S\",'Wave Areas'!H117,(IF($B$4=\"W\",'Wave Areas'!H135,(IF($B$4=\"NW\",'Wave Areas'!V136,0)))))))))))))))","v":0},{"$f":"IF($B$4=\"SW\",'Wave Areas'!W118,(IF($B$4=\"N\",'Wave Areas'!I81,(IF($B$4=\"NE\",'Wave Areas'!W82,(IF($B$4=\"E\",'Wave Areas'!I99,(IF($B$4=\"SE\",'Wave Areas'!W100,(IF($B$4=\"S\",'Wave Areas'!I117,(IF($B$4=\"W\",'Wave Areas'!I135,(IF($B$4=\"NW\",'Wave Areas'!W136,0)))))))))))))))","v":0},{"$f":"IF($B$4=\"SW\",'Wave Areas'!X118,(IF($B$4=\"N\",'Wave Areas'!J81,(IF($B$4=\"NE\",'Wave Areas'!X82,(IF($B$4=\"E\",'Wave Areas'!J99,(IF($B$4=\"SE\",'Wave Areas'!X100,(IF($B$4=\"S\",'Wave Areas'!J117,(IF($B$4=\"W\",'Wave Areas'!J135,(IF($B$4=\"NW\",'Wave Areas'!X136,0)))))))))))))))","v":0},{"$f":"IF($B$4=\"SW\",'Wave Areas'!Y118,(IF($B$4=\"N\",'Wave Areas'!K81,(IF($B$4=\"NE\",'Wave Areas'!Y82,(IF($B$4=\"E\",'Wave Areas'!K99,(IF($B$4=\"SE\",'Wave Areas'!Y100,(IF($B$4=\"S\",'Wave Areas'!K117,(IF($B$4=\"W\",'Wave Areas'!K135,(IF($B$4=\"NW\",'Wave Areas'!Y136,0)))))))))))))))","v":0},{"$f":"IF($B$4=\"SW\",'Wave Areas'!Z118,(IF($B$4=\"N\",'Wave Areas'!L81,(IF($B$4=\"NE\",'Wave Areas'!Z82,(IF($B$4=\"E\",'Wave Areas'!L99,(IF($B$4=\"SE\",'Wave Areas'!Z100,(IF($B$4=\"S\",'Wave Areas'!L117,(IF($B$4=\"W\",'Wave Areas'!L135,(IF($B$4=\"NW\",'Wave Areas'!Z136,0)))))))))))))))","v":0},null,3.5,{"$error":"#DIV/0!"},{"$error":"#DIV/0!"},{"$error":"#DIV/0!"},{"$error":"#DIV/0!"},{"$error":"#DIV/0!"},{"$error":"#DIV/0!"},{"$error":"#DIV/0!"},{"$error":"#DIV/0!"},{"$error":"#DIV/0!"},{"$error":"#DIV/0!"},{"$error":"#DIV/0!"},{"$error":"#DIV/0!"},null,3.5,{"$error":"#DIV/0!"},{"$error":"#DIV/0!"},{"$error":"#DIV/0!"},{"$error":"#DIV/0!"},{"$error":"#DIV/0!"},{"$error":"#DIV/0!"},{"$error":"#DIV/0!"},{"$error":"#DIV/0!"},{"$error":"#DIV/0!"},{"$error":"#DIV/0!"},{"$error":"#DIV/0!"},{"$f":"SUM(AT25:BD25)","v":{"$error":"#DIV/0!"}}]
[25452.3515625,4.5,0,{"$f":"A26*($D$16)","v":177883.65703125001},211532.17998579543,{"$f":"$A26*($F$16/2)","v":118216.38364182693},253641.16743749997,265632.71848345589,274162.01425164472,280387.95287946431,0,0,0,1581456.0737109373,null,null,null,4.5,{"$f":"IF($B$4=\"SW\",'Wave Areas'!P119,(IF($B$4=\"N\",'Wave Areas'!B82,(IF($B$4=\"NE\",'Wave Areas'!P83,(IF($B$4=\"E\",'Wave Areas'!B100,(IF($B$4=\"SE\",'Wave Areas'!P101,(IF($B$4=\"S\",'Wave Areas'!B118,(IF($B$4=\"W\",'Wave Areas'!B136,(IF($B$4=\"NW\",'Wave Areas'!P137,0)))))))))))))))","v":0},{"$f":"IF($B$4=\"SW\",'Wave Areas'!Q119,(IF($B$4=\"N\",'Wave Areas'!C82,(IF($B$4=\"NE\",'Wave Areas'!Q83,(IF($B$4=\"E\",'Wave Areas'!C100,(IF($B$4=\"SE\",'Wave Areas'!Q101,(IF($B$4=\"S\",'Wave Areas'!C118,(IF($B$4=\"W\",'Wave Areas'!C136,(IF($B$4=\"NW\",'Wave Areas'!Q137,0)))))))))))))))","v":0},{"$f":"IF($B$4=\"SW\",'Wave Areas'!R119,(IF($B$4=\"N\",'Wave Areas'!D82,(IF($B$4=\"NE\",'Wave Areas'!R83,(IF($B$4=\"E\",'Wave Areas'!D100,(IF($B$4=\"SE\",'Wave Areas'!R101,(IF($B$4=\"S\",'Wave Areas'!D118,(IF($B$4=\"W\",'Wave Areas'!D136,(IF($B$4=\"NW\",'Wave Areas'!R137,0)))))))))))))))","v":0},{"$f":"IF($B$4=\"SW\",'Wave Areas'!S119,(IF($B$4=\"N\",'Wave Areas'!E82,(IF($B$4=\"NE\",'Wave Areas'!S83,(IF($B$4=\"E\",'Wave Areas'!E100,(IF($B$4=\"SE\",'Wave Areas'!S101,(IF($B$4=\"S\",'Wave Areas'!E118,(IF($B$4=\"W\",'Wave Areas'!E136,(IF($B$4=\"NW\",'Wave Areas'!S137,0)))))))))))))))","v":0},{"$f":"IF($B$4=\"SW\",'Wave Areas'!T119,(IF($B$4=\"N\",'Wave Areas'!F82,(IF($B$4=\"NE\",'Wave Areas'!T83,(IF($B$4=\"E\",'Wave Areas'!F100,(IF($B$4=\"SE\",'Wave Areas'!T101,(IF($B$4=\"S\",'Wave Areas'!F118,(IF($B$4=\"W\",'Wave Areas'!F136,(IF($B$4=\"NW\",'Wave Areas'!T137,0)))))))))))))))","v":0},{"$f":"IF($B$4=\"SW\",'Wave Areas'!U119,(IF($B$4=\"N\",'Wave Areas'!G82,(IF($B$4=\"NE\",'Wave Areas'!U83,(IF($B$4=\"E\",'Wave Areas'!G100,(IF($B$4=\"SE\",'Wave Areas'!U101,(IF($B$4=\"S\",'Wave Areas'!G118,(IF($B$4=\"W\",'Wave Areas'!G136,(IF($B$4=\"NW\",'Wave Areas'!U137,0)))))))))))))))","v":0},{"$f":"IF($B$4=\"SW\",'Wave Areas'!V119,(IF($B$4=\"N\",'Wave Areas'!H82,(IF($B$4=\"NE\",'Wave Areas'!V83,(IF($B$4=\"E\",'Wave Areas'!H100,(IF($B$4=\"SE\",'Wave Areas'!V101,(IF($B$4=\"S\",'Wave Areas'!H118,(IF($B$4=\"W\",'Wave Areas'!H136,(IF($B$4=\"NW\",'Wave Areas'!V137,0)))))))))))))))","v":0},{"$f":"IF($B$4=\"SW\",'Wave Areas'!W119,(IF($B$4=\"N\",'Wave Areas'!I82,(IF($B$4=\"NE\",'Wave Areas'!W83,(IF($B$4=\"E\",'Wave Areas'!I100,(IF($B$4=\"SE\",'Wave Areas'!W101,(IF($B$4=\"S\",'Wave Areas'!I118,(IF($B$4=\"W\",'Wave Areas'!I136,(IF($B$4=\"NW\",'Wave Areas'!W137,0)))))))))))))))","v":0},{"$f":"IF($B$4=\"SW\",'Wave Areas'!X119,(IF($B$4=\"N\",'Wave Areas'!J82,(IF($B$4=\"NE\",'Wave Areas'!X83,(IF($B$4=\"E\",'Wave Areas'!J100,(IF($B$4=\"SE\",'Wave Areas'!X101,(IF($B$4=\"S\",'Wave Areas'!J118,(IF($B$4=\"W\",'Wave Areas'!J136,(IF($B$4=\"NW\",'Wave Areas'!X137,0)))))))))))))))","v":0},{"$f":"IF($B$4=\"SW\",'Wave Areas'!Y119,(IF($B$4=\"N\",'Wave Areas'!K82,(IF($B$4=\"NE\",'Wave Areas'!Y83,(IF($B$4=\"E\",'Wave Areas'!K100,(IF($B$4=\"SE\",'Wave Areas'!Y101,(IF($B$4=\"S\",'Wave Areas'!K118,(IF($B$4=\"W\",'Wave Areas'!K136,(IF($B$4=\"NW\",'Wave Areas'!Y137,0)))))))))))))))","v":0},{"$f":"IF($B$4=\"SW\",'Wave Areas'!Z119,(IF($B$4=\"N\",'Wave Areas'!L82,(IF($B$4=\"NE\",'Wave Areas'!Z83,(IF($B$4=\"E\",'Wave Areas'!L100,(IF($B$4=\"SE\",'Wave Areas'!Z101,(IF($B$4=\"S\",'Wave Areas'!L118,(IF($B$4=\"W\",'Wave Areas'!L136,(IF($B$4=\"NW\",'Wave Areas'!Z137,0)))))))))))))))","v":0},null,4.5,{"$error":"#DIV/0!"},{"$error":"#DIV/0!"},{"$error":"#DIV/0!"},{"$error":"#DIV/0!"},{"$error":"#DIV/0!"},{"$error":"#DIV/0!"},{"$error":"#DIV/0!"},{"$error":"#DIV/0!"},{"$error":"#DIV/0!"},{"$error":"#DIV/0!"},{"$error":"#DIV/0!"},{"$error":"#DIV/0!"},null,4.5,{"$error":"#DIV/0!"},{"$error":"#DIV/0!"},{"$error":"#DIV/0!"},{"$error":"#DIV/0!"},{"$error":"#DIV/0!"},{"$error":"#DIV/0!"},{"$error":"#DIV/0!"},{"$error":"#DIV/0!"},{"$error":"#DIV/0!"},{"$error":"#DIV/0!"},{"$error":"#DIV/0!"},{"$error":"#DIV/0!"}]
[38021.4140625,5.5,0,0,315992.51578124997,{"$f":"$A27*($F$16)","v":353189.6893990385},378896.06493749993,396809.36958639702,409550.6632648026,418851.13948660716,0,0,0,2273289.4424555954,null,null,null,5.5,{"$f":"IF($B$4=\"SW\",'Wave Areas'!P120,(IF($B$4=\"N\",'Wave Areas'!B83,(IF($B$4=\"NE\",'Wave Areas'!P84,(IF($B$4=\"E\",'Wave Areas'!B101,(IF($B$4=\"SE\",'Wave Areas'!P102,(IF($B$4=\"S\",'Wave Areas'!B119,(IF($B$4=\"W\",'Wave Areas'!B137,(IF($B$4=\"NW\",'Wave Areas'!P138,0)))))))))))))))","v":0},{"$f":"IF($B$4=\"SW\",'Wave Areas'!Q120,(IF($B$4=\"N\",'Wave Areas'!C83,(IF($B$4=\"NE\",'Wave Areas'!Q84,(IF($B$4=\"E\",'Wave Areas'!C101,(IF($B$4=\"SE\",'Wave Areas'!Q102,(IF($B$4=\"S\",'Wave Areas'!C119,(IF($B$4=\"W\",'Wave Areas'!C137,(IF($B$4=\"NW\",'Wave Areas'!Q138,0)))))))))))))))","v":0},{"$f":"IF($B$4=\"SW\",'Wave Areas'!R120,(IF($B$4=\"N\",'Wave Areas'!D83,(IF($B$4=\"NE\",'Wave Areas'!R84,(IF($B$4=\"E\",'Wave Areas'!D101,(IF($B$4=\"SE\",'Wave Areas'!R102,(IF($B$4=\"S\",'Wave Areas'!D119,(IF($B$4=\"W\",'Wave Areas'!D137,(IF($B$4=\"NW\",'Wave Areas'!R138,0)))))))))))))))","v":0},{"$f":"IF($B$4=\"SW\",'Wave Areas'!S120,(IF($B$4=\"N\",'Wave Areas'!E83,(IF($B$4=\"NE\",'Wave Areas'!S84,(IF($B$4=\"E\",'Wave Areas'!E101,(IF($B$4=\"SE\",'Wave Areas'!S102,(IF($B$4=\"S\",'Wave Areas'!E119,(IF($B$4=\"W\",'Wave Areas'!E137,(IF($B$4=\"NW\",'Wave Areas'!S138,0)))))))))))))))","v":0},{"$f":"IF($B$4=\"SW\",'Wave Areas'!T120,(IF($B$4=\"N\",'Wave Areas'!F83,(IF($B$4=\"NE\",'Wave Areas'!T84,(IF($B$4=\"E\",'Wave Areas'!F101,(IF($B$4=\"SE\",'Wave Areas'!T102,(IF($B$4=\"S\",'Wave Areas'!F119,(IF($B$4=\"W\",'Wave Areas'!F137,(IF($B$4=\"NW\",'Wave Areas'!T138,0)))))))))))))))","v":0},{"$f":"IF($B$4=\"SW\",'Wave Areas'!U120,(IF($B$4=\"N\",'Wave Areas'!G83,(IF($B$4=\"NE\",'Wave Areas'!U84,(IF($B$4=\"E\",'Wave Areas'!G101,(IF($B$4=\"SE\",'Wave Areas'!U102,(IF($B$4=\"S\",'Wave Areas'!G119,(IF($B$4=\"W\",'Wave Areas'!G137,(IF($B$4=\"NW\",'Wave Areas'!U138,0)))))))))))))))","v":0},{"$f":"IF($B$4=\"SW\",'Wave Areas'!V120,(IF($B$4=\"N\",'Wave Areas'!H83,(IF($B$4=\"NE\",'Wave Areas'!V84,(IF($B$4=\"E\",'Wave Areas'!H101,(IF($B$4=\"SE\",'Wave Areas'!V102,(IF($B$4=\"S\",'Wave Areas'!H119,(IF($B$4=\"W\",'Wave Areas'!H137,(IF($B$4=\"NW\",'Wave Areas'!V138,0)))))))))))))))","v":0},{"$f":"IF($B$4=\"SW\",'Wave Areas'!W120,(IF($B$4=\"N\",'Wave Areas'!I83,(IF($B$4=\"NE\",'Wave Areas'!W84,(IF($B$4=\"E\",'Wave Areas'!I101,(IF($B$4=\"SE\",'Wave Areas'!W102,(IF($B$4=\"S\",'Wave Areas'!I119,(IF($B$4=\"W\",'Wave Areas'!I137,(IF($B$4=\"NW\",'Wave Areas'!W138,0)))))))))))))))","v":0},{"$f":"IF($B$4=\"SW\",'Wave Areas'!X120,(IF($B$4=\"N\",'Wave Areas'!J83,(IF($B$4=\"NE\",'Wave Areas'!X84,(IF($B$4=\"E\",'Wave Areas'!J101,(IF($B$4=\"SE\",'Wave Areas'!X102,(IF($B$4=\"S\",'Wave Areas'!J119,(IF($B$4=\"W\",'Wave Areas'!J137,(IF($B$4=\"NW\",'Wave Areas'!X138,0)))))))))))))))","v":0},{"$f":"IF($B$4=\"SW\",'Wave Areas'!Y120,(IF($B$4=\"N\",'Wave Areas'!K83,(IF($B$4=\"NE\",'Wave Areas'!Y84,(IF($B$4=\"E\",'Wave Areas'!K101,(IF($B$4=\"SE\",'Wave Areas'!Y102,(IF($B$4=\"S\",'Wave Areas'!K119,(IF($B$4=\"W\",'Wave Areas'!K137,(IF($B$4=\"NW\",'Wave Areas'!Y138,0)))))))))))))))","v":0},{"$f":"IF($B$4=\"SW\",'Wave Areas'!Z120,(IF($B$4=\"N\",'Wave Areas'!L83,(IF($B$4=\"NE\",'Wave Areas'!Z84,(IF($B$4=\"E\",'Wave Areas'!L101,(IF($B$4=\"SE\",'Wave Areas'!Z102,(IF($B$4=\"S\",'Wave Areas'!L119,(IF($B$4=\"W\",'Wave Areas'!L137,(IF($B$4=\"NW\",'Wave Areas'!Z138,0)))))))))))))))","v":0},null,5.5,{"$error":"#DIV/0!"},{"$error":"#DIV/0!"},{"$error":"#DIV/0!"},{"$error":"#DIV/0!"},{"$error":"#DIV/0!"},{"$error":"#DIV/0!"},{"$error":"#DIV/0!"},{"$error":"#DIV/0!"},{"$error":"#DIV/0!"},{"$error":"#DIV/0!"},{"$error":"#DIV/0!"},{"$error":"#DIV/0!"},null,5.5,{"$error":"#DIV/0!"},{"$f":"AH27/1004","v":{"$error":"#DIV/0!"}},{"$f":"E27*AH27","v":{"$error":"#DIV/0!"}},{"$error":"#DIV/0!"},{"$error":"#DIV/0!"},{"$error":"#DIV/0!"},{"$error":"#DIV/0!"},{"$error":"#DIV/0!"},{"$error":"#DIV/0!"},{"$error":"#DIV/0!"},{"$error":"#DIV/0!"},{"$error":"#DIV/0!"}]
[53104.2890625,6.5,0,0,441344.91873579542,{"$f":"$A28*($F$16/2)","v":246648.99796875002},529201.94193749991,554221.35090992646,572017.04208059201,585006.96341517859,0,0,0,2928441.2150477422,null,null,null,6.5,{"$f":"IF($B$4=\"SW\",'Wave Areas'!P121,(IF($B$4=\"N\",'Wave Areas'!B84,(IF($B$4=\"NE\",'Wave Areas'!P85,(IF($B$4=\"E\",'Wave Areas'!B102,(IF($B$4=\"SE\",'Wave Areas'!P103,(IF($B$4=\"S\",'Wave Areas'!B120,(IF($B$4=\"W\",'Wave Areas'!B138,(IF($B$4=\"NW\",'Wave Areas'!P139,0)))))))))))))))","v":0},{"$f":"IF($B$4=\"SW\",'Wave Areas'!Q121,(IF($B$4=\"N\",'Wave Areas'!C84,(IF($B$4=\"NE\",'Wave Areas'!Q85,(IF($B$4=\"E\",'Wave Areas'!C102,(IF($B$4=\"SE\",'Wave Areas'!Q103,(IF($B$4=\"S\",'Wave Areas'!C120,(IF($B$4=\"W\",'Wave Areas'!C138,(IF($B$4=\"NW\",'Wave Areas'!Q139,0)))))))))))))))","v":0},{"$f":"IF($B$4=\"SW\",'Wave Areas'!R121,(IF($B$4=\"N\",'Wave Areas'!D84,(IF($B$4=\"NE\",'Wave Areas'!R85,(IF($B$4=\"E\",'Wave Areas'!D102,(IF($B$4=\"SE\",'Wave Areas'!R103,(IF($B$4=\"S\",'Wave Areas'!D120,(IF($B$4=\"W\",'Wave Areas'!D138,(IF($B$4=\"NW\",'Wave Areas'!R139,0)))))))))))))))","v":0},{"$f":"IF($B$4=\"SW\",'Wave Areas'!S121,(IF($B$4=\"N\",'Wave Areas'!E84,(IF($B$4=\"NE\",'Wave Areas'!S85,(IF($B$4=\"E\",'Wave Areas'!E102,(IF($B$4=\"SE\",'Wave Areas'!S103,(IF($B$4=\"S\",'Wave Areas'!E120,(IF($B$4=\"W\",'Wave Areas'!E138,(IF($B$4=\"NW\",'Wave Areas'!S139,0)))))))))))))))","v":0},{"$f":"IF($B$4=\"SW\",'Wave Areas'!T121,(IF($B$4=\"N\",'Wave Areas'!F84,(IF($B$4=\"NE\",'Wave Areas'!T85,(IF($B$4=\"E\",'Wave Areas'!F102,(IF($B$4=\"SE\",'Wave Areas'!T103,(IF($B$4=\"S\",'Wave Areas'!F120,(IF($B$4=\"W\",'Wave Areas'!F138,(IF($B$4=\"NW\",'Wave Areas'!T139,0)))))))))))))))","v":0},{"$f":"IF($B$4=\"SW\",'Wave Areas'!U121,(IF($B$4=\"N\",'Wave Areas'!G84,(IF($B$4=\"NE\",'Wave Areas'!U85,(IF($B$4=\"E\",'Wave Areas'!G102,(IF($B$4=\"SE\",'Wave Areas'!U103,(IF($B$4=\"S\",'Wave Areas'!G120,(IF($B$4=\"W\",'Wave Areas'!G138,(IF($B$4=\"NW\",'Wave Areas'!U139,0)))))))))))))))","v":0},{"$f":"IF($B$4=\"SW\",'Wave Areas'!V121,(IF($B$4=\"N\",'Wave Areas'!H84,(IF($B$4=\"NE\",'Wave Areas'!V85,(IF($B$4=\"E\",'Wave Areas'!H102,(IF($B$4=\"SE\",'Wave Areas'!V103,(IF($B$4=\"S\",'Wave Areas'!H120,(IF($B$4=\"W\",'Wave Areas'!H138,(IF($B$4=\"NW\",'Wave Areas'!V139,0)))))))))))))))","v":0},{"$f":"IF($B$4=\"SW\",'Wave Areas'!W121,(IF($B$4=\"N\",'Wave Areas'!I84,(IF($B$4=\"NE\",'Wave Areas'!W85,(IF($B$4=\"E\",'Wave Areas'!I102,(IF($B$4=\"SE\",'Wave Areas'!W103,(IF($B$4=\"S\",'Wave Areas'!I120,(IF($B$4=\"W\",'Wave Areas'!I138,(IF($B$4=\"NW\",'Wave Areas'!W139,0)))))))))))))))","v":0},{"$f":"IF($B$4=\"SW\",'Wave Areas'!X121,(IF($B$4=\"N\",'Wave Areas'!J84,(IF($B$4=\"NE\",'Wave Areas'!X85,(IF($B$4=\"E\",'Wave Areas'!J102,(IF($B$4=\"SE\",'Wave Areas'!X103,(IF($B$4=\"S\",'Wave Areas'!J120,(IF($B$4=\"W\",'Wave Areas'!J138,(IF($B$4=\"NW\",'Wave Areas'!X139,0)))))))))))))))","v":0},{"$f":"IF($B$4=\"SW\",'Wave Areas'!Y121,(IF($B$4=\"N\",'Wave Areas'!K84,(IF($B$4=\"NE\",'Wave Areas'!Y85,(IF($B$4=\"E\",'Wave Areas'!K102,(IF($B$4=\"SE\",'Wave Areas'!Y103,(IF($B$4=\"S\",'Wave Areas'!K120,(IF($B$4=\"W\",'Wave Areas'!K138,(IF($B$4=\"NW\",'Wave Areas'!Y139,0)))))))))))))))","v":0},{"$f":"IF($B$4=\"SW\",'Wave Areas'!Z121,(IF($B$4=\"N\",'Wave Areas'!L84,(IF($B$4=\"NE\",'Wave Areas'!Z85,(IF($B$4=\"E\",'Wave Areas'!L102,(IF($B$4=\"SE\",'Wave Areas'!Z103,(IF($B$4=\"S\",'Wave Areas'!L120,(IF($B$4=\"W\",'Wave Areas'!L138,(IF($B$4=\"NW\",'Wave Areas'!Z139,0)))))))))))))))","v":0},null,6.5,{"$error":"#DIV/0!"},{"$error":"#DIV/0!"},{"$error":"#DIV/0!"},{"$error":"#DIV/0!"},{"$error":"#DIV/0!"},{"$error":"#DIV/0!"},{"$error":"#DIV/0!"},{"$error":"#DIV/0!"},{"$error":"#DIV/0!"},{"$error":"#DIV/0!"},{"$error":"#DIV/0!"},{"$error":"#DIV/0!"},null,6.5,{"$error":"#DIV/0!"},{"$error":"#DIV/0!"},{"$error":"#DIV/0!"},{"$error":"#DIV/0!"},{"$error":"#DIV/0!"},{"$error":"#DIV/0!"},{"$error":"#DIV/0!"},{"$error":"#DIV/0!"},{"$error":"#DIV/0!"},{"$error":"#DIV/0!"},{"$error":"#DIV/0!"},{"$error":"#DIV/0!"}]
[70700.9765625,7.5,0,0,0,{"$f":"$A29*($F$16)","v":656757.6868990385},704558.79843749991,737868.6624540441,761561.15069901303,0,0,0,0,2860746.2984895953,null,null,null,7.5,{"$f":"IF($B$4=\"SW\",'Wave Areas'!P122,(IF($B$4=\"N\",'Wave Areas'!B85,(IF($B$4=\"NE\",'Wave Areas'!P86,(IF($B$4=\"E\",'Wave Areas'!B103,(IF($B$4=\"SE\",'Wave Areas'!P104,(IF($B$4=\"S\",'Wave Areas'!B121,(IF($B$4=\"W\",'Wave Areas'!B139,(IF($B$4=\"NW\",'Wave Areas'!P140,0)))))))))))))))","v":0},{"$f":"IF($B$4=\"SW\",'Wave Areas'!Q122,(IF($B$4=\"N\",'Wave Areas'!C85,(IF($B$4=\"NE\",'Wave Areas'!Q86,(IF($B$4=\"E\",'Wave Areas'!C103,(IF($B$4=\"SE\",'Wave Areas'!Q104,(IF($B$4=\"S\",'Wave Areas'!C121,(IF($B$4=\"W\",'Wave Areas'!C139,(IF($B$4=\"NW\",'Wave Areas'!Q140,0)))))))))))))))","v":0},{"$f":"IF($B$4=\"SW\",'Wave Areas'!R122,(IF($B$4=\"N\",'Wave Areas'!D85,(IF($B$4=\"NE\",'Wave Areas'!R86,(IF($B$4=\"E\",'Wave Areas'!D103,(IF($B$4=\"SE\",'Wave Areas'!R104,(IF($B$4=\"S\",'Wave Areas'!D121,(IF($B$4=\"W\",'Wave Areas'!D139,(IF($B$4=\"NW\",'Wave Areas'!R140,0)))))))))))))))","v":0},{"$f":"IF($B$4=\"SW\",'Wave Areas'!S122,(IF($B$4=\"N\",'Wave Areas'!E85,(IF($B$4=\"NE\",'Wave Areas'!S86,(IF($B$4=\"E\",'Wave Areas'!E103,(IF($B$4=\"SE\",'Wave Areas'!S104,(IF($B$4=\"S\",'Wave Areas'!E121,(IF($B$4=\"W\",'Wave Areas'!E139,(IF($B$4=\"NW\",'Wave Areas'!S140,0)))))))))))))))","v":0},{"$f":"IF($B$4=\"SW\",'Wave Areas'!T122,(IF($B$4=\"N\",'Wave Areas'!F85,(IF($B$4=\"NE\",'Wave Areas'!T86,(IF($B$4=\"E\",'Wave Areas'!F103,(IF($B$4=\"SE\",'Wave Areas'!T104,(IF($B$4=\"S\",'Wave Areas'!F121,(IF($B$4=\"W\",'Wave Areas'!F139,(IF($B$4=\"NW\",'Wave Areas'!T140,0)))))))))))))))","v":0},{"$f":"IF($B$4=\"SW\",'Wave Areas'!U122,(IF($B$4=\"N\",'Wave Areas'!G85,(IF($B$4=\"NE\",'Wave Areas'!U86,(IF($B$4=\"E\",'Wave Areas'!G103,(IF($B$4=\"SE\",'Wave Areas'!U104,(IF($B$4=\"S\",'Wave Areas'!G121,(IF($B$4=\"W\",'Wave Areas'!G139,(IF($B$4=\"NW\",'Wave Areas'!U140,0)))))))))))))))","v":0},{"$f":"IF($B$4=\"SW\",'Wave Areas'!V122,(IF($B$4=\"N\",'Wave Areas'!H85,(IF($B$4=\"NE\",'Wave Areas'!V86,(IF($B$4=\"E\",'Wave Areas'!H103,(IF($B$4=\"SE\",'Wave Areas'!V104,(IF($B$4=\"S\",'Wave Areas'!H121,(IF($B$4=\"W\",'Wave Areas'!H139,(IF($B$4=\"NW\",'Wave Areas'!V140,0)))))))))))))))","v":0},{"$f":"IF($B$4=\"SW\",'Wave Areas'!W122,(IF($B$4=\"N\",'Wave Areas'!I85,(IF($B$4=\"NE\",'Wave Areas'!W86,(IF($B$4=\"E\",'Wave Areas'!I103,(IF($B$4=\"SE\",'Wave Areas'!W104,(IF($B$4=\"S\",'Wave Areas'!I121,(IF($B$4=\"W\",'Wave Areas'!I139,(IF($B$4=\"NW\",'Wave Areas'!W140,0)))))))))))))))","v":0},{"$f":"IF($B$4=\"SW\",'Wave Areas'!X122,(IF($B$4=\"N\",'Wave Areas'!J85,(IF($B$4=\"NE\",'Wave Areas'!X86,(IF($B$4=\"E\",'Wave Areas'!J103,(IF($B$4=\"SE\",'Wave Areas'!X104,(IF($B$4=\"S\",'Wave Areas'!J121,(IF($B$4=\"W\",'Wave Areas'!J139,(IF($B$4=\"NW\",'Wave Areas'!X140,0)))))))))))))))","v":0},{"$f":"IF($B$4=\"SW\",'Wave Areas'!Y122,(IF($B$4=\"N\",'Wave Areas'!K85,(IF($B$4=\"NE\",'Wave Areas'!Y86,(IF($B$4=\"E\",'Wave Areas'!K103,(IF($B$4=\"SE\",'Wave Areas'!Y104,(IF($B$4=\"S\",'Wave Areas'!K121,(IF($B$4=\"W\",'Wave Areas'!K139,(IF($B$4=\"NW\",'Wave Areas'!Y140,0)))))))))))))))","v":0},{"$f":"IF($B$4=\"SW\",'Wave Areas'!Z122,(IF($B$4=\"N\",'Wave Areas'!L85,(IF($B$4=\"NE\",'Wave Areas'!Z86,(IF($B$4=\"E\",'Wave Areas'!L103,(IF($B$4=\"SE\",'Wave Areas'!Z104,(IF($B$4=\"S\",'Wave Areas'!L121,(IF($B$4=\"W\",'Wave Areas'!L139,(IF($B$4=\"NW\",'Wave Areas'!Z140,0)))))))))))))))","v":0},null,7.5,{"$error":"#DIV/0!"},{"$error":"#DIV/0!"},{"$error":"#DIV/0!"},{"$error":"#DIV/0!"},{"$error":"#DIV/0!"},{"$error":"#DIV/0!"},{"$error":"#DIV/0!"},{"$error":"#DIV/0!"},{"$error":"#DIV/0!"},{"$error":"#DIV/0!"},{"$error":"#DIV/0!"},{"$error":"#DIV/0!"},null,7.5,{"$error":"#DIV/0!"},{"$error":"#DIV/0!"},{"$f":"AI29/1004","v":{"$error":"#DIV/0!"}},{"$f":"F29*AI29","v":{"$error":"#DIV/0!"}},{"$error":"#DIV/0!"},{"$error":"#DIV/0!"},{"$error":"#DIV/0!"},{"$f":"AN29/1004","v":{"$error":"#DIV/0!"}},{"$error":"#DIV/0!"},{"$error":"#DIV/0!"},{"$error":"#DIV/0!"},{"$error":"#DIV/0!"}]
[90811.4765625,8.5,0,0,0,{"$f":"$A30*($F$16)","v":843568.76228365384},904966.63443749992,947751.30421874998,978182.9891200657,0,0,0,0,3674469.6900599697,null,null,null,8.5,{"$f":"IF($B$4=\"SW\",'Wave Areas'!P123,(IF($B$4=\"N\",'Wave Areas'!B86,(IF($B$4=\"NE\",'Wave Areas'!P87,(IF($B$4=\"E\",'Wave Areas'!B104,(IF($B$4=\"SE\",'Wave Areas'!P105,(IF($B$4=\"S\",'Wave Areas'!B122,(IF($B$4=\"W\",'Wave Areas'!B140,(IF($B$4=\"NW\",'Wave Areas'!P141,0)))))))))))))))","v":0},{"$f":"IF($B$4=\"SW\",'Wave Areas'!Q123,(IF($B$4=\"N\",'Wave Areas'!C86,(IF($B$4=\"NE\",'Wave Areas'!Q87,(IF($B$4=\"E\",'Wave Areas'!C104,(IF($B$4=\"SE\",'Wave Areas'!Q105,(IF($B$4=\"S\",'Wave Areas'!C122,(IF($B$4=\"W\",'Wave Areas'!C140,(IF($B$4=\"NW\",'Wave Areas'!Q141,0)))))))))))))))","v":0},{"$f":"IF($B$4=\"SW\",'Wave Areas'!R123,(IF($B$4=\"N\",'Wave Areas'!D86,(IF($B$4=\"NE\",'Wave Areas'!R87,(IF($B$4=\"E\",'Wave Areas'!D104,(IF($B$4=\"SE\",'Wave Areas'!R105,(IF($B$4=\"S\",'Wave Areas'!D122,(IF($B$4=\"W\",'Wave Areas'!D140,(IF($B$4=\"NW\",'Wave Areas'!R141,0)))))))))))))))","v":0},{"$f":"IF($B$4=\"SW\",'Wave Areas'!S123,(IF($B$4=\"N\",'Wave Areas'!E86,(IF($B$4=\"NE\",'Wave Areas'!S87,(IF($B$4=\"E\",'Wave Areas'!E104,(IF($B$4=\"SE\",'Wave Areas'!S105,(IF($B$4=\"S\",'Wave Areas'!E122,(IF($B$4=\"W\",'Wave Areas'!E140,(IF($B$4=\"NW\",'Wave Areas'!S141,0)))))))))))))))","v":0},{"$f":"IF($B$4=\"SW\",'Wave Areas'!T123,(IF($B$4=\"N\",'Wave Areas'!F86,(IF($B$4=\"NE\",'Wave Areas'!T87,(IF($B$4=\"E\",'Wave Areas'!F104,(IF($B$4=\"SE\",'Wave Areas'!T105,(IF($B$4=\"S\",'Wave Areas'!F122,(IF($B$4=\"W\",'Wave Areas'!F140,(IF($B$4=\"NW\",'Wave Areas'!T141,0)))))))))))))))","v":0},{"$f":"IF($B$4=\"SW\",'Wave Areas'!U123,(IF($B$4=\"N\",'Wave Areas'!G86,(IF($B$4=\"NE\",'Wave Areas'!U87,(IF($B$4=\"E\",'Wave Areas'!G104,(IF($B$4=\"SE\",'Wave Areas'!U105,(IF($B$4=\"S\",'Wave Areas'!G122,(IF($B$4=\"W\",'Wave Areas'!G140,(IF($B$4=\"NW\",'Wave Areas'!U141,0)))))))))))))))","v":0},{"$f":"IF($B$4=\"SW\",'Wave Areas'!V123,(IF($B$4=\"N\",'Wave Areas'!H86,(IF($B$4=\"NE\",'Wave Areas'!V87,(IF($B$4=\"E\",'Wave Areas'!H104,(IF($B$4=\"SE\",'Wave Areas'!V105,(IF($B$4=\"S\",'Wave Areas'!H122,(IF($B$4=\"W\",'Wave Areas'!H140,(IF($B$4=\"NW\",'Wave Areas'!V141,0)))))))))))))))","v":0},{"$f":"IF($B$4=\"SW\",'Wave Areas'!W123,(IF($B$4=\"N\",'Wave Areas'!I86,(IF($B$4=\"NE\",'Wave Areas'!W87,(IF($B$4=\"E\",'Wave Areas'!I104,(IF($B$4=\"SE\",'Wave Areas'!W105,(IF($B$4=\"S\",'Wave Areas'!I122,(IF($B$4=\"W\",'Wave Areas'!I140,(IF($B$4=\"NW\",'Wave Areas'!W141,0)))))))))))))))","v":0},{"$f":"IF($B$4=\"SW\",'Wave Areas'!X123,(IF($B$4=\"N\",'Wave Areas'!J86,(IF($B$4=\"NE\",'Wave Areas'!X87,(IF($B$4=\"E\",'Wave Areas'!J104,(IF($B$4=\"SE\",'Wave Areas'!X105,(IF($B$4=\"S\",'Wave Areas'!J122,(IF($B$4=\"W\",'Wave Areas'!J140,(IF($B$4=\"NW\",'Wave Areas'!X141,0)))))))))))))))","v":0},{"$f":"IF($B$4=\"SW\",'Wave Areas'!Y123,(IF($B$4=\"N\",'Wave Areas'!K86,(IF($B$4=\"NE\",'Wave Areas'!Y87,(IF($B$4=\"E\",'Wave Areas'!K104,(IF($B$4=\"SE\",'Wave Areas'!Y105,(IF($B$4=\"S\",'Wave Areas'!K122,(IF($B$4=\"W\",'Wave Areas'!K140,(IF($B$4=\"NW\",'Wave Areas'!Y141,0)))))))))))))))","v":0},{"$f":"IF($B$4=\"SW\",'Wave Areas'!Z123,(IF($B$4=\"N\",'Wave Areas'!L86,(IF($B$4=\"NE\",'Wave Areas'!Z87,(IF($B$4=\"E\",'Wave Areas'!L104,(IF($B$4=\"SE\",'Wave Areas'!Z105,(IF($B$4=\"S\",'Wave Areas'!L122,(IF($B$4=\"W\",'Wave Areas'!L140,(IF($B$4=\"NW\",'Wave Areas'!Z141,0)))))))))))))))","v":0},null,8.5,{"$error":"#DIV/0!"},{"$error":"#DIV/0!"},{"$error":"#DIV/0!"},{"$error":"#DIV/0!"},{"$error":"#DIV/0!"},{"$error":"#DIV/0!"},{"$error":"#DIV/0!"},{"$error":"#DIV/0!"},{"$error":"#DIV/0!"},{"$error":"#DIV/0!"},{"$error":"#DIV/0!"},{"$error":"#DIV/0!"},null,8.5,{"$error":"#DIV/0!"},{"$error":"#DIV/0!"},{"$f":"AI30/1004","v":{"$error":"#DIV/0!"}},{"$error":"#DIV/0!"},{"$error":"#DIV/0!"},{"$error":"#DIV/0!"},{"$error":"#DIV/0!"},{"$f":"AN30/1004","v":{"$error":"#DIV/0!"}},{"$error":"#DIV/0!"},{"$error":"#DIV/0!"},{"$error":"#DIV/0!"},{"$error":"#DIV/0!"}]
[113435.7890625,9.5,0,0,0,0,1130425.4499374998,1183869.276204044,0,0,0,0,0,2314294.7261415441,null,null,null,9.5,{"$f":"IF($B$4=\"SW\",'Wave Areas'!P124,(IF($B$4=\"N\",'Wave Areas'!B87,(IF($B$4=\"NE\",'Wave Areas'!P88,(IF($B$4=\"E\",'Wave Areas'!B105,(IF($B$4=\"SE\",'Wave Areas'!P106,(IF($B$4=\"S\",'Wave Areas'!B123,(IF($B$4=\"W\",'Wave Areas'!B141,(IF($B$4=\"NW\",'Wave Areas'!P142,0)))))))))))))))","v":0},{"$f":"IF($B$4=\"SW\",'Wave Areas'!Q124,(IF($B$4=\"N\",'Wave Areas'!C87,(IF($B$4=\"NE\",'Wave Areas'!Q88,(IF($B$4=\"E\",'Wave Areas'!C105,(IF($B$4=\"SE\",'Wave Areas'!Q106,(IF($B$4=\"S\",'Wave Areas'!C123,(IF($B$4=\"W\",'Wave Areas'!C141,(IF($B$4=\"NW\",'Wave Areas'!Q142,0)))))))))))))))","v":0},{"$f":"IF($B$4=\"SW\",'Wave Areas'!R124,(IF($B$4=\"N\",'Wave Areas'!D87,(IF($B$4=\"NE\",'Wave Areas'!R88,(IF($B$4=\"E\",'Wave Areas'!D105,(IF($B$4=\"SE\",'Wave Areas'!R106,(IF($B$4=\"S\",'Wave Areas'!D123,(IF($B$4=\"W\",'Wave Areas'!D141,(IF($B$4=\"NW\",'Wave Areas'!R142,0)))))))))))))))","v":0},{"$f":"IF($B$4=\"SW\",'Wave Areas'!S124,(IF($B$4=\"N\",'Wave Areas'!E87,(IF($B$4=\"NE\",'Wave Areas'!S88,(IF($B$4=\"E\",'Wave Areas'!E105,(IF($B$4=\"SE\",'Wave Areas'!S106,(IF($B$4=\"S\",'Wave Areas'!E123,(IF($B$4=\"W\",'Wave Areas'!E141,(IF($B$4=\"NW\",'Wave Areas'!S142,0)))))))))))))))","v":0},{"$f":"IF($B$4=\"SW\",'Wave Areas'!T124,(IF($B$4=\"N\",'Wave Areas'!F87,(IF($B$4=\"NE\",'Wave Areas'!T88,(IF($B$4=\"E\",'Wave Areas'!F105,(IF($B$4=\"SE\",'Wave Areas'!T106,(IF($B$4=\"S\",'Wave Areas'!F123,(IF($B$4=\"W\",'Wave Areas'!F141,(IF($B$4=\"NW\",'Wave Areas'!T142,0)))))))))))))))","v":0},{"$f":"IF($B$4=\"SW\",'Wave Areas'!U124,(IF($B$4=\"N\",'Wave Areas'!G87,(IF($B$4=\"NE\",'Wave Areas'!U88,(IF($B$4=\"E\",'Wave Areas'!G105,(IF($B$4=\"SE\",'Wave Areas'!U106,(IF($B$4=\"S\",'Wave Areas'!G123,(IF($B$4=\"W\",'Wave Areas'!G141,(IF($B$4=\"NW\",'Wave Areas'!U142,0)))))))))))))))","v":0},{"$f":"IF($B$4=\"SW\",'Wave Areas'!V124,(IF($B$4=\"N\",'Wave Areas'!H87,(IF($B$4=\"NE\",'Wave Areas'!V88,(IF($B$4=\"E\",'Wave Areas'!H105,(IF($B$4=\"SE\",'Wave Areas'!V106,(IF($B$4=\"S\",'Wave Areas'!H123,(IF($B$4=\"W\",'Wave Areas'!H141,(IF($B$4=\"NW\",'Wave Areas'!V142,0)))))))))))))))","v":0},{"$f":"IF($B$4=\"SW\",'Wave Areas'!W124,(IF($B$4=\"N\",'Wave Areas'!I87,(IF($B$4=\"NE\",'Wave Areas'!W88,(IF($B$4=\"E\",'Wave Areas'!I105,(IF($B$4=\"SE\",'Wave Areas'!W106,(IF($B$4=\"S\",'Wave Areas'!I123,(IF($B$4=\"W\",'Wave Areas'!I141,(IF($B$4=\"NW\",'Wave Areas'!W142,0)))))))))))))))","v":0},{"$f":"IF($B$4=\"SW\",'Wave Areas'!X124,(IF($B$4=\"N\",'Wave Areas'!J87,(IF($B$4=\"NE\",'Wave Areas'!X88,(IF($B$4=\"E\",'Wave Areas'!J105,(IF($B$4=\"SE\",'Wave Areas'!X106,(IF($B$4=\"S\",'Wave Areas'!J123,(IF($B$4=\"W\",'Wave Areas'!J141,(IF($B$4=\"NW\",'Wave Areas'!X142,0)))))))))))))))","v":0},{"$f":"IF($B$4=\"SW\",'Wave Areas'!Y124,(IF($B$4=\"N\",'Wave Areas'!K87,(IF($B$4=\"NE\",'Wave Areas'!Y88,(IF($B$4=\"E\",'Wave Areas'!K105,(IF($B$4=\"SE\",'Wave Areas'!Y106,(IF($B$4=\"S\",'Wave Areas'!K123,(IF($B$4=\"W\",'Wave Areas'!K141,(IF($B$4=\"NW\",'Wave Areas'!Y142,0)))))))))))))))","v":0},{"$f":"IF($B$4=\"SW\",'Wave Areas'!Z124,(IF($B$4=\"N\",'Wave Areas'!L87,(IF($B$4=\"NE\",'Wave Areas'!Z88,(IF($B$4=\"E\",'Wave Areas'!L105,(IF($B$4=\"SE\",'Wave Areas'!Z106,(IF($B$4=\"S\",'Wave Areas'!L123,(IF($B$4=\"W\",'Wave Areas'!L141,(IF($B$4=\"NW\",'Wave Areas'!Z142,0)))))))))))))))","v":0},null,9.5,{"$error":"#DIV/0!"},{"$error":"#DIV/0!"},{"$error":"#DIV/0!"},{"$error":"#DIV/0!"},{"$error":"#DIV/0!"},{"$error":"#DIV/0!"},{"$error":"#DIV/0!"},{"$error":"#DIV/0!"},{"$error":"#DIV/0!"},{"$error":"#DIV/0!"},{"$error":"#DIV/0!"},{"$error":"#DIV/0!"},null,9.5,{"$error":"#DIV/0!"},{"$error":"#DIV/0!"},{"$f":"AI31/1004","v":{"$error":"#DIV/0!"}},{"$f":"AJ31/1004","v":{"$error":"#DIV/0!"}},{"$f":"G31*AJ31","v":{"$error":"#DIV/0!"}},{"$f":"H31*AK31","v":{"$error":"#DIV/0!"}},{"$f":"AM31/1004","v":{"$error":"#DIV/0!"}},{"$f":"AN31/1004","v":{"$error":"#DIV/0!"}},{"$error":"#DIV/0!"},{"$error":"#DIV/0!"},{"$error":"#DIV/0!"},{"$error":"#DIV/0!"}]
[138573.9140625,10.5,0,0,0,0,0,0,0,0,0,0,0,0,null,null,null,10.5,{"$f":"IF($B$4=\"SW\",'Wave Areas'!P125,(IF($B$4=\"N\",'Wave Areas'!B88,(IF($B$4=\"NE\",'Wave Areas'!P89,(IF($B$4=\"E\",'Wave Areas'!B106,(IF($B$4=\"SE\",'Wave Areas'!P107,(IF($B$4=\"S\",'Wave Areas'!B124,(IF($B$4=\"W\",'Wave Areas'!B142,(IF($B$4=\"NW\",'Wave Areas'!P143,0)))))))))))))))","v":0},{"$f":"IF($B$4=\"SW\",'Wave Areas'!Q125,(IF($B$4=\"N\",'Wave Areas'!C88,(IF($B$4=\"NE\",'Wave Areas'!Q89,(IF($B$4=\"E\",'Wave Areas'!C106,(IF($B$4=\"SE\",'Wave Areas'!Q107,(IF($B$4=\"S\",'Wave Areas'!C124,(IF($B$4=\"W\",'Wave Areas'!C142,(IF($B$4=\"NW\",'Wave Areas'!Q143,0)))))))))))))))","v":0},{"$f":"IF($B$4=\"SW\",'Wave Areas'!R125,(IF($B$4=\"N\",'Wave Areas'!D88,(IF($B$4=\"NE\",'Wave Areas'!R89,(IF($B$4=\"E\",'Wave Areas'!D106,(IF($B$4=\"SE\",'Wave Areas'!R107,(IF($B$4=\"S\",'Wave Areas'!D124,(IF($B$4=\"W\",'Wave Areas'!D142,(IF($B$4=\"NW\",'Wave Areas'!R143,0)))))))))))))))","v":0},{"$f":"IF($B$4=\"SW\",'Wave Areas'!S125,(IF($B$4=\"N\",'Wave Areas'!E88,(IF($B$4=\"NE\",'Wave Areas'!S89,(IF($B$4=\"E\",'Wave Areas'!E106,(IF($B$4=\"SE\",'Wave Areas'!S107,(IF($B$4=\"S\",'Wave Areas'!E124,(IF($B$4=\"W\",'Wave Areas'!E142,(IF($B$4=\"NW\",'Wave Areas'!S143,0)))))))))))))))","v":0},{"$f":"IF($B$4=\"SW\",'Wave Areas'!T125,(IF($B$4=\"N\",'Wave Areas'!F88,(IF($B$4=\"NE\",'Wave Areas'!T89,(IF($B$4=\"E\",'Wave Areas'!F106,(IF($B$4=\"SE\",'Wave Areas'!T107,(IF($B$4=\"S\",'Wave Areas'!F124,(IF($B$4=\"W\",'Wave Areas'!F142,(IF($B$4=\"NW\",'Wave Areas'!T143,0)))))))))))))))","v":0},{"$f":"IF($B$4=\"SW\",'Wave Areas'!U125,(IF($B$4=\"N\",'Wave Areas'!G88,(IF($B$4=\"NE\",'Wave Areas'!U89,(IF($B$4=\"E\",'Wave Areas'!G106,(IF($B$4=\"SE\",'Wave Areas'!U107,(IF($B$4=\"S\",'Wave Areas'!G124,(IF($B$4=\"W\",'Wave Areas'!G142,(IF($B$4=\"NW\",'Wave Areas'!U143,0)))))))))))))))","v":0},{"$f":"IF($B$4=\"SW\",'Wave Areas'!V125,(IF($B$4=\"N\",'Wave Areas'!H88,(IF($B$4=\"NE\",'Wave Areas'!V89,(IF($B$4=\"E\",'Wave Areas'!H106,(IF($B$4=\"SE\",'Wave Areas'!V107,(IF($B$4=\"S\",'Wave Areas'!H124,(IF($B$4=\"W\",'Wave Areas'!H142,(IF($B$4=\"NW\",'Wave Areas'!V143,0)))))))))))))))","v":0},{"$f":"IF($B$4=\"SW\",'Wave Areas'!W125,(IF($B$4=\"N\",'Wave Areas'!I88,(IF($B$4=\"NE\",'Wave Areas'!W89,(IF($B$4=\"E\",'Wave Areas'!I106,(IF($B$4=\"SE\",'Wave Areas'!W107,(IF($B$4=\"S\",'Wave Areas'!I124,(IF($B$4=\"W\",'Wave Areas'!I142,(IF($B$4=\"NW\",'Wave Areas'!W143,0)))))))))))))))","v":0},{"$f":"IF($B$4=\"SW\",'Wave Areas'!X125,(IF($B$4=\"N\",'Wave Areas'!J88,(IF($B$4=\"NE\",'Wave Areas'!X89,(IF($B$4=\"E\",'Wave Areas'!J106,(IF($B$4=\"SE\",'Wave Areas'!X107,(IF($B$4=\"S\",'Wave Areas'!J124,(IF($B$4=\"W\",'Wave Areas'!J142,(IF($B$4=\"NW\",'Wave Areas'!X143,0)))))))))))))))","v":0},{"$f":"IF($B$4=\"SW\",'Wave Areas'!Y125,(IF($B$4=\"N\",'Wave Areas'!K88,(IF($B$4=\"NE\",'Wave Areas'!Y89,(IF($B$4=\"E\",'Wave Areas'!K106,(IF($B$4=\"SE\",'Wave Areas'!Y107,(IF($B$4=\"S\",'Wave Areas'!K124,(IF($B$4=\"W\",'Wave Areas'!K142,(IF($B$4=\"NW\",'Wave Areas'!Y143,0)))))))))))))))","v":0},{"$f":"IF($B$4=\"SW\",'Wave Areas'!Z125,(IF($B$4=\"N\",'Wave Areas'!L88,(IF($B$4=\"NE\",'Wave Areas'!Z89,(IF($B$4=\"E\",'Wave Areas'!L106,(IF($B$4=\"SE\",'Wave Areas'!Z107,(IF($B$4=\"S\",'Wave Areas'!L124,(IF($B$4=\"W\",'Wave Areas'!L142,(IF($B$4=\"NW\",'Wave Areas'!Z143,0)))))))))))))))","v":0},null,10.5,{"$f":"S32/($AC$33)","v":{"$error":"#DIV/0!"}},{"$error":"#DIV/0!"},{"$error":"#DIV/0!"},{"$error":"#DIV/0!"},{"$error":"#DIV/0!"},{"$error":"#DIV/0!"},{"$error":"#DIV/0!"},{"$error":"#DIV/0!"},{"$error":"#DIV/0!"},{"$error":"#DIV/0!"},{"$error":"#DIV/0!"},{"$error":"#DIV/0!"},null,10.5,{"$error":"#DIV/0!"},{"$error":"#DIV/0!"},{"$f":"AI32/1004","v":{"$error":"#DIV/0!"}},{"$f":"AJ32/1004","v":{"$error":"#DIV/0!"}},{"$f":"AK32/1004","v":{"$error":"#DIV/0!"}},{"$f":"AL32/1004","v":{"$error":"#DIV/0!"}},{"$f":"AM32/1004","v":{"$error":"#DIV/0!"}},{"$f":"AN32/1004","v":{"$error":"#DIV/0!"}},{"$error":"#DIV/0!"},{"$error":"#DIV/0!"},{"$error":"#DIV/0!"},{"$error":"#DIV/0!"}]
["Sub Totals",null,{"$f":"SUM(C22:C32)","v":17165.748214285715},362355.59765625,1188236.3196732954,2463571.0566346156,4164725.341874999,4361623.6491727941,3276405.3061184208,1571557.1679910715,0,0,0,{"$f":"SUM(N22:N31)","v":17405640.18733573},"Total",null,null,"Total Occurences",null,null,null,null,null,null,null,null,null,null,{"$f":"SUM(S22:AC32)","v":0},null,null,null,null,null,null,null,null,null,null,null,null,null,null,null,"Sub Totals",{"$f":"SUM(AT22:AT32)","v":{"$error":"#DIV/0!"}},{"$error":"#DIV/0!"},{"$error":"#DIV/0!"},{"$error":"#DIV/0!"},{"$error":"#DIV/0!"},{"$error":"#DIV/0!"},{"$error":"#DIV/0!"},{"$error":"#DIV/0!"},{"$error":"#DIV/0!"},{"$error":"#DIV/0!"},{"$error":"#DIV/0!"},{"$f":"SUM(BE22:BE31)","v":{"$error":"#DIV/0!"}},"Total"]
[]
[null,null,null,null,null,null,null,null,null,null,null,null,null,null,null,null,null,null,null,null,null,null,null,null,null,null,null,null,null,null,null,null,null,null,null,null,null,null,null,null,null,null,null,null,null,null,null,null,null,null,null,null,null,null,null,null,"Min","Max"]
[null,null,null,null,null,null,null,null,null,null,null,null,null,null,null,null,null,null,null,null,null,null,null,null,null,null,null,null,null,null,null,null,null,null,null,null,null,null,null,null,null,null,null,null,null,null,null,null,null,null,null,null,null,"Relevant Wave Heights",null,null,{"$f":"IF((AND($B$6>AS22,$B$6<AS23)),AS22,(IF((AND($B$6>AS23,$B$6<AS24)),AS23,(IF((AND($B$6>AS24,$B$6<AS25)),AS24,(IF((AND($B$6>AS25,$B$6<AS26)),AS25,(IF((AND($B$6>AS26,$B$6<AS27)),AS26,(IF((AND($B$6>AS27,$B$6<AS28)),AS27,(IF((AND($B$6>AS28,$B$6<AS29)),AS28,(IF((AND($B$6>AS29,$B$6<AS30)),AS29,(IF((AND($B$6>AS30,$B$6<AS31)),AS30,(IF((AND($B$6>AS31,$B$6<AS32)),AS31,(IF($B$6>AS32,AS32,\"\")))))))))))))))))))))","v":10.5},{"$f":"IF((AND($B$6>AS22,$B$6<AS23)),AS23,(IF((AND($B$6>AS23,$B$6<AS24)),AS24,(IF((AND($B$6>AS24,$B$6<AS25)),AS25,(IF((AND($B$6>AS25,$B$6<AS26)),AS26,(IF((AND($B$6>AS26,$B$6<AS27)),AS27,(IF((AND($B$6>AS27,$B$6<AS28)),AS28,(IF((AND($B$6>AS28,$B$6<AS29)),AS29,(IF((AND($B$6>AS29,$B$6<AS30)),AS30,(IF((AND($B$6>AS30,$B$6<AS31)),AS31,(IF((AND($B$6>AS31,$B$6<AS32)),AS32,(IF($B$6>AS32,AS32,\"\")))))))))))))))))))))","v":10.5}]
[null,null,null,null,null,null,null,null,null,null,null,null,null,null,null,null,null,null,null,null,null,null,null,null,null,null,null,null,null,null,null,null,null,null,null,null,null,null,null,null,null,null,null,null,null,null,null,null,null,null,null,null,null,"Relevant Power (kW/m)",null,null,{"$f":"(((($B$6-BE36)*((VLOOKUP(BF36,AS22:BE32,13,FALSE))-(VLOOKUP(BE36,AS22:BE32,13,FALSE))))/(BF36-BE36))+(VLOOKUP(BE36,AS22:BE32,13,FALSE)))*0.001","v":{"$error":"#VALUE!"}}]
[]
["Deep"]
[]
["Wave Velocity C","(m/s)",{"$f":"(C42/C43)","v":5.0344574780058648},6.4728739002932549,7.9112903225806459,9.3497067448680351,10.788123167155426,12.226539589442817,13.664956011730204,15.103372434017595,16.541788856304986,17.980205278592376,19.418621700879768]
["Wave Length (λ)","(m)",{"$f":"(9.81/(2*3.41))*C43^2","v":17.620601173020528},29.127932551319649,43.512096774193552,60.773093841642229,80.910923753665699,103.92558651026394,129.81708211143695,158.58541055718476,190.23057184750735,224.75256598240469,262.15139296187687]
["Wave Period (T)","(s)",3.5,4.5,5.5,6.5,7.5,8.5,9.5,10.5,11.5,12.5,13.5]
[]
["Energy","Wave Height (Hs)","Power",null,null,null,null,null,null,null,null,null,null,"Total Power",null,null,null,"North Sea Area 10",null,null,null,null,null,null,null,null,null,null,null,null,"North Sea Area 10",null,null,null,null,null,null,null,null,null,null,null,null,null,"North Sea Area 10"]
["(J)","(m)","(W/m)",null,null,null,null,null,null,null,null,null,null,"(W/m)",null,null,null,"Number of Occurences",null,null,null,null,null,null,null,null,null,null,null,null,"Percentage of Occurences",null,null,null,null,null,null,null,null,null,null,null,null,null,"Annual Power (W/m)",null,null,null,null,null,null,null,null,null,null,null,"Total Power"]
[{"$f":"(1025*9.81*B47^2)/8","v":314.2265625},0.5,{"$f":"$A47*($C$41)/2","v":790.98013368310114},{"$f":"$A47*($D$41)/2","v":1016.9744575925586},{"$f":"$A47*($E$41)/2","v":1242.9687815020163},{"$f":"$A47*($F$41)/2","v":1468.9631054114736},{"$f":"$A47*($G$41)/2","v":1694.9574293209312},{"$f":"$A47*($H$41)/2","v":1920.9517532303889},0,0,0,0,0,{"$f":"SUM(C47:M47)","v":8135.7956607404703},null,null,null,"Hs                      T",3.5,4.5,5.5,6.5,7.5,8.5,9.5,10.5,11.5,12.5,13.5,null,"Hs                 T",3.5,4.5,5.5,6.5,7.5,8.5,9.5,10.5,11.5,12.5,13.5,"Availability",null,"Hs           T",3.5,4.5,5.5,6.5,7.5,8.5,9.5,10.5,11.5,12.5,13.5,"(W/m)"]
[2828.0390625,1.5,{"$f":"$B48*($C$16/2)","v":4.0971428571428579},{"$f":"$A48*($D$41)/2","v":9152.7701183330282},11186.719033518146,13220.667948703262,15254.616863888381,{"$f":"$A48*($G$41)/2","v":15254.616863888381},{"$f":"$A48*($I$41)/2","v":19322.514694258614},{"$f":"$A48*($J$41)/2","v":21356.46360944373},0,0,0,104752.46627489068,null,null,null,0.5,{"$f":"IF($B$4=\"SW\",'Wave Areas'!P115,(IF($B$4=\"N\",'Wave Areas'!B78,(IF($B$4=\"NE\",'Wave Areas'!P79,(IF($B$4=\"E\",'Wave Areas'!B96,(IF($B$4=\"SE\",'Wave Areas'!P97,(IF($B$4=\"S\",'Wave Areas'!B114,(IF($B$4=\"W\",'Wave Areas'!B132,(IF($B$4=\"NW\",'Wave Areas'!P133,0)))))))))))))))","v":0},{"$f":"IF($B$4=\"SW\",'Wave Areas'!Q115,(IF($B$4=\"N\",'Wave Areas'!C78,(IF($B$4=\"NE\",'Wave Areas'!Q79,(IF($B$4=\"E\",'Wave Areas'!C96,(IF($B$4=\"SE\",'Wave Areas'!Q97,(IF($B$4=\"S\",'Wave Areas'!C114,(IF($B$4=\"W\",'Wave Areas'!C132,(IF($B$4=\"NW\",'Wave Areas'!Q133,0)))))))))))))))","v":0},{"$f":"IF($B$4=\"SW\",'Wave Areas'!R115,(IF($B$4=\"N\",'Wave Areas'!D78,(IF($B$4=\"NE\",'Wave Areas'!R79,(IF($B$4=\"E\",'Wave Areas'!D96,(IF($B$4=\"SE\",'Wave Areas'!R97,(IF($B$4=\"S\",'Wave Areas'!D114,(IF($B$4=\"W\",'Wave Areas'!D132,(IF($B$4=\"NW\",'Wave Areas'!R133,0)))))))))))))))","v":0},{"$f":"IF($B$4=\"SW\",'Wave Areas'!S115,(IF($B$4=\"N\",'Wave Areas'!E78,(IF($B$4=\"NE\",'Wave Areas'!S79,(IF($B$4=\"E\",'Wave Areas'!E96,(IF($B$4=\"SE\",'Wave Areas'!S97,(IF($B$4=\"S\",'Wave Areas'!E114,(IF($B$4=\"W\",'Wave Areas'!E132,(IF($B$4=\"NW\",'Wave Areas'!S133,0)))))))))))))))","v":0},{"$f":"IF($B$4=\"SW\",'Wave Areas'!T115,(IF($B$4=\"N\",'Wave Areas'!F78,(IF($B$4=\"NE\",'Wave Areas'!T79,(IF($B$4=\"E\",'Wave Areas'!F96,(IF($B$4=\"SE\",'Wave Areas'!T97,(IF($B$4=\"S\",'Wave Areas'!F114,(IF($B$4=\"W\",'Wave Areas'!F132,(IF($B$4=\"NW\",'Wave Areas'!T133,0)))))))))))))))","v":0},{"$f":"IF($B$4=\"SW\",'Wave Areas'!U115,(IF($B$4=\"N\",'Wave Areas'!G78,(IF($B$4=\"NE\",'Wave Areas'!U79,(IF($B$4=\"E\",'Wave Areas'!G96,(IF($B$4=\"SE\",'Wave Areas'!U97,(IF($B$4=\"S\",'Wave Areas'!G114,(IF($B$4=\"W\",'Wave Areas'!G132,(IF($B$4=\"NW\",'Wave Areas'!U133,0)))))))))))))))","v":0},{"$f":"IF($B$4=\"SW\",'Wave Areas'!V115,(IF($B$4=\"N\",'Wave Areas'!H78,(IF($B$4=\"NE\",'Wave Areas'!V79,(IF($B$4=\"E\",'Wave Areas'!H96,(IF($B$4=\"SE\",'Wave Areas'!V97,(IF($B$4=\"S\",'Wave Areas'!H114,(IF($B$4=\"W\",'Wave Areas'!H132,(IF($B$4=\"NW\",'Wave Areas'!V133,0)))))))))))))))","v":0},{"$f":"IF($B$4=\"SW\",'Wave Areas'!W115,(IF($B$4=\"N\",'Wave Areas'!I78,(IF($B$4=\"NE\",'Wave Areas'!W79,(IF($B$4=\"E\",'Wave Areas'!I96,(IF($B$4=\"SE\",'Wave Areas'!W97,(IF($B$4=\"S\",'Wave Areas'!I114,(IF($B$4=\"W\",'Wave Areas'!I132,(IF($B$4=\"NW\",'Wave Areas'!W133,0)))))))))))))))","v":0},{"$f":"IF($B$4=\"SW\",'Wave Areas'!X115,(IF($B$4=\"N\",'Wave Areas'!J78,(IF($B$4=\"NE\",'Wave Areas'!X79,(IF($B$4=\"E\",'Wave Areas'!J96,(IF($B$4=\"SE\",'Wave Areas'!X97,(IF($B$4=\"S\",'Wave Areas'!J114,(IF($B$4=\"W\",'Wave Areas'!J132,(IF($B$4=\"NW\",'Wave Areas'!X133,0)))))))))))))))","v":0},{"$f":"IF($B$4=\"SW\",'Wave Areas'!Y115,(IF($B$4=\"N\",'Wave Areas'!K78,(IF($B$4=\"NE\",'Wave Areas'!Y79,(IF($B$4=\"E\",'Wave Areas'!K96,(IF($B$4=\"SE\",'Wave Areas'!Y97,(IF($B$4=\"S\",'Wave Areas'!K114,(IF($B$4=\"W\",'Wave Areas'!K132,(IF($B$4=\"NW\",'Wave Areas'!Y133,0)))))))))))))))","v":0},{"$f":"IF($B$4=\"SW\",'Wave Areas'!Z115,(IF($B$4=\"N\",'Wave Areas'!L78,(IF($B$4=\"NE\",'Wave Areas'!Z79,(IF($B$4=\"E\",'Wave Areas'!L96,(IF($B$4=\"SE\",'Wave Areas'!Z97,(IF($B$4=\"S\",'Wave Areas'!L114,(IF($B$4=\"W\",'Wave Areas'!L132,(IF($B$4=\"NW\",'Wave Areas'!Z133,0)))))))))))))))","v":0},null,0.5,{"$f":"S48/$AC$59","v":{"$error":"#DIV/0!"}},{"$f":"T48/$AC$59","v":{"$error":"#DIV/0!"}},{"$error":"#DIV/0!"},{"$error":"#DIV/0!"},{"$error":"#DIV/0!"},{"$error":"#DIV/0!"},{"$error":"#DIV/0!"},{"$error":"#DIV/0!"},{"$error":"#DIV/0!"},{"$error":"#DIV/0!"},{"$error":"#DIV/0!"},{"$f":"SUM(AF48:AP48)","v":{"$error":"#DIV/0!"}},null,0.5,{"$f":"C47*AF48","v":{"$error":"#DIV/0!"}},{"$error":"#DIV/0!"},{"$error":"#DIV/0!"},{"$error":"#DIV/0!"},{"$error":"#DIV/0!"},{"$error":"#DIV/0!"},{"$f":"AM48/1004","v":{"$error":"#DIV/0!"}},{"$f":"AN48/1004","v":{"$error":"#DIV/0!"}},{"$f":"AO48/1004","v":{"$error":"#DIV/0!"}},{"$f":"AP48/1004","v":{"$error":"#DIV/0!"}},{"$f":"AQ44/1004","v":0},{"$f":"SUM(AT48:BD48)","v":{"$error":"#DIV/0!"}}]
[7855.6640625,2.5,0,{"$f":"$A49*($D$41)/2","v":25424.361439813965},31074.219537550405,36724.077635286842,42373.935733023282,{"$f":"$A49*($H$41)/2","v":48023.793830759721},53673.651928496147,59323.510026232587,0,0,0,296617.55013116292,null,null,null,1.5,{"$f":"IF($B$4=\"SW\",'Wave Areas'!P116,(IF($B$4=\"N\",'Wave Areas'!B79,(IF($B$4=\"NE\",'Wave Areas'!P80,(IF($B$4=\"E\",'Wave Areas'!B97,(IF($B$4=\"SE\",'Wave Areas'!P98,(IF($B$4=\"S\",'Wave Areas'!B115,(IF($B$4=\"W\",'Wave Areas'!B133,(IF($B$4=\"NW\",'Wave Areas'!P134,0)))))))))))))))","v":0},{"$f":"IF($B$4=\"SW\",'Wave Areas'!Q116,(IF($B$4=\"N\",'Wave Areas'!C79,(IF($B$4=\"NE\",'Wave Areas'!Q80,(IF($B$4=\"E\",'Wave Areas'!C97,(IF($B$4=\"SE\",'Wave Areas'!Q98,(IF($B$4=\"S\",'Wave Areas'!C115,(IF($B$4=\"W\",'Wave Areas'!C133,(IF($B$4=\"NW\",'Wave Areas'!Q134,0)))))))))))))))","v":0},{"$f":"IF($B$4=\"SW\",'Wave Areas'!R116,(IF($B$4=\"N\",'Wave Areas'!D79,(IF($B$4=\"NE\",'Wave Areas'!R80,(IF($B$4=\"E\",'Wave Areas'!D97,(IF($B$4=\"SE\",'Wave Areas'!R98,(IF($B$4=\"S\",'Wave Areas'!D115,(IF($B$4=\"W\",'Wave Areas'!D133,(IF($B$4=\"NW\",'Wave Areas'!R134,0)))))))))))))))","v":0},{"$f":"IF($B$4=\"SW\",'Wave Areas'!S116,(IF($B$4=\"N\",'Wave Areas'!E79,(IF($B$4=\"NE\",'Wave Areas'!S80,(IF($B$4=\"E\",'Wave Areas'!E97,(IF($B$4=\"SE\",'Wave Areas'!S98,(IF($B$4=\"S\",'Wave Areas'!E115,(IF($B$4=\"W\",'Wave Areas'!E133,(IF($B$4=\"NW\",'Wave Areas'!S134,0)))))))))))))))","v":0},{"$f":"IF($B$4=\"SW\",'Wave Areas'!T116,(IF($B$4=\"N\",'Wave Areas'!F79,(IF($B$4=\"NE\",'Wave Areas'!T80,(IF($B$4=\"E\",'Wave Areas'!F97,(IF($B$4=\"SE\",'Wave Areas'!T98,(IF($B$4=\"S\",'Wave Areas'!F115,(IF($B$4=\"W\",'Wave Areas'!F133,(IF($B$4=\"NW\",'Wave Areas'!T134,0)))))))))))))))","v":0},{"$f":"IF($B$4=\"SW\",'Wave Areas'!U116,(IF($B$4=\"N\",'Wave Areas'!G79,(IF($B$4=\"NE\",'Wave Areas'!U80,(IF($B$4=\"E\",'Wave Areas'!G97,(IF($B$4=\"SE\",'Wave Areas'!U98,(IF($B$4=\"S\",'Wave Areas'!G115,(IF($B$4=\"W\",'Wave Areas'!G133,(IF($B$4=\"NW\",'Wave Areas'!U134,0)))))))))))))))","v":0},{"$f":"IF($B$4=\"SW\",'Wave Areas'!V116,(IF($B$4=\"N\",'Wave Areas'!H79,(IF($B$4=\"NE\",'Wave Areas'!V80,(IF($B$4=\"E\",'Wave Areas'!H97,(IF($B$4=\"SE\",'Wave Areas'!V98,(IF($B$4=\"S\",'Wave Areas'!H115,(IF($B$4=\"W\",'Wave Areas'!H133,(IF($B$4=\"NW\",'Wave Areas'!V134,0)))))))))))))))","v":0},{"$f":"IF($B$4=\"SW\",'Wave Areas'!W116,(IF($B$4=\"N\",'Wave Areas'!I79,(IF($B$4=\"NE\",'Wave Areas'!W80,(IF($B$4=\"E\",'Wave Areas'!I97,(IF($B$4=\"SE\",'Wave Areas'!W98,(IF($B$4=\"S\",'Wave Areas'!I115,(IF($B$4=\"W\",'Wave Areas'!I133,(IF($B$4=\"NW\",'Wave Areas'!W134,0)))))))))))))))","v":0},{"$f":"IF($B$4=\"SW\",'Wave Areas'!X116,(IF($B$4=\"N\",'Wave Areas'!J79,(IF($B$4=\"NE\",'Wave Areas'!X80,(IF($B$4=\"E\",'Wave Areas'!J97,(IF($B$4=\"SE\",'Wave Areas'!X98,(IF($B$4=\"S\",'Wave Areas'!J115,(IF($B$4=\"W\",'Wave Areas'!J133,(IF($B$4=\"NW\",'Wave Areas'!X134,0)))))))))))))))","v":0},{"$f":"IF($B$4=\"SW\",'Wave Areas'!Y116,(IF($B$4=\"N\",'Wave Areas'!K79,(IF($B$4=\"NE\",'Wave Areas'!Y80,(IF($B$4=\"E\",'Wave Areas'!K97,(IF($B$4=\"SE\",'Wave Areas'!Y98,(IF($B$4=\"S\",'Wave Areas'!K115,(IF($B$4=\"W\",'Wave Areas'!K133,(IF($B$4=\"NW\",'Wave Areas'!Y134,0)))))))))))))))","v":0},{"$f":"IF($B$4=\"SW\",'Wave Areas'!Z116,(IF($B$4=\"N\",'Wave Areas'!L79,(IF($B$4=\"NE\",'Wave Areas'!Z80,(IF($B$4=\"E\",'Wave Areas'!L97,(IF($B$4=\"SE\",'Wave Areas'!Z98,(IF($B$4=\"S\",'Wave Areas'!L115,(IF($B$4=\"W\",'Wave Areas'!L133,(IF($B$4=\"NW\",'Wave Areas'!Z134,0)))))))))))))))","v":0},null,1.5,{"$f":"S49/$AC$59","v":{"$error":"#DIV/0!"}},{"$f":"T49/$AC$59","v":{"$error":"#DIV/0!"}},{"$f":"U49/$AC$59","v":{"$error":"#DIV/0!"}},{"$f":"V49/$AC$59","v":{"$error":"#DIV/0!"}},{"$f":"W49/$AC$59","v":{"$error":"#DIV/0!"}},{"$f":"X49/$AC$59","v":{"$error":"#DIV/0!"}},{"$f":"Y49/$AC$59","v":{"$error":"#DIV/0!"}},{"$f":"Z49/$AC$59","v":{"$error":"#DIV/0!"}},{"$f":"AA49/$AC$59","v":{"$error":"#DIV/0!"}},{"$f":"AB49/$AC$59","v":{"$error":"#DIV/0!"}},{"$f":"AC49/$AC$59","v":{"$error":"#DIV/0!"}},{"$f":"SUM(AF49:AP49)","v":{"$error":"#DIV/0!"}},null,1.5,{"$error":"#DIV/0!"},{"$error":"#DIV/0!"},{"$error":"#DIV/0!"},{"$error":"#DIV/0!"},{"$error":"#DIV/0!"},{"$error":"#DIV/0!"},{"$f":"I48*AL49","v":{"$error":"#DIV/0!"}},{"$error":"#DIV/0!"},{"$f":"AO49/1004","v":{"$error":"#DIV/0!"}},{"$f":"AP49/1004","v":{"$error":"#DIV/0!"}},{"$f":"AQ46/1004","v":0},{"$error":"#DIV/0!"}]
[15397.1015625,3.5,0,{"$f":"$A50*($D$41)/2","v":49831.748422035373},60905.470293598795,71979.192165162211,83052.914036725633,94126.635908289056,105200.35777985245,116274.07965141587,0,0,0,581370.39825707942,null,null,null,2.5,{"$f":"IF($B$4=\"SW\",'Wave Areas'!P117,(IF($B$4=\"N\",'Wave Areas'!B80,(IF($B$4=\"NE\",'Wave Areas'!P81,(IF($B$4=\"E\",'Wave Areas'!B98,(IF($B$4=\"SE\",'Wave Areas'!P99,(IF($B$4=\"S\",'Wave Areas'!B116,(IF($B$4=\"W\",'Wave Areas'!B134,(IF($B$4=\"NW\",'Wave Areas'!P135,0)))))))))))))))","v":0},{"$f":"IF($B$4=\"SW\",'Wave Areas'!Q117,(IF($B$4=\"N\",'Wave Areas'!C80,(IF($B$4=\"NE\",'Wave Areas'!Q81,(IF($B$4=\"E\",'Wave Areas'!C98,(IF($B$4=\"SE\",'Wave Areas'!Q99,(IF($B$4=\"S\",'Wave Areas'!C116,(IF($B$4=\"W\",'Wave Areas'!C134,(IF($B$4=\"NW\",'Wave Areas'!Q135,0)))))))))))))))","v":0},{"$f":"IF($B$4=\"SW\",'Wave Areas'!R117,(IF($B$4=\"N\",'Wave Areas'!D80,(IF($B$4=\"NE\",'Wave Areas'!R81,(IF($B$4=\"E\",'Wave Areas'!D98,(IF($B$4=\"SE\",'Wave Areas'!R99,(IF($B$4=\"S\",'Wave Areas'!D116,(IF($B$4=\"W\",'Wave Areas'!D134,(IF($B$4=\"NW\",'Wave Areas'!R135,0)))))))))))))))","v":0},{"$f":"IF($B$4=\"SW\",'Wave Areas'!S117,(IF($B$4=\"N\",'Wave Areas'!E80,(IF($B$4=\"NE\",'Wave Areas'!S81,(IF($B$4=\"E\",'Wave Areas'!E98,(IF($B$4=\"SE\",'Wave Areas'!S99,(IF($B$4=\"S\",'Wave Areas'!E116,(IF($B$4=\"W\",'Wave Areas'!E134,(IF($B$4=\"NW\",'Wave Areas'!S135,0)))))))))))))))","v":0},{"$f":"IF($B$4=\"SW\",'Wave Areas'!T117,(IF($B$4=\"N\",'Wave Areas'!F80,(IF($B$4=\"NE\",'Wave Areas'!T81,(IF($B$4=\"E\",'Wave Areas'!F98,(IF($B$4=\"SE\",'Wave Areas'!T99,(IF($B$4=\"S\",'Wave Areas'!F116,(IF($B$4=\"W\",'Wave Areas'!F134,(IF($B$4=\"NW\",'Wave Areas'!T135,0)))))))))))))))","v":0},{"$f":"IF($B$4=\"SW\",'Wave Areas'!U117,(IF($B$4=\"N\",'Wave Areas'!G80,(IF($B$4=\"NE\",'Wave Areas'!U81,(IF($B$4=\"E\",'Wave Areas'!G98,(IF($B$4=\"SE\",'Wave Areas'!U99,(IF($B$4=\"S\",'Wave Areas'!G116,(IF($B$4=\"W\",'Wave Areas'!G134,(IF($B$4=\"NW\",'Wave Areas'!U135,0)))))))))))))))","v":0},{"$f":"IF($B$4=\"SW\",'Wave Areas'!V117,(IF($B$4=\"N\",'Wave Areas'!H80,(IF($B$4=\"NE\",'Wave Areas'!V81,(IF($B$4=\"E\",'Wave Areas'!H98,(IF($B$4=\"SE\",'Wave Areas'!V99,(IF($B$4=\"S\",'Wave Areas'!H116,(IF($B$4=\"W\",'Wave Areas'!H134,(IF($B$4=\"NW\",'Wave Areas'!V135,0)))))))))))))))","v":0},{"$f":"IF($B$4=\"SW\",'Wave Areas'!W117,(IF($B$4=\"N\",'Wave Areas'!I80,(IF($B$4=\"NE\",'Wave Areas'!W81,(IF($B$4=\"E\",'Wave Areas'!I98,(IF($B$4=\"SE\",'Wave Areas'!W99,(IF($B$4=\"S\",'Wave Areas'!I116,(IF($B$4=\"W\",'Wave Areas'!I134,(IF($B$4=\"NW\",'Wave Areas'!W135,0)))))))))))))))","v":0},{"$f":"IF($B$4=\"SW\",'Wave Areas'!X117,(IF($B$4=\"N\",'Wave Areas'!J80,(IF($B$4=\"NE\",'Wave Areas'!X81,(IF($B$4=\"E\",'Wave Areas'!J98,(IF($B$4=\"SE\",'Wave Areas'!X99,(IF($B$4=\"S\",'Wave Areas'!J116,(IF($B$4=\"W\",'Wave Areas'!J134,(IF($B$4=\"NW\",'Wave Areas'!X135,0)))))))))))))))","v":0},{"$f":"IF($B$4=\"SW\",'Wave Areas'!Y117,(IF($B$4=\"N\",'Wave Areas'!K80,(IF($B$4=\"NE\",'Wave Areas'!Y81,(IF($B$4=\"E\",'Wave Areas'!K98,(IF($B$4=\"SE\",'Wave Areas'!Y99,(IF($B$4=\"S\",'Wave Areas'!K116,(IF($B$4=\"W\",'Wave Areas'!K134,(IF($B$4=\"NW\",'Wave Areas'!Y135,0)))))))))))))))","v":0},{"$f":"IF($B$4=\"SW\",'Wave Areas'!Z117,(IF($B$4=\"N\",'Wave Areas'!L80,(IF($B$4=\"NE\",'Wave Areas'!Z81,(IF($B$4=\"E\",'Wave Areas'!L98,(IF($B$4=\"SE\",'Wave Areas'!Z99,(IF($B$4=\"S\",'Wave Areas'!L116,(IF($B$4=\"W\",'Wave Areas'!L134,(IF($B$4=\"NW\",'Wave Areas'!Z135,0)))))))))))))))","v":0},null,2.5,{"$error":"#DIV/0!"},{"$error":"#DIV/0!"},{"$error":"#DIV/0!"},{"$error":"#DIV/0!"},{"$error":"#DIV/0!"},{"$error":"#DIV/0!"},{"$error":"#DIV/0!"},{"$error":"#DIV/0!"},{"$error":"#DIV/0!"},{"$error":"#DIV/0!"},{"$error":"#DIV/0!"},{"$error":"#DIV/0!"},null,2.5,{"$f":"AG50/1004","v":{"$error":"#DIV/0!"}},{"$f":"D49*AG50","v":{"$error":"#DIV/0!"}},{"$error":"#DIV/0!"},{"$error":"#DIV/0!"},{"$error":"#DIV/0!"},{"$error":"#DIV/0!"},{"$error":"#DIV/0!"},{"$error":"#DIV/0!"},{"$error":"#DIV/0!"},{"$error":"#DIV/0!"},{"$f":"AQ48/1004","v":{"$error":"#DIV/0!"}},{"$error":"#DIV/0!"}]
[25452.3515625,4.5,0,{"$f":"$A51*($D$41)/2","v":82374.931064997247},100680.47130166332,118986.01153832936,137291.55177499543,155597.0920116615,173902.63224832751,192208.17248499359,0,0,0,961040.86242496793,null,null,null,3.5,{"$f":"IF($B$4=\"SW\",'Wave Areas'!P118,(IF($B$4=\"N\",'Wave Areas'!B81,(IF($B$4=\"NE\",'Wave Areas'!P82,(IF($B$4=\"E\",'Wave Areas'!B99,(IF($B$4=\"SE\",'Wave Areas'!P100,(IF($B$4=\"S\",'Wave Areas'!B117,(IF($B$4=\"W\",'Wave Areas'!B135,(IF($B$4=\"NW\",'Wave Areas'!P136,0)))))))))))))))","v":0},{"$f":"IF($B$4=\"SW\",'Wave Areas'!Q118,(IF($B$4=\"N\",'Wave Areas'!C81,(IF($B$4=\"NE\",'Wave Areas'!Q82,(IF($B$4=\"E\",'Wave Areas'!C99,(IF($B$4=\"SE\",'Wave Areas'!Q100,(IF($B$4=\"S\",'Wave Areas'!C117,(IF($B$4=\"W\",'Wave Areas'!C135,(IF($B$4=\"NW\",'Wave Areas'!Q136,0)))))))))))))))","v":0},{"$f":"IF($B$4=\"SW\",'Wave Areas'!R118,(IF($B$4=\"N\",'Wave Areas'!D81,(IF($B$4=\"NE\",'Wave Areas'!R82,(IF($B$4=\"E\",'Wave Areas'!D99,(IF($B$4=\"SE\",'Wave Areas'!R100,(IF($B$4=\"S\",'Wave Areas'!D117,(IF($B$4=\"W\",'Wave Areas'!D135,(IF($B$4=\"NW\",'Wave Areas'!R136,0)))))))))))))))","v":0},{"$f":"IF($B$4=\"SW\",'Wave Areas'!S118,(IF($B$4=\"N\",'Wave Areas'!E81,(IF($B$4=\"NE\",'Wave Areas'!S82,(IF($B$4=\"E\",'Wave Areas'!E99,(IF($B$4=\"SE\",'Wave Areas'!S100,(IF($B$4=\"S\",'Wave Areas'!E117,(IF($B$4=\"W\",'Wave Areas'!E135,(IF($B$4=\"NW\",'Wave Areas'!S136,0)))))))))))))))","v":0},{"$f":"IF($B$4=\"SW\",'Wave Areas'!T118,(IF($B$4=\"N\",'Wave Areas'!F81,(IF($B$4=\"NE\",'Wave Areas'!T82,(IF($B$4=\"E\",'Wave Areas'!F99,(IF($B$4=\"SE\",'Wave Areas'!T100,(IF($B$4=\"S\",'Wave Areas'!F117,(IF($B$4=\"W\",'Wave Areas'!F135,(IF($B$4=\"NW\",'Wave Areas'!T136,0)))))))))))))))","v":0},{"$f":"IF($B$4=\"SW\",'Wave Areas'!U118,(IF($B$4=\"N\",'Wave Areas'!G81,(IF($B$4=\"NE\",'Wave Areas'!U82,(IF($B$4=\"E\",'Wave Areas'!G99,(IF($B$4=\"SE\",'Wave Areas'!U100,(IF($B$4=\"S\",'Wave Areas'!G117,(IF($B$4=\"W\",'Wave Areas'!G135,(IF($B$4=\"NW\",'Wave Areas'!U136,0)))))))))))))))","v":0},{"$f":"IF($B$4=\"SW\",'Wave Areas'!V118,(IF($B$4=\"N\",'Wave Areas'!H81,(IF($B$4=\"NE\",'Wave Areas'!V82,(IF($B$4=\"E\",'Wave Areas'!H99,(IF($B$4=\"SE\",'Wave Areas'!V100,(IF($B$4=\"S\",'Wave Areas'!H117,(IF($B$4=\"W\",'Wave Areas'!H135,(IF($B$4=\"NW\",'Wave Areas'!V136,0)))))))))))))))","v":0},{"$f":"IF($B$4=\"SW\",'Wave Areas'!W118,(IF($B$4=\"N\",'Wave Areas'!I81,(IF($B$4=\"NE\",'Wave Areas'!W82,(IF($B$4=\"E\",'Wave Areas'!I99,(IF($B$4=\"SE\",'Wave Areas'!W100,(IF($B$4=\"S\",'Wave Areas'!I117,(IF($B$4=\"W\",'Wave Areas'!I135,(IF($B$4=\"NW\",'Wave Areas'!W136,0)))))))))))))))","v":0},{"$f":"IF($B$4=\"SW\",'Wave Areas'!X118,(IF($B$4=\"N\",'Wave Areas'!J81,(IF($B$4=\"NE\",'Wave Areas'!X82,(IF($B$4=\"E\",'Wave Areas'!J99,(IF($B$4=\"SE\",'Wave Areas'!X100,(IF($B$4=\"S\",'Wave Areas'!J117,(IF($B$4=\"W\",'Wave Areas'!J135,(IF($B$4=\"NW\",'Wave Areas'!X136,0)))))))))))))))","v":0},{"$f":"IF($B$4=\"SW\",'Wave Areas'!Y118,(IF($B$4=\"N\",'Wave Areas'!K81,(IF($B$4=\"NE\",'Wave Areas'!Y82,(IF($B$4=\"E\",'Wave Areas'!K99,(IF($B$4=\"SE\",'Wave Areas'!Y100,(IF($B$4=\"S\",'Wave Areas'!K117,(IF($B$4=\"W\",'Wave Areas'!K135,(IF($B$4=\"NW\",'Wave Areas'!Y136,0)))))))))))))))","v":0},{"$f":"IF($B$4=\"SW\",'Wave Areas'!Z118,(IF($B$4=\"N\",'Wave Areas'!L81,(IF($B$4=\"NE\",'Wave Areas'!Z82,(IF($B$4=\"E\",'Wave Areas'!L99,(IF($B$4=\"SE\",'Wave Areas'!Z100,(IF($B$4=\"S\",'Wave Areas'!L117,(IF($B$4=\"W\",'Wave Areas'!L135,(IF($B$4=\"NW\",'Wave Areas'!Z136,0)))))))))))))))","v":0},null,3.5,{"$error":"#DIV/0!"},{"$error":"#DIV/0!"},{"$error":"#DIV/0!"},{"$error":"#DIV/0!"},{"$error":"#DIV/0!"},{"$error":"#DIV/0!"},{"$error":"#DIV/0!"},{"$error":"#DIV/0!"},{"$error":"#DIV/0!"},{"$error":"#DIV/0!"},{"$error":"#DIV/0!"},{"$error":"#DIV/0!"},null,3.5,{"$error":"#DIV/0!"},{"$error":"#DIV/0!"},{"$error":"#DIV/0!"},{"$error":"#DIV/0!"},{"$error":"#DIV/0!"},{"$error":"#DIV/0!"},{"$error":"#DIV/0!"},{"$error":"#DIV/0!"},{"$error":"#DIV/0!"},{"$error":"#DIV/0!"},{"$error":"#DIV/0!"},{"$error":"#DIV/0!"}]
[38021.4140625,5.5,0,0,150399.22256174395,177744.53575478832,205089.84894783268,232435.16214087704,259780.47533392135,287125.78852696571,0,0,0,1312575.0332661292,null,null,null,4.5,{"$f":"IF($B$4=\"SW\",'Wave Areas'!P119,(IF($B$4=\"N\",'Wave Areas'!B82,(IF($B$4=\"NE\",'Wave Areas'!P83,(IF($B$4=\"E\",'Wave Areas'!B100,(IF($B$4=\"SE\",'Wave Areas'!P101,(IF($B$4=\"S\",'Wave Areas'!B118,(IF($B$4=\"W\",'Wave Areas'!B136,(IF($B$4=\"NW\",'Wave Areas'!P137,0)))))))))))))))","v":0},{"$f":"IF($B$4=\"SW\",'Wave Areas'!Q119,(IF($B$4=\"N\",'Wave Areas'!C82,(IF($B$4=\"NE\",'Wave Areas'!Q83,(IF($B$4=\"E\",'Wave Areas'!C100,(IF($B$4=\"SE\",'Wave Areas'!Q101,(IF($B$4=\"S\",'Wave Areas'!C118,(IF($B$4=\"W\",'Wave Areas'!C136,(IF($B$4=\"NW\",'Wave Areas'!Q137,0)))))))))))))))","v":0},{"$f":"IF($B$4=\"SW\",'Wave Areas'!R119,(IF($B$4=\"N\",'Wave Areas'!D82,(IF($B$4=\"NE\",'Wave Areas'!R83,(IF($B$4=\"E\",'Wave Areas'!D100,(IF($B$4=\"SE\",'Wave Areas'!R101,(IF($B$4=\"S\",'Wave Areas'!D118,(IF($B$4=\"W\",'Wave Areas'!D136,(IF($B$4=\"NW\",'Wave Areas'!R137,0)))))))))))))))","v":0},{"$f":"IF($B$4=\"SW\",'Wave Areas'!S119,(IF($B$4=\"N\",'Wave Areas'!E82,(IF($B$4=\"NE\",'Wave Areas'!S83,(IF($B$4=\"E\",'Wave Areas'!E100,(IF($B$4=\"SE\",'Wave Areas'!S101,(IF($B$4=\"S\",'Wave Areas'!E118,(IF($B$4=\"W\",'Wave Areas'!E136,(IF($B$4=\"NW\",'Wave Areas'!S137,0)))))))))))))))","v":0},{"$f":"IF($B$4=\"SW\",'Wave Areas'!T119,(IF($B$4=\"N\",'Wave Areas'!F82,(IF($B$4=\"NE\",'Wave Areas'!T83,(IF($B$4=\"E\",'Wave Areas'!F100,(IF($B$4=\"SE\",'Wave Areas'!T101,(IF($B$4=\"S\",'Wave Areas'!F118,(IF($B$4=\"W\",'Wave Areas'!F136,(IF($B$4=\"NW\",'Wave Areas'!T137,0)))))))))))))))","v":0},{"$f":"IF($B$4=\"SW\",'Wave Areas'!U119,(IF($B$4=\"N\",'Wave Areas'!G82,(IF($B$4=\"NE\",'Wave Areas'!U83,(IF($B$4=\"E\",'Wave Areas'!G100,(IF($B$4=\"SE\",'Wave Areas'!U101,(IF($B$4=\"S\",'Wave Areas'!G118,(IF($B$4=\"W\",'Wave Areas'!G136,(IF($B$4=\"NW\",'Wave Areas'!U137,0)))))))))))))))","v":0},{"$f":"IF($B$4=\"SW\",'Wave Areas'!V119,(IF($B$4=\"N\",'Wave Areas'!H82,(IF($B$4=\"NE\",'Wave Areas'!V83,(IF($B$4=\"E\",'Wave Areas'!H100,(IF($B$4=\"SE\",'Wave Areas'!V101,(IF($B$4=\"S\",'Wave Areas'!H118,(IF($B$4=\"W\",'Wave Areas'!H136,(IF($B$4=\"NW\",'Wave Areas'!V137,0)))))))))))))))","v":0},{"$f":"IF($B$4=\"SW\",'Wave Areas'!W119,(IF($B$4=\"N\",'Wave Areas'!I82,(IF($B$4=\"NE\",'Wave Areas'!W83,(IF($B$4=\"E\",'Wave Areas'!I100,(IF($B$4=\"SE\",'Wave Areas'!W101,(IF($B$4=\"S\",'Wave Areas'!I118,(IF($B$4=\"W\",'Wave Areas'!I136,(IF($B$4=\"NW\",'Wave Areas'!W137,0)))))))))))))))","v":0},{"$f":"IF($B$4=\"SW\",'Wave Areas'!X119,(IF($B$4=\"N\",'Wave Areas'!J82,(IF($B$4=\"NE\",'Wave Areas'!X83,(IF($B$4=\"E\",'Wave Areas'!J100,(IF($B$4=\"SE\",'Wave Areas'!X101,(IF($B$4=\"S\",'Wave Areas'!J118,(IF($B$4=\"W\",'Wave Areas'!J136,(IF($B$4=\"NW\",'Wave Areas'!X137,0)))))))))))))))","v":0},{"$f":"IF($B$4=\"SW\",'Wave Areas'!Y119,(IF($B$4=\"N\",'Wave Areas'!K82,(IF($B$4=\"NE\",'Wave Areas'!Y83,(IF($B$4=\"E\",'Wave Areas'!K100,(IF($B$4=\"SE\",'Wave Areas'!Y101,(IF($B$4=\"S\",'Wave Areas'!K118,(IF($B$4=\"W\",'Wave Areas'!K136,(IF($B$4=\"NW\",'Wave Areas'!Y137,0)))))))))))))))","v":0},{"$f":"IF($B$4=\"SW\",'Wave Areas'!Z119,(IF($B$4=\"N\",'Wave Areas'!L82,(IF($B$4=\"NE\",'Wave Areas'!Z83,(IF($B$4=\"E\",'Wave Areas'!L100,(IF($B$4=\"SE\",'Wave Areas'!Z101,(IF($B$4=\"S\",'Wave Areas'!L118,(IF($B$4=\"W\",'Wave Areas'!L136,(IF($B$4=\"NW\",'Wave Areas'!Z137,0)))))))))))))))","v":0},null,4.5,{"$error":"#DIV/0!"},{"$error":"#DIV/0!"},{"$error":"#DIV/0!"},{"$error":"#DIV/0!"},{"$error":"#DIV/0!"},{"$error":"#DIV/0!"},{"$error":"#DIV/0!"},{"$error":"#DIV/0!"},{"$error":"#DIV/0!"},{"$error":"#DIV/0!"},{"$error":"#DIV/0!"},{"$error":"#DIV/0!"},null,4.5,{"$error":"#DIV/0!"},{"$error":"#DIV/0!"},{"$error":"#DIV/0!"},{"$error":"#DIV/0!"},{"$error":"#DIV/0!"},{"$error":"#DIV/0!"},{"$error":"#DIV/0!"},{"$error":"#DIV/0!"},{"$error":"#DIV/0!"},{"$error":"#DIV/0!"},{"$error":"#DIV/0!"},{"$error":"#DIV/0!"}]
[53104.2890625,6.5,0,0,210061.72407384074,248254.76481453903,286447.8055552374,324640.84629593574,362833.88703663397,401026.92777733231,0,0,0,1833265.9555535191,null,null,null,5.5,{"$f":"IF($B$4=\"SW\",'Wave Areas'!P120,(IF($B$4=\"N\",'Wave Areas'!B83,(IF($B$4=\"NE\",'Wave Areas'!P84,(IF($B$4=\"E\",'Wave Areas'!B101,(IF($B$4=\"SE\",'Wave Areas'!P102,(IF($B$4=\"S\",'Wave Areas'!B119,(IF($B$4=\"W\",'Wave Areas'!B137,(IF($B$4=\"NW\",'Wave Areas'!P138,0)))))))))))))))","v":0},{"$f":"IF($B$4=\"SW\",'Wave Areas'!Q120,(IF($B$4=\"N\",'Wave Areas'!C83,(IF($B$4=\"NE\",'Wave Areas'!Q84,(IF($B$4=\"E\",'Wave Areas'!C101,(IF($B$4=\"SE\",'Wave Areas'!Q102,(IF($B$4=\"S\",'Wave Areas'!C119,(IF($B$4=\"W\",'Wave Areas'!C137,(IF($B$4=\"NW\",'Wave Areas'!Q138,0)))))))))))))))","v":0},{"$f":"IF($B$4=\"SW\",'Wave Areas'!R120,(IF($B$4=\"N\",'Wave Areas'!D83,(IF($B$4=\"NE\",'Wave Areas'!R84,(IF($B$4=\"E\",'Wave Areas'!D101,(IF($B$4=\"SE\",'Wave Areas'!R102,(IF($B$4=\"S\",'Wave Areas'!D119,(IF($B$4=\"W\",'Wave Areas'!D137,(IF($B$4=\"NW\",'Wave Areas'!R138,0)))))))))))))))","v":0},{"$f":"IF($B$4=\"SW\",'Wave Areas'!S120,(IF($B$4=\"N\",'Wave Areas'!E83,(IF($B$4=\"NE\",'Wave Areas'!S84,(IF($B$4=\"E\",'Wave Areas'!E101,(IF($B$4=\"SE\",'Wave Areas'!S102,(IF($B$4=\"S\",'Wave Areas'!E119,(IF($B$4=\"W\",'Wave Areas'!E137,(IF($B$4=\"NW\",'Wave Areas'!S138,0)))))))))))))))","v":0},{"$f":"IF($B$4=\"SW\",'Wave Areas'!T120,(IF($B$4=\"N\",'Wave Areas'!F83,(IF($B$4=\"NE\",'Wave Areas'!T84,(IF($B$4=\"E\",'Wave Areas'!F101,(IF($B$4=\"SE\",'Wave Areas'!T102,(IF($B$4=\"S\",'Wave Areas'!F119,(IF($B$4=\"W\",'Wave Areas'!F137,(IF($B$4=\"NW\",'Wave Areas'!T138,0)))))))))))))))","v":0},{"$f":"IF($B$4=\"SW\",'Wave Areas'!U120,(IF($B$4=\"N\",'Wave Areas'!G83,(IF($B$4=\"NE\",'Wave Areas'!U84,(IF($B$4=\"E\",'Wave Areas'!G101,(IF($B$4=\"SE\",'Wave Areas'!U102,(IF($B$4=\"S\",'Wave Areas'!G119,(IF($B$4=\"W\",'Wave Areas'!G137,(IF($B$4=\"NW\",'Wave Areas'!U138,0)))))))))))))))","v":0},{"$f":"IF($B$4=\"SW\",'Wave Areas'!V120,(IF($B$4=\"N\",'Wave Areas'!H83,(IF($B$4=\"NE\",'Wave Areas'!V84,(IF($B$4=\"E\",'Wave Areas'!H101,(IF($B$4=\"SE\",'Wave Areas'!V102,(IF($B$4=\"S\",'Wave Areas'!H119,(IF($B$4=\"W\",'Wave Areas'!H137,(IF($B$4=\"NW\",'Wave Areas'!V138,0)))))))))))))))","v":0},{"$f":"IF($B$4=\"SW\",'Wave Areas'!W120,(IF($B$4=\"N\",'Wave Areas'!I83,(IF($B$4=\"NE\",'Wave Areas'!W84,(IF($B$4=\"E\",'Wave Areas'!I101,(IF($B$4=\"SE\",'Wave Areas'!W102,(IF($B$4=\"S\",'Wave Areas'!I119,(IF($B$4=\"W\",'Wave Areas'!I137,(IF($B$4=\"NW\",'Wave Areas'!W138,0)))))))))))))))","v":0},{"$f":"IF($B$4=\"SW\",'Wave Areas'!X120,(IF($B$4=\"N\",'Wave Areas'!J83,(IF($B$4=\"NE\",'Wave Areas'!X84,(IF($B$4=\"E\",'Wave Areas'!J101,(IF($B$4=\"SE\",'Wave Areas'!X102,(IF($B$4=\"S\",'Wave Areas'!J119,(IF($B$4=\"W\",'Wave Areas'!J137,(IF($B$4=\"NW\",'Wave Areas'!X138,0)))))))))))))))","v":0},{"$f":"IF($B$4=\"SW\",'Wave Areas'!Y120,(IF($B$4=\"N\",'Wave Areas'!K83,(IF($B$4=\"NE\",'Wave Areas'!Y84,(IF($B$4=\"E\",'Wave Areas'!K101,(IF($B$4=\"SE\",'Wave Areas'!Y102,(IF($B$4=\"S\",'Wave Areas'!K119,(IF($B$4=\"W\",'Wave Areas'!K137,(IF($B$4=\"NW\",'Wave Areas'!Y138,0)))))))))))))))","v":0},{"$f":"IF($B$4=\"SW\",'Wave Areas'!Z120,(IF($B$4=\"N\",'Wave Areas'!L83,(IF($B$4=\"NE\",'Wave Areas'!Z84,(IF($B$4=\"E\",'Wave Areas'!L101,(IF($B$4=\"SE\",'Wave Areas'!Z102,(IF($B$4=\"S\",'Wave Areas'!L119,(IF($B$4=\"W\",'Wave Areas'!L137,(IF($B$4=\"NW\",'Wave Areas'!Z138,0)))))))))))))))","v":0},null,5.5,{"$error":"#DIV/0!"},{"$error":"#DIV/0!"},{"$error":"#DIV/0!"},{"$error":"#DIV/0!"},{"$error":"#DIV/0!"},{"$error":"#DIV/0!"},{"$error":"#DIV/0!"},{"$error":"#DIV/0!"},{"$error":"#DIV/0!"},{"$error":"#DIV/0!"},{"$error":"#DIV/0!"},{"$error":"#DIV/0!"},null,5.5,{"$error":"#DIV/0!"},{"$f":"AH53/1004","v":{"$error":"#DIV/0!"}},{"$f":"E52*AH53","v":{"$error":"#DIV/0!"}},{"$error":"#DIV/0!"},{"$error":"#DIV/0!"},{"$error":"#DIV/0!"},{"$error":"#DIV/0!"},{"$error":"#DIV/0!"},{"$error":"#DIV/0!"},{"$error":"#DIV/0!"},{"$error":"#DIV/0!"},{"$error":"#DIV/0!"}]
[70700.9765625,7.5,0,0,0,330516.69871758157,381365.42159720953,432214.14447683748,483062.86735646531,0,0,0,0,1627159.132148094,null,null,null,6.5,{"$f":"IF($B$4=\"SW\",'Wave Areas'!P121,(IF($B$4=\"N\",'Wave Areas'!B84,(IF($B$4=\"NE\",'Wave Areas'!P85,(IF($B$4=\"E\",'Wave Areas'!B102,(IF($B$4=\"SE\",'Wave Areas'!P103,(IF($B$4=\"S\",'Wave Areas'!B120,(IF($B$4=\"W\",'Wave Areas'!B138,(IF($B$4=\"NW\",'Wave Areas'!P139,0)))))))))))))))","v":0},{"$f":"IF($B$4=\"SW\",'Wave Areas'!Q121,(IF($B$4=\"N\",'Wave Areas'!C84,(IF($B$4=\"NE\",'Wave Areas'!Q85,(IF($B$4=\"E\",'Wave Areas'!C102,(IF($B$4=\"SE\",'Wave Areas'!Q103,(IF($B$4=\"S\",'Wave Areas'!C120,(IF($B$4=\"W\",'Wave Areas'!C138,(IF($B$4=\"NW\",'Wave Areas'!Q139,0)))))))))))))))","v":0},{"$f":"IF($B$4=\"SW\",'Wave Areas'!R121,(IF($B$4=\"N\",'Wave Areas'!D84,(IF($B$4=\"NE\",'Wave Areas'!R85,(IF($B$4=\"E\",'Wave Areas'!D102,(IF($B$4=\"SE\",'Wave Areas'!R103,(IF($B$4=\"S\",'Wave Areas'!D120,(IF($B$4=\"W\",'Wave Areas'!D138,(IF($B$4=\"NW\",'Wave Areas'!R139,0)))))))))))))))","v":0},{"$f":"IF($B$4=\"SW\",'Wave Areas'!S121,(IF($B$4=\"N\",'Wave Areas'!E84,(IF($B$4=\"NE\",'Wave Areas'!S85,(IF($B$4=\"E\",'Wave Areas'!E102,(IF($B$4=\"SE\",'Wave Areas'!S103,(IF($B$4=\"S\",'Wave Areas'!E120,(IF($B$4=\"W\",'Wave Areas'!E138,(IF($B$4=\"NW\",'Wave Areas'!S139,0)))))))))))))))","v":0},{"$f":"IF($B$4=\"SW\",'Wave Areas'!T121,(IF($B$4=\"N\",'Wave Areas'!F84,(IF($B$4=\"NE\",'Wave Areas'!T85,(IF($B$4=\"E\",'Wave Areas'!F102,(IF($B$4=\"SE\",'Wave Areas'!T103,(IF($B$4=\"S\",'Wave Areas'!F120,(IF($B$4=\"W\",'Wave Areas'!F138,(IF($B$4=\"NW\",'Wave Areas'!T139,0)))))))))))))))","v":0},{"$f":"IF($B$4=\"SW\",'Wave Areas'!U121,(IF($B$4=\"N\",'Wave Areas'!G84,(IF($B$4=\"NE\",'Wave Areas'!U85,(IF($B$4=\"E\",'Wave Areas'!G102,(IF($B$4=\"SE\",'Wave Areas'!U103,(IF($B$4=\"S\",'Wave Areas'!G120,(IF($B$4=\"W\",'Wave Areas'!G138,(IF($B$4=\"NW\",'Wave Areas'!U139,0)))))))))))))))","v":0},{"$f":"IF($B$4=\"SW\",'Wave Areas'!V121,(IF($B$4=\"N\",'Wave Areas'!H84,(IF($B$4=\"NE\",'Wave Areas'!V85,(IF($B$4=\"E\",'Wave Areas'!H102,(IF($B$4=\"SE\",'Wave Areas'!V103,(IF($B$4=\"S\",'Wave Areas'!H120,(IF($B$4=\"W\",'Wave Areas'!H138,(IF($B$4=\"NW\",'Wave Areas'!V139,0)))))))))))))))","v":0},{"$f":"IF($B$4=\"SW\",'Wave Areas'!W121,(IF($B$4=\"N\",'Wave Areas'!I84,(IF($B$4=\"NE\",'Wave Areas'!W85,(IF($B$4=\"E\",'Wave Areas'!I102,(IF($B$4=\"SE\",'Wave Areas'!W103,(IF($B$4=\"S\",'Wave Areas'!I120,(IF($B$4=\"W\",'Wave Areas'!I138,(IF($B$4=\"NW\",'Wave Areas'!W139,0)))))))))))))))","v":0},{"$f":"IF($B$4=\"SW\",'Wave Areas'!X121,(IF($B$4=\"N\",'Wave Areas'!J84,(IF($B$4=\"NE\",'Wave Areas'!X85,(IF($B$4=\"E\",'Wave Areas'!J102,(IF($B$4=\"SE\",'Wave Areas'!X103,(IF($B$4=\"S\",'Wave Areas'!J120,(IF($B$4=\"W\",'Wave Areas'!J138,(IF($B$4=\"NW\",'Wave Areas'!X139,0)))))))))))))))","v":0},{"$f":"IF($B$4=\"SW\",'Wave Areas'!Y121,(IF($B$4=\"N\",'Wave Areas'!K84,(IF($B$4=\"NE\",'Wave Areas'!Y85,(IF($B$4=\"E\",'Wave Areas'!K102,(IF($B$4=\"SE\",'Wave Areas'!Y103,(IF($B$4=\"S\",'Wave Areas'!K120,(IF($B$4=\"W\",'Wave Areas'!K138,(IF($B$4=\"NW\",'Wave Areas'!Y139,0)))))))))))))))","v":0},{"$f":"IF($B$4=\"SW\",'Wave Areas'!Z121,(IF($B$4=\"N\",'Wave Areas'!L84,(IF($B$4=\"NE\",'Wave Areas'!Z85,(IF($B$4=\"E\",'Wave Areas'!L102,(IF($B$4=\"SE\",'Wave Areas'!Z103,(IF($B$4=\"S\",'Wave Areas'!L120,(IF($B$4=\"W\",'Wave Areas'!L138,(IF($B$4=\"NW\",'Wave Areas'!Z139,0)))))))))))))))","v":0},null,6.5,{"$error":"#DIV/0!"},{"$error":"#DIV/0!"},{"$error":"#DIV/0!"},{"$error":"#DIV/0!"},{"$error":"#DIV/0!"},{"$error":"#DIV/0!"},{"$error":"#DIV/0!"},{"$error":"#DIV/0!"},{"$error":"#DIV/0!"},{"$error":"#DIV/0!"},{"$error":"#DIV/0!"},{"$error":"#DIV/0!"},null,6.5,{"$error":"#DIV/0!"},{"$error":"#DIV/0!"},{"$error":"#DIV/0!"},{"$error":"#DIV/0!"},{"$error":"#DIV/0!"},{"$error":"#DIV/0!"},{"$error":"#DIV/0!"},{"$error":"#DIV/0!"},{"$error":"#DIV/0!"},{"$error":"#DIV/0!"},{"$error":"#DIV/0!"},{"$error":"#DIV/0!"}]
[90811.4765625,8.5,0,0,0,424530.33746391587,489842.69707374915,555155.05668358237,620467.41629341547,0,0,0,0,2089995.5075146628,null,null,null,7.5,{"$f":"IF($B$4=\"SW\",'Wave Areas'!P122,(IF($B$4=\"N\",'Wave Areas'!B85,(IF($B$4=\"NE\",'Wave Areas'!P86,(IF($B$4=\"E\",'Wave Areas'!B103,(IF($B$4=\"SE\",'Wave Areas'!P104,(IF($B$4=\"S\",'Wave Areas'!B121,(IF($B$4=\"W\",'Wave Areas'!B139,(IF($B$4=\"NW\",'Wave Areas'!P140,0)))))))))))))))","v":0},{"$f":"IF($B$4=\"SW\",'Wave Areas'!Q122,(IF($B$4=\"N\",'Wave Areas'!C85,(IF($B$4=\"NE\",'Wave Areas'!Q86,(IF($B$4=\"E\",'Wave Areas'!C103,(IF($B$4=\"SE\",'Wave Areas'!Q104,(IF($B$4=\"S\",'Wave Areas'!C121,(IF($B$4=\"W\",'Wave Areas'!C139,(IF($B$4=\"NW\",'Wave Areas'!Q140,0)))))))))))))))","v":0},{"$f":"IF($B$4=\"SW\",'Wave Areas'!R122,(IF($B$4=\"N\",'Wave Areas'!D85,(IF($B$4=\"NE\",'Wave Areas'!R86,(IF($B$4=\"E\",'Wave Areas'!D103,(IF($B$4=\"SE\",'Wave Areas'!R104,(IF($B$4=\"S\",'Wave Areas'!D121,(IF($B$4=\"W\",'Wave Areas'!D139,(IF($B$4=\"NW\",'Wave Areas'!R140,0)))))))))))))))","v":0},{"$f":"IF($B$4=\"SW\",'Wave Areas'!S122,(IF($B$4=\"N\",'Wave Areas'!E85,(IF($B$4=\"NE\",'Wave Areas'!S86,(IF($B$4=\"E\",'Wave Areas'!E103,(IF($B$4=\"SE\",'Wave Areas'!S104,(IF($B$4=\"S\",'Wave Areas'!E121,(IF($B$4=\"W\",'Wave Areas'!E139,(IF($B$4=\"NW\",'Wave Areas'!S140,0)))))))))))))))","v":0},{"$f":"IF($B$4=\"SW\",'Wave Areas'!T122,(IF($B$4=\"N\",'Wave Areas'!F85,(IF($B$4=\"NE\",'Wave Areas'!T86,(IF($B$4=\"E\",'Wave Areas'!F103,(IF($B$4=\"SE\",'Wave Areas'!T104,(IF($B$4=\"S\",'Wave Areas'!F121,(IF($B$4=\"W\",'Wave Areas'!F139,(IF($B$4=\"NW\",'Wave Areas'!T140,0)))))))))))))))","v":0},{"$f":"IF($B$4=\"SW\",'Wave Areas'!U122,(IF($B$4=\"N\",'Wave Areas'!G85,(IF($B$4=\"NE\",'Wave Areas'!U86,(IF($B$4=\"E\",'Wave Areas'!G103,(IF($B$4=\"SE\",'Wave Areas'!U104,(IF($B$4=\"S\",'Wave Areas'!G121,(IF($B$4=\"W\",'Wave Areas'!G139,(IF($B$4=\"NW\",'Wave Areas'!U140,0)))))))))))))))","v":0},{"$f":"IF($B$4=\"SW\",'Wave Areas'!V122,(IF($B$4=\"N\",'Wave Areas'!H85,(IF($B$4=\"NE\",'Wave Areas'!V86,(IF($B$4=\"E\",'Wave Areas'!H103,(IF($B$4=\"SE\",'Wave Areas'!V104,(IF($B$4=\"S\",'Wave Areas'!H121,(IF($B$4=\"W\",'Wave Areas'!H139,(IF($B$4=\"NW\",'Wave Areas'!V140,0)))))))))))))))","v":0},{"$f":"IF($B$4=\"SW\",'Wave Areas'!W122,(IF($B$4=\"N\",'Wave Areas'!I85,(IF($B$4=\"NE\",'Wave Areas'!W86,(IF($B$4=\"E\",'Wave Areas'!I103,(IF($B$4=\"SE\",'Wave Areas'!W104,(IF($B$4=\"S\",'Wave Areas'!I121,(IF($B$4=\"W\",'Wave Areas'!I139,(IF($B$4=\"NW\",'Wave Areas'!W140,0)))))))))))))))","v":0},{"$f":"IF($B$4=\"SW\",'Wave Areas'!X122,(IF($B$4=\"N\",'Wave Areas'!J85,(IF($B$4=\"NE\",'Wave Areas'!X86,(IF($B$4=\"E\",'Wave Areas'!J103,(IF($B$4=\"SE\",'Wave Areas'!X104,(IF($B$4=\"S\",'Wave Areas'!J121,(IF($B$4=\"W\",'Wave Areas'!J139,(IF($B$4=\"NW\",'Wave Areas'!X140,0)))))))))))))))","v":0},{"$f":"IF($B$4=\"SW\",'Wave Areas'!Y122,(IF($B$4=\"N\",'Wave Areas'!K85,(IF($B$4=\"NE\",'Wave Areas'!Y86,(IF($B$4=\"E\",'Wave Areas'!K103,(IF($B$4=\"SE\",'Wave Areas'!Y104,(IF($B$4=\"S\",'Wave Areas'!K121,(IF($B$4=\"W\",'Wave Areas'!K139,(IF($B$4=\"NW\",'Wave Areas'!Y140,0)))))))))))))))","v":0},{"$f":"IF($B$4=\"SW\",'Wave Areas'!Z122,(IF($B$4=\"N\",'Wave Areas'!L85,(IF($B$4=\"NE\",'Wave Areas'!Z86,(IF($B$4=\"E\",'Wave Areas'!L103,(IF($B$4=\"SE\",'Wave Areas'!Z104,(IF($B$4=\"S\",'Wave Areas'!L121,(IF($B$4=\"W\",'Wave Areas'!L139,(IF($B$4=\"NW\",'Wave Areas'!Z140,0)))))))))))))))","v":0},null,7.5,{"$error":"#DIV/0!"},{"$error":"#DIV/0!"},{"$error":"#DIV/0!"},{"$error":"#DIV/0!"},{"$error":"#DIV/0!"},{"$error":"#DIV/0!"},{"$error":"#DIV/0!"},{"$error":"#DIV/0!"},{"$error":"#DIV/0!"},{"$error":"#DIV/0!"},{"$error":"#DIV/0!"},{"$error":"#DIV/0!"},null,7.5,{"$error":"#DIV/0!"},{"$error":"#DIV/0!"},{"$f":"AI55/1004","v":{"$error":"#DIV/0!"}},{"$f":"F54*AI55","v":{"$error":"#DIV/0!"}},{"$error":"#DIV/0!"},{"$error":"#DIV/0!"},{"$error":"#DIV/0!"},{"$f":"AN55/1004","v":{"$error":"#DIV/0!"}},{"$error":"#DIV/0!"},{"$error":"#DIV/0!"},{"$error":"#DIV/0!"},{"$error":"#DIV/0!"}]
[113435.7890625,9.5,0,0,0,0,611879.63198485621,693463.58291617036,0,0,0,0,0,1305343.2149010266,null,null,null,8.5,{"$f":"IF($B$4=\"SW\",'Wave Areas'!P123,(IF($B$4=\"N\",'Wave Areas'!B86,(IF($B$4=\"NE\",'Wave Areas'!P87,(IF($B$4=\"E\",'Wave Areas'!B104,(IF($B$4=\"SE\",'Wave Areas'!P105,(IF($B$4=\"S\",'Wave Areas'!B122,(IF($B$4=\"W\",'Wave Areas'!B140,(IF($B$4=\"NW\",'Wave Areas'!P141,0)))))))))))))))","v":0},{"$f":"IF($B$4=\"SW\",'Wave Areas'!Q123,(IF($B$4=\"N\",'Wave Areas'!C86,(IF($B$4=\"NE\",'Wave Areas'!Q87,(IF($B$4=\"E\",'Wave Areas'!C104,(IF($B$4=\"SE\",'Wave Areas'!Q105,(IF($B$4=\"S\",'Wave Areas'!C122,(IF($B$4=\"W\",'Wave Areas'!C140,(IF($B$4=\"NW\",'Wave Areas'!Q141,0)))))))))))))))","v":0},{"$f":"IF($B$4=\"SW\",'Wave Areas'!R123,(IF($B$4=\"N\",'Wave Areas'!D86,(IF($B$4=\"NE\",'Wave Areas'!R87,(IF($B$4=\"E\",'Wave Areas'!D104,(IF($B$4=\"SE\",'Wave Areas'!R105,(IF($B$4=\"S\",'Wave Areas'!D122,(IF($B$4=\"W\",'Wave Areas'!D140,(IF($B$4=\"NW\",'Wave Areas'!R141,0)))))))))))))))","v":0},{"$f":"IF($B$4=\"SW\",'Wave Areas'!S123,(IF($B$4=\"N\",'Wave Areas'!E86,(IF($B$4=\"NE\",'Wave Areas'!S87,(IF($B$4=\"E\",'Wave Areas'!E104,(IF($B$4=\"SE\",'Wave Areas'!S105,(IF($B$4=\"S\",'Wave Areas'!E122,(IF($B$4=\"W\",'Wave Areas'!E140,(IF($B$4=\"NW\",'Wave Areas'!S141,0)))))))))))))))","v":0},{"$f":"IF($B$4=\"SW\",'Wave Areas'!T123,(IF($B$4=\"N\",'Wave Areas'!F86,(IF($B$4=\"NE\",'Wave Areas'!T87,(IF($B$4=\"E\",'Wave Areas'!F104,(IF($B$4=\"SE\",'Wave Areas'!T105,(IF($B$4=\"S\",'Wave Areas'!F122,(IF($B$4=\"W\",'Wave Areas'!F140,(IF($B$4=\"NW\",'Wave Areas'!T141,0)))))))))))))))","v":0},{"$f":"IF($B$4=\"SW\",'Wave Areas'!U123,(IF($B$4=\"N\",'Wave Areas'!G86,(IF($B$4=\"NE\",'Wave Areas'!U87,(IF($B$4=\"E\",'Wave Areas'!G104,(IF($B$4=\"SE\",'Wave Areas'!U105,(IF($B$4=\"S\",'Wave Areas'!G122,(IF($B$4=\"W\",'Wave Areas'!G140,(IF($B$4=\"NW\",'Wave Areas'!U141,0)))))))))))))))","v":0},{"$f":"IF($B$4=\"SW\",'Wave Areas'!V123,(IF($B$4=\"N\",'Wave Areas'!H86,(IF($B$4=\"NE\",'Wave Areas'!V87,(IF($B$4=\"E\",'Wave Areas'!H104,(IF($B$4=\"SE\",'Wave Areas'!V105,(IF($B$4=\"S\",'Wave Areas'!H122,(IF($B$4=\"W\",'Wave Areas'!H140,(IF($B$4=\"NW\",'Wave Areas'!V141,0)))))))))))))))","v":0},{"$f":"IF($B$4=\"SW\",'Wave Areas'!W123,(IF($B$4=\"N\",'Wave Areas'!I86,(IF($B$4=\"NE\",'Wave Areas'!W87,(IF($B$4=\"E\",'Wave Areas'!I104,(IF($B$4=\"SE\",'Wave Areas'!W105,(IF($B$4=\"S\",'Wave Areas'!I122,(IF($B$4=\"W\",'Wave Areas'!I140,(IF($B$4=\"NW\",'Wave Areas'!W141,0)))))))))))))))","v":0},{"$f":"IF($B$4=\"SW\",'Wave Areas'!X123,(IF($B$4=\"N\",'Wave Areas'!J86,(IF($B$4=\"NE\",'Wave Areas'!X87,(IF($B$4=\"E\",'Wave Areas'!J104,(IF($B$4=\"SE\",'Wave Areas'!X105,(IF($B$4=\"S\",'Wave Areas'!J122,(IF($B$4=\"W\",'Wave Areas'!J140,(IF($B$4=\"NW\",'Wave Areas'!X141,0)))))))))))))))","v":0},{"$f":"IF($B$4=\"SW\",'Wave Areas'!Y123,(IF($B$4=\"N\",'Wave Areas'!K86,(IF($B$4=\"NE\",'Wave Areas'!Y87,(IF($B$4=\"E\",'Wave Areas'!K104,(IF($B$4=\"SE\",'Wave Areas'!Y105,(IF($B$4=\"S\",'Wave Areas'!K122,(IF($B$4=\"W\",'Wave Areas'!K140,(IF($B$4=\"NW\",'Wave Areas'!Y141,0)))))))))))))))","v":0},{"$f":"IF($B$4=\"SW\",'Wave Areas'!Z123,(IF($B$4=\"N\",'Wave Areas'!L86,(IF($B$4=\"NE\",'Wave Areas'!Z87,(IF($B$4=\"E\",'Wave Areas'!L104,(IF($B$4=\"SE\",'Wave Areas'!Z105,(IF($B$4=\"S\",'Wave Areas'!L122,(IF($B$4=\"W\",'Wave Areas'!L140,(IF($B$4=\"NW\",'Wave Areas'!Z141,0)))))))))))))))","v":0},null,8.5,{"$error":"#DIV/0!"},{"$error":"#DIV/0!"},{"$error":"#DIV/0!"},{"$error":"#DIV/0!"},{"$error":"#DIV/0!"},{"$error":"#DIV/0!"},{"$error":"#DIV/0!"},{"$error":"#DIV/0!"},{"$error":"#DIV/0!"},{"$error":"#DIV/0!"},{"$error":"#DIV/0!"},{"$error":"#DIV/0!"},null,8.5,{"$error":"#DIV/0!"},{"$error":"#DIV/0!"},{"$f":"AI56/1004","v":{"$error":"#DIV/0!"}},{"$error":"#DIV/0!"},{"$error":"#DIV/0!"},{"$error":"#DIV/0!"},{"$error":"#DIV/0!"},{"$f":"AN56/1004","v":{"$error":"#DIV/0!"}},{"$error":"#DIV/0!"},{"$error":"#DIV/0!"},{"$error":"#DIV/0!"},{"$error":"#DIV/0!"}]
[138573.9140625,10.5,0,0,0,0,0,0,0,0,0,0,0,0,null,null,null,9.5,{"$f":"IF($B$4=\"SW\",'Wave Areas'!P124,(IF($B$4=\"N\",'Wave Areas'!B87,(IF($B$4=\"NE\",'Wave Areas'!P88,(IF($B$4=\"E\",'Wave Areas'!B105,(IF($B$4=\"SE\",'Wave Areas'!P106,(IF($B$4=\"S\",'Wave Areas'!B123,(IF($B$4=\"W\",'Wave Areas'!B141,(IF($B$4=\"NW\",'Wave Areas'!P142,0)))))))))))))))","v":0},{"$f":"IF($B$4=\"SW\",'Wave Areas'!Q124,(IF($B$4=\"N\",'Wave Areas'!C87,(IF($B$4=\"NE\",'Wave Areas'!Q88,(IF($B$4=\"E\",'Wave Areas'!C105,(IF($B$4=\"SE\",'Wave Areas'!Q106,(IF($B$4=\"S\",'Wave Areas'!C123,(IF($B$4=\"W\",'Wave Areas'!C141,(IF($B$4=\"NW\",'Wave Areas'!Q142,0)))))))))))))))","v":0},{"$f":"IF($B$4=\"SW\",'Wave Areas'!R124,(IF($B$4=\"N\",'Wave Areas'!D87,(IF($B$4=\"NE\",'Wave Areas'!R88,(IF($B$4=\"E\",'Wave Areas'!D105,(IF($B$4=\"SE\",'Wave Areas'!R106,(IF($B$4=\"S\",'Wave Areas'!D123,(IF($B$4=\"W\",'Wave Areas'!D141,(IF($B$4=\"NW\",'Wave Areas'!R142,0)))))))))))))))","v":0},{"$f":"IF($B$4=\"SW\",'Wave Areas'!S124,(IF($B$4=\"N\",'Wave Areas'!E87,(IF($B$4=\"NE\",'Wave Areas'!S88,(IF($B$4=\"E\",'Wave Areas'!E105,(IF($B$4=\"SE\",'Wave Areas'!S106,(IF($B$4=\"S\",'Wave Areas'!E123,(IF($B$4=\"W\",'Wave Areas'!E141,(IF($B$4=\"NW\",'Wave Areas'!S142,0)))))))))))))))","v":0},{"$f":"IF($B$4=\"SW\",'Wave Areas'!T124,(IF($B$4=\"N\",'Wave Areas'!F87,(IF($B$4=\"NE\",'Wave Areas'!T88,(IF($B$4=\"E\",'Wave Areas'!F105,(IF($B$4=\"SE\",'Wave Areas'!T106,(IF($B$4=\"S\",'Wave Areas'!F123,(IF($B$4=\"W\",'Wave Areas'!F141,(IF($B$4=\"NW\",'Wave Areas'!T142,0)))))))))))))))","v":0},{"$f":"IF($B$4=\"SW\",'Wave Areas'!U124,(IF($B$4=\"N\",'Wave Areas'!G87,(IF($B$4=\"NE\",'Wave Areas'!U88,(IF($B$4=\"E\",'Wave Areas'!G105,(IF($B$4=\"SE\",'Wave Areas'!U106,(IF($B$4=\"S\",'Wave Areas'!G123,(IF($B$4=\"W\",'Wave Areas'!G141,(IF($B$4=\"NW\",'Wave Areas'!U142,0)))))))))))))))","v":0},{"$f":"IF($B$4=\"SW\",'Wave Areas'!V124,(IF($B$4=\"N\",'Wave Areas'!H87,(IF($B$4=\"NE\",'Wave Areas'!V88,(IF($B$4=\"E\",'Wave Areas'!H105,(IF($B$4=\"SE\",'Wave Areas'!V106,(IF($B$4=\"S\",'Wave Areas'!H123,(IF($B$4=\"W\",'Wave Areas'!H141,(IF($B$4=\"NW\",'Wave Areas'!V142,0)))))))))))))))","v":0},{"$f":"IF($B$4=\"SW\",'Wave Areas'!W124,(IF($B$4=\"N\",'Wave Areas'!I87,(IF($B$4=\"NE\",'Wave Areas'!W88,(IF($B$4=\"E\",'Wave Areas'!I105,(IF($B$4=\"SE\",'Wave Areas'!W106,(IF($B$4=\"S\",'Wave Areas'!I123,(IF($B$4=\"W\",'Wave Areas'!I141,(IF($B$4=\"NW\",'Wave Areas'!W142,0)))))))))))))))","v":0},{"$f":"IF($B$4=\"SW\",'Wave Areas'!X124,(IF($B$4=\"N\",'Wave Areas'!J87,(IF($B$4=\"NE\",'Wave Areas'!X88,(IF($B$4=\"E\",'Wave Areas'!J105,(IF($B$4=\"SE\",'Wave Areas'!X106,(IF($B$4=\"S\",'Wave Areas'!J123,(IF($B$4=\"W\",'Wave Areas'!J141,(IF($B$4=\"NW\",'Wave Areas'!X142,0)))))))))))))))","v":0},{"$f":"IF($B$4=\"SW\",'Wave Areas'!Y124,(IF($B$4=\"N\",'Wave Areas'!K87,(IF($B$4=\"NE\",'Wave Areas'!Y88,(IF($B$4=\"E\",'Wave Areas'!K105,(IF($B$4=\"SE\",'Wave Areas'!Y106,(IF($B$4=\"S\",'Wave Areas'!K123,(IF($B$4=\"W\",'Wave Areas'!K141,(IF($B$4=\"NW\",'Wave Areas'!Y142,0)))))))))))))))","v":0},{"$f":"IF($B$4=\"SW\",'Wave Areas'!Z124,(IF($B$4=\"N\",'Wave Areas'!L87,(IF($B$4=\"NE\",'Wave Areas'!Z88,(IF($B$4=\"E\",'Wave Areas'!L105,(IF($B$4=\"SE\",'Wave Areas'!Z106,(IF($B$4=\"S\",'Wave Areas'!L123,(IF($B$4=\"W\",'Wave Areas'!L141,(IF($B$4=\"NW\",'Wave Areas'!Z142,0)))))))))))))))","v":0},null,9.5,{"$error":"#DIV/0!"},{"$error":"#DIV/0!"},{"$error":"#DIV/0!"},{"$error":"#DIV/0!"},{"$error":"#DIV/0!"},{"$error":"#DIV/0!"},{"$error":"#DIV/0!"},{"$error":"#DIV/0!"},{"$error":"#DIV/0!"},{"$error":"#DIV/0!"},{"$error":"#DIV/0!"},{"$error":"#DIV/0!"},null,9.5,{"$error":"#DIV/0!"},{"$error":"#DIV/0!"},{"$f":"AI57/1004","v":{"$error":"#DIV/0!"}},{"$f":"AJ57/1004","v":{"$error":"#DIV/0!"}},{"$f":"G56*AJ57","v":{"$error":"#DIV/0!"}},{"$f":"H56*AK57","v":{"$error":"#DIV/0!"}},{"$f":"AM57/1004","v":{"$error":"#DIV/0!"}},{"$f":"AN57/1004","v":{"$error":"#DIV/0!"}},{"$error":"#DIV/0!"},{"$error":"#DIV/0!"},{"$error":"#DIV/0!"},{"$error":"#DIV/0!"}]
["Sub Totals",null,{"$f":"SUM(C47:C57)","v":795.07727654024404},167800.78550277217,565550.79558341741,1423425.249143718,2254293.3809968382,2552831.8828812321,2078243.8026713708,1077314.9420763839,0,0,0,{"$f":"SUM(N47:N56)","v":10120255.916132273},"Total",null,null,10.5,{"$f":"IF($B$4=\"SW\",'Wave Areas'!P125,(IF($B$4=\"N\",'Wave Areas'!B88,(IF($B$4=\"NE\",'Wave Areas'!P89,(IF($B$4=\"E\",'Wave Areas'!B106,(IF($B$4=\"SE\",'Wave Areas'!P107,(IF($B$4=\"S\",'Wave Areas'!B124,(IF($B$4=\"W\",'Wave Areas'!B142,(IF($B$4=\"NW\",'Wave Areas'!P143,0)))))))))))))))","v":0},{"$f":"IF($B$4=\"SW\",'Wave Areas'!Q125,(IF($B$4=\"N\",'Wave Areas'!C88,(IF($B$4=\"NE\",'Wave Areas'!Q89,(IF($B$4=\"E\",'Wave Areas'!C106,(IF($B$4=\"SE\",'Wave Areas'!Q107,(IF($B$4=\"S\",'Wave Areas'!C124,(IF($B$4=\"W\",'Wave Areas'!C142,(IF($B$4=\"NW\",'Wave Areas'!Q143,0)))))))))))))))","v":0},{"$f":"IF($B$4=\"SW\",'Wave Areas'!R125,(IF($B$4=\"N\",'Wave Areas'!D88,(IF($B$4=\"NE\",'Wave Areas'!R89,(IF($B$4=\"E\",'Wave Areas'!D106,(IF($B$4=\"SE\",'Wave Areas'!R107,(IF($B$4=\"S\",'Wave Areas'!D124,(IF($B$4=\"W\",'Wave Areas'!D142,(IF($B$4=\"NW\",'Wave Areas'!R143,0)))))))))))))))","v":0},{"$f":"IF($B$4=\"SW\",'Wave Areas'!S125,(IF($B$4=\"N\",'Wave Areas'!E88,(IF($B$4=\"NE\",'Wave Areas'!S89,(IF($B$4=\"E\",'Wave Areas'!E106,(IF($B$4=\"SE\",'Wave Areas'!S107,(IF($B$4=\"S\",'Wave Areas'!E124,(IF($B$4=\"W\",'Wave Areas'!E142,(IF($B$4=\"NW\",'Wave Areas'!S143,0)))))))))))))))","v":0},{"$f":"IF($B$4=\"SW\",'Wave Areas'!T125,(IF($B$4=\"N\",'Wave Areas'!F88,(IF($B$4=\"NE\",'Wave Areas'!T89,(IF($B$4=\"E\",'Wave Areas'!F106,(IF($B$4=\"SE\",'Wave Areas'!T107,(IF($B$4=\"S\",'Wave Areas'!F124,(IF($B$4=\"W\",'Wave Areas'!F142,(IF($B$4=\"NW\",'Wave Areas'!T143,0)))))))))))))))","v":0},{"$f":"IF($B$4=\"SW\",'Wave Areas'!U125,(IF($B$4=\"N\",'Wave Areas'!G88,(IF($B$4=\"NE\",'Wave Areas'!U89,(IF($B$4=\"E\",'Wave Areas'!G106,(IF($B$4=\"SE\",'Wave Areas'!U107,(IF($B$4=\"S\",'Wave Areas'!G124,(IF($B$4=\"W\",'Wave Areas'!G142,(IF($B$4=\"NW\",'Wave Areas'!U143,0)))))))))))))))","v":0},{"$f":"IF($B$4=\"SW\",'Wave Areas'!V125,(IF($B$4=\"N\",'Wave Areas'!H88,(IF($B$4=\"NE\",'Wave Areas'!V89,(IF($B$4=\"E\",'Wave Areas'!H106,(IF($B$4=\"SE\",'Wave Areas'!V107,(IF($B$4=\"S\",'Wave Areas'!H124,(IF($B$4=\"W\",'Wave Areas'!H142,(IF($B$4=\"NW\",'Wave Areas'!V143,0)))))))))))))))","v":0},{"$f":"IF($B$4=\"SW\",'Wave Areas'!W125,(IF($B$4=\"N\",'Wave Areas'!I88,(IF($B$4=\"NE\",'Wave Areas'!W89,(IF($B$4=\"E\",'Wave Areas'!I106,(IF($B$4=\"SE\",'Wave Areas'!W107,(IF($B$4=\"S\",'Wave Areas'!I124,(IF($B$4=\"W\",'Wave Areas'!I142,(IF($B$4=\"NW\",'Wave Areas'!W143,0)))))))))))))))","v":0},{"$f":"IF($B$4=\"SW\",'Wave Areas'!X125,(IF($B$4=\"N\",'Wave Areas'!J88,(IF($B$4=\"NE\",'Wave Areas'!X89,(IF($B$4=\"E\",'Wave Areas'!J106,(IF($B$4=\"SE\",'Wave Areas'!X107,(IF($B$4=\"S\",'Wave Areas'!J124,(IF($B$4=\"W\",'Wave Areas'!J142,(IF($B$4=\"NW\",'Wave Areas'!X143,0)))))))))))))))","v":0},{"$f":"IF($B$4=\"SW\",'Wave Areas'!Y125,(IF($B$4=\"N\",'Wave Areas'!K88,(IF($B$4=\"NE\",'Wave Areas'!Y89,(IF($B$4=\"E\",'Wave Areas'!K106,(IF($B$4=\"SE\",'Wave Areas'!Y107,(IF($B$4=\"S\",'Wave Areas'!K124,(IF($B$4=\"W\",'Wave Areas'!K142,(IF($B$4=\"NW\",'Wave Areas'!Y143,0)))))))))))))))","v":0},{"$f":"IF($B$4=\"SW\",'Wave Areas'!Z125,(IF($B$4=\"N\",'Wave Areas'!L88,(IF($B$4=\"NE\",'Wave Areas'!Z89,(IF($B$4=\"E\",'Wave Areas'!L106,(IF($B$4=\"SE\",'Wave Areas'!Z107,(IF($B$4=\"S\",'Wave Areas'!L124,(IF($B$4=\"W\",'Wave Areas'!L142,(IF($B$4=\"NW\",'Wave Areas'!Z143,0)))))))))))))))","v":0},null,10.5,{"$error":"#DIV/0!"},{"$error":"#DIV/0!"},{"$error":"#DIV/0!"},{"$error":"#DIV/0!"},{"$error":"#DIV/0!"},{"$error":"#DIV/0!"},{"$error":"#DIV/0!"},{"$error":"#DIV/0!"},{"$error":"#DIV/0!"},{"$error":"#DIV/0!"},{"$error":"#DIV/0!"},{"$error":"#DIV/0!"},null,10.5,{"$error":"#DIV/0!"},{"$error":"#DIV/0!"},{"$f":"AI58/1004","v":{"$error":"#DIV/0!"}},{"$f":"AJ58/1004","v":{"$error":"#DIV/0!"}},{"$f":"AK58/1004","v":{"$error":"#DIV/0!"}},{"$f":"AL58/1004","v":{"$error":"#DIV/0!"}},{"$f":"AM58/1004","v":{"$error":"#DIV/0!"}},{"$f":"AN58/1004","v":{"$error":"#DIV/0!"}},{"$error":"#DIV/0!"},{"$error":"#DIV/0!"},{"$error":"#DIV/0!"},{"$error":"#DIV/0!"}]
[null,null,null,null,null,null,null,null,null,null,null,null,null,null,null,null,null,"Total Occurences",null,null,null,null,null,null,null,null,null,null,{"$f":"SUM(S48:AC58)","v":0},null,null,null,null,null,null,null,null,null,null,null,null,null,null,null,"Sub Totals",{"$f":"SUM(AT48:AT58)","v":{"$error":"#DIV/0!"}},{"$error":"#DIV/0!"},{"$error":"#DIV/0!"},{"$error":"#DIV/0!"},{"$error":"#DIV/0!"},{"$error":"#DIV/0!"},{"$error":"#DIV/0!"},{"$error":"#DIV/0!"},{"$error":"#DIV/0!"},{"$error":"#DIV/0!"},{"$error":"#DIV/0!"},{"$f":"SUM(BE48:BE57)","v":{"$error":"#DIV/0!"}},"Total"]
[]
[null,null,null,null,null,null,null,null,null,null,null,null,null,null,null,null,null,null,null,null,null,null,null,null,null,null,null,null,null,null,null,null,null,null,null,null,null,null,null,null,null,null,null,null,null,null,null,null,null,null,null,null,null,null,null,null,"Min","Max"]
[null,null,null,null,null,null,null,null,null,null,null,null,null,null,null,null,null,null,null,null,null,null,null,null,null,null,null,null,null,null,null,null,null,null,null,null,null,null,null,null,null,null,null,null,null,null,null,null,null,null,null,null,null,"Relevant Wave Heights",null,null,{"$f":"IF((AND($B$6>AS48,$B$6<AS49)),AS48,(IF((AND($B$6>AS49,$B$6<AS50)),AS49,(IF((AND($B$6>AS50,$B$6<AS51)),AS50,(IF((AND($B$6>AS51,$B$6<AS52)),AS51,(IF((AND($B$6>AS52,$B$6<AS53)),AS52,(IF((AND($B$6>AS53,$B$6<AS54)),AS53,(IF((AND($B$6>AS54,$B$6<AS55)),AS54,(IF((AND($B$6>AS55,$B$6<AS56)),AS55,(IF((AND($B$6>AS56,$B$6<AS57)),AS56,(IF((AND($B$6>AS57,$B$6<AS58)),AS57,(IF($B$6>AS58,AS58,\"\")))))))))))))))))))))","v":10.5},{"$f":"IF((AND($B$6>AS48,$B$6<AS49)),AS49,(IF((AND($B$6>AS49,$B$6<AS50)),AS50,(IF((AND($B$6>AS50,$B$6<AS51)),AS51,(IF((AND($B$6>AS51,$B$6<AS52)),AS52,(IF((AND($B$6>AS52,$B$6<AS53)),AS53,(IF((AND($B$6>AS53,$B$6<AS54)),AS54,(IF((AND($B$6>AS54,$B$6<AS55)),AS55,(IF((AND($B$6>AS55,$B$6<AS56)),AS56,(IF((AND($B$6>AS56,$B$6<AS57)),AS57,(IF((AND($B$6>AS57,$B$6<AS58)),AS58,(IF($B$6>AS58,AS58,\"\")))))))))))))))))))))","v":10.5}]
[null,null,null,null,null,null,null,null,null,null,null,null,null,null,null,null,null,null,null,null,null,null,null,null,null,null,null,null,null,null,null,null,null,null,null,null,null,null,null,null,null,null,null,null,null,null,null,null,null,null,null,null,null,"Relevant Power (kW/m)",null,null,{"$f":"(((($B$6-BE62)*((VLOOKUP(BF62,AS48:BE58,13,FALSE))-(VLOOKUP(BE62,AS48:BE58,13,FALSE))))/(BF62-BE62))+(VLOOKUP(BE62,AS48:BE58,13,FALSE)))*0.001","v":{"$error":"#VALUE!"}}]

{"sheet":"Wave 2","index":14,"n_rows":63,"n_cols":58,"rows_kept":63,"cut":false,"hidden":false,"merged":[[7,1,7,2],[2,1,2,2],[3,1,3,2],[4,1,4,2],[5,1,5,2],[6,1,6,2],[16,44,16,45],[17,44,17,55],[18,17,18,28],[18,30,18,41],[18,44,18,55],[32,0,32,1],[32,17,32,27],[8,1,8,2],[9,1,9,2],[16,30,16,31],[19,2,19,12],[19,17,19,28],[19,30,19,41],[19,44,19,55],[20,2,20,12],[35,53,35,55],[36,53,36,55],[36,56,36,57],[57,0,57,1],[42,17,42,19],[42,30,42,31],[42,44,42,45],[44,2,44,12],[44,17,44,28],[44,30,44,41],[44,44,44,55],[58,17,58,27],[61,53,61,55],[62,53,62,55],[62,56,62,57],[45,2,45,12],[45,17,45,28],[45,30,45,41],[45,44,45,55]]}
["Wave Resource"]
[]
[{"$f":"Input!I45","v":"Site Name"},{"$f":"Input!J55","v":"[Enter Name]"}]
[{"$f":"Input!I46","v":"Position Relevant to Island"},{"$f":"Input!J56","v":"[Select Value]"}]
[{"$f":"Input!I47","v":"Relevant Ocean Wave Area"},{"$f":"Input!J57","v":"[Select Area]"}]
[{"$f":"Input!I48","v":"Average Wave Height"},{"$f":"Input!J58","v":"[Enter Value]"}]
[{"$f":"Input!I49","v":"Proximity to Grid Connection"},{"$f":"Input!J59","v":"[Select Value]"}]
[{"$f":"Input!I50","v":"Average Water Depth"},{"$f":"Input!J60","v":"[Select Value]"}]
[{"$f":"Input!I51","v":"Seabed Topography"},{"$f":"Input!J61","v":"[Select Value]"}]
[{"$f":"Input!I52","v":"Accessibility"},{"$f":"Input!J62","v":"[Select Value]"}]
[]
["Relavant Wave Power",{"$f":"IF(B8<>\"[Select Value]\",(IF(B8=\"> 20m\", BE63,BE37)),0)","v":0}]
[]
["Transitional Waters Calculation (",">20m"]
[]
["Wave Velocity C","(m/s)",{"$f":"(C17/C18)","v":5.4628571428571435},6.9888888888888889,8.3109090909090906,9.2892307692307696,9.9653333333333318,10.436470588235293,10.77157894736842,11.016190476190477,11.201739130434783,11.344799999999999,11.455555555555556]
["Wave Length (λ)","(m)",19.12,31.45,45.71,60.38,74.739999999999995,88.71,102.33,115.67,128.82,141.81,154.65]
["Wave Period (T)","(s)",3.5,4.5,5.5,6.5,7.5,8.5,9.5,10.5,11.5,12.5,13.5]
[null,null,null,null,null,null,null,null,null,null,null,null,null,null,null,null,null,"North Sea Area 10",null,null,null,null,null,null,null,null,null,null,null,null,"North Sea Area 10",null,null,null,null,null,null,null,null,null,null,null,null,null,"North Sea Area 10"]
["Energy","Wave Height (Hs)","Power",null,null,null,null,null,null,null,null,null,null,"Total Power",null,null,null,"Number of Occurences",null,null,null,null,null,null,null,null,null,null,null,null,"Percentage of Occurences",null,null,null,null,null,null,null,null,null,null,null,null,null,"Annual Power (W/m)",null,null,null,null,null,null,null,null,null,null,null,"Total Power"]
["(J)","(m)","(W/m)",null,null,null,null,null,null,null,null,null,null,"(W/m)",null,null,null,"Hs                      T",3.5,4.5,5.5,6.5,7.5,8.5,9.5,10.5,11.5,12.5,13.5,null,"Hs                 T",3.5,4.5,5.5,6.5,7.5,8.5,9.5,10.5,11.5,12.5,13.5,"Availability",null,"Hs           T",3.5,4.5,5.5,6.5,7.5,8.5,9.5,10.5,11.5,12.5,13.5,"(W/m)"]
[{"$f":"(1025*9.81*B22^2)/8","v":314.2265625},0.5,{"$f":"$A22*($C$16)","v":1716.5748214285716},{"$f":"$A22*(D16)","v":2196.0945312499998},{"$f":"A22*($E$16)","v":2611.5083948863635},{"$f":"$A22*($F$16)","v":2918.9230528846156},{"$f":"$A22*($G$16)","v":3131.3724374999997},{"$f":"$A22*($H$16)","v":3279.416277573529},0,0,0,0,0,{"$f":"SUM(C22:M22)","v":15853.889515523078},null,null,null,0.5,{"$f":"IF($B$4=\"SW\",'Wave Areas'!P115,(IF($B$4=\"N\",'Wave Areas'!B78,(IF($B$4=\"NE\",'Wave Areas'!P79,(IF($B$4=\"E\",'Wave Areas'!B96,(IF($B$4=\"SE\",'Wave Areas'!P97,(IF($B$4=\"S\",'Wave Areas'!B114,(IF($B$4=\"W\",'Wave Areas'!B132,(IF($B$4=\"NW\",'Wave Areas'!P133,0)))))))))))))))","v":0},{"$f":"IF($B$4=\"SW\",'Wave Areas'!Q115,(IF($B$4=\"N\",'Wave Areas'!C78,(IF($B$4=\"NE\",'Wave Areas'!Q79,(IF($B$4=\"E\",'Wave Areas'!C96,(IF($B$4=\"SE\",'Wave Areas'!Q97,(IF($B$4=\"S\",'Wave Areas'!C114,(IF($B$4=\"W\",'Wave Areas'!C132,(IF($B$4=\"NW\",'Wave Areas'!Q133,0)))))))))))))))","v":0},{"$f":"IF($B$4=\"SW\",'Wave Areas'!R115,(IF($B$4=\"N\",'Wave Areas'!D78,(IF($B$4=\"NE\",'Wave Areas'!R79,(IF($B$4=\"E\",'Wave Areas'!D96,(IF($B$4=\"SE\",'Wave Areas'!R97,(IF($B$4=\"S\",'Wave Areas'!D114,(IF($B$4=\"W\",'Wave Areas'!D132,(IF($B$4=\"NW\",'Wave Areas'!R133,0)))))))))))))))","v":0},{"$f":"IF($B$4=\"SW\",'Wave Areas'!S115,(IF($B$4=\"N\",'Wave Areas'!E78,(IF($B$4=\"NE\",'Wave Areas'!S79,(IF($B$4=\"E\",'Wave Areas'!E96,(IF($B$4=\"SE\",'Wave Areas'!S97,(IF($B$4=\"S\",'Wave Areas'!E114,(IF($B$4=\"W\",'Wave Areas'!E132,(IF($B$4=\"NW\",'Wave Areas'!S133,0)))))))))))))))","v":0},{"$f":"IF($B$4=\"SW\",'Wave Areas'!T115,(IF($B$4=\"N\",'Wave Areas'!F78,(IF($B$4=\"NE\",'Wave Areas'!T79,(IF($B$4=\"E\",'Wave Areas'!F96,(IF($B$4=\"SE\",'Wave Areas'!T97,(IF($B$4=\"S\",'Wave Areas'!F114,(IF($B$4=\"W\",'Wave Areas'!F132,(IF($B$4=\"NW\",'Wave Areas'!T133,0)))))))))))))))","v":0},{"$f":"IF($B$4=\"SW\",'Wave Areas'!U115,(IF($B$4=\"N\",'Wave Areas'!G78,(IF($B$4=\"NE\",'Wave Areas'!U79,(IF($B$4=\"E\",'Wave Areas'!G96,(IF($B$4=\"SE\",'Wave Areas'!U97,(IF($B$4=\"S\",'Wave Areas'!G114,(IF($B$4=\"W\",'Wave Areas'!G132,(IF($B$4=\"NW\",'Wave Areas'!U133,0)))))))))))))))","v":0},{"$f":"IF($B$4=\"SW\",'Wave Areas'!V115,(IF($B$4=\"N\",'Wave Areas'!H78,(IF($B$4=\"NE\",'Wave Areas'!V79,(IF($B$4=\"E\",'Wave Areas'!H96,(IF($B$4=\"SE\",'Wave Areas'!V97,(IF($B$4=\"S\",'Wave Areas'!H114,(IF($B$4=\"W\",'Wave Areas'!H132,(IF($B$4=\"NW\",'Wave Areas'!V133,0)))))))))))))))","v":0},{"$f":"IF($B$4=\"SW\",'Wave Areas'!W115,(IF($B$4=\"N\",'Wave Areas'!I78,(IF($B$4=\"NE\",'Wave Areas'!W79,(IF($B$4=\"E\",'Wave Areas'!I96,(IF($B$4=\"SE\",'Wave Areas'!W97,(IF($B$4=\"S\",'Wave Areas'!I114,(IF($B$4=\"W\",'Wave Areas'!I132,(IF($B$4=\"NW\",'Wave Areas'!W133,0)))))))))))))))","v":0},{"$f":"IF($B$4=\"SW\",'Wave Areas'!X115,(IF($B$4=\"N\",'Wave Areas'!J78,(IF($B$4=\"NE\",'Wave Areas'!X79,(IF($B$4=\"E\",'Wave Areas'!J96,(IF($B$4=\"SE\",'Wave Areas'!X97,(IF($B$4=\"S\",'Wave Areas'!J114,(IF($B$4=\"W\",'Wave Areas'!J132,(IF($B$4=\"NW\",'Wave Areas'!X133,0)))))))))))))))","v":0},{"$f":"IF($B$4=\"SW\",'Wave Areas'!Y115,(IF($B$4=\"N\",'Wave Areas'!K78,(IF($B$4=\"NE\",'Wave Areas'!Y79,(IF($B$4=\"E\",'Wave Areas'!K96,(IF($B$4=\"SE\",'Wave Areas'!Y97,(IF($B$4=\"S\",'Wave Areas'!K114,(IF($B$4=\"W\",'Wave Areas'!K132,(IF($B$4=\"NW\",'Wave Areas'!Y133,0)))))))))))))))","v":0},{"$f":"IF($B$4=\"SW\",'Wave Areas'!Z115,(IF($B$4=\"N\",'Wave Areas'!L78,(IF($B$4=\"NE\",'Wave Areas'!Z79,(IF($B$4=\"E\",'Wave Areas'!L96,(IF($B$4=\"SE\",'Wave Areas'!Z97,(IF($B$4=\"S\",'Wave Areas'!L114,(IF($B$4=\"W\",'Wave Areas'!L132,(IF($B$4=\"NW\",'Wave Areas'!Z133,0)))))))))))))))","v":0},null,0.5,{"$f":"S22/($AC$33)","v":{"$error":"#DIV/0!"}},{"$f":"T22/($AC$33)","v":{"$error":"#DIV/0!"}},{"$error":"#DIV/0!"},{"$error":"#DIV/0!"},{"$error":"#DIV/0!"},{"$error":"#DIV/0!"},{"$error":"#DIV/0!"},{"$error":"#DIV/0!"},{"$error":"#DIV/0!"},{"$error":"#DIV/0!"},{"$error":"#DIV/0!"},{"$f":"SUM(AF22:AP22)","v":{"$error":"#DIV/0!"}},null,0.5,{"$f":"C22*AF22","v":{"$error":"#DIV/0!"}},{"$error":"#DIV/0!"},{"$error":"#DIV/0!"},{"$error":"#DIV/0!"},{"$error":"#DIV/0!"},{"$error":"#DIV/0!"},{"$f":"AM22/1004","v":{"$error":"#DIV/0!"}},{"$f":"AN22/1004","v":{"$error":"#DIV/0!"}},{"$f":"AO22/1004","v":{"$error":"#DIV/0!"}},{"$f":"AP22/1004","v":{"$error":"#DIV/0!"}},{"$f":"AQ20/1004","v":0},{"$f":"SUM(AT22:BD22)","v":{"$error":"#DIV/0!"}}]
[2828.0390625,1.5,{"$f":"$A23*($C$16)","v":15449.173392857145},{"$f":"A23*($D$16)","v":19764.850781249999},23503.575553977273,{"$f":"$A23*($F$16)","v":26270.307475961541},28182.351937499996,29514.746498161763,{"$f":"$A23*($I$16)","v":30462.446027960523},{"$f":"$A23*($J$16)","v":31154.216986607145},0,0,0,204301.66865427536,null,null,null,1.5,{"$f":"IF($B$4=\"SW\",'Wave Areas'!P116,(IF($B$4=\"N\",'Wave Areas'!B79,(IF($B$4=\"NE\",'Wave Areas'!P80,(IF($B$4=\"E\",'Wave Areas'!B97,(IF($B$4=\"SE\",'Wave Areas'!P98,(IF($B$4=\"S\",'Wave Areas'!B115,(IF($B$4=\"W\",'Wave Areas'!B133,(IF($B$4=\"NW\",'Wave Areas'!P134,0)))))))))))))))","v":0},{"$f":"IF($B$4=\"SW\",'Wave Areas'!Q116,(IF($B$4=\"N\",'Wave Areas'!C79,(IF($B$4=\"NE\",'Wave Areas'!Q80,(IF($B$4=\"E\",'Wave Areas'!C97,(IF($B$4=\"SE\",'Wave Areas'!Q98,(IF($B$4=\"S\",'Wave Areas'!C115,(IF($B$4=\"W\",'Wave Areas'!C133,(IF($B$4=\"NW\",'Wave Areas'!Q134,0)))))))))))))))","v":0},{"$f":"IF($B$4=\"SW\",'Wave Areas'!R116,(IF($B$4=\"N\",'Wave Areas'!D79,(IF($B$4=\"NE\",'Wave Areas'!R80,(IF($B$4=\"E\",'Wave Areas'!D97,(IF($B$4=\"SE\",'Wave Areas'!R98,(IF($B$4=\"S\",'Wave Areas'!D115,(IF($B$4=\"W\",'Wave Areas'!D133,(IF($B$4=\"NW\",'Wave Areas'!R134,0)))))))))))))))","v":0},{"$f":"IF($B$4=\"SW\",'Wave Areas'!S116,(IF($B$4=\"N\",'Wave Areas'!E79,(IF($B$4=\"NE\",'Wave Areas'!S80,(IF($B$4=\"E\",'Wave Areas'!E97,(IF($B$4=\"SE\",'Wave Areas'!S98,(IF($B$4=\"S\",'Wave Areas'!E115,(IF($B$4=\"W\",'Wave Areas'!E133,(IF($B$4=\"NW\",'Wave Areas'!S134,0)))))))))))))))","v":0},{"$f":"IF($B$4=\"SW\",'Wave Areas'!T116,(IF($B$4=\"N\",'Wave Areas'!F79,(IF($B$4=\"NE\",'Wave Areas'!T80,(IF($B$4=\"E\",'Wave Areas'!F97,(IF($B$4=\"SE\",'Wave Areas'!T98,(IF($B$4=\"S\",'Wave Areas'!F115,(IF($B$4=\"W\",'Wave Areas'!F133,(IF($B$4=\"NW\",'Wave Areas'!T134,0)))))))))))))))","v":0},{"$f":"IF($B$4=\"SW\",'Wave Areas'!U116,(IF($B$4=\"N\",'Wave Areas'!G79,(IF($B$4=\"NE\",'Wave Areas'!U80,(IF($B$4=\"E\",'Wave Areas'!G97,(IF($B$4=\"SE\",'Wave Areas'!U98,(IF($B$4=\"S\",'Wave Areas'!G115,(IF($B$4=\"W\",'Wave Areas'!G133,(IF($B$4=\"NW\",'Wave Areas'!U134,0)))))))))))))))","v":0},{"$f":"IF($B$4=\"SW\",'Wave Areas'!V116,(IF($B$4=\"N\",'Wave Areas'!H79,(IF($B$4=\"NE\",'Wave Areas'!V80,(IF($B$4=\"E\",'Wave Areas'!H97,(IF($B$4=\"SE\",'Wave Areas'!V98,(IF($B$4=\"S\",'Wave Areas'!H115,(IF($B$4=\"W\",'Wave Areas'!H133,(IF($B$4=\"NW\",'Wave Areas'!V134,0)))))))))))))))","v":0},{"$f":"IF($B$4=\"SW\",'Wave Areas'!W116,(IF($B$4=\"N\",'Wave Areas'!I79,(IF($B$4=\"NE\",'Wave Areas'!W80,(IF($B$4=\"E\",'Wave Areas'!I97,(IF($B$4=\"SE\",'Wave Areas'!W98,(IF($B$4=\"S\",'Wave Areas'!I115,(IF($B$4=\"W\",'Wave Areas'!I133,(IF($B$4=\"NW\",'Wave Areas'!W134,0)))))))))))))))","v":0},{"$f":"IF($B$4=\"SW\",'Wave Areas'!X116,(IF($B$4=\"N\",'Wave Areas'!J79,(IF($B$4=\"NE\",'Wave Areas'!X80,(IF($B$4=\"E\",'Wave Areas'!J97,(IF($B$4=\"SE\",'Wave Areas'!X98,(IF($B$4=\"S\",'Wave Areas'!J115,(IF($B$4=\"W\",'Wave Areas'!J133,(IF($B$4=\"NW\",'Wave Areas'!X134,0)))))))))))))))","v":0},{"$f":"IF($B$4=\"SW\",'Wave Areas'!Y116,(IF($B$4=\"N\",'Wave Areas'!K79,(IF($B$4=\"NE\",'Wave Areas'!Y80,(IF($B$4=\"E\",'Wave Areas'!K97,(IF($B$4=\"SE\",'Wave Areas'!Y98,(IF($B$4=\"S\",'Wave Areas'!K115,(IF($B$4=\"W\",'Wave Areas'!K133,(IF($B$4=\"NW\",'Wave Areas'!Y134,0)))))))))))))))","v":0},{"$f":"IF($B$4=\"SW\",'Wave Areas'!Z116,(IF($B$4=\"N\",'Wave Areas'!L79,(IF($B$4=\"NE\",'Wave Areas'!Z80,(IF($B$4=\"E\",'Wave Areas'!L97,(IF($B$4=\"SE\",'Wave Areas'!Z98,(IF($B$4=\"S\",'Wave Areas'!L115,(IF($B$4=\"W\",'Wave Areas'!L133,(IF($B$4=\"NW\",'Wave Areas'!Z134,0)))))))))))))))","v":0},null,1.5,{"$f":"S23/($AC$33)","v":{"$error":"#DIV/0!"}},{"$error":"#DIV/0!"},{"$error":"#DIV/0!"},{"$error":"#DIV/0!"},{"$error":"#DIV/0!"},{"$error":"#DIV/0!"},{"$error":"#DIV/0!"},{"$error":"#DIV/0!"},{"$error":"#DIV/0!"},{"$error":"#DIV/0!"},{"$error":"#DIV/0!"},{"$f":"SUM(AF23:AP23)","v":{"$error":"#DIV/0!"}},null,1.5,{"$error":"#DIV/0!"},{"$error":"#DIV/0!"},{"$error":"#DIV/0!"},{"$error":"#DIV/0!"},{"$error":"#DIV/0!"},{"$error":"#DIV/0!"},{"$error":"#DIV/0!"},{"$error":"#DIV/0!"},{"$f":"AO23/1004","v":{"$error":"#DIV/0!"}},{"$error":"#DIV/0!"},{"$f":"AQ22/1004","v":{"$error":"#DIV/0!"}},{"$error":"#DIV/0!"}]
[7855.6640625,2.5,0,{"$f":"A24*($D$16)","v":54902.36328125},65287.709872159088,{"$f":"$A24*($F$16)","v":72973.07632211539},78284.310937499991,81985.406939338223,84617.90563322368,86539.49162946429,0,0,0,524590.26461505075,null,null,null,2.5,{"$f":"IF($B$4=\"SW\",'Wave Areas'!P117,(IF($B$4=\"N\",'Wave Areas'!B80,(IF($B$4=\"NE\",'Wave Areas'!P81,(IF($B$4=\"E\",'Wave Areas'!B98,(IF($B$4=\"SE\",'Wave Areas'!P99,(IF($B$4=\"S\",'Wave Areas'!B116,(IF($B$4=\"W\",'Wave Areas'!B134,(IF($B$4=\"NW\",'Wave Areas'!P135,0)))))))))))))))","v":0},{"$f":"IF($B$4=\"SW\",'Wave Areas'!Q117,(IF($B$4=\"N\",'Wave Areas'!C80,(IF($B$4=\"NE\",'Wave Areas'!Q81,(IF($B$4=\"E\",'Wave Areas'!C98,(IF($B$4=\"SE\",'Wave Areas'!Q99,(IF($B$4=\"S\",'Wave Areas'!C116,(IF($B$4=\"W\",'Wave Areas'!C134,(IF($B$4=\"NW\",'Wave Areas'!Q135,0)))))))))))))))","v":0},{"$f":"IF($B$4=\"SW\",'Wave Areas'!R117,(IF($B$4=\"N\",'Wave Areas'!D80,(IF($B$4=\"NE\",'Wave Areas'!R81,(IF($B$4=\"E\",'Wave Areas'!D98,(IF($B$4=\"SE\",'Wave Areas'!R99,(IF($B$4=\"S\",'Wave Areas'!D116,(IF($B$4=\"W\",'Wave Areas'!D134,(IF($B$4=\"NW\",'Wave Areas'!R135,0)))))))))))))))","v":0},{"$f":"IF($B$4=\"SW\",'Wave Areas'!S117,(IF($B$4=\"N\",'Wave Areas'!E80,(IF($B$4=\"NE\",'Wave Areas'!S81,(IF($B$4=\"E\",'Wave Areas'!E98,(IF($B$4=\"SE\",'Wave Areas'!S99,(IF($B$4=\"S\",'Wave Areas'!E116,(IF($B$4=\"W\",'Wave Areas'!E134,(IF($B$4=\"NW\",'Wave Areas'!S135,0)))))))))))))))","v":0},{"$f":"IF($B$4=\"SW\",'Wave Areas'!T117,(IF($B$4=\"N\",'Wave Areas'!F80,(IF($B$4=\"NE\",'Wave Areas'!T81,(IF($B$4=\"E\",'Wave Areas'!F98,(IF($B$4=\"SE\",'Wave Areas'!T99,(IF($B$4=\"S\",'Wave Areas'!F116,(IF($B$4=\"W\",'Wave Areas'!F134,(IF($B$4=\"NW\",'Wave Areas'!T135,0)))))))))))))))","v":0},{"$f":"IF($B$4=\"SW\",'Wave Areas'!U117,(IF($B$4=\"N\",'Wave Areas'!G80,(IF($B$4=\"NE\",'Wave Areas'!U81,(IF($B$4=\"E\",'Wave Areas'!G98,(IF($B$4=\"SE\",'Wave Areas'!U99,(IF($B$4=\"S\",'Wave Areas'!G116,(IF($B$4=\"W\",'Wave Areas'!G134,(IF($B$4=\"NW\",'Wave Areas'!U135,0)))))))))))))))","v":0},{"$f":"IF($B$4=\"SW\",'Wave Areas'!V117,(IF($B$4=\"N\",'Wave Areas'!H80,(IF($B$4=\"NE\",'Wave Areas'!V81,(IF($B$4=\"E\",'Wave Areas'!H98,(IF($B$4=\"SE\",'Wave Areas'!V99,(IF($B$4=\"S\",'Wave Areas'!H116,(IF($B$4=\"W\",'Wave Areas'!H134,(IF($B$4=\"NW\",'Wave Areas'!V135,0)))))))))))))))","v":0},{"$f":"IF($B$4=\"SW\",'Wave Areas'!W117,(IF($B$4=\"N\",'Wave Areas'!I80,(IF($B$4=\"NE\",'Wave Areas'!W81,(IF($B$4=\"E\",'Wave Areas'!I98,(IF($B$4=\"SE\",'Wave Areas'!W99,(IF($B$4=\"S\",'Wave Areas'!I116,(IF($B$4=\"W\",'Wave Areas'!I134,(IF($B$4=\"NW\",'Wave Areas'!W135,0)))))))))))))))","v":0},{"$f":"IF($B$4=\"SW\",'Wave Areas'!X117,(IF($B$4=\"N\",'Wave Areas'!J80,(IF($B$4=\"NE\",'Wave Areas'!X81,(IF($B$4=\"E\",'Wave Areas'!J98,(IF($B$4=\"SE\",'Wave Areas'!X99,(IF($B$4=\"S\",'Wave Areas'!J116,(IF($B$4=\"W\",'Wave Areas'!J134,(IF($B$4=\"NW\",'Wave Areas'!X135,0)))))))))))))))","v":0},{"$f":"IF($B$4=\"SW\",'Wave Areas'!Y117,(IF($B$4=\"N\",'Wave Areas'!K80,(IF($B$4=\"NE\",'Wave Areas'!Y81,(IF($B$4=\"E\",'Wave Areas'!K98,(IF($B$4=\"SE\",'Wave Areas'!Y99,(IF($B$4=\"S\",'Wave Areas'!K116,(IF($B$4=\"W\",'Wave Areas'!K134,(IF($B$4=\"NW\",'Wave Areas'!Y135,0)))))))))))))))","v":0},{"$f":"IF($B$4=\"SW\",'Wave Areas'!Z117,(IF($B$4=\"N\",'Wave Areas'!L80,(IF($B$4=\"NE\",'Wave Areas'!Z81,(IF($B$4=\"E\",'Wave Areas'!L98,(IF($B$4=\"SE\",'Wave Areas'!Z99,(IF($B$4=\"S\",'Wave Areas'!L116,(IF($B$4=\"W\",'Wave Areas'!L134,(IF($B$4=\"NW\",'Wave Areas'!Z135,0)))))))))))))))","v":0},null,2.5,{"$error":"#DIV/0!"},{"$f":"T24/($AC$33)","v":{"$error":"#DIV/0!"}},{"$f":"U24/($AC$33)","v":{"$error":"#DIV/0!"}},{"$error":"#DIV/0!"},{"$error":"#DIV/0!"},{"$error":"#DIV/0!"},{"$error":"#DIV/0!"},{"$error":"#DIV/0!"},{"$error":"#DIV/0!"},{"$error":"#DIV/0!"},{"$error":"#DIV/0!"},{"$error":"#DIV/0!"},null,2.5,{"$f":"AG24/1004","v":{"$error":"#DIV/0!"}},{"$f":"D24*AG24","v":{"$error":"#DIV/0!"}},{"$error":"#DIV/0!"},{"$error":"#DIV/0!"},{"$error":"#DIV/0!"},{"$error":"#DIV/0!"},{"$error":"#DIV/0!"},{"$error":"#DIV/0!"},{"$error":"#DIV/0!"},{"$error":"#DIV/0!"},{"$error":"#DIV/0!"},{"$error":"#DIV/0!"}]
[15397.1015625,3.5,0,{"$f":"A25*($D$16)","v":107608.63203125},127963.91134943182,{"$f":"$A25*($F$16)","v":143027.22959134617},153437.24943749997,160691.39760110292,165851.09504111842,169617.40359375,0,0,0,1028196.9186454994,null,null,null,3.5,{"$f":"IF($B$4=\"SW\",'Wave Areas'!P118,(IF($B$4=\"N\",'Wave Areas'!B81,(IF($B$4=\"NE\",'Wave Areas'!P82,(IF($B$4=\"E\",'Wave Areas'!B99,(IF($B$4=\"SE\",'Wave Areas'!P100,(IF($B$4=\"S\",'Wave Areas'!B117,(IF($B$4=\"W\",'Wave Areas'!B135,(IF($B$4=\"NW\",'Wave Areas'!P136,0)))))))))))))))","v":0},{"$f":"IF($B$4=\"SW\",'Wave Areas'!Q118,(IF($B$4=\"N\",'Wave Areas'!C81,(IF($B$4=\"NE\",'Wave Areas'!Q82,(IF($B$4=\"E\",'Wave Areas'!C99,(IF($B$4=\"SE\",'Wave Areas'!Q100,(IF($B$4=\"S\",'Wave Areas'!C117,(IF($B$4=\"W\",'Wave Areas'!C135,(IF($B$4=\"NW\",'Wave Areas'!Q136,0)))))))))))))))","v":0},{"$f":"IF($B$4=\"SW\",'Wave Areas'!R118,(IF($B$4=\"N\",'Wave Areas'!D81,(IF($B$4=\"NE\",'Wave Areas'!R82,(IF($B$4=\"E\",'Wave Areas'!D99,(IF($B$4=\"SE\",'Wave Areas'!R100,(IF($B$4=\"S\",'Wave Areas'!D117,(IF($B$4=\"W\",'Wave Areas'!D135,(IF($B$4=\"NW\",'Wave Areas'!R136,0)))))))))))))))","v":0},{"$f":"IF($B$4=\"SW\",'Wave Areas'!S118,(IF($B$4=\"N\",'Wave Areas'!E81,(IF($B$4=\"NE\",'Wave Areas'!S82,(IF($B$4=\"E\",'Wave Areas'!E99,(IF($B$4=\"SE\",'Wave Areas'!S100,(IF($B$4=\"S\",'Wave Areas'!E117,(IF($B$4=\"W\",'Wave Areas'!E135,(IF($B$4=\"NW\",'Wave Areas'!S136,0)))))))))))))))","v":0},{"$f":"IF($B$4=\"SW\",'Wave Areas'!T118,(IF($B$4=\"N\",'Wave Areas'!F81,(IF($B$4=\"NE\",'Wave Areas'!T82,(IF($B$4=\"E\",'Wave Areas'!F99,(IF($B$4=\"SE\",'Wave Areas'!T100,(IF($B$4=\"S\",'Wave Areas'!F117,(IF($B$4=\"W\",'Wave Areas'!F135,(IF($B$4=\"NW\",'Wave Areas'!T136,0)))))))))))))))","v":0},{"$f":"IF($B$4=\"SW\",'Wave Areas'!U118,(IF($B$4=\"N\",'Wave Areas'!G81,(IF($B$4=\"NE\",'Wave Areas'!U82,(IF($B$4=\"E\",'Wave Areas'!G99,(IF($B$4=\"SE\",'Wave Areas'!U100,(IF($B$4=\"S\",'Wave Areas'!G117,(IF($B$4=\"W\",'Wave Areas'!G135,(IF($B$4=\"NW\",'Wave Areas'!U136,0)))))))))))))))","v":0},{"$f":"IF($B$4=\"SW\",'Wave Areas'!V118,(IF($B$4=\"N\",'Wave Areas'!H81,(IF($B$4=\"NE\",'Wave Areas'!V82,(IF($B$4=\"E\",'Wave Areas'!H99,(IF($B$4=\"SE\",'Wave Areas'!V100,(IF($B$4=\"S\",'Wave Areas'!H117,(IF($B$4=\"W\",'Wave Areas'!H135,(IF($B$4=\"NW\",'Wave Areas'!V136,0)))))))))))))))","v":0},{"$f":"IF($B$4=\"SW\",'Wave Areas'!W118,(IF($B$4=\"N\",'Wave Areas'!I81,(IF($B$4=\"NE\",'Wave Areas'!W82,(IF($B$4=\"E\",'Wave Areas'!I99,(IF($B$4=\"SE\",'Wave Areas'!W100,(IF($B$4=\"S\",'Wave Areas'!I117,(IF($B$4=\"W\",'Wave Areas'!I135,(IF($B$4=\"NW\",'Wave Areas'!W136,0)))))))))))))))","v":0},{"$f":"IF($B$4=\"SW\",'Wave Areas'!X118,(IF($B$4=\"N\",'Wave Areas'!J81,(IF($B$4=\"NE\",'Wave Areas'!X82,(IF($B$4=\"E\",'Wave Areas'!J99,(IF($B$4=\"SE\",'Wave Areas'!X100,(IF($B$4=\"S\",'Wave Areas'!J117,(IF($B$4=\"W\",'Wave Areas'!J135,(IF($B$4=\"NW\",'Wave Areas'!X136,0)))))))))))))))","v":0},{"$f":"IF($B$4=\"SW\",'Wave Areas'!Y118,(IF($B$4=\"N\",'Wave Areas'!K81,(IF($B$4=\"NE\",'Wave Areas'!Y82,(IF($B$4=\"E\",'Wave Areas'!K99,(IF($B$4=\"SE\",'Wave Areas'!Y100,(IF($B$4=\"S\",'Wave Areas'!K117,(IF($B$4=\"W\",'Wave Areas'!K135,(IF($B$4=\"NW\",'Wave Areas'!Y136,0)))))))))))))))","v":0},{"$f":"IF($B$4=\"SW\",'Wave Areas'!Z118,(IF($B$4=\"N\",'Wave Areas'!L81,(IF($B$4=\"NE\",'Wave Areas'!Z82,(IF($B$4=\"E\",'Wave Areas'!L99,(IF($B$4=\"SE\",'Wave Areas'!Z100,(IF($B$4=\"S\",'Wave Areas'!L117,(IF($B$4=\"W\",'Wave Areas'!L135,(IF($B$4=\"NW\",'Wave Areas'!Z136,0)))))))))))))))","v":0},null,3.5,{"$error":"#DIV/0!"},{"$error":"#DIV/0!"},{"$error":"#DIV/0!"},{"$error":"#DIV/0!"},{"$error":"#DIV/0!"},{"$error":"#DIV/0!"},{"$error":"#DIV/0!"},{"$error":"#DIV/0!"},{"$error":"#DIV/0!"},{"$error":"#DIV/0!"},{"$error":"#DIV/0!"},{"$error":"#DIV/0!"},null,3.5,{"$error":"#DIV/0!"},{"$error":"#DIV/0!"},{"$error":"#DIV/0!"},{"$error":"#DIV/0!"},{"$error":"#DIV/0!"},{"$error":"#DIV/0!"},{"$error":"#DIV/0!"},{"$error":"#DIV/0!"},{"$error":"#DIV/0!"},{"$error":"#DIV/0!"},{"$error":"#DIV/0!"},{"$error":"#DIV/0!"}]
[25452.3515625,4.5,0,{"$f":"A26*($D$16)","v":177883.65703125001},211532.17998579543,{"$f":"$A26*($F$16/2)","v":118216.38364182693},253641.16743749997,265632.71848345589,274162.01425164472,280387.95287946431,0,0,0,1581456.0737109373,null,null,null,4.5,{"$f":"IF($B$4=\"SW\",'Wave Areas'!P119,(IF($B$4=\"N\",'Wave Areas'!B82,(IF($B$4=\"NE\",'Wave Areas'!P83,(IF($B$4=\"E\",'Wave Areas'!B100,(IF($B$4=\"SE\",'Wave Areas'!P101,(IF($B$4=\"S\",'Wave Areas'!B118,(IF($B$4=\"W\",'Wave Areas'!B136,(IF($B$4=\"NW\",'Wave Areas'!P137,0)))))))))))))))","v":0},{"$f":"IF($B$4=\"SW\",'Wave Areas'!Q119,(IF($B$4=\"N\",'Wave Areas'!C82,(IF($B$4=\"NE\",'Wave Areas'!Q83,(IF($B$4=\"E\",'Wave Areas'!C100,(IF($B$4=\"SE\",'Wave Areas'!Q101,(IF($B$4=\"S\",'Wave Areas'!C118,(IF($B$4=\"W\",'Wave Areas'!C136,(IF($B$4=\"NW\",'Wave Areas'!Q137,0)))))))))))))))","v":0},{"$f":"IF($B$4=\"SW\",'Wave Areas'!R119,(IF($B$4=\"N\",'Wave Areas'!D82,(IF($B$4=\"NE\",'Wave Areas'!R83,(IF($B$4=\"E\",'Wave Areas'!D100,(IF($B$4=\"SE\",'Wave Areas'!R101,(IF($B$4=\"S\",'Wave Areas'!D118,(IF($B$4=\"W\",'Wave Areas'!D136,(IF($B$4=\"NW\",'Wave Areas'!R137,0)))))))))))))))","v":0},{"$f":"IF($B$4=\"SW\",'Wave Areas'!S119,(IF($B$4=\"N\",'Wave Areas'!E82,(IF($B$4=\"NE\",'Wave Areas'!S83,(IF($B$4=\"E\",'Wave Areas'!E100,(IF($B$4=\"SE\",'Wave Areas'!S101,(IF($B$4=\"S\",'Wave Areas'!E118,(IF($B$4=\"W\",'Wave Areas'!E136,(IF($B$4=\"NW\",'Wave Areas'!S137,0)))))))))))))))","v":0},{"$f":"IF($B$4=\"SW\",'Wave Areas'!T119,(IF($B$4=\"N\",'Wave Areas'!F82,(IF($B$4=\"NE\",'Wave Areas'!T83,(IF($B$4=\"E\",'Wave Areas'!F100,(IF($B$4=\"SE\",'Wave Areas'!T101,(IF($B$4=\"S\",'Wave Areas'!F118,(IF($B$4=\"W\",'Wave Areas'!F136,(IF($B$4=\"NW\",'Wave Areas'!T137,0)))))))))))))))","v":0},{"$f":"IF($B$4=\"SW\",'Wave Areas'!U119,(IF($B$4=\"N\",'Wave Areas'!G82,(IF($B$4=\"NE\",'Wave Areas'!U83,(IF($B$4=\"E\",'Wave Areas'!G100,(IF($B$4=\"SE\",'Wave Areas'!U101,(IF($B$4=\"S\",'Wave Areas'!G118,(IF($B$4=\"W\",'Wave Areas'!G136,(IF($B$4=\"NW\",'Wave Areas'!U137,0)))))))))))))))","v":0},{"$f":"IF($B$4=\"SW\",'Wave Areas'!V119,(IF($B$4=\"N\",'Wave Areas'!H82,(IF($B$4=\"NE\",'Wave Areas'!V83,(IF($B$4=\"E\",'Wave Areas'!H100,(IF($B$4=\"SE\",'Wave Areas'!V101,(IF($B$4=\"S\",'Wave Areas'!H118,(IF($B$4=\"W\",'Wave Areas'!H136,(IF($B$4=\"NW\",'Wave Areas'!V137,0)))))))))))))))","v":0},{"$f":"IF($B$4=\"SW\",'Wave Areas'!W119,(IF($B$4=\"N\",'Wave Areas'!I82,(IF($B$4=\"NE\",'Wave Areas'!W83,(IF($B$4=\"E\",'Wave Areas'!I100,(IF($B$4=\"SE\",'Wave Areas'!W101,(IF($B$4=\"S\",'Wave Areas'!I118,(IF($B$4=\"W\",'Wave Areas'!I136,(IF($B$4=\"NW\",'Wave Areas'!W137,0)))))))))))))))","v":0},{"$f":"IF($B$4=\"SW\",'Wave Areas'!X119,(IF($B$4=\"N\",'Wave Areas'!J82,(IF($B$4=\"NE\",'Wave Areas'!X83,(IF($B$4=\"E\",'Wave Areas'!J100,(IF($B$4=\"SE\",'Wave Areas'!X101,(IF($B$4=\"S\",'Wave Areas'!J118,(IF($B$4=\"W\",'Wave Areas'!J136,(IF($B$4=\"NW\",'Wave Areas'!X137,0)))))))))))))))","v":0},{"$f":"IF($B$4=\"SW\",'Wave Areas'!Y119,(IF($B$4=\"N\",'Wave Areas'!K82,(IF($B$4=\"NE\",'Wave Areas'!Y83,(IF($B$4=\"E\",'Wave Areas'!K100,(IF($B$4=\"SE\",'Wave Areas'!Y101,(IF($B$4=\"S\",'Wave Areas'!K118,(IF($B$4=\"W\",'Wave Areas'!K136,(IF($B$4=\"NW\",'Wave Areas'!Y137,0)))))))))))))))","v":0},{"$f":"IF($B$4=\"SW\",'Wave Areas'!Z119,(IF($B$4=\"N\",'Wave Areas'!L82,(IF($B$4=\"NE\",'Wave Areas'!Z83,(IF($B$4=\"E\",'Wave Areas'!L100,(IF($B$4=\"SE\",'Wave Areas'!Z101,(IF($B$4=\"S\",'Wave Areas'!L118,(IF($B$4=\"W\",'Wave Areas'!L136,(IF($B$4=\"NW\",'Wave Areas'!Z137,0)))))))))))))))","v":0},null,4.5,{"$error":"#DIV/0!"},{"$error":"#DIV/0!"},{"$error":"#DIV/0!"},{"$error":"#DIV/0!"},{"$error":"#DIV/0!"},{"$error":"#DIV/0!"},{"$error":"#DIV/0!"},{"$error":"#DIV/0!"},{"$error":"#DIV/0!"},{"$error":"#DIV/0!"},{"$error":"#DIV/0!"},{"$error":"#DIV/0!"},null,4.5,{"$error":"#DIV/0!"},{"$error":"#DIV/0!"},{"$error":"#DIV/0!"},{"$error":"#DIV/0!"},{"$error":"#DIV/0!"},{"$error":"#DIV/0!"},{"$error":"#DIV/0!"},{"$error":"#DIV/0!"},{"$error":"#DIV/0!"},{"$error":"#DIV/0!"},{"$error":"#DIV/0!"},{"$error":"#DIV/0!"}]
[38021.4140625,5.5,0,0,315992.51578124997,{"$f":"$A27*($F$16)","v":353189.6893990385},378896.06493749993,396809.36958639702,409550.6632648026,418851.13948660716,0,0,0,2273289.4424555954,null,null,null,5.5,{"$f":"IF($B$4=\"SW\",'Wave Areas'!P120,(IF($B$4=\"N\",'Wave Areas'!B83,(IF($B$4=\"NE\",'Wave Areas'!P84,(IF($B$4=\"E\",'Wave Areas'!B101,(IF($B$4=\"SE\",'Wave Areas'!P102,(IF($B$4=\"S\",'Wave Areas'!B119,(IF($B$4=\"W\",'Wave Areas'!B137,(IF($B$4=\"NW\",'Wave Areas'!P138,0)))))))))))))))","v":0},{"$f":"IF($B$4=\"SW\",'Wave Areas'!Q120,(IF($B$4=\"N\",'Wave Areas'!C83,(IF($B$4=\"NE\",'Wave Areas'!Q84,(IF($B$4=\"E\",'Wave Areas'!C101,(IF($B$4=\"SE\",'Wave Areas'!Q102,(IF($B$4=\"S\",'Wave Areas'!C119,(IF($B$4=\"W\",'Wave Areas'!C137,(IF($B$4=\"NW\",'Wave Areas'!Q138,0)))))))))))))))","v":0},{"$f":"IF($B$4=\"SW\",'Wave Areas'!R120,(IF($B$4=\"N\",'Wave Areas'!D83,(IF($B$4=\"NE\",'Wave Areas'!R84,(IF($B$4=\"E\",'Wave Areas'!D101,(IF($B$4=\"SE\",'Wave Areas'!R102,(IF($B$4=\"S\",'Wave Areas'!D119,(IF($B$4=\"W\",'Wave Areas'!D137,(IF($B$4=\"NW\",'Wave Areas'!R138,0)))))))))))))))","v":0},{"$f":"IF($B$4=\"SW\",'Wave Areas'!S120,(IF($B$4=\"N\",'Wave Areas'!E83,(IF($B$4=\"NE\",'Wave Areas'!S84,(IF($B$4=\"E\",'Wave Areas'!E101,(IF($B$4=\"SE\",'Wave Areas'!S102,(IF($B$4=\"S\",'Wave Areas'!E119,(IF($B$4=\"W\",'Wave Areas'!E137,(IF($B$4=\"NW\",'Wave Areas'!S138,0)))))))))))))))","v":0},{"$f":"IF($B$4=\"SW\",'Wave Areas'!T120,(IF($B$4=\"N\",'Wave Areas'!F83,(IF($B$4=\"NE\",'Wave Areas'!T84,(IF($B$4=\"E\",'Wave Areas'!F101,(IF($B$4=\"SE\",'Wave Areas'!T102,(IF($B$4=\"S\",'Wave Areas'!F119,(IF($B$4=\"W\",'Wave Areas'!F137,(IF($B$4=\"NW\",'Wave Areas'!T138,0)))))))))))))))","v":0},{"$f":"IF($B$4=\"SW\",'Wave Areas'!U120,(IF($B$4=\"N\",'Wave Areas'!G83,(IF($B$4=\"NE\",'Wave Areas'!U84,(IF($B$4=\"E\",'Wave Areas'!G101,(IF($B$4=\"SE\",'Wave Areas'!U102,(IF($B$4=\"S\",'Wave Areas'!G119,(IF($B$4=\"W\",'Wave Areas'!G137,(IF($B$4=\"NW\",'Wave Areas'!U138,0)))))))))))))))","v":0},{"$f":"IF($B$4=\"SW\",'Wave Areas'!V120,(IF($B$4=\"N\",'Wave Areas'!H83,(IF($B$4=\"NE\",'Wave Areas'!V84,(IF($B$4=\"E\",'Wave Areas'!H101,(IF($B$4=\"SE\",'Wave Areas'!V102,(IF($B$4=\"S\",'Wave Areas'!H119,(IF($B$4=\"W\",'Wave Areas'!H137,(IF($B$4=\"NW\",'Wave Areas'!V138,0)))))))))))))))","v":0},{"$f":"IF($B$4=\"SW\",'Wave Areas'!W120,(IF($B$4=\"N\",'Wave Areas'!I83,(IF($B$4=\"NE\",'Wave Areas'!W84,(IF($B$4=\"E\",'Wave Areas'!I101,(IF($B$4=\"SE\",'Wave Areas'!W102,(IF($B$4=\"S\",'Wave Areas'!I119,(IF($B$4=\"W\",'Wave Areas'!I137,(IF($B$4=\"NW\",'Wave Areas'!W138,0)))))))))))))))","v":0},{"$f":"IF($B$4=\"SW\",'Wave Areas'!X120,(IF($B$4=\"N\",'Wave Areas'!J83,(IF($B$4=\"NE\",'Wave Areas'!X84,(IF($B$4=\"E\",'Wave Areas'!J101,(IF($B$4=\"SE\",'Wave Areas'!X102,(IF($B$4=\"S\",'Wave Areas'!J119,(IF($B$4=\"W\",'Wave Areas'!J137,(IF($B$4=\"NW\",'Wave Areas'!X138,0)))))))))))))))","v":0},{"$f":"IF($B$4=\"SW\",'Wave Areas'!Y120,(IF($B$4=\"N\",'Wave Areas'!K83,(IF($B$4=\"NE\",'Wave Areas'!Y84,(IF($B$4=\"E\",'Wave Areas'!K101,(IF($B$4=\"SE\",'Wave Areas'!Y102,(IF($B$4=\"S\",'Wave Areas'!K119,(IF($B$4=\"W\",'Wave Areas'!K137,(IF($B$4=\"NW\",'Wave Areas'!Y138,0)))))))))))))))","v":0},{"$f":"IF($B$4=\"SW\",'Wave Areas'!Z120,(IF($B$4=\"N\",'Wave Areas'!L83,(IF($B$4=\"NE\",'Wave Areas'!Z84,(IF($B$4=\"E\",'Wave Areas'!L101,(IF($B$4=\"SE\",'Wave Areas'!Z102,(IF($B$4=\"S\",'Wave Areas'!L119,(IF($B$4=\"W\",'Wave Areas'!L137,(IF($B$4=\"NW\",'Wave Areas'!Z138,0)))))))))))))))","v":0},null,5.5,{"$error":"#DIV/0!"},{"$error":"#DIV/0!"},{"$error":"#DIV/0!"},{"$error":"#DIV/0!"},{"$error":"#DIV/0!"},{"$error":"#DIV/0!"},{"$error":"#DIV/0!"},{"$error":"#DIV/0!"},{"$error":"#DIV/0!"},{"$error":"#DIV/0!"},{"$error":"#DIV/0!"},{"$error":"#DIV/0!"},null,5.5,{"$error":"#DIV/0!"},{"$error":"#DIV/0!"},{"$error":"#DIV/0!"},{"$error":"#DIV/0!"},{"$error":"#DIV/0!"},{"$error":"#DIV/0!"},{"$error":"#DIV/0!"},{"$error":"#DIV/0!"},{"$error":"#DIV/0!"},{"$error":"#DIV/0!"},{"$error":"#DIV/0!"},{"$error":"#DIV/0!"}]
[53104.2890625,6.5,0,0,441344.91873579542,{"$f":"$A28*($F$16/2)","v":246648.99796875002},529201.94193749991,554221.35090992646,572017.04208059201,585006.96341517859,0,0,0,2928441.2150477422,null,null,null,6.5,{"$f":"IF($B$4=\"SW\",'Wave Areas'!P121,(IF($B$4=\"N\",'Wave Areas'!B84,(IF($B$4=\"NE\",'Wave Areas'!P85,(IF($B$4=\"E\",'Wave Areas'!B102,(IF($B$4=\"SE\",'Wave Areas'!P103,(IF($B$4=\"S\",'Wave Areas'!B120,(IF($B$4=\"W\",'Wave Areas'!B138,(IF($B$4=\"NW\",'Wave Areas'!P139,0)))))))))))))))","v":0},{"$f":"IF($B$4=\"SW\",'Wave Areas'!Q121,(IF($B$4=\"N\",'Wave Areas'!C84,(IF($B$4=\"NE\",'Wave Areas'!Q85,(IF($B$4=\"E\",'Wave Areas'!C102,(IF($B$4=\"SE\",'Wave Areas'!Q103,(IF($B$4=\"S\",'Wave Areas'!C120,(IF($B$4=\"W\",'Wave Areas'!C138,(IF($B$4=\"NW\",'Wave Areas'!Q139,0)))))))))))))))","v":0},{"$f":"IF($B$4=\"SW\",'Wave Areas'!R121,(IF($B$4=\"N\",'Wave Areas'!D84,(IF($B$4=\"NE\",'Wave Areas'!R85,(IF($B$4=\"E\",'Wave Areas'!D102,(IF($B$4=\"SE\",'Wave Areas'!R103,(IF($B$4=\"S\",'Wave Areas'!D120,(IF($B$4=\"W\",'Wave Areas'!D138,(IF($B$4=\"NW\",'Wave Areas'!R139,0)))))))))))))))","v":0},{"$f":"IF($B$4=\"SW\",'Wave Areas'!S121,(IF($B$4=\"N\",'Wave Areas'!E84,(IF($B$4=\"NE\",'Wave Areas'!S85,(IF($B$4=\"E\",'Wave Areas'!E102,(IF($B$4=\"SE\",'Wave Areas'!S103,(IF($B$4=\"S\",'Wave Areas'!E120,(IF($B$4=\"W\",'Wave Areas'!E138,(IF($B$4=\"NW\",'Wave Areas'!S139,0)))))))))))))))","v":0},{"$f":"IF($B$4=\"SW\",'Wave Areas'!T121,(IF($B$4=\"N\",'Wave Areas'!F84,(IF($B$4=\"NE\",'Wave Areas'!T85,(IF($B$4=\"E\",'Wave Areas'!F102,(IF($B$4=\"SE\",'Wave Areas'!T103,(IF($B$4=\"S\",'Wave Areas'!F120,(IF($B$4=\"W\",'Wave Areas'!F138,(IF($B$4=\"NW\",'Wave Areas'!T139,0)))))))))))))))","v":0},{"$f":"IF($B$4=\"SW\",'Wave Areas'!U121,(IF($B$4=\"N\",'Wave Areas'!G84,(IF($B$4=\"NE\",'Wave Areas'!U85,(IF($B$4=\"E\",'Wave Areas'!G102,(IF($B$4=\"SE\",'Wave Areas'!U103,(IF($B$4=\"S\",'Wave Areas'!G120,(IF($B$4=\"W\",'Wave Areas'!G138,(IF($B$4=\"NW\",'Wave Areas'!U139,0)))))))))))))))","v":0},{"$f":"IF($B$4=\"SW\",'Wave Areas'!V121,(IF($B$4=\"N\",'Wave Areas'!H84,(IF($B$4=\"NE\",'Wave Areas'!V85,(IF($B$4=\"E\",'Wave Areas'!H102,(IF($B$4=\"SE\",'Wave Areas'!V103,(IF($B$4=\"S\",'Wave Areas'!H120,(IF($B$4=\"W\",'Wave Areas'!H138,(IF($B$4=\"NW\",'Wave Areas'!V139,0)))))))))))))))","v":0},{"$f":"IF($B$4=\"SW\",'Wave Areas'!W121,(IF($B$4=\"N\",'Wave Areas'!I84,(IF($B$4=\"NE\",'Wave Areas'!W85,(IF($B$4=\"E\",'Wave Areas'!I102,(IF($B$4=\"SE\",'Wave Areas'!W103,(IF($B$4=\"S\",'Wave Areas'!I120,(IF($B$4=\"W\",'Wave Areas'!I138,(IF($B$4=\"NW\",'Wave Areas'!W139,0)))))))))))))))","v":0},{"$f":"IF($B$4=\"SW\",'Wave Areas'!X121,(IF($B$4=\"N\",'Wave Areas'!J84,(IF($B$4=\"NE\",'Wave Areas'!X85,(IF($B$4=\"E\",'Wave Areas'!J102,(IF($B$4=\"SE\",'Wave Areas'!X103,(IF($B$4=\"S\",'Wave Areas'!J120,(IF($B$4=\"W\",'Wave Areas'!J138,(IF($B$4=\"NW\",'Wave Areas'!X139,0)))))))))))))))","v":0},{"$f":"IF($B$4=\"SW\",'Wave Areas'!Y121,(IF($B$4=\"N\",'Wave Areas'!K84,(IF($B$4=\"NE\",'Wave Areas'!Y85,(IF($B$4=\"E\",'Wave Areas'!K102,(IF($B$4=\"SE\",'Wave Areas'!Y103,(IF($B$4=\"S\",'Wave Areas'!K120,(IF($B$4=\"W\",'Wave Areas'!K138,(IF($B$4=\"NW\",'Wave Areas'!Y139,0)))))))))))))))","v":0},{"$f":"IF($B$4=\"SW\",'Wave Areas'!Z121,(IF($B$4=\"N\",'Wave Areas'!L84,(IF($B$4=\"NE\",'Wave Areas'!Z85,(IF($B$4=\"E\",'Wave Areas'!L102,(IF($B$4=\"SE\",'Wave Areas'!Z103,(IF($B$4=\"S\",'Wave Areas'!L120,(IF($B$4=\"W\",'Wave Areas'!L138,(IF($B$4=\"NW\",'Wave Areas'!Z139,0)))))))))))))))","v":0},null,6.5,{"$error":"#DIV/0!"},{"$error":"#DIV/0!"},{"$error":"#DIV/0!"},{"$error":"#DIV/0!"},{"$error":"#DIV/0!"},{"$error":"#DIV/0!"},{"$error":"#DIV/0!"},{"$error":"#DIV/0!"},{"$error":"#DIV/0!"},{"$error":"#DIV/0!"},{"$error":"#DIV/0!"},{"$error":"#DIV/0!"},null,6.5,{"$error":"#DIV/0!"},{"$error":"#DIV/0!"},{"$error":"#DIV/0!"},{"$error":"#DIV/0!"},{"$error":"#DIV/0!"},{"$error":"#DIV/0!"},{"$error":"#DIV/0!"},{"$error":"#DIV/0!"},{"$error":"#DIV/0!"},{"$error":"#DIV/0!"},{"$error":"#DIV/0!"},{"$error":"#DIV/0!"}]
[70700.9765625,7.5,0,0,0,{"$f":"$A29*($F$16)","v":656757.6868990385},704558.79843749991,737868.6624540441,761561.15069901303,0,0,0,0,2860746.2984895953,null,null,null,7.5,{"$f":"IF($B$4=\"SW\",'Wave Areas'!P122,(IF($B$4=\"N\",'Wave Areas'!B85,(IF($B$4=\"NE\",'Wave Areas'!P86,(IF($B$4=\"E\",'Wave Areas'!B103,(IF($B$4=\"SE\",'Wave Areas'!P104,(IF($B$4=\"S\",'Wave Areas'!B121,(IF($B$4=\"W\",'Wave Areas'!B139,(IF($B$4=\"NW\",'Wave Areas'!P140,0)))))))))))))))","v":0},{"$f":"IF($B$4=\"SW\",'Wave Areas'!Q122,(IF($B$4=\"N\",'Wave Areas'!C85,(IF($B$4=\"NE\",'Wave Areas'!Q86,(IF($B$4=\"E\",'Wave Areas'!C103,(IF($B$4=\"SE\",'Wave Areas'!Q104,(IF($B$4=\"S\",'Wave Areas'!C121,(IF($B$4=\"W\",'Wave Areas'!C139,(IF($B$4=\"NW\",'Wave Areas'!Q140,0)))))))))))))))","v":0},{"$f":"IF($B$4=\"SW\",'Wave Areas'!R122,(IF($B$4=\"N\",'Wave Areas'!D85,(IF($B$4=\"NE\",'Wave Areas'!R86,(IF($B$4=\"E\",'Wave Areas'!D103,(IF($B$4=\"SE\",'Wave Areas'!R104,(IF($B$4=\"S\",'Wave Areas'!D121,(IF($B$4=\"W\",'Wave Areas'!D139,(IF($B$4=\"NW\",'Wave Areas'!R140,0)))))))))))))))","v":0},{"$f":"IF($B$4=\"SW\",'Wave Areas'!S122,(IF($B$4=\"N\",'Wave Areas'!E85,(IF($B$4=\"NE\",'Wave Areas'!S86,(IF($B$4=\"E\",'Wave Areas'!E103,(IF($B$4=\"SE\",'Wave Areas'!S104,(IF($B$4=\"S\",'Wave Areas'!E121,(IF($B$4=\"W\",'Wave Areas'!E139,(IF($B$4=\"NW\",'Wave Areas'!S140,0)))))))))))))))","v":0},{"$f":"IF($B$4=\"SW\",'Wave Areas'!T122,(IF($B$4=\"N\",'Wave Areas'!F85,(IF($B$4=\"NE\",'Wave Areas'!T86,(IF($B$4=\"E\",'Wave Areas'!F103,(IF($B$4=\"SE\",'Wave Areas'!T104,(IF($B$4=\"S\",'Wave Areas'!F121,(IF($B$4=\"W\",'Wave Areas'!F139,(IF($B$4=\"NW\",'Wave Areas'!T140,0)))))))))))))))","v":0},{"$f":"IF($B$4=\"SW\",'Wave Areas'!U122,(IF($B$4=\"N\",'Wave Areas'!G85,(IF($B$4=\"NE\",'Wave Areas'!U86,(IF($B$4=\"E\",'Wave Areas'!G103,(IF($B$4=\"SE\",'Wave Areas'!U104,(IF($B$4=\"S\",'Wave Areas'!G121,(IF($B$4=\"W\",'Wave Areas'!G139,(IF($B$4=\"NW\",'Wave Areas'!U140,0)))))))))))))))","v":0},{"$f":"IF($B$4=\"SW\",'Wave Areas'!V122,(IF($B$4=\"N\",'Wave Areas'!H85,(IF($B$4=\"NE\",'Wave Areas'!V86,(IF($B$4=\"E\",'Wave Areas'!H103,(IF($B$4=\"SE\",'Wave Areas'!V104,(IF($B$4=\"S\",'Wave Areas'!H121,(IF($B$4=\"W\",'Wave Areas'!H139,(IF($B$4=\"NW\",'Wave Areas'!V140,0)))))))))))))))","v":0},{"$f":"IF($B$4=\"SW\",'Wave Areas'!W122,(IF($B$4=\"N\",'Wave Areas'!I85,(IF($B$4=\"NE\",'Wave Areas'!W86,(IF($B$4=\"E\",'Wave Areas'!I103,(IF($B$4=\"SE\",'Wave Areas'!W104,(IF($B$4=\"S\",'Wave Areas'!I121,(IF($B$4=\"W\",'Wave Areas'!I139,(IF($B$4=\"NW\",'Wave Areas'!W140,0)))))))))))))))","v":0},{"$f":"IF($B$4=\"SW\",'Wave Areas'!X122,(IF($B$4=\"N\",'Wave Areas'!J85,(IF($B$4=\"NE\",'Wave Areas'!X86,(IF($B$4=\"E\",'Wave Areas'!J103,(IF($B$4=\"SE\",'Wave Areas'!X104,(IF($B$4=\"S\",'Wave Areas'!J121,(IF($B$4=\"W\",'Wave Areas'!J139,(IF($B$4=\"NW\",'Wave Areas'!X140,0)))))))))))))))","v":0},{"$f":"IF($B$4=\"SW\",'Wave Areas'!Y122,(IF($B$4=\"N\",'Wave Areas'!K85,(IF($B$4=\"NE\",'Wave Areas'!Y86,(IF($B$4=\"E\",'Wave Areas'!K103,(IF($B$4=\"SE\",'Wave Areas'!Y104,(IF($B$4=\"S\",'Wave Areas'!K121,(IF($B$4=\"W\",'Wave Areas'!K139,(IF($B$4=\"NW\",'Wave Areas'!Y140,0)))))))))))))))","v":0},{"$f":"IF($B$4=\"SW\",'Wave Areas'!Z122,(IF($B$4=\"N\",'Wave Areas'!L85,(IF($B$4=\"NE\",'Wave Areas'!Z86,(IF($B$4=\"E\",'Wave Areas'!L103,(IF($B$4=\"SE\",'Wave Areas'!Z104,(IF($B$4=\"S\",'Wave Areas'!L121,(IF($B$4=\"W\",'Wave Areas'!L139,(IF($B$4=\"NW\",'Wave Areas'!Z140,0)))))))))))))))","v":0},null,7.5,{"$error":"#DIV/0!"},{"$error":"#DIV/0!"},{"$error":"#DIV/0!"},{"$error":"#DIV/0!"},{"$error":"#DIV/0!"},{"$error":"#DIV/0!"},{"$error":"#DIV/0!"},{"$error":"#DIV/0!"},{"$error":"#DIV/0!"},{"$error":"#DIV/0!"},{"$error":"#DIV/0!"},{"$error":"#DIV/0!"},null,7.5,{"$error":"#DIV/0!"},{"$error":"#DIV/0!"},{"$f":"AI29/1004","v":{"$error":"#DIV/0!"}},{"$error":"#DIV/0!"},{"$error":"#DIV/0!"},{"$error":"#DIV/0!"},{"$error":"#DIV/0!"},{"$f":"AN29/1004","v":{"$error":"#DIV/0!"}},{"$error":"#DIV/0!"},{"$error":"#DIV/0!"},{"$error":"#DIV/0!"},{"$error":"#DIV/0!"}]
[90811.4765625,8.5,0,0,0,{"$f":"$A30*($F$16)","v":843568.76228365384},904966.63443749992,947751.30421874998,978182.9891200657,0,0,0,0,3674469.6900599697,null,null,null,8.5,{"$f":"IF($B$4=\"SW\",'Wave Areas'!P123,(IF($B$4=\"N\",'Wave Areas'!B86,(IF($B$4=\"NE\",'Wave Areas'!P87,(IF($B$4=\"E\",'Wave Areas'!B104,(IF($B$4=\"SE\",'Wave Areas'!P105,(IF($B$4=\"S\",'Wave Areas'!B122,(IF($B$4=\"W\",'Wave Areas'!B140,(IF($B$4=\"NW\",'Wave Areas'!P141,0)))))))))))))))","v":0},{"$f":"IF($B$4=\"SW\",'Wave Areas'!Q123,(IF($B$4=\"N\",'Wave Areas'!C86,(IF($B$4=\"NE\",'Wave Areas'!Q87,(IF($B$4=\"E\",'Wave Areas'!C104,(IF($B$4=\"SE\",'Wave Areas'!Q105,(IF($B$4=\"S\",'Wave Areas'!C122,(IF($B$4=\"W\",'Wave Areas'!C140,(IF($B$4=\"NW\",'Wave Areas'!Q141,0)))))))))))))))","v":0},{"$f":"IF($B$4=\"SW\",'Wave Areas'!R123,(IF($B$4=\"N\",'Wave Areas'!D86,(IF($B$4=\"NE\",'Wave Areas'!R87,(IF($B$4=\"E\",'Wave Areas'!D104,(IF($B$4=\"SE\",'Wave Areas'!R105,(IF($B$4=\"S\",'Wave Areas'!D122,(IF($B$4=\"W\",'Wave Areas'!D140,(IF($B$4=\"NW\",'Wave Areas'!R141,0)))))))))))))))","v":0},{"$f":"IF($B$4=\"SW\",'Wave Areas'!S123,(IF($B$4=\"N\",'Wave Areas'!E86,(IF($B$4=\"NE\",'Wave Areas'!S87,(IF($B$4=\"E\",'Wave Areas'!E104,(IF($B$4=\"SE\",'Wave Areas'!S105,(IF($B$4=\"S\",'Wave Areas'!E122,(IF($B$4=\"W\",'Wave Areas'!E140,(IF($B$4=\"NW\",'Wave Areas'!S141,0)))))))))))))))","v":0},{"$f":"IF($B$4=\"SW\",'Wave Areas'!T123,(IF($B$4=\"N\",'Wave Areas'!F86,(IF($B$4=\"NE\",'Wave Areas'!T87,(IF($B$4=\"E\",'Wave Areas'!F104,(IF($B$4=\"SE\",'Wave Areas'!T105,(IF($B$4=\"S\",'Wave Areas'!F122,(IF($B$4=\"W\",'Wave Areas'!F140,(IF($B$4=\"NW\",'Wave Areas'!T141,0)))))))))))))))","v":0},{"$f":"IF($B$4=\"SW\",'Wave Areas'!U123,(IF($B$4=\"N\",'Wave Areas'!G86,(IF($B$4=\"NE\",'Wave Areas'!U87,(IF($B$4=\"E\",'Wave Areas'!G104,(IF($B$4=\"SE\",'Wave Areas'!U105,(IF($B$4=\"S\",'Wave Areas'!G122,(IF($B$4=\"W\",'Wave Areas'!G140,(IF($B$4=\"NW\",'Wave Areas'!U141,0)))))))))))))))","v":0},{"$f":"IF($B$4=\"SW\",'Wave Areas'!V123,(IF($B$4=\"N\",'Wave Areas'!H86,(IF($B$4=\"NE\",'Wave Areas'!V87,(IF($B$4=\"E\",'Wave Areas'!H104,(IF($B$4=\"SE\",'Wave Areas'!V105,(IF($B$4=\"S\",'Wave Areas'!H122,(IF($B$4=\"W\",'Wave Areas'!H140,(IF($B$4=\"NW\",'Wave Areas'!V141,0)))))))))))))))","v":0},{"$f":"IF($B$4=\"SW\",'Wave Areas'!W123,(IF($B$4=\"N\",'Wave Areas'!I86,(IF($B$4=\"NE\",'Wave Areas'!W87,(IF($B$4=\"E\",'Wave Areas'!I104,(IF($B$4=\"SE\",'Wave Areas'!W105,(IF($B$4=\"S\",'Wave Areas'!I122,(IF($B$4=\"W\",'Wave Areas'!I140,(IF($B$4=\"NW\",'Wave Areas'!W141,0)))))))))))))))","v":0},{"$f":"IF($B$4=\"SW\",'Wave Areas'!X123,(IF($B$4=\"N\",'Wave Areas'!J86,(IF($B$4=\"NE\",'Wave Areas'!X87,(IF($B$4=\"E\",'Wave Areas'!J104,(IF($B$4=\"SE\",'Wave Areas'!X105,(IF($B$4=\"S\",'Wave Areas'!J122,(IF($B$4=\"W\",'Wave Areas'!J140,(IF($B$4=\"NW\",'Wave Areas'!X141,0)))))))))))))))","v":0},{"$f":"IF($B$4=\"SW\",'Wave Areas'!Y123,(IF($B$4=\"N\",'Wave Areas'!K86,(IF($B$4=\"NE\",'Wave Areas'!Y87,(IF($B$4=\"E\",'Wave Areas'!K104,(IF($B$4=\"SE\",'Wave Areas'!Y105,(IF($B$4=\"S\",'Wave Areas'!K122,(IF($B$4=\"W\",'Wave Areas'!K140,(IF($B$4=\"NW\",'Wave Areas'!Y141,0)))))))))))))))","v":0},{"$f":"IF($B$4=\"SW\",'Wave Areas'!Z123,(IF($B$4=\"N\",'Wave Areas'!L86,(IF($B$4=\"NE\",'Wave Areas'!Z87,(IF($B$4=\"E\",'Wave Areas'!L104,(IF($B$4=\"SE\",'Wave Areas'!Z105,(IF($B$4=\"S\",'Wave Areas'!L122,(IF($B$4=\"W\",'Wave Areas'!L140,(IF($B$4=\"NW\",'Wave Areas'!Z141,0)))))))))))))))","v":0},null,8.5,{"$error":"#DIV/0!"},{"$error":"#DIV/0!"},{"$error":"#DIV/0!"},{"$error":"#DIV/0!"},{"$error":"#DIV/0!"},{"$error":"#DIV/0!"},{"$error":"#DIV/0!"},{"$error":"#DIV/0!"},{"$error":"#DIV/0!"},{"$error":"#DIV/0!"},{"$error":"#DIV/0!"},{"$error":"#DIV/0!"},null,8.5,{"$error":"#DIV/0!"},{"$error":"#DIV/0!"},{"$f":"AI30/1004","v":{"$error":"#DIV/0!"}},{"$error":"#DIV/0!"},{"$error":"#DIV/0!"},{"$error":"#DIV/0!"},{"$error":"#DIV/0!"},{"$f":"AN30/1004","v":{"$error":"#DIV/0!"}},{"$error":"#DIV/0!"},{"$error":"#DIV/0!"},{"$error":"#DIV/0!"},{"$error":"#DIV/0!"}]
[113435.7890625,9.5,0,0,0,0,1130425.4499374998,1183869.276204044,0,0,0,0,0,2314294.7261415441,null,null,null,9.5,{"$f":"IF($B$4=\"SW\",'Wave Areas'!P124,(IF($B$4=\"N\",'Wave Areas'!B87,(IF($B$4=\"NE\",'Wave Areas'!P88,(IF($B$4=\"E\",'Wave Areas'!B105,(IF($B$4=\"SE\",'Wave Areas'!P106,(IF($B$4=\"S\",'Wave Areas'!B123,(IF($B$4=\"W\",'Wave Areas'!B141,(IF($B$4=\"NW\",'Wave Areas'!P142,0)))))))))))))))","v":0},{"$f":"IF($B$4=\"SW\",'Wave Areas'!Q124,(IF($B$4=\"N\",'Wave Areas'!C87,(IF($B$4=\"NE\",'Wave Areas'!Q88,(IF($B$4=\"E\",'Wave Areas'!C105,(IF($B$4=\"SE\",'Wave Areas'!Q106,(IF($B$4=\"S\",'Wave Areas'!C123,(IF($B$4=\"W\",'Wave Areas'!C141,(IF($B$4=\"NW\",'Wave Areas'!Q142,0)))))))))))))))","v":0},{"$f":"IF($B$4=\"SW\",'Wave Areas'!R124,(IF($B$4=\"N\",'Wave Areas'!D87,(IF($B$4=\"NE\",'Wave Areas'!R88,(IF($B$4=\"E\",'Wave Areas'!D105,(IF($B$4=\"SE\",'Wave Areas'!R106,(IF($B$4=\"S\",'Wave Areas'!D123,(IF($B$4=\"W\",'Wave Areas'!D141,(IF($B$4=\"NW\",'Wave Areas'!R142,0)))))))))))))))","v":0},{"$f":"IF($B$4=\"SW\",'Wave Areas'!S124,(IF($B$4=\"N\",'Wave Areas'!E87,(IF($B$4=\"NE\",'Wave Areas'!S88,(IF($B$4=\"E\",'Wave Areas'!E105,(IF($B$4=\"SE\",'Wave Areas'!S106,(IF($B$4=\"S\",'Wave Areas'!E123,(IF($B$4=\"W\",'Wave Areas'!E141,(IF($B$4=\"NW\",'Wave Areas'!S142,0)))))))))))))))","v":0},{"$f":"IF($B$4=\"SW\",'Wave Areas'!T124,(IF($B$4=\"N\",'Wave Areas'!F87,(IF($B$4=\"NE\",'Wave Areas'!T88,(IF($B$4=\"E\",'Wave Areas'!F105,(IF($B$4=\"SE\",'Wave Areas'!T106,(IF($B$4=\"S\",'Wave Areas'!F123,(IF($B$4=\"W\",'Wave Areas'!F141,(IF($B$4=\"NW\",'Wave Areas'!T142,0)))))))))))))))","v":0},{"$f":"IF($B$4=\"SW\",'Wave Areas'!U124,(IF($B$4=\"N\",'Wave Areas'!G87,(IF($B$4=\"NE\",'Wave Areas'!U88,(IF($B$4=\"E\",'Wave Areas'!G105,(IF($B$4=\"SE\",'Wave Areas'!U106,(IF($B$4=\"S\",'Wave Areas'!G123,(IF($B$4=\"W\",'Wave Areas'!G141,(IF($B$4=\"NW\",'Wave Areas'!U142,0)))))))))))))))","v":0},{"$f":"IF($B$4=\"SW\",'Wave Areas'!V124,(IF($B$4=\"N\",'Wave Areas'!H87,(IF($B$4=\"NE\",'Wave Areas'!V88,(IF($B$4=\"E\",'Wave Areas'!H105,(IF($B$4=\"SE\",'Wave Areas'!V106,(IF($B$4=\"S\",'Wave Areas'!H123,(IF($B$4=\"W\",'Wave Areas'!H141,(IF($B$4=\"NW\",'Wave Areas'!V142,0)))))))))))))))","v":0},{"$f":"IF($B$4=\"SW\",'Wave Areas'!W124,(IF($B$4=\"N\",'Wave Areas'!I87,(IF($B$4=\"NE\",'Wave Areas'!W88,(IF($B$4=\"E\",'Wave Areas'!I105,(IF($B$4=\"SE\",'Wave Areas'!W106,(IF($B$4=\"S\",'Wave Areas'!I123,(IF($B$4=\"W\",'Wave Areas'!I141,(IF($B$4=\"NW\",'Wave Areas'!W142,0)))))))))))))))","v":0},{"$f":"IF($B$4=\"SW\",'Wave Areas'!X124,(IF($B$4=\"N\",'Wave Areas'!J87,(IF($B$4=\"NE\",'Wave Areas'!X88,(IF($B$4=\"E\",'Wave Areas'!J105,(IF($B$4=\"SE\",'Wave Areas'!X106,(IF($B$4=\"S\",'Wave Areas'!J123,(IF($B$4=\"W\",'Wave Areas'!J141,(IF($B$4=\"NW\",'Wave Areas'!X142,0)))))))))))))))","v":0},{"$f":"IF($B$4=\"SW\",'Wave Areas'!Y124,(IF($B$4=\"N\",'Wave Areas'!K87,(IF($B$4=\"NE\",'Wave Areas'!Y88,(IF($B$4=\"E\",'Wave Areas'!K105,(IF($B$4=\"SE\",'Wave Areas'!Y106,(IF($B$4=\"S\",'Wave Areas'!K123,(IF($B$4=\"W\",'Wave Areas'!K141,(IF($B$4=\"NW\",'Wave Areas'!Y142,0)))))))))))))))","v":0},{"$f":"IF($B$4=\"SW\",'Wave Areas'!Z124,(IF($B$4=\"N\",'Wave Areas'!L87,(IF($B$4=\"NE\",'Wave Areas'!Z88,(IF($B$4=\"E\",'Wave Areas'!L105,(IF($B$4=\"SE\",'Wave Areas'!Z106,(IF($B$4=\"S\",'Wave Areas'!L123,(IF($B$4=\"W\",'Wave Areas'!L141,(IF($B$4=\"NW\",'Wave Areas'!Z142,0)))))))))))))))","v":0},null,9.5,{"$error":"#DIV/0!"},{"$error":"#DIV/0!"},{"$error":"#DIV/0!"},{"$error":"#DIV/0!"},{"$error":"#DIV/0!"},{"$error":"#DIV/0!"},{"$error":"#DIV/0!"},{"$error":"#DIV/0!"},{"$error":"#DIV/0!"},{"$error":"#DIV/0!"},{"$error":"#DIV/0!"},{"$error":"#DIV/0!"},null,9.5,{"$error":"#DIV/0!"},{"$error":"#DIV/0!"},{"$f":"AI31/1004","v":{"$error":"#DIV/0!"}},{"$f":"AJ31/1004","v":{"$error":"#DIV/0!"}},{"$f":"G31*AJ31","v":{"$error":"#DIV/0!"}},{"$f":"H31*AK31","v":{"$error":"#DIV/0!"}},{"$f":"AM31/1004","v":{"$error":"#DIV/0!"}},{"$f":"AN31/1004","v":{"$error":"#DIV/0!"}},{"$error":"#DIV/0!"},{"$error":"#DIV/0!"},{"$error":"#DIV/0!"},{"$error":"#DIV/0!"}]
[138573.9140625,10.5,0,0,0,0,0,0,0,0,0,0,0,0,null,null,null,10.5,{"$f":"IF($B$4=\"SW\",'Wave Areas'!P125,(IF($B$4=\"N\",'Wave Areas'!B88,(IF($B$4=\"NE\",'Wave Areas'!P89,(IF($B$4=\"E\",'Wave Areas'!B106,(IF($B$4=\"SE\",'Wave Areas'!P107,(IF($B$4=\"S\",'Wave Areas'!B124,(IF($B$4=\"W\",'Wave Areas'!B142,(IF($B$4=\"NW\",'Wave Areas'!P143,0)))))))))))))))","v":0},{"$f":"IF($B$4=\"SW\",'Wave Areas'!Q125,(IF($B$4=\"N\",'Wave Areas'!C88,(IF($B$4=\"NE\",'Wave Areas'!Q89,(IF($B$4=\"E\",'Wave Areas'!C106,(IF($B$4=\"SE\",'Wave Areas'!Q107,(IF($B$4=\"S\",'Wave Areas'!C124,(IF($B$4=\"W\",'Wave Areas'!C142,(IF($B$4=\"NW\",'Wave Areas'!Q143,0)))))))))))))))","v":0},{"$f":"IF($B$4=\"SW\",'Wave Areas'!R125,(IF($B$4=\"N\",'Wave Areas'!D88,(IF($B$4=\"NE\",'Wave Areas'!R89,(IF($B$4=\"E\",'Wave Areas'!D106,(IF($B$4=\"SE\",'Wave Areas'!R107,(IF($B$4=\"S\",'Wave Areas'!D124,(IF($B$4=\"W\",'Wave Areas'!D142,(IF($B$4=\"NW\",'Wave Areas'!R143,0)))))))))))))))","v":0},{"$f":"IF($B$4=\"SW\",'Wave Areas'!S125,(IF($B$4=\"N\",'Wave Areas'!E88,(IF($B$4=\"NE\",'Wave Areas'!S89,(IF($B$4=\"E\",'Wave Areas'!E106,(IF($B$4=\"SE\",'Wave Areas'!S107,(IF($B$4=\"S\",'Wave Areas'!E124,(IF($B$4=\"W\",'Wave Areas'!E142,(IF($B$4=\"NW\",'Wave Areas'!S143,0)))))))))))))))","v":0},{"$f":"IF($B$4=\"SW\",'Wave Areas'!T125,(IF($B$4=\"N\",'Wave Areas'!F88,(IF($B$4=\"NE\",'Wave Areas'!T89,(IF($B$4=\"E\",'Wave Areas'!F106,(IF($B$4=\"SE\",'Wave Areas'!T107,(IF($B$4=\"S\",'Wave Areas'!F124,(IF($B$4=\"W\",'Wave Areas'!F142,(IF($B$4=\"NW\",'Wave Areas'!T143,0)))))))))))))))","v":0},{"$f":"IF($B$4=\"SW\",'Wave Areas'!U125,(IF($B$4=\"N\",'Wave Areas'!G88,(IF($B$4=\"NE\",'Wave Areas'!U89,(IF($B$4=\"E\",'Wave Areas'!G106,(IF($B$4=\"SE\",'Wave Areas'!U107,(IF($B$4=\"S\",'Wave Areas'!G124,(IF($B$4=\"W\",'Wave Areas'!G142,(IF($B$4=\"NW\",'Wave Areas'!U143,0)))))))))))))))","v":0},{"$f":"IF($B$4=\"SW\",'Wave Areas'!V125,(IF($B$4=\"N\",'Wave Areas'!H88,(IF($B$4=\"NE\",'Wave Areas'!V89,(IF($B$4=\"E\",'Wave Areas'!H106,(IF($B$4=\"SE\",'Wave Areas'!V107,(IF($B$4=\"S\",'Wave Areas'!H124,(IF($B$4=\"W\",'Wave Areas'!H142,(IF($B$4=\"NW\",'Wave Areas'!V143,0)))))))))))))))","v":0},{"$f":"IF($B$4=\"SW\",'Wave Areas'!W125,(IF($B$4=\"N\",'Wave Areas'!I88,(IF($B$4=\"NE\",'Wave Areas'!W89,(IF($B$4=\"E\",'Wave Areas'!I106,(IF($B$4=\"SE\",'Wave Areas'!W107,(IF($B$4=\"S\",'Wave Areas'!I124,(IF($B$4=\"W\",'Wave Areas'!I142,(IF($B$4=\"NW\",'Wave Areas'!W143,0)))))))))))))))","v":0},{"$f":"IF($B$4=\"SW\",'Wave Areas'!X125,(IF($B$4=\"N\",'Wave Areas'!J88,(IF($B$4=\"NE\",'Wave Areas'!X89,(IF($B$4=\"E\",'Wave Areas'!J106,(IF($B$4=\"SE\",'Wave Areas'!X107,(IF($B$4=\"S\",'Wave Areas'!J124,(IF($B$4=\"W\",'Wave Areas'!J142,(IF($B$4=\"NW\",'Wave Areas'!X143,0)))))))))))))))","v":0},{"$f":"IF($B$4=\"SW\",'Wave Areas'!Y125,(IF($B$4=\"N\",'Wave Areas'!K88,(IF($B$4=\"NE\",'Wave Areas'!Y89,(IF($B$4=\"E\",'Wave Areas'!K106,(IF($B$4=\"SE\",'Wave Areas'!Y107,(IF($B$4=\"S\",'Wave Areas'!K124,(IF($B$4=\"W\",'Wave Areas'!K142,(IF($B$4=\"NW\",'Wave Areas'!Y143,0)))))))))))))))","v":0},{"$f":"IF($B$4=\"SW\",'Wave Areas'!Z125,(IF($B$4=\"N\",'Wave Areas'!L88,(IF($B$4=\"NE\",'Wave Areas'!Z89,(IF($B$4=\"E\",'Wave Areas'!L106,(IF($B$4=\"SE\",'Wave Areas'!Z107,(IF($B$4=\"S\",'Wave Areas'!L124,(IF($B$4=\"W\",'Wave Areas'!L142,(IF($B$4=\"NW\",'Wave Areas'!Z143,0)))))))))))))))","v":0},null,10.5,{"$f":"S32/($AC$33)","v":{"$error":"#DIV/0!"}},{"$error":"#DIV/0!"},{"$error":"#DIV/0!"},{"$error":"#DIV/0!"},{"$error":"#DIV/0!"},{"$error":"#DIV/0!"},{"$error":"#DIV/0!"},{"$error":"#DIV/0!"},{"$error":"#DIV/0!"},{"$error":"#DIV/0!"},{"$error":"#DIV/0!"},{"$error":"#DIV/0!"},null,10.5,{"$error":"#DIV/0!"},{"$error":"#DIV/0!"},{"$f":"AI32/1004","v":{"$error":"#DIV/0!"}},{"$f":"AJ32/1004","v":{"$error":"#DIV/0!"}},{"$f":"AK32/1004","v":{"$error":"#DIV/0!"}},{"$f":"AL32/1004","v":{"$error":"#DIV/0!"}},{"$f":"AM32/1004","v":{"$error":"#DIV/0!"}},{"$f":"AN32/1004","v":{"$error":"#DIV/0!"}},{"$error":"#DIV/0!"},{"$error":"#DIV/0!"},{"$error":"#DIV/0!"},{"$error":"#DIV/0!"}]
["Sub Totals",null,{"$f":"SUM(C22:C32)","v":17165.748214285715},362355.59765625,1188236.3196732954,2463571.0566346156,4164725.341874999,4361623.6491727941,3276405.3061184208,1571557.1679910715,0,0,0,{"$f":"SUM(N22:N31)","v":17405640.18733573},"Total",null,null,"Total Occurences",null,null,null,null,null,null,null,null,null,null,{"$f":"SUM(S22:AC32)","v":0},null,null,null,null,null,null,null,null,null,null,null,null,null,null,null,"Sub Totals",{"$f":"SUM(AT22:AT32)","v":{"$error":"#DIV/0!"}},{"$error":"#DIV/0!"},{"$error":"#DIV/0!"},{"$error":"#DIV/0!"},{"$error":"#DIV/0!"},{"$error":"#DIV/0!"},{"$error":"#DIV/0!"},{"$error":"#DIV/0!"},{"$error":"#DIV/0!"},{"$error":"#DIV/0!"},{"$error":"#DIV/0!"},{"$f":"SUM(BE22:BE31)","v":{"$error":"#DIV/0!"}},"Total"]
[]
[null,null,null,null,null,null,null,null,null,null,null,null,null,null,null,null,null,null,null,null,null,null,null,null,null,null,null,null,null,null,null,null,null,null,null,null,null,null,null,null,null,null,null,null,null,null,null,null,null,null,null,null,null,null,null,null,"Min","Max"]
[null,null,null,null,null,null,null,null,null,null,null,null,null,null,null,null,null,null,null,null,null,null,null,null,null,null,null,null,null,null,null,null,null,null,null,null,null,null,null,null,null,null,null,null,null,null,null,null,null,null,null,null,null,"Relevant Wave Heights",null,null,{"$f":"IF((AND($B$6>AS22,$B$6<AS23)),AS22,(IF((AND($B$6>AS23,$B$6<AS24)),AS23,(IF((AND($B$6>AS24,$B$6<AS25)),AS24,(IF((AND($B$6>AS25,$B$6<AS26)),AS25,(IF((AND($B$6>AS26,$B$6<AS27)),AS26,(IF((AND($B$6>AS27,$B$6<AS28)),AS27,(IF((AND($B$6>AS28,$B$6<AS29)),AS28,(IF((AND($B$6>AS29,$B$6<AS30)),AS29,(IF((AND($B$6>AS30,$B$6<AS31)),AS30,(IF((AND($B$6>AS31,$B$6<AS32)),AS31,(IF($B$6>AS32,AS32,\"\")))))))))))))))))))))","v":10.5},{"$f":"IF((AND($B$6>AS22,$B$6<AS23)),AS23,(IF((AND($B$6>AS23,$B$6<AS24)),AS24,(IF((AND($B$6>AS24,$B$6<AS25)),AS25,(IF((AND($B$6>AS25,$B$6<AS26)),AS26,(IF((AND($B$6>AS26,$B$6<AS27)),AS27,(IF((AND($B$6>AS27,$B$6<AS28)),AS28,(IF((AND($B$6>AS28,$B$6<AS29)),AS29,(IF((AND($B$6>AS29,$B$6<AS30)),AS30,(IF((AND($B$6>AS30,$B$6<AS31)),AS31,(IF((AND($B$6>AS31,$B$6<AS32)),AS32,(IF($B$6>AS32,AS32,\"\")))))))))))))))))))))","v":10.5}]
[null,null,null,null,null,null,null,null,null,null,null,null,null,null,null,null,null,null,null,null,null,null,null,null,null,null,null,null,null,null,null,null,null,null,null,null,null,null,null,null,null,null,null,null,null,null,null,null,null,null,null,null,null,"Relevant Power (kW/m)",null,null,{"$f":"(((($B$6-BE36)*((VLOOKUP(BF36,AS22:BE32,13,FALSE))-(VLOOKUP(BE36,AS22:BE32,13,FALSE))))/(BF36-BE36))+(VLOOKUP(BE36,AS22:BE32,13,FALSE)))*0.001","v":{"$error":"#VALUE!"}}]
[]
["Deep"]
[]
["Wave Velocity C","(m/s)",{"$f":"(C42/C43)","v":5.0344574780058648},6.4728739002932549,7.9112903225806459,9.3497067448680351,10.788123167155426,12.226539589442817,13.664956011730204,15.103372434017595,16.541788856304986,17.980205278592376,19.418621700879768]
["Wave Length (λ)","(m)",{"$f":"(9.81/(2*3.41))*C43^2","v":17.620601173020528},29.127932551319649,43.512096774193552,60.773093841642229,80.910923753665699,103.92558651026394,129.81708211143695,158.58541055718476,190.23057184750735,224.75256598240469,262.15139296187687]
["Wave Period (T)","(s)",3.5,4.5,5.5,6.5,7.5,8.5,9.5,10.5,11.5,12.5,13.5]
[]
["Energy","Wave Height (Hs)","Power",null,null,null,null,null,null,null,null,null,null,"Total Power",null,null,null,"North Sea Area 10",null,null,null,null,null,null,null,null,null,null,null,null,"North Sea Area 10",null,null,null,null,null,null,null,null,null,null,null,null,null,"North Sea Area 10"]
["(J)","(m)","(W/m)",null,null,null,null,null,null,null,null,null,null,"(W/m)",null,null,null,"Number of Occurences",null,null,null,null,null,null,null,null,null,null,null,null,"Percentage of Occurences",null,null,null,null,null,null,null,null,null,null,null,null,null,"Annual Power (W/m)",null,null,null,null,null,null,null,null,null,null,null,"Total Power"]
[{"$f":"(1025*9.81*B47^2)/8","v":314.2265625},0.5,{"$f":"$A47*($C$41)/2","v":790.98013368310114},{"$f":"$A47*($D$41)/2","v":1016.9744575925586},{"$f":"$A47*($E$41)/2","v":1242.9687815020163},{"$f":"$A47*($F$41)/2","v":1468.9631054114736},{"$f":"$A47*($G$41)/2","v":1694.9574293209312},{"$f":"$A47*($H$41)/2","v":1920.9517532303889},0,0,0,0,0,{"$f":"SUM(C47:M47)","v":8135.7956607404703},null,null,null,"Hs                      T",3.5,4.5,5.5,6.5,7.5,8.5,9.5,10.5,11.5,12.5,13.5,null,"Hs                 T",3.5,4.5,5.5,6.5,7.5,8.5,9.5,10.5,11.5,12.5,13.5,"Availability",null,"Hs           T",3.5,4.5,5.5,6.5,7.5,8.5,9.5,10.5,11.5,12.5,13.5,"(W/m)"]
[2828.0390625,1.5,{"$f":"$B48*($C$16/2)","v":4.0971428571428579},{"$f":"$A48*($D$41)/2","v":9152.7701183330282},11186.719033518146,13220.667948703262,15254.616863888381,{"$f":"$A48*($G$41)/2","v":15254.616863888381},{"$f":"$A48*($I$41)/2","v":19322.514694258614},{"$f":"$A48*($J$41)/2","v":21356.46360944373},0,0,0,104752.46627489068,null,null,null,0.5,{"$f":"IF($B$4=\"SW\",'Wave Areas'!P115,(IF($B$4=\"N\",'Wave Areas'!B78,(IF($B$4=\"NE\",'Wave Areas'!P79,(IF($B$4=\"E\",'Wave Areas'!B96,(IF($B$4=\"SE\",'Wave Areas'!P97,(IF($B$4=\"S\",'Wave Areas'!B114,(IF($B$4=\"W\",'Wave Areas'!B132,(IF($B$4=\"NW\",'Wave Areas'!P133,0)))))))))))))))","v":0},{"$f":"IF($B$4=\"SW\",'Wave Areas'!Q115,(IF($B$4=\"N\",'Wave Areas'!C78,(IF($B$4=\"NE\",'Wave Areas'!Q79,(IF($B$4=\"E\",'Wave Areas'!C96,(IF($B$4=\"SE\",'Wave Areas'!Q97,(IF($B$4=\"S\",'Wave Areas'!C114,(IF($B$4=\"W\",'Wave Areas'!C132,(IF($B$4=\"NW\",'Wave Areas'!Q133,0)))))))))))))))","v":0},{"$f":"IF($B$4=\"SW\",'Wave Areas'!R115,(IF($B$4=\"N\",'Wave Areas'!D78,(IF($B$4=\"NE\",'Wave Areas'!R79,(IF($B$4=\"E\",'Wave Areas'!D96,(IF($B$4=\"SE\",'Wave Areas'!R97,(IF($B$4=\"S\",'Wave Areas'!D114,(IF($B$4=\"W\",'Wave Areas'!D132,(IF($B$4=\"NW\",'Wave Areas'!R133,0)))))))))))))))","v":0},{"$f":"IF($B$4=\"SW\",'Wave Areas'!S115,(IF($B$4=\"N\",'Wave Areas'!E78,(IF($B$4=\"NE\",'Wave Areas'!S79,(IF($B$4=\"E\",'Wave Areas'!E96,(IF($B$4=\"SE\",'Wave Areas'!S97,(IF($B$4=\"S\",'Wave Areas'!E114,(IF($B$4=\"W\",'Wave Areas'!E132,(IF($B$4=\"NW\",'Wave Areas'!S133,0)))))))))))))))","v":0},{"$f":"IF($B$4=\"SW\",'Wave Areas'!T115,(IF($B$4=\"N\",'Wave Areas'!F78,(IF($B$4=\"NE\",'Wave Areas'!T79,(IF($B$4=\"E\",'Wave Areas'!F96,(IF($B$4=\"SE\",'Wave Areas'!T97,(IF($B$4=\"S\",'Wave Areas'!F114,(IF($B$4=\"W\",'Wave Areas'!F132,(IF($B$4=\"NW\",'Wave Areas'!T133,0)))))))))))))))","v":0},{"$f":"IF($B$4=\"SW\",'Wave Areas'!U115,(IF($B$4=\"N\",'Wave Areas'!G78,(IF($B$4=\"NE\",'Wave Areas'!U79,(IF($B$4=\"E\",'Wave Areas'!G96,(IF($B$4=\"SE\",'Wave Areas'!U97,(IF($B$4=\"S\",'Wave Areas'!G114,(IF($B$4=\"W\",'Wave Areas'!G132,(IF($B$4=\"NW\",'Wave Areas'!U133,0)))))))))))))))","v":0},{"$f":"IF($B$4=\"SW\",'Wave Areas'!V115,(IF($B$4=\"N\",'Wave Areas'!H78,(IF($B$4=\"NE\",'Wave Areas'!V79,(IF($B$4=\"E\",'Wave Areas'!H96,(IF($B$4=\"SE\",'Wave Areas'!V97,(IF($B$4=\"S\",'Wave Areas'!H114,(IF($B$4=\"W\",'Wave Areas'!H132,(IF($B$4=\"NW\",'Wave Areas'!V133,0)))))))))))))))","v":0},{"$f":"IF($B$4=\"SW\",'Wave Areas'!W115,(IF($B$4=\"N\",'Wave Areas'!I78,(IF($B$4=\"NE\",'Wave Areas'!W79,(IF($B$4=\"E\",'Wave Areas'!I96,(IF($B$4=\"SE\",'Wave Areas'!W97,(IF($B$4=\"S\",'Wave Areas'!I114,(IF($B$4=\"W\",'Wave Areas'!I132,(IF($B$4=\"NW\",'Wave Areas'!W133,0)))))))))))))))","v":0},{"$f":"IF($B$4=\"SW\",'Wave Areas'!X115,(IF($B$4=\"N\",'Wave Areas'!J78,(IF($B$4=\"NE\",'Wave Areas'!X79,(IF($B$4=\"E\",'Wave Areas'!J96,(IF($B$4=\"SE\",'Wave Areas'!X97,(IF($B$4=\"S\",'Wave Areas'!J114,(IF($B$4=\"W\",'Wave Areas'!J132,(IF($B$4=\"NW\",'Wave Areas'!X133,0)))))))))))))))","v":0},{"$f":"IF($B$4=\"SW\",'Wave Areas'!Y115,(IF($B$4=\"N\",'Wave Areas'!K78,(IF($B$4=\"NE\",'Wave Areas'!Y79,(IF($B$4=\"E\",'Wave Areas'!K96,(IF($B$4=\"SE\",'Wave Areas'!Y97,(IF($B$4=\"S\",'Wave Areas'!K114,(IF($B$4=\"W\",'Wave Areas'!K132,(IF($B$4=\"NW\",'Wave Areas'!Y133,0)))))))))))))))","v":0},{"$f":"IF($B$4=\"SW\",'Wave Areas'!Z115,(IF($B$4=\"N\",'Wave Areas'!L78,(IF($B$4=\"NE\",'Wave Areas'!Z79,(IF($B$4=\"E\",'Wave Areas'!L96,(IF($B$4=\"SE\",'Wave Areas'!Z97,(IF($B$4=\"S\",'Wave Areas'!L114,(IF($B$4=\"W\",'Wave Areas'!L132,(IF($B$4=\"NW\",'Wave Areas'!Z133,0)))))))))))))))","v":0},null,0.5,{"$f":"S48/$AC$59","v":{"$error":"#DIV/0!"}},{"$f":"T48/$AC$59","v":{"$error":"#DIV/0!"}},{"$error":"#DIV/0!"},{"$error":"#DIV/0!"},{"$error":"#DIV/0!"},{"$error":"#DIV/0!"},{"$error":"#DIV/0!"},{"$error":"#DIV/0!"},{"$error":"#DIV/0!"},{"$error":"#DIV/0!"},{"$error":"#DIV/0!"},{"$f":"SUM(AF48:AP48)","v":{"$error":"#DIV/0!"}},null,0.5,{"$f":"C47*AF48","v":{"$error":"#DIV/0!"}},{"$error":"#DIV/0!"},{"$error":"#DIV/0!"},{"$error":"#DIV/0!"},{"$error":"#DIV/0!"},{"$error":"#DIV/0!"},{"$f":"AM48/1004","v":{"$error":"#DIV/0!"}},{"$f":"AN48/1004","v":{"$error":"#DIV/0!"}},{"$f":"AO48/1004","v":{"$error":"#DIV/0!"}},{"$f":"AP48/1004","v":{"$error":"#DIV/0!"}},{"$f":"AQ44/1004","v":0},{"$f":"SUM(AT48:BD48)","v":{"$error":"#DIV/0!"}}]
[7855.6640625,2.5,0,{"$f":"$A49*($D$41)/2","v":25424.361439813965},31074.219537550405,36724.077635286842,42373.935733023282,{"$f":"$A49*($H$41)/2","v":48023.793830759721},53673.651928496147,59323.510026232587,0,0,0,296617.55013116292,null,null,null,1.5,{"$f":"IF($B$4=\"SW\",'Wave Areas'!P116,(IF($B$4=\"N\",'Wave Areas'!B79,(IF($B$4=\"NE\",'Wave Areas'!P80,(IF($B$4=\"E\",'Wave Areas'!B97,(IF($B$4=\"SE\",'Wave Areas'!P98,(IF($B$4=\"S\",'Wave Areas'!B115,(IF($B$4=\"W\",'Wave Areas'!B133,(IF($B$4=\"NW\",'Wave Areas'!P134,0)))))))))))))))","v":0},{"$f":"IF($B$4=\"SW\",'Wave Areas'!Q116,(IF($B$4=\"N\",'Wave Areas'!C79,(IF($B$4=\"NE\",'Wave Areas'!Q80,(IF($B$4=\"E\",'Wave Areas'!C97,(IF($B$4=\"SE\",'Wave Areas'!Q98,(IF($B$4=\"S\",'Wave Areas'!C115,(IF($B$4=\"W\",'Wave Areas'!C133,(IF($B$4=\"NW\",'Wave Areas'!Q134,0)))))))))))))))","v":0},{"$f":"IF($B$4=\"SW\",'Wave Areas'!R116,(IF($B$4=\"N\",'Wave Areas'!D79,(IF($B$4=\"NE\",'Wave Areas'!R80,(IF($B$4=\"E\",'Wave Areas'!D97,(IF($B$4=\"SE\",'Wave Areas'!R98,(IF($B$4=\"S\",'Wave Areas'!D115,(IF($B$4=\"W\",'Wave Areas'!D133,(IF($B$4=\"NW\",'Wave Areas'!R134,0)))))))))))))))","v":0},{"$f":"IF($B$4=\"SW\",'Wave Areas'!S116,(IF($B$4=\"N\",'Wave Areas'!E79,(IF($B$4=\"NE\",'Wave Areas'!S80,(IF($B$4=\"E\",'Wave Areas'!E97,(IF($B$4=\"SE\",'Wave Areas'!S98,(IF($B$4=\"S\",'Wave Areas'!E115,(IF($B$4=\"W\",'Wave Areas'!E133,(IF($B$4=\"NW\",'Wave Areas'!S134,0)))))))))))))))","v":0},{"$f":"IF($B$4=\"SW\",'Wave Areas'!T116,(IF($B$4=\"N\",'Wave Areas'!F79,(IF($B$4=\"NE\",'Wave Areas'!T80,(IF($B$4=\"E\",'Wave Areas'!F97,(IF($B$4=\"SE\",'Wave Areas'!T98,(IF($B$4=\"S\",'Wave Areas'!F115,(IF($B$4=\"W\",'Wave Areas'!F133,(IF($B$4=\"NW\",'Wave Areas'!T134,0)))))))))))))))","v":0},{"$f":"IF($B$4=\"SW\",'Wave Areas'!U116,(IF($B$4=\"N\",'Wave Areas'!G79,(IF($B$4=\"NE\",'Wave Areas'!U80,(IF($B$4=\"E\",'Wave Areas'!G97,(IF($B$4=\"SE\",'Wave Areas'!U98,(IF($B$4=\"S\",'Wave Areas'!G115,(IF($B$4=\"W\",'Wave Areas'!G133,(IF($B$4=\"NW\",'Wave Areas'!U134,0)))))))))))))))","v":0},{"$f":"IF($B$4=\"SW\",'Wave Areas'!V116,(IF($B$4=\"N\",'Wave Areas'!H79,(IF($B$4=\"NE\",'Wave Areas'!V80,(IF($B$4=\"E\",'Wave Areas'!H97,(IF($B$4=\"SE\",'Wave Areas'!V98,(IF($B$4=\"S\",'Wave Areas'!H115,(IF($B$4=\"W\",'Wave Areas'!H133,(IF($B$4=\"NW\",'Wave Areas'!V134,0)))))))))))))))","v":0},{"$f":"IF($B$4=\"SW\",'Wave Areas'!W116,(IF($B$4=\"N\",'Wave Areas'!I79,(IF($B$4=\"NE\",'Wave Areas'!W80,(IF($B$4=\"E\",'Wave Areas'!I97,(IF($B$4=\"SE\",'Wave Areas'!W98,(IF($B$4=\"S\",'Wave Areas'!I115,(IF($B$4=\"W\",'Wave Areas'!I133,(IF($B$4=\"NW\",'Wave Areas'!W134,0)))))))))))))))","v":0},{"$f":"IF($B$4=\"SW\",'Wave Areas'!X116,(IF($B$4=\"N\",'Wave Areas'!J79,(IF($B$4=\"NE\",'Wave Areas'!X80,(IF($B$4=\"E\",'Wave Areas'!J97,(IF($B$4=\"SE\",'Wave Areas'!X98,(IF($B$4=\"S\",'Wave Areas'!J115,(IF($B$4=\"W\",'Wave Areas'!J133,(IF($B$4=\"NW\",'Wave Areas'!X134,0)))))))))))))))","v":0},{"$f":"IF($B$4=\"SW\",'Wave Areas'!Y116,(IF($B$4=\"N\",'Wave Areas'!K79,(IF($B$4=\"NE\",'Wave Areas'!Y80,(IF($B$4=\"E\",'Wave Areas'!K97,(IF($B$4=\"SE\",'Wave Areas'!Y98,(IF($B$4=\"S\",'Wave Areas'!K115,(IF($B$4=\"W\",'Wave Areas'!K133,(IF($B$4=\"NW\",'Wave Areas'!Y134,0)))))))))))))))","v":0},{"$f":"IF($B$4=\"SW\",'Wave Areas'!Z116,(IF($B$4=\"N\",'Wave Areas'!L79,(IF($B$4=\"NE\",'Wave Areas'!Z80,(IF($B$4=\"E\",'Wave Areas'!L97,(IF($B$4=\"SE\",'Wave Areas'!Z98,(IF($B$4=\"S\",'Wave Areas'!L115,(IF($B$4=\"W\",'Wave Areas'!L133,(IF($B$4=\"NW\",'Wave Areas'!Z134,0)))))))))))))))","v":0},null,1.5,{"$f":"S49/$AC$59","v":{"$error":"#DIV/0!"}},{"$f":"T49/$AC$59","v":{"$error":"#DIV/0!"}},{"$f":"U49/$AC$59","v":{"$error":"#DIV/0!"}},{"$f":"V49/$AC$59","v":{"$error":"#DIV/0!"}},{"$f":"W49/$AC$59","v":{"$error":"#DIV/0!"}},{"$f":"X49/$AC$59","v":{"$error":"#DIV/0!"}},{"$f":"Y49/$AC$59","v":{"$error":"#DIV/0!"}},{"$f":"Z49/$AC$59","v":{"$error":"#DIV/0!"}},{"$f":"AA49/$AC$59","v":{"$error":"#DIV/0!"}},{"$f":"AB49/$AC$59","v":{"$error":"#DIV/0!"}},{"$f":"AC49/$AC$59","v":{"$error":"#DIV/0!"}},{"$f":"SUM(AF49:AP49)","v":{"$error":"#DIV/0!"}},null,1.5,{"$error":"#DIV/0!"},{"$error":"#DIV/0!"},{"$error":"#DIV/0!"},{"$error":"#DIV/0!"},{"$error":"#DIV/0!"},{"$error":"#DIV/0!"},{"$error":"#DIV/0!"},{"$error":"#DIV/0!"},{"$f":"AO49/1004","v":{"$error":"#DIV/0!"}},{"$error":"#DIV/0!"},{"$f":"AQ46/1004","v":0},{"$error":"#DIV/0!"}]
[15397.1015625,3.5,0,{"$f":"$A50*($D$41)/2","v":49831.748422035373},60905.470293598795,71979.192165162211,83052.914036725633,94126.635908289056,105200.35777985245,116274.07965141587,0,0,0,581370.39825707942,null,null,null,2.5,{"$f":"IF($B$4=\"SW\",'Wave Areas'!P117,(IF($B$4=\"N\",'Wave Areas'!B80,(IF($B$4=\"NE\",'Wave Areas'!P81,(IF($B$4=\"E\",'Wave Areas'!B98,(IF($B$4=\"SE\",'Wave Areas'!P99,(IF($B$4=\"S\",'Wave Areas'!B116,(IF($B$4=\"W\",'Wave Areas'!B134,(IF($B$4=\"NW\",'Wave Areas'!P135,0)))))))))))))))","v":0},{"$f":"IF($B$4=\"SW\",'Wave Areas'!Q117,(IF($B$4=\"N\",'Wave Areas'!C80,(IF($B$4=\"NE\",'Wave Areas'!Q81,(IF($B$4=\"E\",'Wave Areas'!C98,(IF($B$4=\"SE\",'Wave Areas'!Q99,(IF($B$4=\"S\",'Wave Areas'!C116,(IF($B$4=\"W\",'Wave Areas'!C134,(IF($B$4=\"NW\",'Wave Areas'!Q135,0)))))))))))))))","v":0},{"$f":"IF($B$4=\"SW\",'Wave Areas'!R117,(IF($B$4=\"N\",'Wave Areas'!D80,(IF($B$4=\"NE\",'Wave Areas'!R81,(IF($B$4=\"E\",'Wave Areas'!D98,(IF($B$4=\"SE\",'Wave Areas'!R99,(IF($B$4=\"S\",'Wave Areas'!D116,(IF($B$4=\"W\",'Wave Areas'!D134,(IF($B$4=\"NW\",'Wave Areas'!R135,0)))))))))))))))","v":0},{"$f":"IF($B$4=\"SW\",'Wave Areas'!S117,(IF($B$4=\"N\",'Wave Areas'!E80,(IF($B$4=\"NE\",'Wave Areas'!S81,(IF($B$4=\"E\",'Wave Areas'!E98,(IF($B$4=\"SE\",'Wave Areas'!S99,(IF($B$4=\"S\",'Wave Areas'!E116,(IF($B$4=\"W\",'Wave Areas'!E134,(IF($B$4=\"NW\",'Wave Areas'!S135,0)))))))))))))))","v":0},{"$f":"IF($B$4=\"SW\",'Wave Areas'!T117,(IF($B$4=\"N\",'Wave Areas'!F80,(IF($B$4=\"NE\",'Wave Areas'!T81,(IF($B$4=\"E\",'Wave Areas'!F98,(IF($B$4=\"SE\",'Wave Areas'!T99,(IF($B$4=\"S\",'Wave Areas'!F116,(IF($B$4=\"W\",'Wave Areas'!F134,(IF($B$4=\"NW\",'Wave Areas'!T135,0)))))))))))))))","v":0},{"$f":"IF($B$4=\"SW\",'Wave Areas'!U117,(IF($B$4=\"N\",'Wave Areas'!G80,(IF($B$4=\"NE\",'Wave Areas'!U81,(IF($B$4=\"E\",'Wave Areas'!G98,(IF($B$4=\"SE\",'Wave Areas'!U99,(IF($B$4=\"S\",'Wave Areas'!G116,(IF($B$4=\"W\",'Wave Areas'!G134,(IF($B$4=\"NW\",'Wave Areas'!U135,0)))))))))))))))","v":0},{"$f":"IF($B$4=\"SW\",'Wave Areas'!V117,(IF($B$4=\"N\",'Wave Areas'!H80,(IF($B$4=\"NE\",'Wave Areas'!V81,(IF($B$4=\"E\",'Wave Areas'!H98,(IF($B$4=\"SE\",'Wave Areas'!V99,(IF($B$4=\"S\",'Wave Areas'!H116,(IF($B$4=\"W\",'Wave Areas'!H134,(IF($B$4=\"NW\",'Wave Areas'!V135,0)))))))))))))))","v":0},{"$f":"IF($B$4=\"SW\",'Wave Areas'!W117,(IF($B$4=\"N\",'Wave Areas'!I80,(IF($B$4=\"NE\",'Wave Areas'!W81,(IF($B$4=\"E\",'Wave Areas'!I98,(IF($B$4=\"SE\",'Wave Areas'!W99,(IF($B$4=\"S\",'Wave Areas'!I116,(IF($B$4=\"W\",'Wave Areas'!I134,(IF($B$4=\"NW\",'Wave Areas'!W135,0)))))))))))))))","v":0},{"$f":"IF($B$4=\"SW\",'Wave Areas'!X117,(IF($B$4=\"N\",'Wave Areas'!J80,(IF($B$4=\"NE\",'Wave Areas'!X81,(IF($B$4=\"E\",'Wave Areas'!J98,(IF($B$4=\"SE\",'Wave Areas'!X99,(IF($B$4=\"S\",'Wave Areas'!J116,(IF($B$4=\"W\",'Wave Areas'!J134,(IF($B$4=\"NW\",'Wave Areas'!X135,0)))))))))))))))","v":0},{"$f":"IF($B$4=\"SW\",'Wave Areas'!Y117,(IF($B$4=\"N\",'Wave Areas'!K80,(IF($B$4=\"NE\",'Wave Areas'!Y81,(IF($B$4=\"E\",'Wave Areas'!K98,(IF($B$4=\"SE\",'Wave Areas'!Y99,(IF($B$4=\"S\",'Wave Areas'!K116,(IF($B$4=\"W\",'Wave Areas'!K134,(IF($B$4=\"NW\",'Wave Areas'!Y135,0)))))))))))))))","v":0},{"$f":"IF($B$4=\"SW\",'Wave Areas'!Z117,(IF($B$4=\"N\",'Wave Areas'!L80,(IF($B$4=\"NE\",'Wave Areas'!Z81,(IF($B$4=\"E\",'Wave Areas'!L98,(IF($B$4=\"SE\",'Wave Areas'!Z99,(IF($B$4=\"S\",'Wave Areas'!L116,(IF($B$4=\"W\",'Wave Areas'!L134,(IF($B$4=\"NW\",'Wave Areas'!Z135,0)))))))))))))))","v":0},null,2.5,{"$error":"#DIV/0!"},{"$error":"#DIV/0!"},{"$error":"#DIV/0!"},{"$error":"#DIV/0!"},{"$error":"#DIV/0!"},{"$error":"#DIV/0!"},{"$error":"#DIV/0!"},{"$error":"#DIV/0!"},{"$error":"#DIV/0!"},{"$error":"#DIV/0!"},{"$error":"#DIV/0!"},{"$error":"#DIV/0!"},null,2.5,{"$f":"AG50/1004","v":{"$error":"#DIV/0!"}},{"$error":"#DIV/0!"},{"$error":"#DIV/0!"},{"$error":"#DIV/0!"},{"$error":"#DIV/0!"},{"$error":"#DIV/0!"},{"$error":"#DIV/0!"},{"$error":"#DIV/0!"},{"$error":"#DIV/0!"},{"$error":"#DIV/0!"},{"$f":"AQ48/1004","v":{"$error":"#DIV/0!"}},{"$error":"#DIV/0!"}]
[25452.3515625,4.5,0,{"$f":"$A51*($D$41)/2","v":82374.931064997247},100680.47130166332,118986.01153832936,137291.55177499543,155597.0920116615,173902.63224832751,192208.17248499359,0,0,0,961040.86242496793,null,null,null,3.5,{"$f":"IF($B$4=\"SW\",'Wave Areas'!P118,(IF($B$4=\"N\",'Wave Areas'!B81,(IF($B$4=\"NE\",'Wave Areas'!P82,(IF($B$4=\"E\",'Wave Areas'!B99,(IF($B$4=\"SE\",'Wave Areas'!P100,(IF($B$4=\"S\",'Wave Areas'!B117,(IF($B$4=\"W\",'Wave Areas'!B135,(IF($B$4=\"NW\",'Wave Areas'!P136,0)))))))))))))))","v":0},{"$f":"IF($B$4=\"SW\",'Wave Areas'!Q118,(IF($B$4=\"N\",'Wave Areas'!C81,(IF($B$4=\"NE\",'Wave Areas'!Q82,(IF($B$4=\"E\",'Wave Areas'!C99,(IF($B$4=\"SE\",'Wave Areas'!Q100,(IF($B$4=\"S\",'Wave Areas'!C117,(IF($B$4=\"W\",'Wave Areas'!C135,(IF($B$4=\"NW\",'Wave Areas'!Q136,0)))))))))))))))","v":0},{"$f":"IF($B$4=\"SW\",'Wave Areas'!R118,(IF($B$4=\"N\",'Wave Areas'!D81,(IF($B$4=\"NE\",'Wave Areas'!R82,(IF($B$4=\"E\",'Wave Areas'!D99,(IF($B$4=\"SE\",'Wave Areas'!R100,(IF($B$4=\"S\",'Wave Areas'!D117,(IF($B$4=\"W\",'Wave Areas'!D135,(IF($B$4=\"NW\",'Wave Areas'!R136,0)))))))))))))))","v":0},{"$f":"IF($B$4=\"SW\",'Wave Areas'!S118,(IF($B$4=\"N\",'Wave Areas'!E81,(IF($B$4=\"NE\",'Wave Areas'!S82,(IF($B$4=\"E\",'Wave Areas'!E99,(IF($B$4=\"SE\",'Wave Areas'!S100,(IF($B$4=\"S\",'Wave Areas'!E117,(IF($B$4=\"W\",'Wave Areas'!E135,(IF($B$4=\"NW\",'Wave Areas'!S136,0)))))))))))))))","v":0},{"$f":"IF($B$4=\"SW\",'Wave Areas'!T118,(IF($B$4=\"N\",'Wave Areas'!F81,(IF($B$4=\"NE\",'Wave Areas'!T82,(IF($B$4=\"E\",'Wave Areas'!F99,(IF($B$4=\"SE\",'Wave Areas'!T100,(IF($B$4=\"S\",'Wave Areas'!F117,(IF($B$4=\"W\",'Wave Areas'!F135,(IF($B$4=\"NW\",'Wave Areas'!T136,0)))))))))))))))","v":0},{"$f":"IF($B$4=\"SW\",'Wave Areas'!U118,(IF($B$4=\"N\",'Wave Areas'!G81,(IF($B$4=\"NE\",'Wave Areas'!U82,(IF($B$4=\"E\",'Wave Areas'!G99,(IF($B$4=\"SE\",'Wave Areas'!U100,(IF($B$4=\"S\",'Wave Areas'!G117,(IF($B$4=\"W\",'Wave Areas'!G135,(IF($B$4=\"NW\",'Wave Areas'!U136,0)))))))))))))))","v":0},{"$f":"IF($B$4=\"SW\",'Wave Areas'!V118,(IF($B$4=\"N\",'Wave Areas'!H81,(IF($B$4=\"NE\",'Wave Areas'!V82,(IF($B$4=\"E\",'Wave Areas'!H99,(IF($B$4=\"SE\",'Wave Areas'!V100,(IF($B$4=\"S\",'Wave Areas'!H117,(IF($B$4=\"W\",'Wave Areas'!H135,(IF($B$4=\"NW\",'Wave Areas'!V136,0)))))))))))))))","v":0},{"$f":"IF($B$4=\"SW\",'Wave Areas'!W118,(IF($B$4=\"N\",'Wave Areas'!I81,(IF($B$4=\"NE\",'Wave Areas'!W82,(IF($B$4=\"E\",'Wave Areas'!I99,(IF($B$4=\"SE\",'Wave Areas'!W100,(IF($B$4=\"S\",'Wave Areas'!I117,(IF($B$4=\"W\",'Wave Areas'!I135,(IF($B$4=\"NW\",'Wave Areas'!W136,0)))))))))))))))","v":0},{"$f":"IF($B$4=\"SW\",'Wave Areas'!X118,(IF($B$4=\"N\",'Wave Areas'!J81,(IF($B$4=\"NE\",'Wave Areas'!X82,(IF($B$4=\"E\",'Wave Areas'!J99,(IF($B$4=\"SE\",'Wave Areas'!X100,(IF($B$4=\"S\",'Wave Areas'!J117,(IF($B$4=\"W\",'Wave Areas'!J135,(IF($B$4=\"NW\",'Wave Areas'!X136,0)))))))))))))))","v":0},{"$f":"IF($B$4=\"SW\",'Wave Areas'!Y118,(IF($B$4=\"N\",'Wave Areas'!K81,(IF($B$4=\"NE\",'Wave Areas'!Y82,(IF($B$4=\"E\",'Wave Areas'!K99,(IF($B$4=\"SE\",'Wave Areas'!Y100,(IF($B$4=\"S\",'Wave Areas'!K117,(IF($B$4=\"W\",'Wave Areas'!K135,(IF($B$4=\"NW\",'Wave Areas'!Y136,0)))))))))))))))","v":0},{"$f":"IF($B$4=\"SW\",'Wave Areas'!Z118,(IF($B$4=\"N\",'Wave Areas'!L81,(IF($B$4=\"NE\",'Wave Areas'!Z82,(IF($B$4=\"E\",'Wave Areas'!L99,(IF($B$4=\"SE\",'Wave Areas'!Z100,(IF($B$4=\"S\",'Wave Areas'!L117,(IF($B$4=\"W\",'Wave Areas'!L135,(IF($B$4=\"NW\",'Wave Areas'!Z136,0)))))))))))))))","v":0},null,3.5,{"$error":"#DIV/0!"},{"$error":"#DIV/0!"},{"$error":"#DIV/0!"},{"$error":"#DIV/0!"},{"$error":"#DIV/0!"},{"$error":"#DIV/0!"},{"$error":"#DIV/0!"},{"$error":"#DIV/0!"},{"$error":"#DIV/0!"},{"$error":"#DIV/0!"},{"$error":"#DIV/0!"},{"$error":"#DIV/0!"},null,3.5,{"$error":"#DIV/0!"},{"$error":"#DIV/0!"},{"$error":"#DIV/0!"},{"$error":"#DIV/0!"},{"$error":"#DIV/0!"},{"$error":"#DIV/0!"},{"$error":"#DIV/0!"},{"$error":"#DIV/0!"},{"$error":"#DIV/0!"},{"$error":"#DIV/0!"},{"$error":"#DIV/0!"},{"$error":"#DIV/0!"}]
[38021.4140625,5.5,0,0,150399.22256174395,177744.53575478832,205089.84894783268,232435.16214087704,259780.47533392135,287125.78852696571,0,0,0,1312575.0332661292,null,null,null,4.5,{"$f":"IF($B$4=\"SW\",'Wave Areas'!P119,(IF($B$4=\"N\",'Wave Areas'!B82,(IF($B$4=\"NE\",'Wave Areas'!P83,(IF($B$4=\"E\",'Wave Areas'!B100,(IF($B$4=\"SE\",'Wave Areas'!P101,(IF($B$4=\"S\",'Wave Areas'!B118,(IF($B$4=\"W\",'Wave Areas'!B136,(IF($B$4=\"NW\",'Wave Areas'!P137,0)))))))))))))))","v":0},{"$f":"IF($B$4=\"SW\",'Wave Areas'!Q119,(IF($B$4=\"N\",'Wave Areas'!C82,(IF($B$4=\"NE\",'Wave Areas'!Q83,(IF($B$4=\"E\",'Wave Areas'!C100,(IF($B$4=\"SE\",'Wave Areas'!Q101,(IF($B$4=\"S\",'Wave Areas'!C118,(IF($B$4=\"W\",'Wave Areas'!C136,(IF($B$4=\"NW\",'Wave Areas'!Q137,0)))))))))))))))","v":0},{"$f":"IF($B$4=\"SW\",'Wave Areas'!R119,(IF($B$4=\"N\",'Wave Areas'!D82,(IF($B$4=\"NE\",'Wave Areas'!R83,(IF($B$4=\"E\",'Wave Areas'!D100,(IF($B$4=\"SE\",'Wave Areas'!R101,(IF($B$4=\"S\",'Wave Areas'!D118,(IF($B$4=\"W\",'Wave Areas'!D136,(IF($B$4=\"NW\",'Wave Areas'!R137,0)))))))))))))))","v":0},{"$f":"IF($B$4=\"SW\",'Wave Areas'!S119,(IF($B$4=\"N\",'Wave Areas'!E82,(IF($B$4=\"NE\",'Wave Areas'!S83,(IF($B$4=\"E\",'Wave Areas'!E100,(IF($B$4=\"SE\",'Wave Areas'!S101,(IF($B$4=\"S\",'Wave Areas'!E118,(IF($B$4=\"W\",'Wave Areas'!E136,(IF($B$4=\"NW\",'Wave Areas'!S137,0)))))))))))))))","v":0},{"$f":"IF($B$4=\"SW\",'Wave Areas'!T119,(IF($B$4=\"N\",'Wave Areas'!F82,(IF($B$4=\"NE\",'Wave Areas'!T83,(IF($B$4=\"E\",'Wave Areas'!F100,(IF($B$4=\"SE\",'Wave Areas'!T101,(IF($B$4=\"S\",'Wave Areas'!F118,(IF($B$4=\"W\",'Wave Areas'!F136,(IF($B$4=\"NW\",'Wave Areas'!T137,0)))))))))))))))","v":0},{"$f":"IF($B$4=\"SW\",'Wave Areas'!U119,(IF($B$4=\"N\",'Wave Areas'!G82,(IF($B$4=\"NE\",'Wave Areas'!U83,(IF($B$4=\"E\",'Wave Areas'!G100,(IF($B$4=\"SE\",'Wave Areas'!U101,(IF($B$4=\"S\",'Wave Areas'!G118,(IF($B$4=\"W\",'Wave Areas'!G136,(IF($B$4=\"NW\",'Wave Areas'!U137,0)))))))))))))))","v":0},{"$f":"IF($B$4=\"SW\",'Wave Areas'!V119,(IF($B$4=\"N\",'Wave Areas'!H82,(IF($B$4=\"NE\",'Wave Areas'!V83,(IF($B$4=\"E\",'Wave Areas'!H100,(IF($B$4=\"SE\",'Wave Areas'!V101,(IF($B$4=\"S\",'Wave Areas'!H118,(IF($B$4=\"W\",'Wave Areas'!H136,(IF($B$4=\"NW\",'Wave Areas'!V137,0)))))))))))))))","v":0},{"$f":"IF($B$4=\"SW\",'Wave Areas'!W119,(IF($B$4=\"N\",'Wave Areas'!I82,(IF($B$4=\"NE\",'Wave Areas'!W83,(IF($B$4=\"E\",'Wave Areas'!I100,(IF($B$4=\"SE\",'Wave Areas'!W101,(IF($B$4=\"S\",'Wave Areas'!I118,(IF($B$4=\"W\",'Wave Areas'!I136,(IF($B$4=\"NW\",'Wave Areas'!W137,0)))))))))))))))","v":0},{"$f":"IF($B$4=\"SW\",'Wave Areas'!X119,(IF($B$4=\"N\",'Wave Areas'!J82,(IF($B$4=\"NE\",'Wave Areas'!X83,(IF($B$4=\"E\",'Wave Areas'!J100,(IF($B$4=\"SE\",'Wave Areas'!X101,(IF($B$4=\"S\",'Wave Areas'!J118,(IF($B$4=\"W\",'Wave Areas'!J136,(IF($B$4=\"NW\",'Wave Areas'!X137,0)))))))))))))))","v":0},{"$f":"IF($B$4=\"SW\",'Wave Areas'!Y119,(IF($B$4=\"N\",'Wave Areas'!K82,(IF($B$4=\"NE\",'Wave Areas'!Y83,(IF($B$4=\"E\",'Wave Areas'!K100,(IF($B$4=\"SE\",'Wave Areas'!Y101,(IF($B$4=\"S\",'Wave Areas'!K118,(IF($B$4=\"W\",'Wave Areas'!K136,(IF($B$4=\"NW\",'Wave Areas'!Y137,0)))))))))))))))","v":0},{"$f":"IF($B$4=\"SW\",'Wave Areas'!Z119,(IF($B$4=\"N\",'Wave Areas'!L82,(IF($B$4=\"NE\",'Wave Areas'!Z83,(IF($B$4=\"E\",'Wave Areas'!L100,(IF($B$4=\"SE\",'Wave Areas'!Z101,(IF($B$4=\"S\",'Wave Areas'!L118,(IF($B$4=\"W\",'Wave Areas'!L136,(IF($B$4=\"NW\",'Wave Areas'!Z137,0)))))))))))))))","v":0},null,4.5,{"$error":"#DIV/0!"},{"$error":"#DIV/0!"},{"$error":"#DIV/0!"},{"$error":"#DIV/0!"},{"$error":"#DIV/0!"},{"$error":"#DIV/0!"},{"$error":"#DIV/0!"},{"$error":"#DIV/0!"},{"$error":"#DIV/0!"},{"$error":"#DIV/0!"},{"$error":"#DIV/0!"},{"$error":"#DIV/0!"},null,4.5,{"$error":"#DIV/0!"},{"$error":"#DIV/0!"},{"$error":"#DIV/0!"},{"$error":"#DIV/0!"},{"$error":"#DIV/0!"},{"$error":"#DIV/0!"},{"$error":"#DIV/0!"},{"$error":"#DIV/0!"},{"$error":"#DIV/0!"},{"$error":"#DIV/0!"},{"$error":"#DIV/0!"},{"$error":"#DIV/0!"}]
[53104.2890625,6.5,0,0,210061.72407384074,248254.76481453903,286447.8055552374,324640.84629593574,362833.88703663397,401026.92777733231,0,0,0,1833265.9555535191,null,null,null,5.5,{"$f":"IF($B$4=\"SW\",'Wave Areas'!P120,(IF($B$4=\"N\",'Wave Areas'!B83,(IF($B$4=\"NE\",'Wave Areas'!P84,(IF($B$4=\"E\",'Wave Areas'!B101,(IF($B$4=\"SE\",'Wave Areas'!P102,(IF($B$4=\"S\",'Wave Areas'!B119,(IF($B$4=\"W\",'Wave Areas'!B137,(IF($B$4=\"NW\",'Wave Areas'!P138,0)))))))))))))))","v":0},{"$f":"IF($B$4=\"SW\",'Wave Areas'!Q120,(IF($B$4=\"N\",'Wave Areas'!C83,(IF($B$4=\"NE\",'Wave Areas'!Q84,(IF($B$4=\"E\",'Wave Areas'!C101,(IF($B$4=\"SE\",'Wave Areas'!Q102,(IF($B$4=\"S\",'Wave Areas'!C119,(IF($B$4=\"W\",'Wave Areas'!C137,(IF($B$4=\"NW\",'Wave Areas'!Q138,0)))))))))))))))","v":0},{"$f":"IF($B$4=\"SW\",'Wave Areas'!R120,(IF($B$4=\"N\",'Wave Areas'!D83,(IF($B$4=\"NE\",'Wave Areas'!R84,(IF($B$4=\"E\",'Wave Areas'!D101,(IF($B$4=\"SE\",'Wave Areas'!R102,(IF($B$4=\"S\",'Wave Areas'!D119,(IF($B$4=\"W\",'Wave Areas'!D137,(IF($B$4=\"NW\",'Wave Areas'!R138,0)))))))))))))))","v":0},{"$f":"IF($B$4=\"SW\",'Wave Areas'!S120,(IF($B$4=\"N\",'Wave Areas'!E83,(IF($B$4=\"NE\",'Wave Areas'!S84,(IF($B$4=\"E\",'Wave Areas'!E101,(IF($B$4=\"SE\",'Wave Areas'!S102,(IF($B$4=\"S\",'Wave Areas'!E119,(IF($B$4=\"W\",'Wave Areas'!E137,(IF($B$4=\"NW\",'Wave Areas'!S138,0)))))))))))))))","v":0},{"$f":"IF($B$4=\"SW\",'Wave Areas'!T120,(IF($B$4=\"N\",'Wave Areas'!F83,(IF($B$4=\"NE\",'Wave Areas'!T84,(IF($B$4=\"E\",'Wave Areas'!F101,(IF($B$4=\"SE\",'Wave Areas'!T102,(IF($B$4=\"S\",'Wave Areas'!F119,(IF($B$4=\"W\",'Wave Areas'!F137,(IF($B$4=\"NW\",'Wave Areas'!T138,0)))))))))))))))","v":0},{"$f":"IF($B$4=\"SW\",'Wave Areas'!U120,(IF($B$4=\"N\",'Wave Areas'!G83,(IF($B$4=\"NE\",'Wave Areas'!U84,(IF($B$4=\"E\",'Wave Areas'!G101,(IF($B$4=\"SE\",'Wave Areas'!U102,(IF($B$4=\"S\",'Wave Areas'!G119,(IF($B$4=\"W\",'Wave Areas'!G137,(IF($B$4=\"NW\",'Wave Areas'!U138,0)))))))))))))))","v":0},{"$f":"IF($B$4=\"SW\",'Wave Areas'!V120,(IF($B$4=\"N\",'Wave Areas'!H83,(IF($B$4=\"NE\",'Wave Areas'!V84,(IF($B$4=\"E\",'Wave Areas'!H101,(IF($B$4=\"SE\",'Wave Areas'!V102,(IF($B$4=\"S\",'Wave Areas'!H119,(IF($B$4=\"W\",'Wave Areas'!H137,(IF($B$4=\"NW\",'Wave Areas'!V138,0)))))))))))))))","v":0},{"$f":"IF($B$4=\"SW\",'Wave Areas'!W120,(IF($B$4=\"N\",'Wave Areas'!I83,(IF($B$4=\"NE\",'Wave Areas'!W84,(IF($B$4=\"E\",'Wave Areas'!I101,(IF($B$4=\"SE\",'Wave Areas'!W102,(IF($B$4=\"S\",'Wave Areas'!I119,(IF($B$4=\"W\",'Wave Areas'!I137,(IF($B$4=\"NW\",'Wave Areas'!W138,0)))))))))))))))","v":0},{"$f":"IF($B$4=\"SW\",'Wave Areas'!X120,(IF($B$4=\"N\",'Wave Areas'!J83,(IF($B$4=\"NE\",'Wave Areas'!X84,(IF($B$4=\"E\",'Wave Areas'!J101,(IF($B$4=\"SE\",'Wave Areas'!X102,(IF($B$4=\"S\",'Wave Areas'!J119,(IF($B$4=\"W\",'Wave Areas'!J137,(IF($B$4=\"NW\",'Wave Areas'!X138,0)))))))))))))))","v":0},{"$f":"IF($B$4=\"SW\",'Wave Areas'!Y120,(IF($B$4=\"N\",'Wave Areas'!K83,(IF($B$4=\"NE\",'Wave Areas'!Y84,(IF($B$4=\"E\",'Wave Areas'!K101,(IF($B$4=\"SE\",'Wave Areas'!Y102,(IF($B$4=\"S\",'Wave Areas'!K119,(IF($B$4=\"W\",'Wave Areas'!K137,(IF($B$4=\"NW\",'Wave Areas'!Y138,0)))))))))))))))","v":0},{"$f":"IF($B$4=\"SW\",'Wave Areas'!Z120,(IF($B$4=\"N\",'Wave Areas'!L83,(IF($B$4=\"NE\",'Wave Areas'!Z84,(IF($B$4=\"E\",'Wave Areas'!L101,(IF($B$4=\"SE\",'Wave Areas'!Z102,(IF($B$4=\"S\",'Wave Areas'!L119,(IF($B$4=\"W\",'Wave Areas'!L137,(IF($B$4=\"NW\",'Wave Areas'!Z138,0)))))))))))))))","v":0},null,5.5,{"$error":"#DIV/0!"},{"$error":"#DIV/0!"},{"$error":"#DIV/0!"},{"$error":"#DIV/0!"},{"$error":"#DIV/0!"},{"$error":"#DIV/0!"},{"$error":"#DIV/0!"},{"$error":"#DIV/0!"},{"$error":"#DIV/0!"},{"$error":"#DIV/0!"},{"$error":"#DIV/0!"},{"$error":"#DIV/0!"},null,5.5,{"$error":"#DIV/0!"},{"$error":"#DIV/0!"},{"$error":"#DIV/0!"},{"$error":"#DIV/0!"},{"$error":"#DIV/0!"},{"$error":"#DIV/0!"},{"$error":"#DIV/0!"},{"$error":"#DIV/0!"},{"$error":"#DIV/0!"},{"$error":"#DIV/0!"},{"$error":"#DIV/0!"},{"$error":"#DIV/0!"}]
[70700.9765625,7.5,0,0,0,330516.69871758157,381365.42159720953,432214.14447683748,483062.86735646531,0,0,0,0,1627159.132148094,null,null,null,6.5,{"$f":"IF($B$4=\"SW\",'Wave Areas'!P121,(IF($B$4=\"N\",'Wave Areas'!B84,(IF($B$4=\"NE\",'Wave Areas'!P85,(IF($B$4=\"E\",'Wave Areas'!B102,(IF($B$4=\"SE\",'Wave Areas'!P103,(IF($B$4=\"S\",'Wave Areas'!B120,(IF($B$4=\"W\",'Wave Areas'!B138,(IF($B$4=\"NW\",'Wave Areas'!P139,0)))))))))))))))","v":0},{"$f":"IF($B$4=\"SW\",'Wave Areas'!Q121,(IF($B$4=\"N\",'Wave Areas'!C84,(IF($B$4=\"NE\",'Wave Areas'!Q85,(IF($B$4=\"E\",'Wave Areas'!C102,(IF($B$4=\"SE\",'Wave Areas'!Q103,(IF($B$4=\"S\",'Wave Areas'!C120,(IF($B$4=\"W\",'Wave Areas'!C138,(IF($B$4=\"NW\",'Wave Areas'!Q139,0)))))))))))))))","v":0},{"$f":"IF($B$4=\"SW\",'Wave Areas'!R121,(IF($B$4=\"N\",'Wave Areas'!D84,(IF($B$4=\"NE\",'Wave Areas'!R85,(IF($B$4=\"E\",'Wave Areas'!D102,(IF($B$4=\"SE\",'Wave Areas'!R103,(IF($B$4=\"S\",'Wave Areas'!D120,(IF($B$4=\"W\",'Wave Areas'!D138,(IF($B$4=\"NW\",'Wave Areas'!R139,0)))))))))))))))","v":0},{"$f":"IF($B$4=\"SW\",'Wave Areas'!S121,(IF($B$4=\"N\",'Wave Areas'!E84,(IF($B$4=\"NE\",'Wave Areas'!S85,(IF($B$4=\"E\",'Wave Areas'!E102,(IF($B$4=\"SE\",'Wave Areas'!S103,(IF($B$4=\"S\",'Wave Areas'!E120,(IF($B$4=\"W\",'Wave Areas'!E138,(IF($B$4=\"NW\",'Wave Areas'!S139,0)))))))))))))))","v":0},{"$f":"IF($B$4=\"SW\",'Wave Areas'!T121,(IF($B$4=\"N\",'Wave Areas'!F84,(IF($B$4=\"NE\",'Wave Areas'!T85,(IF($B$4=\"E\",'Wave Areas'!F102,(IF($B$4=\"SE\",'Wave Areas'!T103,(IF($B$4=\"S\",'Wave Areas'!F120,(IF($B$4=\"W\",'Wave Areas'!F138,(IF($B$4=\"NW\",'Wave Areas'!T139,0)))))))))))))))","v":0},{"$f":"IF($B$4=\"SW\",'Wave Areas'!U121,(IF($B$4=\"N\",'Wave Areas'!G84,(IF($B$4=\"NE\",'Wave Areas'!U85,(IF($B$4=\"E\",'Wave Areas'!G102,(IF($B$4=\"SE\",'Wave Areas'!U103,(IF($B$4=\"S\",'Wave Areas'!G120,(IF($B$4=\"W\",'Wave Areas'!G138,(IF($B$4=\"NW\",'Wave Areas'!U139,0)))))))))))))))","v":0},{"$f":"IF($B$4=\"SW\",'Wave Areas'!V121,(IF($B$4=\"N\",'Wave Areas'!H84,(IF($B$4=\"NE\",'Wave Areas'!V85,(IF($B$4=\"E\",'Wave Areas'!H102,(IF($B$4=\"SE\",'Wave Areas'!V103,(IF($B$4=\"S\",'Wave Areas'!H120,(IF($B$4=\"W\",'Wave Areas'!H138,(IF($B$4=\"NW\",'Wave Areas'!V139,0)))))))))))))))","v":0},{"$f":"IF($B$4=\"SW\",'Wave Areas'!W121,(IF($B$4=\"N\",'Wave Areas'!I84,(IF($B$4=\"NE\",'Wave Areas'!W85,(IF($B$4=\"E\",'Wave Areas'!I102,(IF($B$4=\"SE\",'Wave Areas'!W103,(IF($B$4=\"S\",'Wave Areas'!I120,(IF($B$4=\"W\",'Wave Areas'!I138,(IF($B$4=\"NW\",'Wave Areas'!W139,0)))))))))))))))","v":0},{"$f":"IF($B$4=\"SW\",'Wave Areas'!X121,(IF($B$4=\"N\",'Wave Areas'!J84,(IF($B$4=\"NE\",'Wave Areas'!X85,(IF($B$4=\"E\",'Wave Areas'!J102,(IF($B$4=\"SE\",'Wave Areas'!X103,(IF($B$4=\"S\",'Wave Areas'!J120,(IF($B$4=\"W\",'Wave Areas'!J138,(IF($B$4=\"NW\",'Wave Areas'!X139,0)))))))))))))))","v":0},{"$f":"IF($B$4=\"SW\",'Wave Areas'!Y121,(IF($B$4=\"N\",'Wave Areas'!K84,(IF($B$4=\"NE\",'Wave Areas'!Y85,(IF($B$4=\"E\",'Wave Areas'!K102,(IF($B$4=\"SE\",'Wave Areas'!Y103,(IF($B$4=\"S\",'Wave Areas'!K120,(IF($B$4=\"W\",'Wave Areas'!K138,(IF($B$4=\"NW\",'Wave Areas'!Y139,0)))))))))))))))","v":0},{"$f":"IF($B$4=\"SW\",'Wave Areas'!Z121,(IF($B$4=\"N\",'Wave Areas'!L84,(IF($B$4=\"NE\",'Wave Areas'!Z85,(IF($B$4=\"E\",'Wave Areas'!L102,(IF($B$4=\"SE\",'Wave Areas'!Z103,(IF($B$4=\"S\",'Wave Areas'!L120,(IF($B$4=\"W\",'Wave Areas'!L138,(IF($B$4=\"NW\",'Wave Areas'!Z139,0)))))))))))))))","v":0},null,6.5,{"$error":"#DIV/0!"},{"$error":"#DIV/0!"},{"$error":"#DIV/0!"},{"$error":"#DIV/0!"},{"$error":"#DIV/0!"},{"$error":"#DIV/0!"},{"$error":"#DIV/0!"},{"$error":"#DIV/0!"},{"$error":"#DIV/0!"},{"$error":"#DIV/0!"},{"$error":"#DIV/0!"},{"$error":"#DIV/0!"},null,6.5,{"$error":"#DIV/0!"},{"$error":"#DIV/0!"},{"$error":"#DIV/0!"},{"$error":"#DIV/0!"},{"$error":"#DIV/0!"},{"$error":"#DIV/0!"},{"$error":"#DIV/0!"},{"$error":"#DIV/0!"},{"$error":"#DIV/0!"},{"$error":"#DIV/0!"},{"$error":"#DIV/0!"},{"$error":"#DIV/0!"}]
[90811.4765625,8.5,0,0,0,424530.33746391587,489842.69707374915,555155.05668358237,620467.41629341547,0,0,0,0,2089995.5075146628,null,null,null,7.5,{"$f":"IF($B$4=\"SW\",'Wave Areas'!P122,(IF($B$4=\"N\",'Wave Areas'!B85,(IF($B$4=\"NE\",'Wave Areas'!P86,(IF($B$4=\"E\",'Wave Areas'!B103,(IF($B$4=\"SE\",'Wave Areas'!P104,(IF($B$4=\"S\",'Wave Areas'!B121,(IF($B$4=\"W\",'Wave Areas'!B139,(IF($B$4=\"NW\",'Wave Areas'!P140,0)))))))))))))))","v":0},{"$f":"IF($B$4=\"SW\",'Wave Areas'!Q122,(IF($B$4=\"N\",'Wave Areas'!C85,(IF($B$4=\"NE\",'Wave Areas'!Q86,(IF($B$4=\"E\",'Wave Areas'!C103,(IF($B$4=\"SE\",'Wave Areas'!Q104,(IF($B$4=\"S\",'Wave Areas'!C121,(IF($B$4=\"W\",'Wave Areas'!C139,(IF($B$4=\"NW\",'Wave Areas'!Q140,0)))))))))))))))","v":0},{"$f":"IF($B$4=\"SW\",'Wave Areas'!R122,(IF($B$4=\"N\",'Wave Areas'!D85,(IF($B$4=\"NE\",'Wave Areas'!R86,(IF($B$4=\"E\",'Wave Areas'!D103,(IF($B$4=\"SE\",'Wave Areas'!R104,(IF($B$4=\"S\",'Wave Areas'!D121,(IF($B$4=\"W\",'Wave Areas'!D139,(IF($B$4=\"NW\",'Wave Areas'!R140,0)))))))))))))))","v":0},{"$f":"IF($B$4=\"SW\",'Wave Areas'!S122,(IF($B$4=\"N\",'Wave Areas'!E85,(IF($B$4=\"NE\",'Wave Areas'!S86,(IF($B$4=\"E\",'Wave Areas'!E103,(IF($B$4=\"SE\",'Wave Areas'!S104,(IF($B$4=\"S\",'Wave Areas'!E121,(IF($B$4=\"W\",'Wave Areas'!E139,(IF($B$4=\"NW\",'Wave Areas'!S140,0)))))))))))))))","v":0},{"$f":"IF($B$4=\"SW\",'Wave Areas'!T122,(IF($B$4=\"N\",'Wave Areas'!F85,(IF($B$4=\"NE\",'Wave Areas'!T86,(IF($B$4=\"E\",'Wave Areas'!F103,(IF($B$4=\"SE\",'Wave Areas'!T104,(IF($B$4=\"S\",'Wave Areas'!F121,(IF($B$4=\"W\",'Wave Areas'!F139,(IF($B$4=\"NW\",'Wave Areas'!T140,0)))))))))))))))","v":0},{"$f":"IF($B$4=\"SW\",'Wave Areas'!U122,(IF($B$4=\"N\",'Wave Areas'!G85,(IF($B$4=\"NE\",'Wave Areas'!U86,(IF($B$4=\"E\",'Wave Areas'!G103,(IF($B$4=\"SE\",'Wave Areas'!U104,(IF($B$4=\"S\",'Wave Areas'!G121,(IF($B$4=\"W\",'Wave Areas'!G139,(IF($B$4=\"NW\",'Wave Areas'!U140,0)))))))))))))))","v":0},{"$f":"IF($B$4=\"SW\",'Wave Areas'!V122,(IF($B$4=\"N\",'Wave Areas'!H85,(IF($B$4=\"NE\",'Wave Areas'!V86,(IF($B$4=\"E\",'Wave Areas'!H103,(IF($B$4=\"SE\",'Wave Areas'!V104,(IF($B$4=\"S\",'Wave Areas'!H121,(IF($B$4=\"W\",'Wave Areas'!H139,(IF($B$4=\"NW\",'Wave Areas'!V140,0)))))))))))))))","v":0},{"$f":"IF($B$4=\"SW\",'Wave Areas'!W122,(IF($B$4=\"N\",'Wave Areas'!I85,(IF($B$4=\"NE\",'Wave Areas'!W86,(IF($B$4=\"E\",'Wave Areas'!I103,(IF($B$4=\"SE\",'Wave Areas'!W104,(IF($B$4=\"S\",'Wave Areas'!I121,(IF($B$4=\"W\",'Wave Areas'!I139,(IF($B$4=\"NW\",'Wave Areas'!W140,0)))))))))))))))","v":0},{"$f":"IF($B$4=\"SW\",'Wave Areas'!X122,(IF($B$4=\"N\",'Wave Areas'!J85,(IF($B$4=\"NE\",'Wave Areas'!X86,(IF($B$4=\"E\",'Wave Areas'!J103,(IF($B$4=\"SE\",'Wave Areas'!X104,(IF($B$4=\"S\",'Wave Areas'!J121,(IF($B$4=\"W\",'Wave Areas'!J139,(IF($B$4=\"NW\",'Wave Areas'!X140,0)))))))))))))))","v":0},{"$f":"IF($B$4=\"SW\",'Wave Areas'!Y122,(IF($B$4=\"N\",'Wave Areas'!K85,(IF($B$4=\"NE\",'Wave Areas'!Y86,(IF($B$4=\"E\",'Wave Areas'!K103,(IF($B$4=\"SE\",'Wave Areas'!Y104,(IF($B$4=\"S\",'Wave Areas'!K121,(IF($B$4=\"W\",'Wave Areas'!K139,(IF($B$4=\"NW\",'Wave Areas'!Y140,0)))))))))))))))","v":0},{"$f":"IF($B$4=\"SW\",'Wave Areas'!Z122,(IF($B$4=\"N\",'Wave Areas'!L85,(IF($B$4=\"NE\",'Wave Areas'!Z86,(IF($B$4=\"E\",'Wave Areas'!L103,(IF($B$4=\"SE\",'Wave Areas'!Z104,(IF($B$4=\"S\",'Wave Areas'!L121,(IF($B$4=\"W\",'Wave Areas'!L139,(IF($B$4=\"NW\",'Wave Areas'!Z140,0)))))))))))))))","v":0},null,7.5,{"$error":"#DIV/0!"},{"$error":"#DIV/0!"},{"$error":"#DIV/0!"},{"$error":"#DIV/0!"},{"$error":"#DIV/0!"},{"$error":"#DIV/0!"},{"$error":"#DIV/0!"},{"$error":"#DIV/0!"},{"$error":"#DIV/0!"},{"$error":"#DIV/0!"},{"$error":"#DIV/0!"},{"$error":"#DIV/0!"},null,7.5,{"$error":"#DIV/0!"},{"$error":"#DIV/0!"},{"$f":"AI55/1004","v":{"$error":"#DIV/0!"}},{"$error":"#DIV/0!"},{"$error":"#DIV/0!"},{"$error":"#DIV/0!"},{"$error":"#DIV/0!"},{"$f":"AN55/1004","v":{"$error":"#DIV/0!"}},{"$error":"#DIV/0!"},{"$error":"#DIV/0!"},{"$error":"#DIV/0!"},{"$error":"#DIV/0!"}]
[113435.7890625,9.5,0,0,0,0,611879.63198485621,693463.58291617036,0,0,0,0,0,1305343.2149010266,null,null,null,8.5,{"$f":"IF($B$4=\"SW\",'Wave Areas'!P123,(IF($B$4=\"N\",'Wave Areas'!B86,(IF($B$4=\"NE\",'Wave Areas'!P87,(IF($B$4=\"E\",'Wave Areas'!B104,(IF($B$4=\"SE\",'Wave Areas'!P105,(IF($B$4=\"S\",'Wave Areas'!B122,(IF($B$4=\"W\",'Wave Areas'!B140,(IF($B$4=\"NW\",'Wave Areas'!P141,0)))))))))))))))","v":0},{"$f":"IF($B$4=\"SW\",'Wave Areas'!Q123,(IF($B$4=\"N\",'Wave Areas'!C86,(IF($B$4=\"NE\",'Wave Areas'!Q87,(IF($B$4=\"E\",'Wave Areas'!C104,(IF($B$4=\"SE\",'Wave Areas'!Q105,(IF($B$4=\"S\",'Wave Areas'!C122,(IF($B$4=\"W\",'Wave Areas'!C140,(IF($B$4=\"NW\",'Wave Areas'!Q141,0)))))))))))))))","v":0},{"$f":"IF($B$4=\"SW\",'Wave Areas'!R123,(IF($B$4=\"N\",'Wave Areas'!D86,(IF($B$4=\"NE\",'Wave Areas'!R87,(IF($B$4=\"E\",'Wave Areas'!D104,(IF($B$4=\"SE\",'Wave Areas'!R105,(IF($B$4=\"S\",'Wave Areas'!D122,(IF($B$4=\"W\",'Wave Areas'!D140,(IF($B$4=\"NW\",'Wave Areas'!R141,0)))))))))))))))","v":0},{"$f":"IF($B$4=\"SW\",'Wave Areas'!S123,(IF($B$4=\"N\",'Wave Areas'!E86,(IF($B$4=\"NE\",'Wave Areas'!S87,(IF($B$4=\"E\",'Wave Areas'!E104,(IF($B$4=\"SE\",'Wave Areas'!S105,(IF($B$4=\"S\",'Wave Areas'!E122,(IF($B$4=\"W\",'Wave Areas'!E140,(IF($B$4=\"NW\",'Wave Areas'!S141,0)))))))))))))))","v":0},{"$f":"IF($B$4=\"SW\",'Wave Areas'!T123,(IF($B$4=\"N\",'Wave Areas'!F86,(IF($B$4=\"NE\",'Wave Areas'!T87,(IF($B$4=\"E\",'Wave Areas'!F104,(IF($B$4=\"SE\",'Wave Areas'!T105,(IF($B$4=\"S\",'Wave Areas'!F122,(IF($B$4=\"W\",'Wave Areas'!F140,(IF($B$4=\"NW\",'Wave Areas'!T141,0)))))))))))))))","v":0},{"$f":"IF($B$4=\"SW\",'Wave Areas'!U123,(IF($B$4=\"N\",'Wave Areas'!G86,(IF($B$4=\"NE\",'Wave Areas'!U87,(IF($B$4=\"E\",'Wave Areas'!G104,(IF($B$4=\"SE\",'Wave Areas'!U105,(IF($B$4=\"S\",'Wave Areas'!G122,(IF($B$4=\"W\",'Wave Areas'!G140,(IF($B$4=\"NW\",'Wave Areas'!U141,0)))))))))))))))","v":0},{"$f":"IF($B$4=\"SW\",'Wave Areas'!V123,(IF($B$4=\"N\",'Wave Areas'!H86,(IF($B$4=\"NE\",'Wave Areas'!V87,(IF($B$4=\"E\",'Wave Areas'!H104,(IF($B$4=\"SE\",'Wave Areas'!V105,(IF($B$4=\"S\",'Wave Areas'!H122,(IF($B$4=\"W\",'Wave Areas'!H140,(IF($B$4=\"NW\",'Wave Areas'!V141,0)))))))))))))))","v":0},{"$f":"IF($B$4=\"SW\",'Wave Areas'!W123,(IF($B$4=\"N\",'Wave Areas'!I86,(IF($B$4=\"NE\",'Wave Areas'!W87,(IF($B$4=\"E\",'Wave Areas'!I104,(IF($B$4=\"SE\",'Wave Areas'!W105,(IF($B$4=\"S\",'Wave Areas'!I122,(IF($B$4=\"W\",'Wave Areas'!I140,(IF($B$4=\"NW\",'Wave Areas'!W141,0)))))))))))))))","v":0},{"$f":"IF($B$4=\"SW\",'Wave Areas'!X123,(IF($B$4=\"N\",'Wave Areas'!J86,(IF($B$4=\"NE\",'Wave Areas'!X87,(IF($B$4=\"E\",'Wave Areas'!J104,(IF($B$4=\"SE\",'Wave Areas'!X105,(IF($B$4=\"S\",'Wave Areas'!J122,(IF($B$4=\"W\",'Wave Areas'!J140,(IF($B$4=\"NW\",'Wave Areas'!X141,0)))))))))))))))","v":0},{"$f":"IF($B$4=\"SW\",'Wave Areas'!Y123,(IF($B$4=\"N\",'Wave Areas'!K86,(IF($B$4=\"NE\",'Wave Areas'!Y87,(IF($B$4=\"E\",'Wave Areas'!K104,(IF($B$4=\"SE\",'Wave Areas'!Y105,(IF($B$4=\"S\",'Wave Areas'!K122,(IF($B$4=\"W\",'Wave Areas'!K140,(IF($B$4=\"NW\",'Wave Areas'!Y141,0)))))))))))))))","v":0},{"$f":"IF($B$4=\"SW\",'Wave Areas'!Z123,(IF($B$4=\"N\",'Wave Areas'!L86,(IF($B$4=\"NE\",'Wave Areas'!Z87,(IF($B$4=\"E\",'Wave Areas'!L104,(IF($B$4=\"SE\",'Wave Areas'!Z105,(IF($B$4=\"S\",'Wave Areas'!L122,(IF($B$4=\"W\",'Wave Areas'!L140,(IF($B$4=\"NW\",'Wave Areas'!Z141,0)))))))))))))))","v":0},null,8.5,{"$error":"#DIV/0!"},{"$error":"#DIV/0!"},{"$error":"#DIV/0!"},{"$error":"#DIV/0!"},{"$error":"#DIV/0!"},{"$error":"#DIV/0!"},{"$error":"#DIV/0!"},{"$error":"#DIV/0!"},{"$error":"#DIV/0!"},{"$error":"#DIV/0!"},{"$error":"#DIV/0!"},{"$error":"#DIV/0!"},null,8.5,{"$error":"#DIV/0!"},{"$error":"#DIV/0!"},{"$f":"AI56/1004","v":{"$error":"#DIV/0!"}},{"$error":"#DIV/0!"},{"$error":"#DIV/0!"},{"$error":"#DIV/0!"},{"$error":"#DIV/0!"},{"$f":"AN56/1004","v":{"$error":"#DIV/0!"}},{"$error":"#DIV/0!"},{"$error":"#DIV/0!"},{"$error":"#DIV/0!"},{"$error":"#DIV/0!"}]
[138573.9140625,10.5,0,0,0,0,0,0,0,0,0,0,0,0,null,null,null,9.5,{"$f":"IF($B$4=\"SW\",'Wave Areas'!P124,(IF($B$4=\"N\",'Wave Areas'!B87,(IF($B$4=\"NE\",'Wave Areas'!P88,(IF($B$4=\"E\",'Wave Areas'!B105,(IF($B$4=\"SE\",'Wave Areas'!P106,(IF($B$4=\"S\",'Wave Areas'!B123,(IF($B$4=\"W\",'Wave Areas'!B141,(IF($B$4=\"NW\",'Wave Areas'!P142,0)))))))))))))))","v":0},{"$f":"IF($B$4=\"SW\",'Wave Areas'!Q124,(IF($B$4=\"N\",'Wave Areas'!C87,(IF($B$4=\"NE\",'Wave Areas'!Q88,(IF($B$4=\"E\",'Wave Areas'!C105,(IF($B$4=\"SE\",'Wave Areas'!Q106,(IF($B$4=\"S\",'Wave Areas'!C123,(IF($B$4=\"W\",'Wave Areas'!C141,(IF($B$4=\"NW\",'Wave Areas'!Q142,0)))))))))))))))","v":0},{"$f":"IF($B$4=\"SW\",'Wave Areas'!R124,(IF($B$4=\"N\",'Wave Areas'!D87,(IF($B$4=\"NE\",'Wave Areas'!R88,(IF($B$4=\"E\",'Wave Areas'!D105,(IF($B$4=\"SE\",'Wave Areas'!R106,(IF($B$4=\"S\",'Wave Areas'!D123,(IF($B$4=\"W\",'Wave Areas'!D141,(IF($B$4=\"NW\",'Wave Areas'!R142,0)))))))))))))))","v":0},{"$f":"IF($B$4=\"SW\",'Wave Areas'!S124,(IF($B$4=\"N\",'Wave Areas'!E87,(IF($B$4=\"NE\",'Wave Areas'!S88,(IF($B$4=\"E\",'Wave Areas'!E105,(IF($B$4=\"SE\",'Wave Areas'!S106,(IF($B$4=\"S\",'Wave Areas'!E123,(IF($B$4=\"W\",'Wave Areas'!E141,(IF($B$4=\"NW\",'Wave Areas'!S142,0)))))))))))))))","v":0},{"$f":"IF($B$4=\"SW\",'Wave Areas'!T124,(IF($B$4=\"N\",'Wave Areas'!F87,(IF($B$4=\"NE\",'Wave Areas'!T88,(IF($B$4=\"E\",'Wave Areas'!F105,(IF($B$4=\"SE\",'Wave Areas'!T106,(IF($B$4=\"S\",'Wave Areas'!F123,(IF($B$4=\"W\",'Wave Areas'!F141,(IF($B$4=\"NW\",'Wave Areas'!T142,0)))))))))))))))","v":0},{"$f":"IF($B$4=\"SW\",'Wave Areas'!U124,(IF($B$4=\"N\",'Wave Areas'!G87,(IF($B$4=\"NE\",'Wave Areas'!U88,(IF($B$4=\"E\",'Wave Areas'!G105,(IF($B$4=\"SE\",'Wave Areas'!U106,(IF($B$4=\"S\",'Wave Areas'!G123,(IF($B$4=\"W\",'Wave Areas'!G141,(IF($B$4=\"NW\",'Wave Areas'!U142,0)))))))))))))))","v":0},{"$f":"IF($B$4=\"SW\",'Wave Areas'!V124,(IF($B$4=\"N\",'Wave Areas'!H87,(IF($B$4=\"NE\",'Wave Areas'!V88,(IF($B$4=\"E\",'Wave Areas'!H105,(IF($B$4=\"SE\",'Wave Areas'!V106,(IF($B$4=\"S\",'Wave Areas'!H123,(IF($B$4=\"W\",'Wave Areas'!H141,(IF($B$4=\"NW\",'Wave Areas'!V142,0)))))))))))))))","v":0},{"$f":"IF($B$4=\"SW\",'Wave Areas'!W124,(IF($B$4=\"N\",'Wave Areas'!I87,(IF($B$4=\"NE\",'Wave Areas'!W88,(IF($B$4=\"E\",'Wave Areas'!I105,(IF($B$4=\"SE\",'Wave Areas'!W106,(IF($B$4=\"S\",'Wave Areas'!I123,(IF($B$4=\"W\",'Wave Areas'!I141,(IF($B$4=\"NW\",'Wave Areas'!W142,0)))))))))))))))","v":0},{"$f":"IF($B$4=\"SW\",'Wave Areas'!X124,(IF($B$4=\"N\",'Wave Areas'!J87,(IF($B$4=\"NE\",'Wave Areas'!X88,(IF($B$4=\"E\",'Wave Areas'!J105,(IF($B$4=\"SE\",'Wave Areas'!X106,(IF($B$4=\"S\",'Wave Areas'!J123,(IF($B$4=\"W\",'Wave Areas'!J141,(IF($B$4=\"NW\",'Wave Areas'!X142,0)))))))))))))))","v":0},{"$f":"IF($B$4=\"SW\",'Wave Areas'!Y124,(IF($B$4=\"N\",'Wave Areas'!K87,(IF($B$4=\"NE\",'Wave Areas'!Y88,(IF($B$4=\"E\",'Wave Areas'!K105,(IF($B$4=\"SE\",'Wave Areas'!Y106,(IF($B$4=\"S\",'Wave Areas'!K123,(IF($B$4=\"W\",'Wave Areas'!K141,(IF($B$4=\"NW\",'Wave Areas'!Y142,0)))))))))))))))","v":0},{"$f":"IF($B$4=\"SW\",'Wave Areas'!Z124,(IF($B$4=\"N\",'Wave Areas'!L87,(IF($B$4=\"NE\",'Wave Areas'!Z88,(IF($B$4=\"E\",'Wave Areas'!L105,(IF($B$4=\"SE\",'Wave Areas'!Z106,(IF($B$4=\"S\",'Wave Areas'!L123,(IF($B$4=\"W\",'Wave Areas'!L141,(IF($B$4=\"NW\",'Wave Areas'!Z142,0)))))))))))))))","v":0},null,9.5,{"$error":"#DIV/0!"},{"$error":"#DIV/0!"},{"$error":"#DIV/0!"},{"$error":"#DIV/0!"},{"$error":"#DIV/0!"},{"$error":"#DIV/0!"},{"$error":"#DIV/0!"},{"$error":"#DIV/0!"},{"$error":"#DIV/0!"},{"$error":"#DIV/0!"},{"$error":"#DIV/0!"},{"$error":"#DIV/0!"},null,9.5,{"$error":"#DIV/0!"},{"$error":"#DIV/0!"},{"$f":"AI57/1004","v":{"$error":"#DIV/0!"}},{"$f":"AJ57/1004","v":{"$error":"#DIV/0!"}},{"$f":"G56*AJ57","v":{"$error":"#DIV/0!"}},{"$f":"H56*AK57","v":{"$error":"#DIV/0!"}},{"$f":"AM57/1004","v":{"$error":"#DIV/0!"}},{"$f":"AN57/1004","v":{"$error":"#DIV/0!"}},{"$error":"#DIV/0!"},{"$error":"#DIV/0!"},{"$error":"#DIV/0!"},{"$error":"#DIV/0!"}]
["Sub Totals",null,{"$f":"SUM(C47:C57)","v":795.07727654024404},167800.78550277217,565550.79558341741,1423425.249143718,2254293.3809968382,2552831.8828812321,2078243.8026713708,1077314.9420763839,0,0,0,{"$f":"SUM(N47:N56)","v":10120255.916132273},"Total",null,null,10.5,{"$f":"IF($B$4=\"SW\",'Wave Areas'!P125,(IF($B$4=\"N\",'Wave Areas'!B88,(IF($B$4=\"NE\",'Wave Areas'!P89,(IF($B$4=\"E\",'Wave Areas'!B106,(IF($B$4=\"SE\",'Wave Areas'!P107,(IF($B$4=\"S\",'Wave Areas'!B124,(IF($B$4=\"W\",'Wave Areas'!B142,(IF($B$4=\"NW\",'Wave Areas'!P143,0)))))))))))))))","v":0},{"$f":"IF($B$4=\"SW\",'Wave Areas'!Q125,(IF($B$4=\"N\",'Wave Areas'!C88,(IF($B$4=\"NE\",'Wave Areas'!Q89,(IF($B$4=\"E\",'Wave Areas'!C106,(IF($B$4=\"SE\",'Wave Areas'!Q107,(IF($B$4=\"S\",'Wave Areas'!C124,(IF($B$4=\"W\",'Wave Areas'!C142,(IF($B$4=\"NW\",'Wave Areas'!Q143,0)))))))))))))))","v":0},{"$f":"IF($B$4=\"SW\",'Wave Areas'!R125,(IF($B$4=\"N\",'Wave Areas'!D88,(IF($B$4=\"NE\",'Wave Areas'!R89,(IF($B$4=\"E\",'Wave Areas'!D106,(IF($B$4=\"SE\",'Wave Areas'!R107,(IF($B$4=\"S\",'Wave Areas'!D124,(IF($B$4=\"W\",'Wave Areas'!D142,(IF($B$4=\"NW\",'Wave Areas'!R143,0)))))))))))))))","v":0},{"$f":"IF($B$4=\"SW\",'Wave Areas'!S125,(IF($B$4=\"N\",'Wave Areas'!E88,(IF($B$4=\"NE\",'Wave Areas'!S89,(IF($B$4=\"E\",'Wave Areas'!E106,(IF($B$4=\"SE\",'Wave Areas'!S107,(IF($B$4=\"S\",'Wave Areas'!E124,(IF($B$4=\"W\",'Wave Areas'!E142,(IF($B$4=\"NW\",'Wave Areas'!S143,0)))))))))))))))","v":0},{"$f":"IF($B$4=\"SW\",'Wave Areas'!T125,(IF($B$4=\"N\",'Wave Areas'!F88,(IF($B$4=\"NE\",'Wave Areas'!T89,(IF($B$4=\"E\",'Wave Areas'!F106,(IF($B$4=\"SE\",'Wave Areas'!T107,(IF($B$4=\"S\",'Wave Areas'!F124,(IF($B$4=\"W\",'Wave Areas'!F142,(IF($B$4=\"NW\",'Wave Areas'!T143,0)))))))))))))))","v":0},{"$f":"IF($B$4=\"SW\",'Wave Areas'!U125,(IF($B$4=\"N\",'Wave Areas'!G88,(IF($B$4=\"NE\",'Wave Areas'!U89,(IF($B$4=\"E\",'Wave Areas'!G106,(IF($B$4=\"SE\",'Wave Areas'!U107,(IF($B$4=\"S\",'Wave Areas'!G124,(IF($B$4=\"W\",'Wave Areas'!G142,(IF($B$4=\"NW\",'Wave Areas'!U143,0)))))))))))))))","v":0},{"$f":"IF($B$4=\"SW\",'Wave Areas'!V125,(IF($B$4=\"N\",'Wave Areas'!H88,(IF($B$4=\"NE\",'Wave Areas'!V89,(IF($B$4=\"E\",'Wave Areas'!H106,(IF($B$4=\"SE\",'Wave Areas'!V107,(IF($B$4=\"S\",'Wave Areas'!H124,(IF($B$4=\"W\",'Wave Areas'!H142,(IF($B$4=\"NW\",'Wave Areas'!V143,0)))))))))))))))","v":0},{"$f":"IF($B$4=\"SW\",'Wave Areas'!W125,(IF($B$4=\"N\",'Wave Areas'!I88,(IF($B$4=\"NE\",'Wave Areas'!W89,(IF($B$4=\"E\",'Wave Areas'!I106,(IF($B$4=\"SE\",'Wave Areas'!W107,(IF($B$4=\"S\",'Wave Areas'!I124,(IF($B$4=\"W\",'Wave Areas'!I142,(IF($B$4=\"NW\",'Wave Areas'!W143,0)))))))))))))))","v":0},{"$f":"IF($B$4=\"SW\",'Wave Areas'!X125,(IF($B$4=\"N\",'Wave Areas'!J88,(IF($B$4=\"NE\",'Wave Areas'!X89,(IF($B$4=\"E\",'Wave Areas'!J106,(IF($B$4=\"SE\",'Wave Areas'!X107,(IF($B$4=\"S\",'Wave Areas'!J124,(IF($B$4=\"W\",'Wave Areas'!J142,(IF($B$4=\"NW\",'Wave Areas'!X143,0)))))))))))))))","v":0},{"$f":"IF($B$4=\"SW\",'Wave Areas'!Y125,(IF($B$4=\"N\",'Wave Areas'!K88,(IF($B$4=\"NE\",'Wave Areas'!Y89,(IF($B$4=\"E\",'Wave Areas'!K106,(IF($B$4=\"SE\",'Wave Areas'!Y107,(IF($B$4=\"S\",'Wave Areas'!K124,(IF($B$4=\"W\",'Wave Areas'!K142,(IF($B$4=\"NW\",'Wave Areas'!Y143,0)))))))))))))))","v":0},{"$f":"IF($B$4=\"SW\",'Wave Areas'!Z125,(IF($B$4=\"N\",'Wave Areas'!L88,(IF($B$4=\"NE\",'Wave Areas'!Z89,(IF($B$4=\"E\",'Wave Areas'!L106,(IF($B$4=\"SE\",'Wave Areas'!Z107,(IF($B$4=\"S\",'Wave Areas'!L124,(IF($B$4=\"W\",'Wave Areas'!L142,(IF($B$4=\"NW\",'Wave Areas'!Z143,0)))))))))))))))","v":0},null,10.5,{"$error":"#DIV/0!"},{"$error":"#DIV/0!"},{"$error":"#DIV/0!"},{"$error":"#DIV/0!"},{"$error":"#DIV/0!"},{"$error":"#DIV/0!"},{"$error":"#DIV/0!"},{"$error":"#DIV/0!"},{"$error":"#DIV/0!"},{"$error":"#DIV/0!"},{"$error":"#DIV/0!"},{"$error":"#DIV/0!"},null,10.5,{"$error":"#DIV/0!"},{"$error":"#DIV/0!"},{"$f":"AI58/1004","v":{"$error":"#DIV/0!"}},{"$f":"AJ58/1004","v":{"$error":"#DIV/0!"}},{"$f":"AK58/1004","v":{"$error":"#DIV/0!"}},{"$f":"AL58/1004","v":{"$error":"#DIV/0!"}},{"$f":"AM58/1004","v":{"$error":"#DIV/0!"}},{"$f":"AN58/1004","v":{"$error":"#DIV/0!"}},{"$error":"#DIV/0!"},{"$error":"#DIV/0!"},{"$error":"#DIV/0!"},{"$error":"#DIV/0!"}]
[null,null,null,null,null,null,null,null,null,null,null,null,null,null,null,null,null,"Total Occurences",null,null,null,null,null,null,null,null,null,null,{"$f":"SUM(S48:AC58)","v":0},null,null,null,null,null,null,null,null,null,null,null,null,null,null,null,"Sub Totals",{"$f":"SUM(AT48:AT58)","v":{"$error":"#DIV/0!"}},{"$error":"#DIV/0!"},{"$error":"#DIV/0!"},{"$error":"#DIV/0!"},{"$error":"#DIV/0!"},{"$error":"#DIV/0!"},{"$error":"#DIV/0!"},{"$error":"#DIV/0!"},{"$error":"#DIV/0!"},{"$error":"#DIV/0!"},{"$error":"#DIV/0!"},{"$f":"SUM(BE48:BE57)","v":{"$error":"#DIV/0!"}},"Total"]
[]
[null,null,null,null,null,null,null,null,null,null,null,null,null,null,null,null,null,null,null,null,null,null,null,null,null,null,null,null,null,null,null,null,null,null,null,null,null,null,null,null,null,null,null,null,null,null,null,null,null,null,null,null,null,null,null,null,"Min","Max"]
[null,null,null,null,null,null,null,null,null,null,null,null,null,null,null,null,null,null,null,null,null,null,null,null,null,null,null,null,null,null,null,null,null,null,null,null,null,null,null,null,null,null,null,null,null,null,null,null,null,null,null,null,null,"Relevant Wave Heights",null,null,{"$f":"IF((AND($B$6>AS48,$B$6<AS49)),AS48,(IF((AND($B$6>AS49,$B$6<AS50)),AS49,(IF((AND($B$6>AS50,$B$6<AS51)),AS50,(IF((AND($B$6>AS51,$B$6<AS52)),AS51,(IF((AND($B$6>AS52,$B$6<AS53)),AS52,(IF((AND($B$6>AS53,$B$6<AS54)),AS53,(IF((AND($B$6>AS54,$B$6<AS55)),AS54,(IF((AND($B$6>AS55,$B$6<AS56)),AS55,(IF((AND($B$6>AS56,$B$6<AS57)),AS56,(IF((AND($B$6>AS57,$B$6<AS58)),AS57,(IF($B$6>AS58,AS58,\"\")))))))))))))))))))))","v":10.5},{"$f":"IF((AND($B$6>AS48,$B$6<AS49)),AS49,(IF((AND($B$6>AS49,$B$6<AS50)),AS50,(IF((AND($B$6>AS50,$B$6<AS51)),AS51,(IF((AND($B$6>AS51,$B$6<AS52)),AS52,(IF((AND($B$6>AS52,$B$6<AS53)),AS53,(IF((AND($B$6>AS53,$B$6<AS54)),AS54,(IF((AND($B$6>AS54,$B$6<AS55)),AS55,(IF((AND($B$6>AS55,$B$6<AS56)),AS56,(IF((AND($B$6>AS56,$B$6<AS57)),AS57,(IF((AND($B$6>AS57,$B$6<AS58)),AS58,(IF($B$6>AS58,AS58,\"\")))))))))))))))))))))","v":10.5}]
[null,null,null,null,null,null,null,null,null,null,null,null,null,null,null,null,null,null,null,null,null,null,null,null,null,null,null,null,null,null,null,null,null,null,null,null,null,null,null,null,null,null,null,null,null,null,null,null,null,null,null,null,null,"Relevant Power (kW/m)",null,null,{"$f":"(((($B$6-BE62)*((VLOOKUP(BF62,AS48:BE58,13,FALSE))-(VLOOKUP(BE62,AS48:BE58,13,FALSE))))/(BF62-BE62))+(VLOOKUP(BE62,AS48:BE58,13,FALSE)))*0.001","v":{"$error":"#VALUE!"}}]

{"sheet":"Wave 3","index":15,"n_rows":63,"n_cols":58,"rows_kept":63,"cut":false,"hidden":false,"merged":[[7,1,7,2],[2,1,2,2],[3,1,3,2],[4,1,4,2],[5,1,5,2],[6,1,6,2],[16,44,16,45],[17,44,17,55],[18,17,18,28],[18,30,18,41],[18,44,18,55],[32,0,32,1],[32,17,32,27],[8,1,8,2],[9,1,9,2],[16,30,16,31],[19,2,19,12],[19,17,19,28],[19,30,19,41],[19,44,19,55],[20,2,20,12],[35,53,35,55],[36,53,36,55],[36,56,36,57],[57,0,57,1],[42,17,42,19],[42,30,42,31],[42,44,42,45],[44,2,44,12],[44,17,44,28],[44,30,44,41],[44,44,44,55],[58,17,58,27],[61,53,61,55],[62,53,62,55],[62,56,62,57],[45,2,45,12],[45,17,45,28],[45,30,45,41],[45,44,45,55]]}
["Wave Resource"]
[]
[{"$f":"Input!I45","v":"Site Name"},{"$f":"Input!J65","v":"[Enter Name]"}]
[{"$f":"Input!I46","v":"Position Relevant to Island"},{"$f":"Input!J66","v":"[Select Value]"}]
[{"$f":"Input!I47","v":"Relevant Ocean Wave Area"},{"$f":"Input!J67","v":"[Select Area]"}]
[{"$f":"Input!I48","v":"Average Wave Height"},{"$f":"Input!J68","v":"[Enter Value]"}]
[{"$f":"Input!I49","v":"Proximity to Grid Connection"},{"$f":"Input!J69","v":"[Select Value]"}]
[{"$f":"Input!I50","v":"Average Water Depth"},{"$f":"Input!J70","v":"[Select Value]"}]
[{"$f":"Input!I51","v":"Seabed Topography"},{"$f":"Input!J71","v":"[Select Value]"}]
[{"$f":"Input!I52","v":"Accessibility"},{"$f":"Input!J72","v":"[Select Value]"}]
[]
["Relavant Wave Power",{"$f":"IF(B8<>\"[Select Value]\",(IF(B8=\"> 20m\", BE63,BE37)),0)","v":0}]
[]
["Transitional Waters Calculation (",">20m"]
[]
["Wave Velocity C","(m/s)",{"$f":"(C17/C18)","v":5.4628571428571435},6.9888888888888889,8.3109090909090906,9.2892307692307696,9.9653333333333318,10.436470588235293,10.77157894736842,11.016190476190477,11.201739130434783,11.344799999999999,11.455555555555556]
["Wave Length (λ)","(m)",19.12,31.45,45.71,60.38,74.739999999999995,88.71,102.33,115.67,128.82,141.81,154.65]
["Wave Period (T)","(s)",3.5,4.5,5.5,6.5,7.5,8.5,9.5,10.5,11.5,12.5,13.5]
[null,null,null,null,null,null,null,null,null,null,null,null,null,null,null,null,null,"North Sea Area 10",null,null,null,null,null,null,null,null,null,null,null,null,"North Sea Area 10",null,null,null,null,null,null,null,null,null,null,null,null,null,"North Sea Area 10"]
["Energy","Wave Height (Hs)","Power",null,null,null,null,null,null,null,null,null,null,"Total Power",null,null,null,"Number of Occurences",null,null,null,null,null,null,null,null,null,null,null,null,"Percentage of Occurences",null,null,null,null,null,null,null,null,null,null,null,null,null,"Annual Power (W/m)",null,null,null,null,null,null,null,null,null,null,null,"Total Power"]
["(J)","(m)","(W/m)",null,null,null,null,null,null,null,null,null,null,"(W/m)",null,null,null,"Hs                      T",3.5,4.5,5.5,6.5,7.5,8.5,9.5,10.5,11.5,12.5,13.5,null,"Hs                 T",3.5,4.5,5.5,6.5,7.5,8.5,9.5,10.5,11.5,12.5,13.5,"Availability",null,"Hs           T",3.5,4.5,5.5,6.5,7.5,8.5,9.5,10.5,11.5,12.5,13.5,"(W/m)"]
[{"$f":"(1025*9.81*B22^2)/8","v":314.2265625},0.5,{"$f":"$A22*($C$16)","v":1716.5748214285716},{"$f":"$A22*(D16)","v":2196.0945312499998},{"$f":"A22*($E$16)","v":2611.5083948863635},{"$f":"$A22*($F$16)","v":2918.9230528846156},{"$f":"$A22*($G$16)","v":3131.3724374999997},{"$f":"$A22*($H$16)","v":3279.416277573529},0,0,0,0,0,{"$f":"SUM(C22:M22)","v":15853.889515523078},null,null,null,0.5,{"$f":"IF($B$4=\"SW\",'Wave Areas'!P115,(IF($B$4=\"N\",'Wave Areas'!B78,(IF($B$4=\"NE\",'Wave Areas'!P79,(IF($B$4=\"E\",'Wave Areas'!B96,(IF($B$4=\"SE\",'Wave Areas'!P97,(IF($B$4=\"S\",'Wave Areas'!B114,(IF($B$4=\"W\",'Wave Areas'!B132,(IF($B$4=\"NW\",'Wave Areas'!P133,0)))))))))))))))","v":0},{"$f":"IF($B$4=\"SW\",'Wave Areas'!Q115,(IF($B$4=\"N\",'Wave Areas'!C78,(IF($B$4=\"NE\",'Wave Areas'!Q79,(IF($B$4=\"E\",'Wave Areas'!C96,(IF($B$4=\"SE\",'Wave Areas'!Q97,(IF($B$4=\"S\",'Wave Areas'!C114,(IF($B$4=\"W\",'Wave Areas'!C132,(IF($B$4=\"NW\",'Wave Areas'!Q133,0)))))))))))))))","v":0},{"$f":"IF($B$4=\"SW\",'Wave Areas'!R115,(IF($B$4=\"N\",'Wave Areas'!D78,(IF($B$4=\"NE\",'Wave Areas'!R79,(IF($B$4=\"E\",'Wave Areas'!D96,(IF($B$4=\"SE\",'Wave Areas'!R97,(IF($B$4=\"S\",'Wave Areas'!D114,(IF($B$4=\"W\",'Wave Areas'!D132,(IF($B$4=\"NW\",'Wave Areas'!R133,0)))))))))))))))","v":0},{"$f":"IF($B$4=\"SW\",'Wave Areas'!S115,(IF($B$4=\"N\",'Wave Areas'!E78,(IF($B$4=\"NE\",'Wave Areas'!S79,(IF($B$4=\"E\",'Wave Areas'!E96,(IF($B$4=\"SE\",'Wave Areas'!S97,(IF($B$4=\"S\",'Wave Areas'!E114,(IF($B$4=\"W\",'Wave Areas'!E132,(IF($B$4=\"NW\",'Wave Areas'!S133,0)))))))))))))))","v":0},{"$f":"IF($B$4=\"SW\",'Wave Areas'!T115,(IF($B$4=\"N\",'Wave Areas'!F78,(IF($B$4=\"NE\",'Wave Areas'!T79,(IF($B$4=\"E\",'Wave Areas'!F96,(IF($B$4=\"SE\",'Wave Areas'!T97,(IF($B$4=\"S\",'Wave Areas'!F114,(IF($B$4=\"W\",'Wave Areas'!F132,(IF($B$4=\"NW\",'Wave Areas'!T133,0)))))))))))))))","v":0},{"$f":"IF($B$4=\"SW\",'Wave Areas'!U115,(IF($B$4=\"N\",'Wave Areas'!G78,(IF($B$4=\"NE\",'Wave Areas'!U79,(IF($B$4=\"E\",'Wave Areas'!G96,(IF($B$4=\"SE\",'Wave Areas'!U97,(IF($B$4=\"S\",'Wave Areas'!G114,(IF($B$4=\"W\",'Wave Areas'!G132,(IF($B$4=\"NW\",'Wave Areas'!U133,0)))))))))))))))","v":0},{"$f":"IF($B$4=\"SW\",'Wave Areas'!V115,(IF($B$4=\"N\",'Wave Areas'!H78,(IF($B$4=\"NE\",'Wave Areas'!V79,(IF($B$4=\"E\",'Wave Areas'!H96,(IF($B$4=\"SE\",'Wave Areas'!V97,(IF($B$4=\"S\",'Wave Areas'!H114,(IF($B$4=\"W\",'Wave Areas'!H132,(IF($B$4=\"NW\",'Wave Areas'!V133,0)))))))))))))))","v":0},{"$f":"IF($B$4=\"SW\",'Wave Areas'!W115,(IF($B$4=\"N\",'Wave Areas'!I78,(IF($B$4=\"NE\",'Wave Areas'!W79,(IF($B$4=\"E\",'Wave Areas'!I96,(IF($B$4=\"SE\",'Wave Areas'!W97,(IF($B$4=\"S\",'Wave Areas'!I114,(IF($B$4=\"W\",'Wave Areas'!I132,(IF($B$4=\"NW\",'Wave Areas'!W133,0)))))))))))))))","v":0},{"$f":"IF($B$4=\"SW\",'Wave Areas'!X115,(IF($B$4=\"N\",'Wave Areas'!J78,(IF($B$4=\"NE\",'Wave Areas'!X79,(IF($B$4=\"E\",'Wave Areas'!J96,(IF($B$4=\"SE\",'Wave Areas'!X97,(IF($B$4=\"S\",'Wave Areas'!J114,(IF($B$4=\"W\",'Wave Areas'!J132,(IF($B$4=\"NW\",'Wave Areas'!X133,0)))))))))))))))","v":0},{"$f":"IF($B$4=\"SW\",'Wave Areas'!Y115,(IF($B$4=\"N\",'Wave Areas'!K78,(IF($B$4=\"NE\",'Wave Areas'!Y79,(IF($B$4=\"E\",'Wave Areas'!K96,(IF($B$4=\"SE\",'Wave Areas'!Y97,(IF($B$4=\"S\",'Wave Areas'!K114,(IF($B$4=\"W\",'Wave Areas'!K132,(IF($B$4=\"NW\",'Wave Areas'!Y133,0)))))))))))))))","v":0},{"$f":"IF($B$4=\"SW\",'Wave Areas'!Z115,(IF($B$4=\"N\",'Wave Areas'!L78,(IF($B$4=\"NE\",'Wave Areas'!Z79,(IF($B$4=\"E\",'Wave Areas'!L96,(IF($B$4=\"SE\",'Wave Areas'!Z97,(IF($B$4=\"S\",'Wave Areas'!L114,(IF($B$4=\"W\",'Wave Areas'!L132,(IF($B$4=\"NW\",'Wave Areas'!Z133,0)))))))))))))))","v":0},null,0.5,{"$f":"S22/($AC$33)","v":{"$error":"#DIV/0!"}},{"$f":"T22/($AC$33)","v":{"$error":"#DIV/0!"}},{"$error":"#DIV/0!"},{"$error":"#DIV/0!"},{"$error":"#DIV/0!"},{"$error":"#DIV/0!"},{"$error":"#DIV/0!"},{"$error":"#DIV/0!"},{"$error":"#DIV/0!"},{"$error":"#DIV/0!"},{"$error":"#DIV/0!"},{"$f":"SUM(AF22:AP22)","v":{"$error":"#DIV/0!"}},null,0.5,{"$f":"C22*AF22","v":{"$error":"#DIV/0!"}},{"$error":"#DIV/0!"},{"$error":"#DIV/0!"},{"$error":"#DIV/0!"},{"$error":"#DIV/0!"},{"$error":"#DIV/0!"},{"$f":"AM22/1004","v":{"$error":"#DIV/0!"}},{"$f":"AN22/1004","v":{"$error":"#DIV/0!"}},{"$f":"AO22/1004","v":{"$error":"#DIV/0!"}},{"$f":"AP22/1004","v":{"$error":"#DIV/0!"}},{"$f":"AQ20/1004","v":0},{"$f":"SUM(AT22:BD22)","v":{"$error":"#DIV/0!"}}]
[2828.0390625,1.5,{"$f":"$A23*($C$16)","v":15449.173392857145},{"$f":"A23*($D$16)","v":19764.850781249999},23503.575553977273,{"$f":"$A23*($F$16)","v":26270.307475961541},28182.351937499996,29514.746498161763,{"$f":"$A23*($I$16)","v":30462.446027960523},{"$f":"$A23*($J$16)","v":31154.216986607145},0,0,0,204301.66865427536,null,null,null,1.5,{"$f":"IF($B$4=\"SW\",'Wave Areas'!P116,(IF($B$4=\"N\",'Wave Areas'!B79,(IF($B$4=\"NE\",'Wave Areas'!P80,(IF($B$4=\"E\",'Wave Areas'!B97,(IF($B$4=\"SE\",'Wave Areas'!P98,(IF($B$4=\"S\",'Wave Areas'!B115,(IF($B$4=\"W\",'Wave Areas'!B133,(IF($B$4=\"NW\",'Wave Areas'!P134,0)))))))))))))))","v":0},{"$f":"IF($B$4=\"SW\",'Wave Areas'!Q116,(IF($B$4=\"N\",'Wave Areas'!C79,(IF($B$4=\"NE\",'Wave Areas'!Q80,(IF($B$4=\"E\",'Wave Areas'!C97,(IF($B$4=\"SE\",'Wave Areas'!Q98,(IF($B$4=\"S\",'Wave Areas'!C115,(IF($B$4=\"W\",'Wave Areas'!C133,(IF($B$4=\"NW\",'Wave Areas'!Q134,0)))))))))))))))","v":0},{"$f":"IF($B$4=\"SW\",'Wave Areas'!R116,(IF($B$4=\"N\",'Wave Areas'!D79,(IF($B$4=\"NE\",'Wave Areas'!R80,(IF($B$4=\"E\",'Wave Areas'!D97,(IF($B$4=\"SE\",'Wave Areas'!R98,(IF($B$4=\"S\",'Wave Areas'!D115,(IF($B$4=\"W\",'Wave Areas'!D133,(IF($B$4=\"NW\",'Wave Areas'!R134,0)))))))))))))))","v":0},{"$f":"IF($B$4=\"SW\",'Wave Areas'!S116,(IF($B$4=\"N\",'Wave Areas'!E79,(IF($B$4=\"NE\",'Wave Areas'!S80,(IF($B$4=\"E\",'Wave Areas'!E97,(IF($B$4=\"SE\",'Wave Areas'!S98,(IF($B$4=\"S\",'Wave Areas'!E115,(IF($B$4=\"W\",'Wave Areas'!E133,(IF($B$4=\"NW\",'Wave Areas'!S134,0)))))))))))))))","v":0},{"$f":"IF($B$4=\"SW\",'Wave Areas'!T116,(IF($B$4=\"N\",'Wave Areas'!F79,(IF($B$4=\"NE\",'Wave Areas'!T80,(IF($B$4=\"E\",'Wave Areas'!F97,(IF($B$4=\"SE\",'Wave Areas'!T98,(IF($B$4=\"S\",'Wave Areas'!F115,(IF($B$4=\"W\",'Wave Areas'!F133,(IF($B$4=\"NW\",'Wave Areas'!T134,0)))))))))))))))","v":0},{"$f":"IF($B$4=\"SW\",'Wave Areas'!U116,(IF($B$4=\"N\",'Wave Areas'!G79,(IF($B$4=\"NE\",'Wave Areas'!U80,(IF($B$4=\"E\",'Wave Areas'!G97,(IF($B$4=\"SE\",'Wave Areas'!U98,(IF($B$4=\"S\",'Wave Areas'!G115,(IF($B$4=\"W\",'Wave Areas'!G133,(IF($B$4=\"NW\",'Wave Areas'!U134,0)))))))))))))))","v":0},{"$f":"IF($B$4=\"SW\",'Wave Areas'!V116,(IF($B$4=\"N\",'Wave Areas'!H79,(IF($B$4=\"NE\",'Wave Areas'!V80,(IF($B$4=\"E\",'Wave Areas'!H97,(IF($B$4=\"SE\",'Wave Areas'!V98,(IF($B$4=\"S\",'Wave Areas'!H115,(IF($B$4=\"W\",'Wave Areas'!H133,(IF($B$4=\"NW\",'Wave Areas'!V134,0)))))))))))))))","v":0},{"$f":"IF($B$4=\"SW\",'Wave Areas'!W116,(IF($B$4=\"N\",'Wave Areas'!I79,(IF($B$4=\"NE\",'Wave Areas'!W80,(IF($B$4=\"E\",'Wave Areas'!I97,(IF($B$4=\"SE\",'Wave Areas'!W98,(IF($B$4=\"S\",'Wave Areas'!I115,(IF($B$4=\"W\",'Wave Areas'!I133,(IF($B$4=\"NW\",'Wave Areas'!W134,0)))))))))))))))","v":0},{"$f":"IF($B$4=\"SW\",'Wave Areas'!X116,(IF($B$4=\"N\",'Wave Areas'!J79,(IF($B$4=\"NE\",'Wave Areas'!X80,(IF($B$4=\"E\",'Wave Areas'!J97,(IF($B$4=\"SE\",'Wave Areas'!X98,(IF($B$4=\"S\",'Wave Areas'!J115,(IF($B$4=\"W\",'Wave Areas'!J133,(IF($B$4=\"NW\",'Wave Areas'!X134,0)))))))))))))))","v":0},{"$f":"IF($B$4=\"SW\",'Wave Areas'!Y116,(IF($B$4=\"N\",'Wave Areas'!K79,(IF($B$4=\"NE\",'Wave Areas'!Y80,(IF($B$4=\"E\",'Wave Areas'!K97,(IF($B$4=\"SE\",'Wave Areas'!Y98,(IF($B$4=\"S\",'Wave Areas'!K115,(IF($B$4=\"W\",'Wave Areas'!K133,(IF($B$4=\"NW\",'Wave Areas'!Y134,0)))))))))))))))","v":0},{"$f":"IF($B$4=\"SW\",'Wave Areas'!Z116,(IF($B$4=\"N\",'Wave Areas'!L79,(IF($B$4=\"NE\",'Wave Areas'!Z80,(IF($B$4=\"E\",'Wave Areas'!L97,(IF($B$4=\"SE\",'Wave Areas'!Z98,(IF($B$4=\"S\",'Wave Areas'!L115,(IF($B$4=\"W\",'Wave Areas'!L133,(IF($B$4=\"NW\",'Wave Areas'!Z134,0)))))))))))))))","v":0},null,1.5,{"$f":"S23/($AC$33)","v":{"$error":"#DIV/0!"}},{"$error":"#DIV/0!"},{"$error":"#DIV/0!"},{"$error":"#DIV/0!"},{"$error":"#DIV/0!"},{"$error":"#DIV/0!"},{"$error":"#DIV/0!"},{"$error":"#DIV/0!"},{"$error":"#DIV/0!"},{"$error":"#DIV/0!"},{"$error":"#DIV/0!"},{"$f":"SUM(AF23:AP23)","v":{"$error":"#DIV/0!"}},null,1.5,{"$error":"#DIV/0!"},{"$error":"#DIV/0!"},{"$error":"#DIV/0!"},{"$error":"#DIV/0!"},{"$error":"#DIV/0!"},{"$error":"#DIV/0!"},{"$error":"#DIV/0!"},{"$error":"#DIV/0!"},{"$f":"AO23/1004","v":{"$error":"#DIV/0!"}},{"$error":"#DIV/0!"},{"$f":"AQ22/1004","v":{"$error":"#DIV/0!"}},{"$error":"#DIV/0!"}]
[7855.6640625,2.5,0,{"$f":"A24*($D$16)","v":54902.36328125},65287.709872159088,{"$f":"$A24*($F$16)","v":72973.07632211539},78284.310937499991,81985.406939338223,84617.90563322368,86539.49162946429,0,0,0,524590.26461505075,null,null,null,2.5,{"$f":"IF($B$4=\"SW\",'Wave Areas'!P117,(IF($B$4=\"N\",'Wave Areas'!B80,(IF($B$4=\"NE\",'Wave Areas'!P81,(IF($B$4=\"E\",'Wave Areas'!B98,(IF($B$4=\"SE\",'Wave Areas'!P99,(IF($B$4=\"S\",'Wave Areas'!B116,(IF($B$4=\"W\",'Wave Areas'!B134,(IF($B$4=\"NW\",'Wave Areas'!P135,0)))))))))))))))","v":0},{"$f":"IF($B$4=\"SW\",'Wave Areas'!Q117,(IF($B$4=\"N\",'Wave Areas'!C80,(IF($B$4=\"NE\",'Wave Areas'!Q81,(IF($B$4=\"E\",'Wave Areas'!C98,(IF($B$4=\"SE\",'Wave Areas'!Q99,(IF($B$4=\"S\",'Wave Areas'!C116,(IF($B$4=\"W\",'Wave Areas'!C134,(IF($B$4=\"NW\",'Wave Areas'!Q135,0)))))))))))))))","v":0},{"$f":"IF($B$4=\"SW\",'Wave Areas'!R117,(IF($B$4=\"N\",'Wave Areas'!D80,(IF($B$4=\"NE\",'Wave Areas'!R81,(IF($B$4=\"E\",'Wave Areas'!D98,(IF($B$4=\"SE\",'Wave Areas'!R99,(IF($B$4=\"S\",'Wave Areas'!D116,(IF($B$4=\"W\",'Wave Areas'!D134,(IF($B$4=\"NW\",'Wave Areas'!R135,0)))))))))))))))","v":0},{"$f":"IF($B$4=\"SW\",'Wave Areas'!S117,(IF($B$4=\"N\",'Wave Areas'!E80,(IF($B$4=\"NE\",'Wave Areas'!S81,(IF($B$4=\"E\",'Wave Areas'!E98,(IF($B$4=\"SE\",'Wave Areas'!S99,(IF($B$4=\"S\",'Wave Areas'!E116,(IF($B$4=\"W\",'Wave Areas'!E134,(IF($B$4=\"NW\",'Wave Areas'!S135,0)))))))))))))))","v":0},{"$f":"IF($B$4=\"SW\",'Wave Areas'!T117,(IF($B$4=\"N\",'Wave Areas'!F80,(IF($B$4=\"NE\",'Wave Areas'!T81,(IF($B$4=\"E\",'Wave Areas'!F98,(IF($B$4=\"SE\",'Wave Areas'!T99,(IF($B$4=\"S\",'Wave Areas'!F116,(IF($B$4=\"W\",'Wave Areas'!F134,(IF($B$4=\"NW\",'Wave Areas'!T135,0)))))))))))))))","v":0},{"$f":"IF($B$4=\"SW\",'Wave Areas'!U117,(IF($B$4=\"N\",'Wave Areas'!G80,(IF($B$4=\"NE\",'Wave Areas'!U81,(IF($B$4=\"E\",'Wave Areas'!G98,(IF($B$4=\"SE\",'Wave Areas'!U99,(IF($B$4=\"S\",'Wave Areas'!G116,(IF($B$4=\"W\",'Wave Areas'!G134,(IF($B$4=\"NW\",'Wave Areas'!U135,0)))))))))))))))","v":0},{"$f":"IF($B$4=\"SW\",'Wave Areas'!V117,(IF($B$4=\"N\",'Wave Areas'!H80,(IF($B$4=\"NE\",'Wave Areas'!V81,(IF($B$4=\"E\",'Wave Areas'!H98,(IF($B$4=\"SE\",'Wave Areas'!V99,(IF($B$4=\"S\",'Wave Areas'!H116,(IF($B$4=\"W\",'Wave Areas'!H134,(IF($B$4=\"NW\",'Wave Areas'!V135,0)))))))))))))))","v":0},{"$f":"IF($B$4=\"SW\",'Wave Areas'!W117,(IF($B$4=\"N\",'Wave Areas'!I80,(IF($B$4=\"NE\",'Wave Areas'!W81,(IF($B$4=\"E\",'Wave Areas'!I98,(IF($B$4=\"SE\",'Wave Areas'!W99,(IF($B$4=\"S\",'Wave Areas'!I116,(IF($B$4=\"W\",'Wave Areas'!I134,(IF($B$4=\"NW\",'Wave Areas'!W135,0)))))))))))))))","v":0},{"$f":"IF($B$4=\"SW\",'Wave Areas'!X117,(IF($B$4=\"N\",'Wave Areas'!J80,(IF($B$4=\"NE\",'Wave Areas'!X81,(IF($B$4=\"E\",'Wave Areas'!J98,(IF($B$4=\"SE\",'Wave Areas'!X99,(IF($B$4=\"S\",'Wave Areas'!J116,(IF($B$4=\"W\",'Wave Areas'!J134,(IF($B$4=\"NW\",'Wave Areas'!X135,0)))))))))))))))","v":0},{"$f":"IF($B$4=\"SW\",'Wave Areas'!Y117,(IF($B$4=\"N\",'Wave Areas'!K80,(IF($B$4=\"NE\",'Wave Areas'!Y81,(IF($B$4=\"E\",'Wave Areas'!K98,(IF($B$4=\"SE\",'Wave Areas'!Y99,(IF($B$4=\"S\",'Wave Areas'!K116,(IF($B$4=\"W\",'Wave Areas'!K134,(IF($B$4=\"NW\",'Wave Areas'!Y135,0)))))))))))))))","v":0},{"$f":"IF($B$4=\"SW\",'Wave Areas'!Z117,(IF($B$4=\"N\",'Wave Areas'!L80,(IF($B$4=\"NE\",'Wave Areas'!Z81,(IF($B$4=\"E\",'Wave Areas'!L98,(IF($B$4=\"SE\",'Wave Areas'!Z99,(IF($B$4=\"S\",'Wave Areas'!L116,(IF($B$4=\"W\",'Wave Areas'!L134,(IF($B$4=\"NW\",'Wave Areas'!Z135,0)))))))))))))))","v":0},null,2.5,{"$error":"#DIV/0!"},{"$f":"T24/($AC$33)","v":{"$error":"#DIV/0!"}},{"$f":"U24/($AC$33)","v":{"$error":"#DIV/0!"}},{"$error":"#DIV/0!"},{"$error":"#DIV/0!"},{"$error":"#DIV/0!"},{"$error":"#DIV/0!"},{"$error":"#DIV/0!"},{"$error":"#DIV/0!"},{"$error":"#DIV/0!"},{"$error":"#DIV/0!"},{"$error":"#DIV/0!"},null,2.5,{"$f":"AG24/1004","v":{"$error":"#DIV/0!"}},{"$f":"D24*AG24","v":{"$error":"#DIV/0!"}},{"$error":"#DIV/0!"},{"$error":"#DIV/0!"},{"$error":"#DIV/0!"},{"$error":"#DIV/0!"},{"$error":"#DIV/0!"},{"$error":"#DIV/0!"},{"$error":"#DIV/0!"},{"$error":"#DIV/0!"},{"$error":"#DIV/0!"},{"$error":"#DIV/0!"}]
[15397.1015625,3.5,0,{"$f":"A25*($D$16)","v":107608.63203125},127963.91134943182,{"$f":"$A25*($F$16)","v":143027.22959134617},153437.24943749997,160691.39760110292,165851.09504111842,169617.40359375,0,0,0,1028196.9186454994,null,null,null,3.5,{"$f":"IF($B$4=\"SW\",'Wave Areas'!P118,(IF($B$4=\"N\",'Wave Areas'!B81,(IF($B$4=\"NE\",'Wave Areas'!P82,(IF($B$4=\"E\",'Wave Areas'!B99,(IF($B$4=\"SE\",'Wave Areas'!P100,(IF($B$4=\"S\",'Wave Areas'!B117,(IF($B$4=\"W\",'Wave Areas'!B135,(IF($B$4=\"NW\",'Wave Areas'!P136,0)))))))))))))))","v":0},{"$f":"IF($B$4=\"SW\",'Wave Areas'!Q118,(IF($B$4=\"N\",'Wave Areas'!C81,(IF($B$4=\"NE\",'Wave Areas'!Q82,(IF($B$4=\"E\",'Wave Areas'!C99,(IF($B$4=\"SE\",'Wave Areas'!Q100,(IF($B$4=\"S\",'Wave Areas'!C117,(IF($B$4=\"W\",'Wave Areas'!C135,(IF($B$4=\"NW\",'Wave Areas'!Q136,0)))))))))))))))","v":0},{"$f":"IF($B$4=\"SW\",'Wave Areas'!R118,(IF($B$4=\"N\",'Wave Areas'!D81,(IF($B$4=\"NE\",'Wave Areas'!R82,(IF($B$4=\"E\",'Wave Areas'!D99,(IF($B$4=\"SE\",'Wave Areas'!R100,(IF($B$4=\"S\",'Wave Areas'!D117,(IF($B$4=\"W\",'Wave Areas'!D135,(IF($B$4=\"NW\",'Wave Areas'!R136,0)))))))))))))))","v":0},{"$f":"IF($B$4=\"SW\",'Wave Areas'!S118,(IF($B$4=\"N\",'Wave Areas'!E81,(IF($B$4=\"NE\",'Wave Areas'!S82,(IF($B$4=\"E\",'Wave Areas'!E99,(IF($B$4=\"SE\",'Wave Areas'!S100,(IF($B$4=\"S\",'Wave Areas'!E117,(IF($B$4=\"W\",'Wave Areas'!E135,(IF($B$4=\"NW\",'Wave Areas'!S136,0)))))))))))))))","v":0},{"$f":"IF($B$4=\"SW\",'Wave Areas'!T118,(IF($B$4=\"N\",'Wave Areas'!F81,(IF($B$4=\"NE\",'Wave Areas'!T82,(IF($B$4=\"E\",'Wave Areas'!F99,(IF($B$4=\"SE\",'Wave Areas'!T100,(IF($B$4=\"S\",'Wave Areas'!F117,(IF($B$4=\"W\",'Wave Areas'!F135,(IF($B$4=\"NW\",'Wave Areas'!T136,0)))))))))))))))","v":0},{"$f":"IF($B$4=\"SW\",'Wave Areas'!U118,(IF($B$4=\"N\",'Wave Areas'!G81,(IF($B$4=\"NE\",'Wave Areas'!U82,(IF($B$4=\"E\",'Wave Areas'!G99,(IF($B$4=\"SE\",'Wave Areas'!U100,(IF($B$4=\"S\",'Wave Areas'!G117,(IF($B$4=\"W\",'Wave Areas'!G135,(IF($B$4=\"NW\",'Wave Areas'!U136,0)))))))))))))))","v":0},{"$f":"IF($B$4=\"SW\",'Wave Areas'!V118,(IF($B$4=\"N\",'Wave Areas'!H81,(IF($B$4=\"NE\",'Wave Areas'!V82,(IF($B$4=\"E\",'Wave Areas'!H99,(IF($B$4=\"SE\",'Wave Areas'!V100,(IF($B$4=\"S\",'Wave Areas'!H117,(IF($B$4=\"W\",'Wave Areas'!H135,(IF($B$4=\"NW\",'Wave Areas'!V136,0)))))))))))))))","v":0},{"$f":"IF($B$4=\"SW\",'Wave Areas'!W118,(IF($B$4=\"N\",'Wave Areas'!I81,(IF($B$4=\"NE\",'Wave Areas'!W82,(IF($B$4=\"E\",'Wave Areas'!I99,(IF($B$4=\"SE\",'Wave Areas'!W100,(IF($B$4=\"S\",'Wave Areas'!I117,(IF($B$4=\"W\",'Wave Areas'!I135,(IF($B$4=\"NW\",'Wave Areas'!W136,0)))))))))))))))","v":0},{"$f":"IF($B$4=\"SW\",'Wave Areas'!X118,(IF($B$4=\"N\",'Wave Areas'!J81,(IF($B$4=\"NE\",'Wave Areas'!X82,(IF($B$4=\"E\",'Wave Areas'!J99,(IF($B$4=\"SE\",'Wave Areas'!X100,(IF($B$4=\"S\",'Wave Areas'!J117,(IF($B$4=\"W\",'Wave Areas'!J135,(IF($B$4=\"NW\",'Wave Areas'!X136,0)))))))))))))))","v":0},{"$f":"IF($B$4=\"SW\",'Wave Areas'!Y118,(IF($B$4=\"N\",'Wave Areas'!K81,(IF($B$4=\"NE\",'Wave Areas'!Y82,(IF($B$4=\"E\",'Wave Areas'!K99,(IF($B$4=\"SE\",'Wave Areas'!Y100,(IF($B$4=\"S\",'Wave Areas'!K117,(IF($B$4=\"W\",'Wave Areas'!K135,(IF($B$4=\"NW\",'Wave Areas'!Y136,0)))))))))))))))","v":0},{"$f":"IF($B$4=\"SW\",'Wave Areas'!Z118,(IF($B$4=\"N\",'Wave Areas'!L81,(IF($B$4=\"NE\",'Wave Areas'!Z82,(IF($B$4=\"E\",'Wave Areas'!L99,(IF($B$4=\"SE\",'Wave Areas'!Z100,(IF($B$4=\"S\",'Wave Areas'!L117,(IF($B$4=\"W\",'Wave Areas'!L135,(IF($B$4=\"NW\",'Wave Areas'!Z136,0)))))))))))))))","v":0},null,3.5,{"$error":"#DIV/0!"},{"$error":"#DIV/0!"},{"$error":"#DIV/0!"},{"$error":"#DIV/0!"},{"$error":"#DIV/0!"},{"$error":"#DIV/0!"},{"$error":"#DIV/0!"},{"$error":"#DIV/0!"},{"$error":"#DIV/0!"},{"$error":"#DIV/0!"},{"$error":"#DIV/0!"},{"$error":"#DIV/0!"},null,3.5,{"$error":"#DIV/0!"},{"$error":"#DIV/0!"},{"$error":"#DIV/0!"},{"$error":"#DIV/0!"},{"$error":"#DIV/0!"},{"$error":"#DIV/0!"},{"$error":"#DIV/0!"},{"$error":"#DIV/0!"},{"$error":"#DIV/0!"},{"$error":"#DIV/0!"},{"$error":"#DIV/0!"},{"$error":"#DIV/0!"}]
[25452.3515625,4.5,0,{"$f":"A26*($D$16)","v":177883.65703125001},211532.17998579543,{"$f":"$A26*($F$16/2)","v":118216.38364182693},253641.16743749997,265632.71848345589,274162.01425164472,280387.95287946431,0,0,0,1581456.0737109373,null,null,null,4.5,{"$f":"IF($B$4=\"SW\",'Wave Areas'!P119,(IF($B$4=\"N\",'Wave Areas'!B82,(IF($B$4=\"NE\",'Wave Areas'!P83,(IF($B$4=\"E\",'Wave Areas'!B100,(IF($B$4=\"SE\",'Wave Areas'!P101,(IF($B$4=\"S\",'Wave Areas'!B118,(IF($B$4=\"W\",'Wave Areas'!B136,(IF($B$4=\"NW\",'Wave Areas'!P137,0)))))))))))))))","v":0},{"$f":"IF($B$4=\"SW\",'Wave Areas'!Q119,(IF($B$4=\"N\",'Wave Areas'!C82,(IF($B$4=\"NE\",'Wave Areas'!Q83,(IF($B$4=\"E\",'Wave Areas'!C100,(IF($B$4=\"SE\",'Wave Areas'!Q101,(IF($B$4=\"S\",'Wave Areas'!C118,(IF($B$4=\"W\",'Wave Areas'!C136,(IF($B$4=\"NW\",'Wave Areas'!Q137,0)))))))))))))))","v":0},{"$f":"IF($B$4=\"SW\",'Wave Areas'!R119,(IF($B$4=\"N\",'Wave Areas'!D82,(IF($B$4=\"NE\",'Wave Areas'!R83,(IF($B$4=\"E\",'Wave Areas'!D100,(IF($B$4=\"SE\",'Wave Areas'!R101,(IF($B$4=\"S\",'Wave Areas'!D118,(IF($B$4=\"W\",'Wave Areas'!D136,(IF($B$4=\"NW\",'Wave Areas'!R137,0)))))))))))))))","v":0},{"$f":"IF($B$4=\"SW\",'Wave Areas'!S119,(IF($B$4=\"N\",'Wave Areas'!E82,(IF($B$4=\"NE\",'Wave Areas'!S83,(IF($B$4=\"E\",'Wave Areas'!E100,(IF($B$4=\"SE\",'Wave Areas'!S101,(IF($B$4=\"S\",'Wave Areas'!E118,(IF($B$4=\"W\",'Wave Areas'!E136,(IF($B$4=\"NW\",'Wave Areas'!S137,0)))))))))))))))","v":0},{"$f":"IF($B$4=\"SW\",'Wave Areas'!T119,(IF($B$4=\"N\",'Wave Areas'!F82,(IF($B$4=\"NE\",'Wave Areas'!T83,(IF($B$4=\"E\",'Wave Areas'!F100,(IF($B$4=\"SE\",'Wave Areas'!T101,(IF($B$4=\"S\",'Wave Areas'!F118,(IF($B$4=\"W\",'Wave Areas'!F136,(IF($B$4=\"NW\",'Wave Areas'!T137,0)))))))))))))))","v":0},{"$f":"IF($B$4=\"SW\",'Wave Areas'!U119,(IF($B$4=\"N\",'Wave Areas'!G82,(IF($B$4=\"NE\",'Wave Areas'!U83,(IF($B$4=\"E\",'Wave Areas'!G100,(IF($B$4=\"SE\",'Wave Areas'!U101,(IF($B$4=\"S\",'Wave Areas'!G118,(IF($B$4=\"W\",'Wave Areas'!G136,(IF($B$4=\"NW\",'Wave Areas'!U137,0)))))))))))))))","v":0},{"$f":"IF($B$4=\"SW\",'Wave Areas'!V119,(IF($B$4=\"N\",'Wave Areas'!H82,(IF($B$4=\"NE\",'Wave Areas'!V83,(IF($B$4=\"E\",'Wave Areas'!H100,(IF($B$4=\"SE\",'Wave Areas'!V101,(IF($B$4=\"S\",'Wave Areas'!H118,(IF($B$4=\"W\",'Wave Areas'!H136,(IF($B$4=\"NW\",'Wave Areas'!V137,0)))))))))))))))","v":0},{"$f":"IF($B$4=\"SW\",'Wave Areas'!W119,(IF($B$4=\"N\",'Wave Areas'!I82,(IF($B$4=\"NE\",'Wave Areas'!W83,(IF($B$4=\"E\",'Wave Areas'!I100,(IF($B$4=\"SE\",'Wave Areas'!W101,(IF($B$4=\"S\",'Wave Areas'!I118,(IF($B$4=\"W\",'Wave Areas'!I136,(IF($B$4=\"NW\",'Wave Areas'!W137,0)))))))))))))))","v":0},{"$f":"IF($B$4=\"SW\",'Wave Areas'!X119,(IF($B$4=\"N\",'Wave Areas'!J82,(IF($B$4=\"NE\",'Wave Areas'!X83,(IF($B$4=\"E\",'Wave Areas'!J100,(IF($B$4=\"SE\",'Wave Areas'!X101,(IF($B$4=\"S\",'Wave Areas'!J118,(IF($B$4=\"W\",'Wave Areas'!J136,(IF($B$4=\"NW\",'Wave Areas'!X137,0)))))))))))))))","v":0},{"$f":"IF($B$4=\"SW\",'Wave Areas'!Y119,(IF($B$4=\"N\",'Wave Areas'!K82,(IF($B$4=\"NE\",'Wave Areas'!Y83,(IF($B$4=\"E\",'Wave Areas'!K100,(IF($B$4=\"SE\",'Wave Areas'!Y101,(IF($B$4=\"S\",'Wave Areas'!K118,(IF($B$4=\"W\",'Wave Areas'!K136,(IF($B$4=\"NW\",'Wave Areas'!Y137,0)))))))))))))))","v":0},{"$f":"IF($B$4=\"SW\",'Wave Areas'!Z119,(IF($B$4=\"N\",'Wave Areas'!L82,(IF($B$4=\"NE\",'Wave Areas'!Z83,(IF($B$4=\"E\",'Wave Areas'!L100,(IF($B$4=\"SE\",'Wave Areas'!Z101,(IF($B$4=\"S\",'Wave Areas'!L118,(IF($B$4=\"W\",'Wave Areas'!L136,(IF($B$4=\"NW\",'Wave Areas'!Z137,0)))))))))))))))","v":0},null,4.5,{"$error":"#DIV/0!"},{"$error":"#DIV/0!"},{"$error":"#DIV/0!"},{"$error":"#DIV/0!"},{"$error":"#DIV/0!"},{"$error":"#DIV/0!"},{"$error":"#DIV/0!"},{"$error":"#DIV/0!"},{"$error":"#DIV/0!"},{"$error":"#DIV/0!"},{"$error":"#DIV/0!"},{"$error":"#DIV/0!"},null,4.5,{"$error":"#DIV/0!"},{"$error":"#DIV/0!"},{"$error":"#DIV/0!"},{"$error":"#DIV/0!"},{"$error":"#DIV/0!"},{"$error":"#DIV/0!"},{"$error":"#DIV/0!"},{"$error":"#DIV/0!"},{"$error":"#DIV/0!"},{"$error":"#DIV/0!"},{"$error":"#DIV/0!"},{"$error":"#DIV/0!"}]
[38021.4140625,5.5,0,0,315992.51578124997,{"$f":"$A27*($F$16)","v":353189.6893990385},378896.06493749993,396809.36958639702,409550.6632648026,418851.13948660716,0,0,0,2273289.4424555954,null,null,null,5.5,{"$f":"IF($B$4=\"SW\",'Wave Areas'!P120,(IF($B$4=\"N\",'Wave Areas'!B83,(IF($B$4=\"NE\",'Wave Areas'!P84,(IF($B$4=\"E\",'Wave Areas'!B101,(IF($B$4=\"SE\",'Wave Areas'!P102,(IF($B$4=\"S\",'Wave Areas'!B119,(IF($B$4=\"W\",'Wave Areas'!B137,(IF($B$4=\"NW\",'Wave Areas'!P138,0)))))))))))))))","v":0},{"$f":"IF($B$4=\"SW\",'Wave Areas'!Q120,(IF($B$4=\"N\",'Wave Areas'!C83,(IF($B$4=\"NE\",'Wave Areas'!Q84,(IF($B$4=\"E\",'Wave Areas'!C101,(IF($B$4=\"SE\",'Wave Areas'!Q102,(IF($B$4=\"S\",'Wave Areas'!C119,(IF($B$4=\"W\",'Wave Areas'!C137,(IF($B$4=\"NW\",'Wave Areas'!Q138,0)))))))))))))))","v":0},{"$f":"IF($B$4=\"SW\",'Wave Areas'!R120,(IF($B$4=\"N\",'Wave Areas'!D83,(IF($B$4=\"NE\",'Wave Areas'!R84,(IF($B$4=\"E\",'Wave Areas'!D101,(IF($B$4=\"SE\",'Wave Areas'!R102,(IF($B$4=\"S\",'Wave Areas'!D119,(IF($B$4=\"W\",'Wave Areas'!D137,(IF($B$4=\"NW\",'Wave Areas'!R138,0)))))))))))))))","v":0},{"$f":"IF($B$4=\"SW\",'Wave Areas'!S120,(IF($B$4=\"N\",'Wave Areas'!E83,(IF($B$4=\"NE\",'Wave Areas'!S84,(IF($B$4=\"E\",'Wave Areas'!E101,(IF($B$4=\"SE\",'Wave Areas'!S102,(IF($B$4=\"S\",'Wave Areas'!E119,(IF($B$4=\"W\",'Wave Areas'!E137,(IF($B$4=\"NW\",'Wave Areas'!S138,0)))))))))))))))","v":0},{"$f":"IF($B$4=\"SW\",'Wave Areas'!T120,(IF($B$4=\"N\",'Wave Areas'!F83,(IF($B$4=\"NE\",'Wave Areas'!T84,(IF($B$4=\"E\",'Wave Areas'!F101,(IF($B$4=\"SE\",'Wave Areas'!T102,(IF($B$4=\"S\",'Wave Areas'!F119,(IF($B$4=\"W\",'Wave Areas'!F137,(IF($B$4=\"NW\",'Wave Areas'!T138,0)))))))))))))))","v":0},{"$f":"IF($B$4=\"SW\",'Wave Areas'!U120,(IF($B$4=\"N\",'Wave Areas'!G83,(IF($B$4=\"NE\",'Wave Areas'!U84,(IF($B$4=\"E\",'Wave Areas'!G101,(IF($B$4=\"SE\",'Wave Areas'!U102,(IF($B$4=\"S\",'Wave Areas'!G119,(IF($B$4=\"W\",'Wave Areas'!G137,(IF($B$4=\"NW\",'Wave Areas'!U138,0)))))))))))))))","v":0},{"$f":"IF($B$4=\"SW\",'Wave Areas'!V120,(IF($B$4=\"N\",'Wave Areas'!H83,(IF($B$4=\"NE\",'Wave Areas'!V84,(IF($B$4=\"E\",'Wave Areas'!H101,(IF($B$4=\"SE\",'Wave Areas'!V102,(IF($B$4=\"S\",'Wave Areas'!H119,(IF($B$4=\"W\",'Wave Areas'!H137,(IF($B$4=\"NW\",'Wave Areas'!V138,0)))))))))))))))","v":0},{"$f":"IF($B$4=\"SW\",'Wave Areas'!W120,(IF($B$4=\"N\",'Wave Areas'!I83,(IF($B$4=\"NE\",'Wave Areas'!W84,(IF($B$4=\"E\",'Wave Areas'!I101,(IF($B$4=\"SE\",'Wave Areas'!W102,(IF($B$4=\"S\",'Wave Areas'!I119,(IF($B$4=\"W\",'Wave Areas'!I137,(IF($B$4=\"NW\",'Wave Areas'!W138,0)))))))))))))))","v":0},{"$f":"IF($B$4=\"SW\",'Wave Areas'!X120,(IF($B$4=\"N\",'Wave Areas'!J83,(IF($B$4=\"NE\",'Wave Areas'!X84,(IF($B$4=\"E\",'Wave Areas'!J101,(IF($B$4=\"SE\",'Wave Areas'!X102,(IF($B$4=\"S\",'Wave Areas'!J119,(IF($B$4=\"W\",'Wave Areas'!J137,(IF($B$4=\"NW\",'Wave Areas'!X138,0)))))))))))))))","v":0},{"$f":"IF($B$4=\"SW\",'Wave Areas'!Y120,(IF($B$4=\"N\",'Wave Areas'!K83,(IF($B$4=\"NE\",'Wave Areas'!Y84,(IF($B$4=\"E\",'Wave Areas'!K101,(IF($B$4=\"SE\",'Wave Areas'!Y102,(IF($B$4=\"S\",'Wave Areas'!K119,(IF($B$4=\"W\",'Wave Areas'!K137,(IF($B$4=\"NW\",'Wave Areas'!Y138,0)))))))))))))))","v":0},{"$f":"IF($B$4=\"SW\",'Wave Areas'!Z120,(IF($B$4=\"N\",'Wave Areas'!L83,(IF($B$4=\"NE\",'Wave Areas'!Z84,(IF($B$4=\"E\",'Wave Areas'!L101,(IF($B$4=\"SE\",'Wave Areas'!Z102,(IF($B$4=\"S\",'Wave Areas'!L119,(IF($B$4=\"W\",'Wave Areas'!L137,(IF($B$4=\"NW\",'Wave Areas'!Z138,0)))))))))))))))","v":0},null,5.5,{"$error":"#DIV/0!"},{"$error":"#DIV/0!"},{"$error":"#DIV/0!"},{"$error":"#DIV/0!"},{"$error":"#DIV/0!"},{"$error":"#DIV/0!"},{"$error":"#DIV/0!"},{"$error":"#DIV/0!"},{"$error":"#DIV/0!"},{"$error":"#DIV/0!"},{"$error":"#DIV/0!"},{"$error":"#DIV/0!"},null,5.5,{"$error":"#DIV/0!"},{"$error":"#DIV/0!"},{"$error":"#DIV/0!"},{"$error":"#DIV/0!"},{"$error":"#DIV/0!"},{"$error":"#DIV/0!"},{"$error":"#DIV/0!"},{"$error":"#DIV/0!"},{"$error":"#DIV/0!"},{"$error":"#DIV/0!"},{"$error":"#DIV/0!"},{"$error":"#DIV/0!"}]
[53104.2890625,6.5,0,0,441344.91873579542,{"$f":"$A28*($F$16/2)","v":246648.99796875002},529201.94193749991,554221.35090992646,572017.04208059201,585006.96341517859,0,0,0,2928441.2150477422,null,null,null,6.5,{"$f":"IF($B$4=\"SW\",'Wave Areas'!P121,(IF($B$4=\"N\",'Wave Areas'!B84,(IF($B$4=\"NE\",'Wave Areas'!P85,(IF($B$4=\"E\",'Wave Areas'!B102,(IF($B$4=\"SE\",'Wave Areas'!P103,(IF($B$4=\"S\",'Wave Areas'!B120,(IF($B$4=\"W\",'Wave Areas'!B138,(IF($B$4=\"NW\",'Wave Areas'!P139,0)))))))))))))))","v":0},{"$f":"IF($B$4=\"SW\",'Wave Areas'!Q121,(IF($B$4=\"N\",'Wave Areas'!C84,(IF($B$4=\"NE\",'Wave Areas'!Q85,(IF($B$4=\"E\",'Wave Areas'!C102,(IF($B$4=\"SE\",'Wave Areas'!Q103,(IF($B$4=\"S\",'Wave Areas'!C120,(IF($B$4=\"W\",'Wave Areas'!C138,(IF($B$4=\"NW\",'Wave Areas'!Q139,0)))))))))))))))","v":0},{"$f":"IF($B$4=\"SW\",'Wave Areas'!R121,(IF($B$4=\"N\",'Wave Areas'!D84,(IF($B$4=\"NE\",'Wave Areas'!R85,(IF($B$4=\"E\",'Wave Areas'!D102,(IF($B$4=\"SE\",'Wave Areas'!R103,(IF($B$4=\"S\",'Wave Areas'!D120,(IF($B$4=\"W\",'Wave Areas'!D138,(IF($B$4=\"NW\",'Wave Areas'!R139,0)))))))))))))))","v":0},{"$f":"IF($B$4=\"SW\",'Wave Areas'!S121,(IF($B$4=\"N\",'Wave Areas'!E84,(IF($B$4=\"NE\",'Wave Areas'!S85,(IF($B$4=\"E\",'Wave Areas'!E102,(IF($B$4=\"SE\",'Wave Areas'!S103,(IF($B$4=\"S\",'Wave Areas'!E120,(IF($B$4=\"W\",'Wave Areas'!E138,(IF($B$4=\"NW\",'Wave Areas'!S139,0)))))))))))))))","v":0},{"$f":"IF($B$4=\"SW\",'Wave Areas'!T121,(IF($B$4=\"N\",'Wave Areas'!F84,(IF($B$4=\"NE\",'Wave Areas'!T85,(IF($B$4=\"E\",'Wave Areas'!F102,(IF($B$4=\"SE\",'Wave Areas'!T103,(IF($B$4=\"S\",'Wave Areas'!F120,(IF($B$4=\"W\",'Wave Areas'!F138,(IF($B$4=\"NW\",'Wave Areas'!T139,0)))))))))))))))","v":0},{"$f":"IF($B$4=\"SW\",'Wave Areas'!U121,(IF($B$4=\"N\",'Wave Areas'!G84,(IF($B$4=\"NE\",'Wave Areas'!U85,(IF($B$4=\"E\",'Wave Areas'!G102,(IF($B$4=\"SE\",'Wave Areas'!U103,(IF($B$4=\"S\",'Wave Areas'!G120,(IF($B$4=\"W\",'Wave Areas'!G138,(IF($B$4=\"NW\",'Wave Areas'!U139,0)))))))))))))))","v":0},{"$f":"IF($B$4=\"SW\",'Wave Areas'!V121,(IF($B$4=\"N\",'Wave Areas'!H84,(IF($B$4=\"NE\",'Wave Areas'!V85,(IF($B$4=\"E\",'Wave Areas'!H102,(IF($B$4=\"SE\",'Wave Areas'!V103,(IF($B$4=\"S\",'Wave Areas'!H120,(IF($B$4=\"W\",'Wave Areas'!H138,(IF($B$4=\"NW\",'Wave Areas'!V139,0)))))))))))))))","v":0},{"$f":"IF($B$4=\"SW\",'Wave Areas'!W121,(IF($B$4=\"N\",'Wave Areas'!I84,(IF($B$4=\"NE\",'Wave Areas'!W85,(IF($B$4=\"E\",'Wave Areas'!I102,(IF($B$4=\"SE\",'Wave Areas'!W103,(IF($B$4=\"S\",'Wave Areas'!I120,(IF($B$4=\"W\",'Wave Areas'!I138,(IF($B$4=\"NW\",'Wave Areas'!W139,0)))))))))))))))","v":0},{"$f":"IF($B$4=\"SW\",'Wave Areas'!X121,(IF($B$4=\"N\",'Wave Areas'!J84,(IF($B$4=\"NE\",'Wave Areas'!X85,(IF($B$4=\"E\",'Wave Areas'!J102,(IF($B$4=\"SE\",'Wave Areas'!X103,(IF($B$4=\"S\",'Wave Areas'!J120,(IF($B$4=\"W\",'Wave Areas'!J138,(IF($B$4=\"NW\",'Wave Areas'!X139,0)))))))))))))))","v":0},{"$f":"IF($B$4=\"SW\",'Wave Areas'!Y121,(IF($B$4=\"N\",'Wave Areas'!K84,(IF($B$4=\"NE\",'Wave Areas'!Y85,(IF($B$4=\"E\",'Wave Areas'!K102,(IF($B$4=\"SE\",'Wave Areas'!Y103,(IF($B$4=\"S\",'Wave Areas'!K120,(IF($B$4=\"W\",'Wave Areas'!K138,(IF($B$4=\"NW\",'Wave Areas'!Y139,0)))))))))))))))","v":0},{"$f":"IF($B$4=\"SW\",'Wave Areas'!Z121,(IF($B$4=\"N\",'Wave Areas'!L84,(IF($B$4=\"NE\",'Wave Areas'!Z85,(IF($B$4=\"E\",'Wave Areas'!L102,(IF($B$4=\"SE\",'Wave Areas'!Z103,(IF($B$4=\"S\",'Wave Areas'!L120,(IF($B$4=\"W\",'Wave Areas'!L138,(IF($B$4=\"NW\",'Wave Areas'!Z139,0)))))))))))))))","v":0},null,6.5,{"$error":"#DIV/0!"},{"$error":"#DIV/0!"},{"$error":"#DIV/0!"},{"$error":"#DIV/0!"},{"$error":"#DIV/0!"},{"$error":"#DIV/0!"},{"$error":"#DIV/0!"},{"$error":"#DIV/0!"},{"$error":"#DIV/0!"},{"$error":"#DIV/0!"},{"$error":"#DIV/0!"},{"$error":"#DIV/0!"},null,6.5,{"$error":"#DIV/0!"},{"$error":"#DIV/0!"},{"$error":"#DIV/0!"},{"$error":"#DIV/0!"},{"$error":"#DIV/0!"},{"$error":"#DIV/0!"},{"$error":"#DIV/0!"},{"$error":"#DIV/0!"},{"$error":"#DIV/0!"},{"$error":"#DIV/0!"},{"$error":"#DIV/0!"},{"$error":"#DIV/0!"}]
[70700.9765625,7.5,0,0,0,{"$f":"$A29*($F$16)","v":656757.6868990385},704558.79843749991,737868.6624540441,761561.15069901303,0,0,0,0,2860746.2984895953,null,null,null,7.5,{"$f":"IF($B$4=\"SW\",'Wave Areas'!P122,(IF($B$4=\"N\",'Wave Areas'!B85,(IF($B$4=\"NE\",'Wave Areas'!P86,(IF($B$4=\"E\",'Wave Areas'!B103,(IF($B$4=\"SE\",'Wave Areas'!P104,(IF($B$4=\"S\",'Wave Areas'!B121,(IF($B$4=\"W\",'Wave Areas'!B139,(IF($B$4=\"NW\",'Wave Areas'!P140,0)))))))))))))))","v":0},{"$f":"IF($B$4=\"SW\",'Wave Areas'!Q122,(IF($B$4=\"N\",'Wave Areas'!C85,(IF($B$4=\"NE\",'Wave Areas'!Q86,(IF($B$4=\"E\",'Wave Areas'!C103,(IF($B$4=\"SE\",'Wave Areas'!Q104,(IF($B$4=\"S\",'Wave Areas'!C121,(IF($B$4=\"W\",'Wave Areas'!C139,(IF($B$4=\"NW\",'Wave Areas'!Q140,0)))))))))))))))","v":0},{"$f":"IF($B$4=\"SW\",'Wave Areas'!R122,(IF($B$4=\"N\",'Wave Areas'!D85,(IF($B$4=\"NE\",'Wave Areas'!R86,(IF($B$4=\"E\",'Wave Areas'!D103,(IF($B$4=\"SE\",'Wave Areas'!R104,(IF($B$4=\"S\",'Wave Areas'!D121,(IF($B$4=\"W\",'Wave Areas'!D139,(IF($B$4=\"NW\",'Wave Areas'!R140,0)))))))))))))))","v":0},{"$f":"IF($B$4=\"SW\",'Wave Areas'!S122,(IF($B$4=\"N\",'Wave Areas'!E85,(IF($B$4=\"NE\",'Wave Areas'!S86,(IF($B$4=\"E\",'Wave Areas'!E103,(IF($B$4=\"SE\",'Wave Areas'!S104,(IF($B$4=\"S\",'Wave Areas'!E121,(IF($B$4=\"W\",'Wave Areas'!E139,(IF($B$4=\"NW\",'Wave Areas'!S140,0)))))))))))))))","v":0},{"$f":"IF($B$4=\"SW\",'Wave Areas'!T122,(IF($B$4=\"N\",'Wave Areas'!F85,(IF($B$4=\"NE\",'Wave Areas'!T86,(IF($B$4=\"E\",'Wave Areas'!F103,(IF($B$4=\"SE\",'Wave Areas'!T104,(IF($B$4=\"S\",'Wave Areas'!F121,(IF($B$4=\"W\",'Wave Areas'!F139,(IF($B$4=\"NW\",'Wave Areas'!T140,0)))))))))))))))","v":0},{"$f":"IF($B$4=\"SW\",'Wave Areas'!U122,(IF($B$4=\"N\",'Wave Areas'!G85,(IF($B$4=\"NE\",'Wave Areas'!U86,(IF($B$4=\"E\",'Wave Areas'!G103,(IF($B$4=\"SE\",'Wave Areas'!U104,(IF($B$4=\"S\",'Wave Areas'!G121,(IF($B$4=\"W\",'Wave Areas'!G139,(IF($B$4=\"NW\",'Wave Areas'!U140,0)))))))))))))))","v":0},{"$f":"IF($B$4=\"SW\",'Wave Areas'!V122,(IF($B$4=\"N\",'Wave Areas'!H85,(IF($B$4=\"NE\",'Wave Areas'!V86,(IF($B$4=\"E\",'Wave Areas'!H103,(IF($B$4=\"SE\",'Wave Areas'!V104,(IF($B$4=\"S\",'Wave Areas'!H121,(IF($B$4=\"W\",'Wave Areas'!H139,(IF($B$4=\"NW\",'Wave Areas'!V140,0)))))))))))))))","v":0},{"$f":"IF($B$4=\"SW\",'Wave Areas'!W122,(IF($B$4=\"N\",'Wave Areas'!I85,(IF($B$4=\"NE\",'Wave Areas'!W86,(IF($B$4=\"E\",'Wave Areas'!I103,(IF($B$4=\"SE\",'Wave Areas'!W104,(IF($B$4=\"S\",'Wave Areas'!I121,(IF($B$4=\"W\",'Wave Areas'!I139,(IF($B$4=\"NW\",'Wave Areas'!W140,0)))))))))))))))","v":0},{"$f":"IF($B$4=\"SW\",'Wave Areas'!X122,(IF($B$4=\"N\",'Wave Areas'!J85,(IF($B$4=\"NE\",'Wave Areas'!X86,(IF($B$4=\"E\",'Wave Areas'!J103,(IF($B$4=\"SE\",'Wave Areas'!X104,(IF($B$4=\"S\",'Wave Areas'!J121,(IF($B$4=\"W\",'Wave Areas'!J139,(IF($B$4=\"NW\",'Wave Areas'!X140,0)))))))))))))))","v":0},{"$f":"IF($B$4=\"SW\",'Wave Areas'!Y122,(IF($B$4=\"N\",'Wave Areas'!K85,(IF($B$4=\"NE\",'Wave Areas'!Y86,(IF($B$4=\"E\",'Wave Areas'!K103,(IF($B$4=\"SE\",'Wave Areas'!Y104,(IF($B$4=\"S\",'Wave Areas'!K121,(IF($B$4=\"W\",'Wave Areas'!K139,(IF($B$4=\"NW\",'Wave Areas'!Y140,0)))))))))))))))","v":0},{"$f":"IF($B$4=\"SW\",'Wave Areas'!Z122,(IF($B$4=\"N\",'Wave Areas'!L85,(IF($B$4=\"NE\",'Wave Areas'!Z86,(IF($B$4=\"E\",'Wave Areas'!L103,(IF($B$4=\"SE\",'Wave Areas'!Z104,(IF($B$4=\"S\",'Wave Areas'!L121,(IF($B$4=\"W\",'Wave Areas'!L139,(IF($B$4=\"NW\",'Wave Areas'!Z140,0)))))))))))))))","v":0},null,7.5,{"$error":"#DIV/0!"},{"$error":"#DIV/0!"},{"$error":"#DIV/0!"},{"$error":"#DIV/0!"},{"$error":"#DIV/0!"},{"$error":"#DIV/0!"},{"$error":"#DIV/0!"},{"$error":"#DIV/0!"},{"$error":"#DIV/0!"},{"$error":"#DIV/0!"},{"$error":"#DIV/0!"},{"$error":"#DIV/0!"},null,7.5,{"$error":"#DIV/0!"},{"$error":"#DIV/0!"},{"$f":"AI29/1004","v":{"$error":"#DIV/0!"}},{"$error":"#DIV/0!"},{"$error":"#DIV/0!"},{"$error":"#DIV/0!"},{"$error":"#DIV/0!"},{"$f":"AN29/1004","v":{"$error":"#DIV/0!"}},{"$error":"#DIV/0!"},{"$error":"#DIV/0!"},{"$error":"#DIV/0!"},{"$error":"#DIV/0!"}]
[90811.4765625,8.5,0,0,0,{"$f":"$A30*($F$16)","v":843568.76228365384},904966.63443749992,947751.30421874998,978182.9891200657,0,0,0,0,3674469.6900599697,null,null,null,8.5,{"$f":"IF($B$4=\"SW\",'Wave Areas'!P123,(IF($B$4=\"N\",'Wave Areas'!B86,(IF($B$4=\"NE\",'Wave Areas'!P87,(IF($B$4=\"E\",'Wave Areas'!B104,(IF($B$4=\"SE\",'Wave Areas'!P105,(IF($B$4=\"S\",'Wave Areas'!B122,(IF($B$4=\"W\",'Wave Areas'!B140,(IF($B$4=\"NW\",'Wave Areas'!P141,0)))))))))))))))","v":0},{"$f":"IF($B$4=\"SW\",'Wave Areas'!Q123,(IF($B$4=\"N\",'Wave Areas'!C86,(IF($B$4=\"NE\",'Wave Areas'!Q87,(IF($B$4=\"E\",'Wave Areas'!C104,(IF($B$4=\"SE\",'Wave Areas'!Q105,(IF($B$4=\"S\",'Wave Areas'!C122,(IF($B$4=\"W\",'Wave Areas'!C140,(IF($B$4=\"NW\",'Wave Areas'!Q141,0)))))))))))))))","v":0},{"$f":"IF($B$4=\"SW\",'Wave Areas'!R123,(IF($B$4=\"N\",'Wave Areas'!D86,(IF($B$4=\"NE\",'Wave Areas'!R87,(IF($B$4=\"E\",'Wave Areas'!D104,(IF($B$4=\"SE\",'Wave Areas'!R105,(IF($B$4=\"S\",'Wave Areas'!D122,(IF($B$4=\"W\",'Wave Areas'!D140,(IF($B$4=\"NW\",'Wave Areas'!R141,0)))))))))))))))","v":0},{"$f":"IF($B$4=\"SW\",'Wave Areas'!S123,(IF($B$4=\"N\",'Wave Areas'!E86,(IF($B$4=\"NE\",'Wave Areas'!S87,(IF($B$4=\"E\",'Wave Areas'!E104,(IF($B$4=\"SE\",'Wave Areas'!S105,(IF($B$4=\"S\",'Wave Areas'!E122,(IF($B$4=\"W\",'Wave Areas'!E140,(IF($B$4=\"NW\",'Wave Areas'!S141,0)))))))))))))))","v":0},{"$f":"IF($B$4=\"SW\",'Wave Areas'!T123,(IF($B$4=\"N\",'Wave Areas'!F86,(IF($B$4=\"NE\",'Wave Areas'!T87,(IF($B$4=\"E\",'Wave Areas'!F104,(IF($B$4=\"SE\",'Wave Areas'!T105,(IF($B$4=\"S\",'Wave Areas'!F122,(IF($B$4=\"W\",'Wave Areas'!F140,(IF($B$4=\"NW\",'Wave Areas'!T141,0)))))))))))))))","v":0},{"$f":"IF($B$4=\"SW\",'Wave Areas'!U123,(IF($B$4=\"N\",'Wave Areas'!G86,(IF($B$4=\"NE\",'Wave Areas'!U87,(IF($B$4=\"E\",'Wave Areas'!G104,(IF($B$4=\"SE\",'Wave Areas'!U105,(IF($B$4=\"S\",'Wave Areas'!G122,(IF($B$4=\"W\",'Wave Areas'!G140,(IF($B$4=\"NW\",'Wave Areas'!U141,0)))))))))))))))","v":0},{"$f":"IF($B$4=\"SW\",'Wave Areas'!V123,(IF($B$4=\"N\",'Wave Areas'!H86,(IF($B$4=\"NE\",'Wave Areas'!V87,(IF($B$4=\"E\",'Wave Areas'!H104,(IF($B$4=\"SE\",'Wave Areas'!V105,(IF($B$4=\"S\",'Wave Areas'!H122,(IF($B$4=\"W\",'Wave Areas'!H140,(IF($B$4=\"NW\",'Wave Areas'!V141,0)))))))))))))))","v":0},{"$f":"IF($B$4=\"SW\",'Wave Areas'!W123,(IF($B$4=\"N\",'Wave Areas'!I86,(IF($B$4=\"NE\",'Wave Areas'!W87,(IF($B$4=\"E\",'Wave Areas'!I104,(IF($B$4=\"SE\",'Wave Areas'!W105,(IF($B$4=\"S\",'Wave Areas'!I122,(IF($B$4=\"W\",'Wave Areas'!I140,(IF($B$4=\"NW\",'Wave Areas'!W141,0)))))))))))))))","v":0},{"$f":"IF($B$4=\"SW\",'Wave Areas'!X123,(IF($B$4=\"N\",'Wave Areas'!J86,(IF($B$4=\"NE\",'Wave Areas'!X87,(IF($B$4=\"E\",'Wave Areas'!J104,(IF($B$4=\"SE\",'Wave Areas'!X105,(IF($B$4=\"S\",'Wave Areas'!J122,(IF($B$4=\"W\",'Wave Areas'!J140,(IF($B$4=\"NW\",'Wave Areas'!X141,0)))))))))))))))","v":0},{"$f":"IF($B$4=\"SW\",'Wave Areas'!Y123,(IF($B$4=\"N\",'Wave Areas'!K86,(IF($B$4=\"NE\",'Wave Areas'!Y87,(IF($B$4=\"E\",'Wave Areas'!K104,(IF($B$4=\"SE\",'Wave Areas'!Y105,(IF($B$4=\"S\",'Wave Areas'!K122,(IF($B$4=\"W\",'Wave Areas'!K140,(IF($B$4=\"NW\",'Wave Areas'!Y141,0)))))))))))))))","v":0},{"$f":"IF($B$4=\"SW\",'Wave Areas'!Z123,(IF($B$4=\"N\",'Wave Areas'!L86,(IF($B$4=\"NE\",'Wave Areas'!Z87,(IF($B$4=\"E\",'Wave Areas'!L104,(IF($B$4=\"SE\",'Wave Areas'!Z105,(IF($B$4=\"S\",'Wave Areas'!L122,(IF($B$4=\"W\",'Wave Areas'!L140,(IF($B$4=\"NW\",'Wave Areas'!Z141,0)))))))))))))))","v":0},null,8.5,{"$error":"#DIV/0!"},{"$error":"#DIV/0!"},{"$error":"#DIV/0!"},{"$error":"#DIV/0!"},{"$error":"#DIV/0!"},{"$error":"#DIV/0!"},{"$error":"#DIV/0!"},{"$error":"#DIV/0!"},{"$error":"#DIV/0!"},{"$error":"#DIV/0!"},{"$error":"#DIV/0!"},{"$error":"#DIV/0!"},null,8.5,{"$error":"#DIV/0!"},{"$error":"#DIV/0!"},{"$f":"AI30/1004","v":{"$error":"#DIV/0!"}},{"$error":"#DIV/0!"},{"$error":"#DIV/0!"},{"$error":"#DIV/0!"},{"$error":"#DIV/0!"},{"$f":"AN30/1004","v":{"$error":"#DIV/0!"}},{"$error":"#DIV/0!"},{"$error":"#DIV/0!"},{"$error":"#DIV/0!"},{"$error":"#DIV/0!"}]
[113435.7890625,9.5,0,0,0,0,1130425.4499374998,1183869.276204044,0,0,0,0,0,2314294.7261415441,null,null,null,9.5,{"$f":"IF($B$4=\"SW\",'Wave Areas'!P124,(IF($B$4=\"N\",'Wave Areas'!B87,(IF($B$4=\"NE\",'Wave Areas'!P88,(IF($B$4=\"E\",'Wave Areas'!B105,(IF($B$4=\"SE\",'Wave Areas'!P106,(IF($B$4=\"S\",'Wave Areas'!B123,(IF($B$4=\"W\",'Wave Areas'!B141,(IF($B$4=\"NW\",'Wave Areas'!P142,0)))))))))))))))","v":0},{"$f":"IF($B$4=\"SW\",'Wave Areas'!Q124,(IF($B$4=\"N\",'Wave Areas'!C87,(IF($B$4=\"NE\",'Wave Areas'!Q88,(IF($B$4=\"E\",'Wave Areas'!C105,(IF($B$4=\"SE\",'Wave Areas'!Q106,(IF($B$4=\"S\",'Wave Areas'!C123,(IF($B$4=\"W\",'Wave Areas'!C141,(IF($B$4=\"NW\",'Wave Areas'!Q142,0)))))))))))))))","v":0},{"$f":"IF($B$4=\"SW\",'Wave Areas'!R124,(IF($B$4=\"N\",'Wave Areas'!D87,(IF($B$4=\"NE\",'Wave Areas'!R88,(IF($B$4=\"E\",'Wave Areas'!D105,(IF($B$4=\"SE\",'Wave Areas'!R106,(IF($B$4=\"S\",'Wave Areas'!D123,(IF($B$4=\"W\",'Wave Areas'!D141,(IF($B$4=\"NW\",'Wave Areas'!R142,0)))))))))))))))","v":0},{"$f":"IF($B$4=\"SW\",'Wave Areas'!S124,(IF($B$4=\"N\",'Wave Areas'!E87,(IF($B$4=\"NE\",'Wave Areas'!S88,(IF($B$4=\"E\",'Wave Areas'!E105,(IF($B$4=\"SE\",'Wave Areas'!S106,(IF($B$4=\"S\",'Wave Areas'!E123,(IF($B$4=\"W\",'Wave Areas'!E141,(IF($B$4=\"NW\",'Wave Areas'!S142,0)))))))))))))))","v":0},{"$f":"IF($B$4=\"SW\",'Wave Areas'!T124,(IF($B$4=\"N\",'Wave Areas'!F87,(IF($B$4=\"NE\",'Wave Areas'!T88,(IF($B$4=\"E\",'Wave Areas'!F105,(IF($B$4=\"SE\",'Wave Areas'!T106,(IF($B$4=\"S\",'Wave Areas'!F123,(IF($B$4=\"W\",'Wave Areas'!F141,(IF($B$4=\"NW\",'Wave Areas'!T142,0)))))))))))))))","v":0},{"$f":"IF($B$4=\"SW\",'Wave Areas'!U124,(IF($B$4=\"N\",'Wave Areas'!G87,(IF($B$4=\"NE\",'Wave Areas'!U88,(IF($B$4=\"E\",'Wave Areas'!G105,(IF($B$4=\"SE\",'Wave Areas'!U106,(IF($B$4=\"S\",'Wave Areas'!G123,(IF($B$4=\"W\",'Wave Areas'!G141,(IF($B$4=\"NW\",'Wave Areas'!U142,0)))))))))))))))","v":0},{"$f":"IF($B$4=\"SW\",'Wave Areas'!V124,(IF($B$4=\"N\",'Wave Areas'!H87,(IF($B$4=\"NE\",'Wave Areas'!V88,(IF($B$4=\"E\",'Wave Areas'!H105,(IF($B$4=\"SE\",'Wave Areas'!V106,(IF($B$4=\"S\",'Wave Areas'!H123,(IF($B$4=\"W\",'Wave Areas'!H141,(IF($B$4=\"NW\",'Wave Areas'!V142,0)))))))))))))))","v":0},{"$f":"IF($B$4=\"SW\",'Wave Areas'!W124,(IF($B$4=\"N\",'Wave Areas'!I87,(IF($B$4=\"NE\",'Wave Areas'!W88,(IF($B$4=\"E\",'Wave Areas'!I105,(IF($B$4=\"SE\",'Wave Areas'!W106,(IF($B$4=\"S\",'Wave Areas'!I123,(IF($B$4=\"W\",'Wave Areas'!I141,(IF($B$4=\"NW\",'Wave Areas'!W142,0)))))))))))))))","v":0},{"$f":"IF($B$4=\"SW\",'Wave Areas'!X124,(IF($B$4=\"N\",'Wave Areas'!J87,(IF($B$4=\"NE\",'Wave Areas'!X88,(IF($B$4=\"E\",'Wave Areas'!J105,(IF($B$4=\"SE\",'Wave Areas'!X106,(IF($B$4=\"S\",'Wave Areas'!J123,(IF($B$4=\"W\",'Wave Areas'!J141,(IF($B$4=\"NW\",'Wave Areas'!X142,0)))))))))))))))","v":0},{"$f":"IF($B$4=\"SW\",'Wave Areas'!Y124,(IF($B$4=\"N\",'Wave Areas'!K87,(IF($B$4=\"NE\",'Wave Areas'!Y88,(IF($B$4=\"E\",'Wave Areas'!K105,(IF($B$4=\"SE\",'Wave Areas'!Y106,(IF($B$4=\"S\",'Wave Areas'!K123,(IF($B$4=\"W\",'Wave Areas'!K141,(IF($B$4=\"NW\",'Wave Areas'!Y142,0)))))))))))))))","v":0},{"$f":"IF($B$4=\"SW\",'Wave Areas'!Z124,(IF($B$4=\"N\",'Wave Areas'!L87,(IF($B$4=\"NE\",'Wave Areas'!Z88,(IF($B$4=\"E\",'Wave Areas'!L105,(IF($B$4=\"SE\",'Wave Areas'!Z106,(IF($B$4=\"S\",'Wave Areas'!L123,(IF($B$4=\"W\",'Wave Areas'!L141,(IF($B$4=\"NW\",'Wave Areas'!Z142,0)))))))))))))))","v":0},null,9.5,{"$error":"#DIV/0!"},{"$error":"#DIV/0!"},{"$error":"#DIV/0!"},{"$error":"#DIV/0!"},{"$error":"#DIV/0!"},{"$error":"#DIV/0!"},{"$error":"#DIV/0!"},{"$error":"#DIV/0!"},{"$error":"#DIV/0!"},{"$error":"#DIV/0!"},{"$error":"#DIV/0!"},{"$error":"#DIV/0!"},null,9.5,{"$error":"#DIV/0!"},{"$error":"#DIV/0!"},{"$f":"AI31/1004","v":{"$error":"#DIV/0!"}},{"$f":"AJ31/1004","v":{"$error":"#DIV/0!"}},{"$f":"G31*AJ31","v":{"$error":"#DIV/0!"}},{"$f":"H31*AK31","v":{"$error":"#DIV/0!"}},{"$f":"AM31/1004","v":{"$error":"#DIV/0!"}},{"$f":"AN31/1004","v":{"$error":"#DIV/0!"}},{"$error":"#DIV/0!"},{"$error":"#DIV/0!"},{"$error":"#DIV/0!"},{"$error":"#DIV/0!"}]
[138573.9140625,10.5,0,0,0,0,0,0,0,0,0,0,0,0,null,null,null,10.5,{"$f":"IF($B$4=\"SW\",'Wave Areas'!P125,(IF($B$4=\"N\",'Wave Areas'!B88,(IF($B$4=\"NE\",'Wave Areas'!P89,(IF($B$4=\"E\",'Wave Areas'!B106,(IF($B$4=\"SE\",'Wave Areas'!P107,(IF($B$4=\"S\",'Wave Areas'!B124,(IF($B$4=\"W\",'Wave Areas'!B142,(IF($B$4=\"NW\",'Wave Areas'!P143,0)))))))))))))))","v":0},{"$f":"IF($B$4=\"SW\",'Wave Areas'!Q125,(IF($B$4=\"N\",'Wave Areas'!C88,(IF($B$4=\"NE\",'Wave Areas'!Q89,(IF($B$4=\"E\",'Wave Areas'!C106,(IF($B$4=\"SE\",'Wave Areas'!Q107,(IF($B$4=\"S\",'Wave Areas'!C124,(IF($B$4=\"W\",'Wave Areas'!C142,(IF($B$4=\"NW\",'Wave Areas'!Q143,0)))))))))))))))","v":0},{"$f":"IF($B$4=\"SW\",'Wave Areas'!R125,(IF($B$4=\"N\",'Wave Areas'!D88,(IF($B$4=\"NE\",'Wave Areas'!R89,(IF($B$4=\"E\",'Wave Areas'!D106,(IF($B$4=\"SE\",'Wave Areas'!R107,(IF($B$4=\"S\",'Wave Areas'!D124,(IF($B$4=\"W\",'Wave Areas'!D142,(IF($B$4=\"NW\",'Wave Areas'!R143,0)))))))))))))))","v":0},{"$f":"IF($B$4=\"SW\",'Wave Areas'!S125,(IF($B$4=\"N\",'Wave Areas'!E88,(IF($B$4=\"NE\",'Wave Areas'!S89,(IF($B$4=\"E\",'Wave Areas'!E106,(IF($B$4=\"SE\",'Wave Areas'!S107,(IF($B$4=\"S\",'Wave Areas'!E124,(IF($B$4=\"W\",'Wave Areas'!E142,(IF($B$4=\"NW\",'Wave Areas'!S143,0)))))))))))))))","v":0},{"$f":"IF($B$4=\"SW\",'Wave Areas'!T125,(IF($B$4=\"N\",'Wave Areas'!F88,(IF($B$4=\"NE\",'Wave Areas'!T89,(IF($B$4=\"E\",'Wave Areas'!F106,(IF($B$4=\"SE\",'Wave Areas'!T107,(IF($B$4=\"S\",'Wave Areas'!F124,(IF($B$4=\"W\",'Wave Areas'!F142,(IF($B$4=\"NW\",'Wave Areas'!T143,0)))))))))))))))","v":0},{"$f":"IF($B$4=\"SW\",'Wave Areas'!U125,(IF($B$4=\"N\",'Wave Areas'!G88,(IF($B$4=\"NE\",'Wave Areas'!U89,(IF($B$4=\"E\",'Wave Areas'!G106,(IF($B$4=\"SE\",'Wave Areas'!U107,(IF($B$4=\"S\",'Wave Areas'!G124,(IF($B$4=\"W\",'Wave Areas'!G142,(IF($B$4=\"NW\",'Wave Areas'!U143,0)))))))))))))))","v":0},{"$f":"IF($B$4=\"SW\",'Wave Areas'!V125,(IF($B$4=\"N\",'Wave Areas'!H88,(IF($B$4=\"NE\",'Wave Areas'!V89,(IF($B$4=\"E\",'Wave Areas'!H106,(IF($B$4=\"SE\",'Wave Areas'!V107,(IF($B$4=\"S\",'Wave Areas'!H124,(IF($B$4=\"W\",'Wave Areas'!H142,(IF($B$4=\"NW\",'Wave Areas'!V143,0)))))))))))))))","v":0},{"$f":"IF($B$4=\"SW\",'Wave Areas'!W125,(IF($B$4=\"N\",'Wave Areas'!I88,(IF($B$4=\"NE\",'Wave Areas'!W89,(IF($B$4=\"E\",'Wave Areas'!I106,(IF($B$4=\"SE\",'Wave Areas'!W107,(IF($B$4=\"S\",'Wave Areas'!I124,(IF($B$4=\"W\",'Wave Areas'!I142,(IF($B$4=\"NW\",'Wave Areas'!W143,0)))))))))))))))","v":0},{"$f":"IF($B$4=\"SW\",'Wave Areas'!X125,(IF($B$4=\"N\",'Wave Areas'!J88,(IF($B$4=\"NE\",'Wave Areas'!X89,(IF($B$4=\"E\",'Wave Areas'!J106,(IF($B$4=\"SE\",'Wave Areas'!X107,(IF($B$4=\"S\",'Wave Areas'!J124,(IF($B$4=\"W\",'Wave Areas'!J142,(IF($B$4=\"NW\",'Wave Areas'!X143,0)))))))))))))))","v":0},{"$f":"IF($B$4=\"SW\",'Wave Areas'!Y125,(IF($B$4=\"N\",'Wave Areas'!K88,(IF($B$4=\"NE\",'Wave Areas'!Y89,(IF($B$4=\"E\",'Wave Areas'!K106,(IF($B$4=\"SE\",'Wave Areas'!Y107,(IF($B$4=\"S\",'Wave Areas'!K124,(IF($B$4=\"W\",'Wave Areas'!K142,(IF($B$4=\"NW\",'Wave Areas'!Y143,0)))))))))))))))","v":0},{"$f":"IF($B$4=\"SW\",'Wave Areas'!Z125,(IF($B$4=\"N\",'Wave Areas'!L88,(IF($B$4=\"NE\",'Wave Areas'!Z89,(IF($B$4=\"E\",'Wave Areas'!L106,(IF($B$4=\"SE\",'Wave Areas'!Z107,(IF($B$4=\"S\",'Wave Areas'!L124,(IF($B$4=\"W\",'Wave Areas'!L142,(IF($B$4=\"NW\",'Wave Areas'!Z143,0)))))))))))))))","v":0},null,10.5,{"$f":"S32/($AC$33)","v":{"$error":"#DIV/0!"}},{"$error":"#DIV/0!"},{"$error":"#DIV/0!"},{"$error":"#DIV/0!"},{"$error":"#DIV/0!"},{"$error":"#DIV/0!"},{"$error":"#DIV/0!"},{"$error":"#DIV/0!"},{"$error":"#DIV/0!"},{"$error":"#DIV/0!"},{"$error":"#DIV/0!"},{"$error":"#DIV/0!"},null,10.5,{"$error":"#DIV/0!"},{"$error":"#DIV/0!"},{"$f":"AI32/1004","v":{"$error":"#DIV/0!"}},{"$f":"AJ32/1004","v":{"$error":"#DIV/0!"}},{"$f":"AK32/1004","v":{"$error":"#DIV/0!"}},{"$f":"AL32/1004","v":{"$error":"#DIV/0!"}},{"$f":"AM32/1004","v":{"$error":"#DIV/0!"}},{"$f":"AN32/1004","v":{"$error":"#DIV/0!"}},{"$error":"#DIV/0!"},{"$error":"#DIV/0!"},{"$error":"#DIV/0!"},{"$error":"#DIV/0!"}]
["Sub Totals",null,{"$f":"SUM(C22:C32)","v":17165.748214285715},362355.59765625,1188236.3196732954,2463571.0566346156,4164725.341874999,4361623.6491727941,3276405.3061184208,1571557.1679910715,0,0,0,{"$f":"SUM(N22:N31)","v":17405640.18733573},"Total",null,null,"Total Occurences",null,null,null,null,null,null,null,null,null,null,{"$f":"SUM(S22:AC32)","v":0},null,null,null,null,null,null,null,null,null,null,null,null,null,null,null,"Sub Totals",{"$f":"SUM(AT22:AT32)","v":{"$error":"#DIV/0!"}},{"$error":"#DIV/0!"},{"$error":"#DIV/0!"},{"$error":"#DIV/0!"},{"$error":"#DIV/0!"},{"$error":"#DIV/0!"},{"$error":"#DIV/0!"},{"$error":"#DIV/0!"},{"$error":"#DIV/0!"},{"$error":"#DIV/0!"},{"$error":"#DIV/0!"},{"$f":"SUM(BE22:BE31)","v":{"$error":"#DIV/0!"}},"Total"]
[]
[null,null,null,null,null,null,null,null,null,null,null,null,null,null,null,null,null,null,null,null,null,null,null,null,null,null,null,null,null,null,null,null,null,null,null,null,null,null,null,null,null,null,null,null,null,null,null,null,null,null,null,null,null,null,null,null,"Min","Max"]
[null,null,null,null,null,null,null,null,null,null,null,null,null,null,null,null,null,null,null,null,null,null,null,null,null,null,null,null,null,null,null,null,null,null,null,null,null,null,null,null,null,null,null,null,null,null,null,null,null,null,null,null,null,"Relevant Wave Heights",null,null,{"$f":"IF((AND($B$6>AS22,$B$6<AS23)),AS22,(IF((AND($B$6>AS23,$B$6<AS24)),AS23,(IF((AND($B$6>AS24,$B$6<AS25)),AS24,(IF((AND($B$6>AS25,$B$6<AS26)),AS25,(IF((AND($B$6>AS26,$B$6<AS27)),AS26,(IF((AND($B$6>AS27,$B$6<AS28)),AS27,(IF((AND($B$6>AS28,$B$6<AS29)),AS28,(IF((AND($B$6>AS29,$B$6<AS30)),AS29,(IF((AND($B$6>AS30,$B$6<AS31)),AS30,(IF((AND($B$6>AS31,$B$6<AS32)),AS31,(IF($B$6>AS32,AS32,\"\")))))))))))))))))))))","v":10.5},{"$f":"IF((AND($B$6>AS22,$B$6<AS23)),AS23,(IF((AND($B$6>AS23,$B$6<AS24)),AS24,(IF((AND($B$6>AS24,$B$6<AS25)),AS25,(IF((AND($B$6>AS25,$B$6<AS26)),AS26,(IF((AND($B$6>AS26,$B$6<AS27)),AS27,(IF((AND($B$6>AS27,$B$6<AS28)),AS28,(IF((AND($B$6>AS28,$B$6<AS29)),AS29,(IF((AND($B$6>AS29,$B$6<AS30)),AS30,(IF((AND($B$6>AS30,$B$6<AS31)),AS31,(IF((AND($B$6>AS31,$B$6<AS32)),AS32,(IF($B$6>AS32,AS32,\"\")))))))))))))))))))))","v":10.5}]
[null,null,null,null,null,null,null,null,null,null,null,null,null,null,null,null,null,null,null,null,null,null,null,null,null,null,null,null,null,null,null,null,null,null,null,null,null,null,null,null,null,null,null,null,null,null,null,null,null,null,null,null,null,"Relevant Power (kW/m)",null,null,{"$f":"(((($B$6-BE36)*((VLOOKUP(BF36,AS22:BE32,13,FALSE))-(VLOOKUP(BE36,AS22:BE32,13,FALSE))))/(BF36-BE36))+(VLOOKUP(BE36,AS22:BE32,13,FALSE)))*0.001","v":{"$error":"#VALUE!"}}]
[]
["Deep"]
[]
["Wave Velocity C","(m/s)",{"$f":"(C42/C43)","v":5.0344574780058648},6.4728739002932549,7.9112903225806459,9.3497067448680351,10.788123167155426,12.226539589442817,13.664956011730204,15.103372434017595,16.541788856304986,17.980205278592376,19.418621700879768]
["Wave Length (λ)","(m)",{"$f":"(9.81/(2*3.41))*C43^2","v":17.620601173020528},29.127932551319649,43.512096774193552,60.773093841642229,80.910923753665699,103.92558651026394,129.81708211143695,158.58541055718476,190.23057184750735,224.75256598240469,262.15139296187687]
["Wave Period (T)","(s)",3.5,4.5,5.5,6.5,7.5,8.5,9.5,10.5,11.5,12.5,13.5]
[]
["Energy","Wave Height (Hs)","Power",null,null,null,null,null,null,null,null,null,null,"Total Power",null,null,null,"North Sea Area 10",null,null,null,null,null,null,null,null,null,null,null,null,"North Sea Area 10",null,null,null,null,null,null,null,null,null,null,null,null,null,"North Sea Area 10"]
["(J)","(m)","(W/m)",null,null,null,null,null,null,null,null,null,null,"(W/m)",null,null,null,"Number of Occurences",null,null,null,null,null,null,null,null,null,null,null,null,"Percentage of Occurences",null,null,null,null,null,null,null,null,null,null,null,null,null,"Annual Power (W/m)",null,null,null,null,null,null,null,null,null,null,null,"Total Power"]
[{"$f":"(1025*9.81*B47^2)/8","v":314.2265625},0.5,{"$f":"$A47*($C$41)/2","v":790.98013368310114},{"$f":"$A47*($D$41)/2","v":1016.9744575925586},{"$f":"$A47*($E$41)/2","v":1242.9687815020163},{"$f":"$A47*($F$41)/2","v":1468.9631054114736},{"$f":"$A47*($G$41)/2","v":1694.9574293209312},{"$f":"$A47*($H$41)/2","v":1920.9517532303889},0,0,0,0,0,{"$f":"SUM(C47:M47)","v":8135.7956607404703},null,null,null,"Hs                      T",3.5,4.5,5.5,6.5,7.5,8.5,9.5,10.5,11.5,12.5,13.5,null,"Hs                 T",3.5,4.5,5.5,6.5,7.5,8.5,9.5,10.5,11.5,12.5,13.5,"Availability",null,"Hs           T",3.5,4.5,5.5,6.5,7.5,8.5,9.5,10.5,11.5,12.5,13.5,"(W/m)"]
[2828.0390625,1.5,{"$f":"$B48*($C$16/2)","v":4.0971428571428579},{"$f":"$A48*($D$41)/2","v":9152.7701183330282},11186.719033518146,13220.667948703262,15254.616863888381,{"$f":"$A48*($G$41)/2","v":15254.616863888381},{"$f":"$A48*($I$41)/2","v":19322.514694258614},{"$f":"$A48*($J$41)/2","v":21356.46360944373},0,0,0,104752.46627489068,null,null,null,0.5,{"$f":"IF($B$4=\"SW\",'Wave Areas'!P115,(IF($B$4=\"N\",'Wave Areas'!B78,(IF($B$4=\"NE\",'Wave Areas'!P79,(IF($B$4=\"E\",'Wave Areas'!B96,(IF($B$4=\"SE\",'Wave Areas'!P97,(IF($B$4=\"S\",'Wave Areas'!B114,(IF($B$4=\"W\",'Wave Areas'!B132,(IF($B$4=\"NW\",'Wave Areas'!P133,0)))))))))))))))","v":0},{"$f":"IF($B$4=\"SW\",'Wave Areas'!Q115,(IF($B$4=\"N\",'Wave Areas'!C78,(IF($B$4=\"NE\",'Wave Areas'!Q79,(IF($B$4=\"E\",'Wave Areas'!C96,(IF($B$4=\"SE\",'Wave Areas'!Q97,(IF($B$4=\"S\",'Wave Areas'!C114,(IF($B$4=\"W\",'Wave Areas'!C132,(IF($B$4=\"NW\",'Wave Areas'!Q133,0)))))))))))))))","v":0},{"$f":"IF($B$4=\"SW\",'Wave Areas'!R115,(IF($B$4=\"N\",'Wave Areas'!D78,(IF($B$4=\"NE\",'Wave Areas'!R79,(IF($B$4=\"E\",'Wave Areas'!D96,(IF($B$4=\"SE\",'Wave Areas'!R97,(IF($B$4=\"S\",'Wave Areas'!D114,(IF($B$4=\"W\",'Wave Areas'!D132,(IF($B$4=\"NW\",'Wave Areas'!R133,0)))))))))))))))","v":0},{"$f":"IF($B$4=\"SW\",'Wave Areas'!S115,(IF($B$4=\"N\",'Wave Areas'!E78,(IF($B$4=\"NE\",'Wave Areas'!S79,(IF($B$4=\"E\",'Wave Areas'!E96,(IF($B$4=\"SE\",'Wave Areas'!S97,(IF($B$4=\"S\",'Wave Areas'!E114,(IF($B$4=\"W\",'Wave Areas'!E132,(IF($B$4=\"NW\",'Wave Areas'!S133,0)))))))))))))))","v":0},{"$f":"IF($B$4=\"SW\",'Wave Areas'!T115,(IF($B$4=\"N\",'Wave Areas'!F78,(IF($B$4=\"NE\",'Wave Areas'!T79,(IF($B$4=\"E\",'Wave Areas'!F96,(IF($B$4=\"SE\",'Wave Areas'!T97,(IF($B$4=\"S\",'Wave Areas'!F114,(IF($B$4=\"W\",'Wave Areas'!F132,(IF($B$4=\"NW\",'Wave Areas'!T133,0)))))))))))))))","v":0},{"$f":"IF($B$4=\"SW\",'Wave Areas'!U115,(IF($B$4=\"N\",'Wave Areas'!G78,(IF($B$4=\"NE\",'Wave Areas'!U79,(IF($B$4=\"E\",'Wave Areas'!G96,(IF($B$4=\"SE\",'Wave Areas'!U97,(IF($B$4=\"S\",'Wave Areas'!G114,(IF($B$4=\"W\",'Wave Areas'!G132,(IF($B$4=\"NW\",'Wave Areas'!U133,0)))))))))))))))","v":0},{"$f":"IF($B$4=\"SW\",'Wave Areas'!V115,(IF($B$4=\"N\",'Wave Areas'!H78,(IF($B$4=\"NE\",'Wave Areas'!V79,(IF($B$4=\"E\",'Wave Areas'!H96,(IF($B$4=\"SE\",'Wave Areas'!V97,(IF($B$4=\"S\",'Wave Areas'!H114,(IF($B$4=\"W\",'Wave Areas'!H132,(IF($B$4=\"NW\",'Wave Areas'!V133,0)))))))))))))))","v":0},{"$f":"IF($B$4=\"SW\",'Wave Areas'!W115,(IF($B$4=\"N\",'Wave Areas'!I78,(IF($B$4=\"NE\",'Wave Areas'!W79,(IF($B$4=\"E\",'Wave Areas'!I96,(IF($B$4=\"SE\",'Wave Areas'!W97,(IF($B$4=\"S\",'Wave Areas'!I114,(IF($B$4=\"W\",'Wave Areas'!I132,(IF($B$4=\"NW\",'Wave Areas'!W133,0)))))))))))))))","v":0},{"$f":"IF($B$4=\"SW\",'Wave Areas'!X115,(IF($B$4=\"N\",'Wave Areas'!J78,(IF($B$4=\"NE\",'Wave Areas'!X79,(IF($B$4=\"E\",'Wave Areas'!J96,(IF($B$4=\"SE\",'Wave Areas'!X97,(IF($B$4=\"S\",'Wave Areas'!J114,(IF($B$4=\"W\",'Wave Areas'!J132,(IF($B$4=\"NW\",'Wave Areas'!X133,0)))))))))))))))","v":0},{"$f":"IF($B$4=\"SW\",'Wave Areas'!Y115,(IF($B$4=\"N\",'Wave Areas'!K78,(IF($B$4=\"NE\",'Wave Areas'!Y79,(IF($B$4=\"E\",'Wave Areas'!K96,(IF($B$4=\"SE\",'Wave Areas'!Y97,(IF($B$4=\"S\",'Wave Areas'!K114,(IF($B$4=\"W\",'Wave Areas'!K132,(IF($B$4=\"NW\",'Wave Areas'!Y133,0)))))))))))))))","v":0},{"$f":"IF($B$4=\"SW\",'Wave Areas'!Z115,(IF($B$4=\"N\",'Wave Areas'!L78,(IF($B$4=\"NE\",'Wave Areas'!Z79,(IF($B$4=\"E\",'Wave Areas'!L96,(IF($B$4=\"SE\",'Wave Areas'!Z97,(IF($B$4=\"S\",'Wave Areas'!L114,(IF($B$4=\"W\",'Wave Areas'!L132,(IF($B$4=\"NW\",'Wave Areas'!Z133,0)))))))))))))))","v":0},null,0.5,{"$f":"S48/$AC$59","v":{"$error":"#DIV/0!"}},{"$f":"T48/$AC$59","v":{"$error":"#DIV/0!"}},{"$error":"#DIV/0!"},{"$error":"#DIV/0!"},{"$error":"#DIV/0!"},{"$error":"#DIV/0!"},{"$error":"#DIV/0!"},{"$error":"#DIV/0!"},{"$error":"#DIV/0!"},{"$error":"#DIV/0!"},{"$error":"#DIV/0!"},{"$f":"SUM(AF48:AP48)","v":{"$error":"#DIV/0!"}},null,0.5,{"$f":"C47*AF48","v":{"$error":"#DIV/0!"}},{"$error":"#DIV/0!"},{"$error":"#DIV/0!"},{"$error":"#DIV/0!"},{"$error":"#DIV/0!"},{"$error":"#DIV/0!"},{"$f":"AM48/1004","v":{"$error":"#DIV/0!"}},{"$f":"AN48/1004","v":{"$error":"#DIV/0!"}},{"$f":"AO48/1004","v":{"$error":"#DIV/0!"}},{"$f":"AP48/1004","v":{"$error":"#DIV/0!"}},{"$f":"AQ44/1004","v":0},{"$f":"SUM(AT48:BD48)","v":{"$error":"#DIV/0!"}}]
[7855.6640625,2.5,0,{"$f":"$A49*($D$41)/2","v":25424.361439813965},31074.219537550405,36724.077635286842,42373.935733023282,{"$f":"$A49*($H$41)/2","v":48023.793830759721},53673.651928496147,59323.510026232587,0,0,0,296617.55013116292,null,null,null,1.5,{"$f":"IF($B$4=\"SW\",'Wave Areas'!P116,(IF($B$4=\"N\",'Wave Areas'!B79,(IF($B$4=\"NE\",'Wave Areas'!P80,(IF($B$4=\"E\",'Wave Areas'!B97,(IF($B$4=\"SE\",'Wave Areas'!P98,(IF($B$4=\"S\",'Wave Areas'!B115,(IF($B$4=\"W\",'Wave Areas'!B133,(IF($B$4=\"NW\",'Wave Areas'!P134,0)))))))))))))))","v":0},{"$f":"IF($B$4=\"SW\",'Wave Areas'!Q116,(IF($B$4=\"N\",'Wave Areas'!C79,(IF($B$4=\"NE\",'Wave Areas'!Q80,(IF($B$4=\"E\",'Wave Areas'!C97,(IF($B$4=\"SE\",'Wave Areas'!Q98,(IF($B$4=\"S\",'Wave Areas'!C115,(IF($B$4=\"W\",'Wave Areas'!C133,(IF($B$4=\"NW\",'Wave Areas'!Q134,0)))))))))))))))","v":0},{"$f":"IF($B$4=\"SW\",'Wave Areas'!R116,(IF($B$4=\"N\",'Wave Areas'!D79,(IF($B$4=\"NE\",'Wave Areas'!R80,(IF($B$4=\"E\",'Wave Areas'!D97,(IF($B$4=\"SE\",'Wave Areas'!R98,(IF($B$4=\"S\",'Wave Areas'!D115,(IF($B$4=\"W\",'Wave Areas'!D133,(IF($B$4=\"NW\",'Wave Areas'!R134,0)))))))))))))))","v":0},{"$f":"IF($B$4=\"SW\",'Wave Areas'!S116,(IF($B$4=\"N\",'Wave Areas'!E79,(IF($B$4=\"NE\",'Wave Areas'!S80,(IF($B$4=\"E\",'Wave Areas'!E97,(IF($B$4=\"SE\",'Wave Areas'!S98,(IF($B$4=\"S\",'Wave Areas'!E115,(IF($B$4=\"W\",'Wave Areas'!E133,(IF($B$4=\"NW\",'Wave Areas'!S134,0)))))))))))))))","v":0},{"$f":"IF($B$4=\"SW\",'Wave Areas'!T116,(IF($B$4=\"N\",'Wave Areas'!F79,(IF($B$4=\"NE\",'Wave Areas'!T80,(IF($B$4=\"E\",'Wave Areas'!F97,(IF($B$4=\"SE\",'Wave Areas'!T98,(IF($B$4=\"S\",'Wave Areas'!F115,(IF($B$4=\"W\",'Wave Areas'!F133,(IF($B$4=\"NW\",'Wave Areas'!T134,0)))))))))))))))","v":0},{"$f":"IF($B$4=\"SW\",'Wave Areas'!U116,(IF($B$4=\"N\",'Wave Areas'!G79,(IF($B$4=\"NE\",'Wave Areas'!U80,(IF($B$4=\"E\",'Wave Areas'!G97,(IF($B$4=\"SE\",'Wave Areas'!U98,(IF($B$4=\"S\",'Wave Areas'!G115,(IF($B$4=\"W\",'Wave Areas'!G133,(IF($B$4=\"NW\",'Wave Areas'!U134,0)))))))))))))))","v":0},{"$f":"IF($B$4=\"SW\",'Wave Areas'!V116,(IF($B$4=\"N\",'Wave Areas'!H79,(IF($B$4=\"NE\",'Wave Areas'!V80,(IF($B$4=\"E\",'Wave Areas'!H97,(IF($B$4=\"SE\",'Wave Areas'!V98,(IF($B$4=\"S\",'Wave Areas'!H115,(IF($B$4=\"W\",'Wave Areas'!H133,(IF($B$4=\"NW\",'Wave Areas'!V134,0)))))))))))))))","v":0},{"$f":"IF($B$4=\"SW\",'Wave Areas'!W116,(IF($B$4=\"N\",'Wave Areas'!I79,(IF($B$4=\"NE\",'Wave Areas'!W80,(IF($B$4=\"E\",'Wave Areas'!I97,(IF($B$4=\"SE\",'Wave Areas'!W98,(IF($B$4=\"S\",'Wave Areas'!I115,(IF($B$4=\"W\",'Wave Areas'!I133,(IF($B$4=\"NW\",'Wave Areas'!W134,0)))))))))))))))","v":0},{"$f":"IF($B$4=\"SW\",'Wave Areas'!X116,(IF($B$4=\"N\",'Wave Areas'!J79,(IF($B$4=\"NE\",'Wave Areas'!X80,(IF($B$4=\"E\",'Wave Areas'!J97,(IF($B$4=\"SE\",'Wave Areas'!X98,(IF($B$4=\"S\",'Wave Areas'!J115,(IF($B$4=\"W\",'Wave Areas'!J133,(IF($B$4=\"NW\",'Wave Areas'!X134,0)))))))))))))))","v":0},{"$f":"IF($B$4=\"SW\",'Wave Areas'!Y116,(IF($B$4=\"N\",'Wave Areas'!K79,(IF($B$4=\"NE\",'Wave Areas'!Y80,(IF($B$4=\"E\",'Wave Areas'!K97,(IF($B$4=\"SE\",'Wave Areas'!Y98,(IF($B$4=\"S\",'Wave Areas'!K115,(IF($B$4=\"W\",'Wave Areas'!K133,(IF($B$4=\"NW\",'Wave Areas'!Y134,0)))))))))))))))","v":0},{"$f":"IF($B$4=\"SW\",'Wave Areas'!Z116,(IF($B$4=\"N\",'Wave Areas'!L79,(IF($B$4=\"NE\",'Wave Areas'!Z80,(IF($B$4=\"E\",'Wave Areas'!L97,(IF($B$4=\"SE\",'Wave Areas'!Z98,(IF($B$4=\"S\",'Wave Areas'!L115,(IF($B$4=\"W\",'Wave Areas'!L133,(IF($B$4=\"NW\",'Wave Areas'!Z134,0)))))))))))))))","v":0},null,1.5,{"$f":"S49/$AC$59","v":{"$error":"#DIV/0!"}},{"$error":"#DIV/0!"},{"$error":"#DIV/0!"},{"$error":"#DIV/0!"},{"$error":"#DIV/0!"},{"$error":"#DIV/0!"},{"$error":"#DIV/0!"},{"$error":"#DIV/0!"},{"$error":"#DIV/0!"},{"$error":"#DIV/0!"},{"$error":"#DIV/0!"},{"$f":"SUM(AF49:AP49)","v":{"$error":"#DIV/0!"}},null,1.5,{"$error":"#DIV/0!"},{"$error":"#DIV/0!"},{"$error":"#DIV/0!"},{"$error":"#DIV/0!"},{"$error":"#DIV/0!"},{"$error":"#DIV/0!"},{"$error":"#DIV/0!"},{"$error":"#DIV/0!"},{"$f":"AO49/1004","v":{"$error":"#DIV/0!"}},{"$error":"#DIV/0!"},{"$f":"AQ46/1004","v":0},{"$error":"#DIV/0!"}]
[15397.1015625,3.5,0,{"$f":"$A50*($D$41)/2","v":49831.748422035373},60905.470293598795,71979.192165162211,83052.914036725633,94126.635908289056,105200.35777985245,116274.07965141587,0,0,0,581370.39825707942,null,null,null,2.5,{"$f":"IF($B$4=\"SW\",'Wave Areas'!P117,(IF($B$4=\"N\",'Wave Areas'!B80,(IF($B$4=\"NE\",'Wave Areas'!P81,(IF($B$4=\"E\",'Wave Areas'!B98,(IF($B$4=\"SE\",'Wave Areas'!P99,(IF($B$4=\"S\",'Wave Areas'!B116,(IF($B$4=\"W\",'Wave Areas'!B134,(IF($B$4=\"NW\",'Wave Areas'!P135,0)))))))))))))))","v":0},{"$f":"IF($B$4=\"SW\",'Wave Areas'!Q117,(IF($B$4=\"N\",'Wave Areas'!C80,(IF($B$4=\"NE\",'Wave Areas'!Q81,(IF($B$4=\"E\",'Wave Areas'!C98,(IF($B$4=\"SE\",'Wave Areas'!Q99,(IF($B$4=\"S\",'Wave Areas'!C116,(IF($B$4=\"W\",'Wave Areas'!C134,(IF($B$4=\"NW\",'Wave Areas'!Q135,0)))))))))))))))","v":0},{"$f":"IF($B$4=\"SW\",'Wave Areas'!R117,(IF($B$4=\"N\",'Wave Areas'!D80,(IF($B$4=\"NE\",'Wave Areas'!R81,(IF($B$4=\"E\",'Wave Areas'!D98,(IF($B$4=\"SE\",'Wave Areas'!R99,(IF($B$4=\"S\",'Wave Areas'!D116,(IF($B$4=\"W\",'Wave Areas'!D134,(IF($B$4=\"NW\",'Wave Areas'!R135,0)))))))))))))))","v":0},{"$f":"IF($B$4=\"SW\",'Wave Areas'!S117,(IF($B$4=\"N\",'Wave Areas'!E80,(IF($B$4=\"NE\",'Wave Areas'!S81,(IF($B$4=\"E\",'Wave Areas'!E98,(IF($B$4=\"SE\",'Wave Areas'!S99,(IF($B$4=\"S\",'Wave Areas'!E116,(IF($B$4=\"W\",'Wave Areas'!E134,(IF($B$4=\"NW\",'Wave Areas'!S135,0)))))))))))))))","v":0},{"$f":"IF($B$4=\"SW\",'Wave Areas'!T117,(IF($B$4=\"N\",'Wave Areas'!F80,(IF($B$4=\"NE\",'Wave Areas'!T81,(IF($B$4=\"E\",'Wave Areas'!F98,(IF($B$4=\"SE\",'Wave Areas'!T99,(IF($B$4=\"S\",'Wave Areas'!F116,(IF($B$4=\"W\",'Wave Areas'!F134,(IF($B$4=\"NW\",'Wave Areas'!T135,0)))))))))))))))","v":0},{"$f":"IF($B$4=\"SW\",'Wave Areas'!U117,(IF($B$4=\"N\",'Wave Areas'!G80,(IF($B$4=\"NE\",'Wave Areas'!U81,(IF($B$4=\"E\",'Wave Areas'!G98,(IF($B$4=\"SE\",'Wave Areas'!U99,(IF($B$4=\"S\",'Wave Areas'!G116,(IF($B$4=\"W\",'Wave Areas'!G134,(IF($B$4=\"NW\",'Wave Areas'!U135,0)))))))))))))))","v":0},{"$f":"IF($B$4=\"SW\",'Wave Areas'!V117,(IF($B$4=\"N\",'Wave Areas'!H80,(IF($B$4=\"NE\",'Wave Areas'!V81,(IF($B$4=\"E\",'Wave Areas'!H98,(IF($B$4=\"SE\",'Wave Areas'!V99,(IF($B$4=\"S\",'Wave Areas'!H116,(IF($B$4=\"W\",'Wave Areas'!H134,(IF($B$4=\"NW\",'Wave Areas'!V135,0)))))))))))))))","v":0},{"$f":"IF($B$4=\"SW\",'Wave Areas'!W117,(IF($B$4=\"N\",'Wave Areas'!I80,(IF($B$4=\"NE\",'Wave Areas'!W81,(IF($B$4=\"E\",'Wave Areas'!I98,(IF($B$4=\"SE\",'Wave Areas'!W99,(IF($B$4=\"S\",'Wave Areas'!I116,(IF($B$4=\"W\",'Wave Areas'!I134,(IF($B$4=\"NW\",'Wave Areas'!W135,0)))))))))))))))","v":0},{"$f":"IF($B$4=\"SW\",'Wave Areas'!X117,(IF($B$4=\"N\",'Wave Areas'!J80,(IF($B$4=\"NE\",'Wave Areas'!X81,(IF($B$4=\"E\",'Wave Areas'!J98,(IF($B$4=\"SE\",'Wave Areas'!X99,(IF($B$4=\"S\",'Wave Areas'!J116,(IF($B$4=\"W\",'Wave Areas'!J134,(IF($B$4=\"NW\",'Wave Areas'!X135,0)))))))))))))))","v":0},{"$f":"IF($B$4=\"SW\",'Wave Areas'!Y117,(IF($B$4=\"N\",'Wave Areas'!K80,(IF($B$4=\"NE\",'Wave Areas'!Y81,(IF($B$4=\"E\",'Wave Areas'!K98,(IF($B$4=\"SE\",'Wave Areas'!Y99,(IF($B$4=\"S\",'Wave Areas'!K116,(IF($B$4=\"W\",'Wave Areas'!K134,(IF($B$4=\"NW\",'Wave Areas'!Y135,0)))))))))))))))","v":0},{"$f":"IF($B$4=\"SW\",'Wave Areas'!Z117,(IF($B$4=\"N\",'Wave Areas'!L80,(IF($B$4=\"NE\",'Wave Areas'!Z81,(IF($B$4=\"E\",'Wave Areas'!L98,(IF($B$4=\"SE\",'Wave Areas'!Z99,(IF($B$4=\"S\",'Wave Areas'!L116,(IF($B$4=\"W\",'Wave Areas'!L134,(IF($B$4=\"NW\",'Wave Areas'!Z135,0)))))))))))))))","v":0},null,2.5,{"$error":"#DIV/0!"},{"$error":"#DIV/0!"},{"$error":"#DIV/0!"},{"$error":"#DIV/0!"},{"$error":"#DIV/0!"},{"$error":"#DIV/0!"},{"$error":"#DIV/0!"},{"$error":"#DIV/0!"},{"$error":"#DIV/0!"},{"$error":"#DIV/0!"},{"$error":"#DIV/0!"},{"$error":"#DIV/0!"},null,2.5,{"$f":"AG50/1004","v":{"$error":"#DIV/0!"}},{"$error":"#DIV/0!"},{"$error":"#DIV/0!"},{"$error":"#DIV/0!"},{"$error":"#DIV/0!"},{"$error":"#DIV/0!"},{"$error":"#DIV/0!"},{"$error":"#DIV/0!"},{"$error":"#DIV/0!"},{"$error":"#DIV/0!"},{"$f":"AQ48/1004","v":{"$error":"#DIV/0!"}},{"$error":"#DIV/0!"}]
[25452.3515625,4.5,0,{"$f":"$A51*($D$41)/2","v":82374.931064997247},100680.47130166332,118986.01153832936,137291.55177499543,155597.0920116615,173902.63224832751,192208.17248499359,0,0,0,961040.86242496793,null,null,null,3.5,{"$f":"IF($B$4=\"SW\",'Wave Areas'!P118,(IF($B$4=\"N\",'Wave Areas'!B81,(IF($B$4=\"NE\",'Wave Areas'!P82,(IF($B$4=\"E\",'Wave Areas'!B99,(IF($B$4=\"SE\",'Wave Areas'!P100,(IF($B$4=\"S\",'Wave Areas'!B117,(IF($B$4=\"W\",'Wave Areas'!B135,(IF($B$4=\"NW\",'Wave Areas'!P136,0)))))))))))))))","v":0},{"$f":"IF($B$4=\"SW\",'Wave Areas'!Q118,(IF($B$4=\"N\",'Wave Areas'!C81,(IF($B$4=\"NE\",'Wave Areas'!Q82,(IF($B$4=\"E\",'Wave Areas'!C99,(IF($B$4=\"SE\",'Wave Areas'!Q100,(IF($B$4=\"S\",'Wave Areas'!C117,(IF($B$4=\"W\",'Wave Areas'!C135,(IF($B$4=\"NW\",'Wave Areas'!Q136,0)))))))))))))))","v":0},{"$f":"IF($B$4=\"SW\",'Wave Areas'!R118,(IF($B$4=\"N\",'Wave Areas'!D81,(IF($B$4=\"NE\",'Wave Areas'!R82,(IF($B$4=\"E\",'Wave Areas'!D99,(IF($B$4=\"SE\",'Wave Areas'!R100,(IF($B$4=\"S\",'Wave Areas'!D117,(IF($B$4=\"W\",'Wave Areas'!D135,(IF($B$4=\"NW\",'Wave Areas'!R136,0)))))))))))))))","v":0},{"$f":"IF($B$4=\"SW\",'Wave Areas'!S118,(IF($B$4=\"N\",'Wave Areas'!E81,(IF($B$4=\"NE\",'Wave Areas'!S82,(IF($B$4=\"E\",'Wave Areas'!E99,(IF($B$4=\"SE\",'Wave Areas'!S100,(IF($B$4=\"S\",'Wave Areas'!E117,(IF($B$4=\"W\",'Wave Areas'!E135,(IF($B$4=\"NW\",'Wave Areas'!S136,0)))))))))))))))","v":0},{"$f":"IF($B$4=\"SW\",'Wave Areas'!T118,(IF($B$4=\"N\",'Wave Areas'!F81,(IF($B$4=\"NE\",'Wave Areas'!T82,(IF($B$4=\"E\",'Wave Areas'!F99,(IF($B$4=\"SE\",'Wave Areas'!T100,(IF($B$4=\"S\",'Wave Areas'!F117,(IF($B$4=\"W\",'Wave Areas'!F135,(IF($B$4=\"NW\",'Wave Areas'!T136,0)))))))))))))))","v":0},{"$f":"IF($B$4=\"SW\",'Wave Areas'!U118,(IF($B$4=\"N\",'Wave Areas'!G81,(IF($B$4=\"NE\",'Wave Areas'!U82,(IF($B$4=\"E\",'Wave Areas'!G99,(IF($B$4=\"SE\",'Wave Areas'!U100,(IF($B$4=\"S\",'Wave Areas'!G117,(IF($B$4=\"W\",'Wave Areas'!G135,(IF($B$4=\"NW\",'Wave Areas'!U136,0)))))))))))))))","v":0},{"$f":"IF($B$4=\"SW\",'Wave Areas'!V118,(IF($B$4=\"N\",'Wave Areas'!H81,(IF($B$4=\"NE\",'Wave Areas'!V82,(IF($B$4=\"E\",'Wave Areas'!H99,(IF($B$4=\"SE\",'Wave Areas'!V100,(IF($B$4=\"S\",'Wave Areas'!H117,(IF($B$4=\"W\",'Wave Areas'!H135,(IF($B$4=\"NW\",'Wave Areas'!V136,0)))))))))))))))","v":0},{"$f":"IF($B$4=\"SW\",'Wave Areas'!W118,(IF($B$4=\"N\",'Wave Areas'!I81,(IF($B$4=\"NE\",'Wave Areas'!W82,(IF($B$4=\"E\",'Wave Areas'!I99,(IF($B$4=\"SE\",'Wave Areas'!W100,(IF($B$4=\"S\",'Wave Areas'!I117,(IF($B$4=\"W\",'Wave Areas'!I135,(IF($B$4=\"NW\",'Wave Areas'!W136,0)))))))))))))))","v":0},{"$f":"IF($B$4=\"SW\",'Wave Areas'!X118,(IF($B$4=\"N\",'Wave Areas'!J81,(IF($B$4=\"NE\",'Wave Areas'!X82,(IF($B$4=\"E\",'Wave Areas'!J99,(IF($B$4=\"SE\",'Wave Areas'!X100,(IF($B$4=\"S\",'Wave Areas'!J117,(IF($B$4=\"W\",'Wave Areas'!J135,(IF($B$4=\"NW\",'Wave Areas'!X136,0)))))))))))))))","v":0},{"$f":"IF($B$4=\"SW\",'Wave Areas'!Y118,(IF($B$4=\"N\",'Wave Areas'!K81,(IF($B$4=\"NE\",'Wave Areas'!Y82,(IF($B$4=\"E\",'Wave Areas'!K99,(IF($B$4=\"SE\",'Wave Areas'!Y100,(IF($B$4=\"S\",'Wave Areas'!K117,(IF($B$4=\"W\",'Wave Areas'!K135,(IF($B$4=\"NW\",'Wave Areas'!Y136,0)))))))))))))))","v":0},{"$f":"IF($B$4=\"SW\",'Wave Areas'!Z118,(IF($B$4=\"N\",'Wave Areas'!L81,(IF($B$4=\"NE\",'Wave Areas'!Z82,(IF($B$4=\"E\",'Wave Areas'!L99,(IF($B$4=\"SE\",'Wave Areas'!Z100,(IF($B$4=\"S\",'Wave Areas'!L117,(IF($B$4=\"W\",'Wave Areas'!L135,(IF($B$4=\"NW\",'Wave Areas'!Z136,0)))))))))))))))","v":0},null,3.5,{"$error":"#DIV/0!"},{"$error":"#DIV/0!"},{"$error":"#DIV/0!"},{"$error":"#DIV/0!"},{"$error":"#DIV/0!"},{"$error":"#DIV/0!"},{"$error":"#DIV/0!"},{"$error":"#DIV/0!"},{"$error":"#DIV/0!"},{"$error":"#DIV/0!"},{"$error":"#DIV/0!"},{"$error":"#DIV/0!"},null,3.5,{"$error":"#DIV/0!"},{"$error":"#DIV/0!"},{"$error":"#DIV/0!"},{"$error":"#DIV/0!"},{"$error":"#DIV/0!"},{"$error":"#DIV/0!"},{"$error":"#DIV/0!"},{"$error":"#DIV/0!"},{"$error":"#DIV/0!"},{"$error":"#DIV/0!"},{"$error":"#DIV/0!"},{"$error":"#DIV/0!"}]
[38021.4140625,5.5,0,0,150399.22256174395,177744.53575478832,205089.84894783268,232435.16214087704,259780.47533392135,287125.78852696571,0,0,0,1312575.0332661292,null,null,null,4.5,{"$f":"IF($B$4=\"SW\",'Wave Areas'!P119,(IF($B$4=\"N\",'Wave Areas'!B82,(IF($B$4=\"NE\",'Wave Areas'!P83,(IF($B$4=\"E\",'Wave Areas'!B100,(IF($B$4=\"SE\",'Wave Areas'!P101,(IF($B$4=\"S\",'Wave Areas'!B118,(IF($B$4=\"W\",'Wave Areas'!B136,(IF($B$4=\"NW\",'Wave Areas'!P137,0)))))))))))))))","v":0},{"$f":"IF($B$4=\"SW\",'Wave Areas'!Q119,(IF($B$4=\"N\",'Wave Areas'!C82,(IF($B$4=\"NE\",'Wave Areas'!Q83,(IF($B$4=\"E\",'Wave Areas'!C100,(IF($B$4=\"SE\",'Wave Areas'!Q101,(IF($B$4=\"S\",'Wave Areas'!C118,(IF($B$4=\"W\",'Wave Areas'!C136,(IF($B$4=\"NW\",'Wave Areas'!Q137,0)))))))))))))))","v":0},{"$f":"IF($B$4=\"SW\",'Wave Areas'!R119,(IF($B$4=\"N\",'Wave Areas'!D82,(IF($B$4=\"NE\",'Wave Areas'!R83,(IF($B$4=\"E\",'Wave Areas'!D100,(IF($B$4=\"SE\",'Wave Areas'!R101,(IF($B$4=\"S\",'Wave Areas'!D118,(IF($B$4=\"W\",'Wave Areas'!D136,(IF($B$4=\"NW\",'Wave Areas'!R137,0)))))))))))))))","v":0},{"$f":"IF($B$4=\"SW\",'Wave Areas'!S119,(IF($B$4=\"N\",'Wave Areas'!E82,(IF($B$4=\"NE\",'Wave Areas'!S83,(IF($B$4=\"E\",'Wave Areas'!E100,(IF($B$4=\"SE\",'Wave Areas'!S101,(IF($B$4=\"S\",'Wave Areas'!E118,(IF($B$4=\"W\",'Wave Areas'!E136,(IF($B$4=\"NW\",'Wave Areas'!S137,0)))))))))))))))","v":0},{"$f":"IF($B$4=\"SW\",'Wave Areas'!T119,(IF($B$4=\"N\",'Wave Areas'!F82,(IF($B$4=\"NE\",'Wave Areas'!T83,(IF($B$4=\"E\",'Wave Areas'!F100,(IF($B$4=\"SE\",'Wave Areas'!T101,(IF($B$4=\"S\",'Wave Areas'!F118,(IF($B$4=\"W\",'Wave Areas'!F136,(IF($B$4=\"NW\",'Wave Areas'!T137,0)))))))))))))))","v":0},{"$f":"IF($B$4=\"SW\",'Wave Areas'!U119,(IF($B$4=\"N\",'Wave Areas'!G82,(IF($B$4=\"NE\",'Wave Areas'!U83,(IF($B$4=\"E\",'Wave Areas'!G100,(IF($B$4=\"SE\",'Wave Areas'!U101,(IF($B$4=\"S\",'Wave Areas'!G118,(IF($B$4=\"W\",'Wave Areas'!G136,(IF($B$4=\"NW\",'Wave Areas'!U137,0)))))))))))))))","v":0},{"$f":"IF($B$4=\"SW\",'Wave Areas'!V119,(IF($B$4=\"N\",'Wave Areas'!H82,(IF($B$4=\"NE\",'Wave Areas'!V83,(IF($B$4=\"E\",'Wave Areas'!H100,(IF($B$4=\"SE\",'Wave Areas'!V101,(IF($B$4=\"S\",'Wave Areas'!H118,(IF($B$4=\"W\",'Wave Areas'!H136,(IF($B$4=\"NW\",'Wave Areas'!V137,0)))))))))))))))","v":0},{"$f":"IF($B$4=\"SW\",'Wave Areas'!W119,(IF($B$4=\"N\",'Wave Areas'!I82,(IF($B$4=\"NE\",'Wave Areas'!W83,(IF($B$4=\"E\",'Wave Areas'!I100,(IF($B$4=\"SE\",'Wave Areas'!W101,(IF($B$4=\"S\",'Wave Areas'!I118,(IF($B$4=\"W\",'Wave Areas'!I136,(IF($B$4=\"NW\",'Wave Areas'!W137,0)))))))))))))))","v":0},{"$f":"IF($B$4=\"SW\",'Wave Areas'!X119,(IF($B$4=\"N\",'Wave Areas'!J82,(IF($B$4=\"NE\",'Wave Areas'!X83,(IF($B$4=\"E\",'Wave Areas'!J100,(IF($B$4=\"SE\",'Wave Areas'!X101,(IF($B$4=\"S\",'Wave Areas'!J118,(IF($B$4=\"W\",'Wave Areas'!J136,(IF($B$4=\"NW\",'Wave Areas'!X137,0)))))))))))))))","v":0},{"$f":"IF($B$4=\"SW\",'Wave Areas'!Y119,(IF($B$4=\"N\",'Wave Areas'!K82,(IF($B$4=\"NE\",'Wave Areas'!Y83,(IF($B$4=\"E\",'Wave Areas'!K100,(IF($B$4=\"SE\",'Wave Areas'!Y101,(IF($B$4=\"S\",'Wave Areas'!K118,(IF($B$4=\"W\",'Wave Areas'!K136,(IF($B$4=\"NW\",'Wave Areas'!Y137,0)))))))))))))))","v":0},{"$f":"IF($B$4=\"SW\",'Wave Areas'!Z119,(IF($B$4=\"N\",'Wave Areas'!L82,(IF($B$4=\"NE\",'Wave Areas'!Z83,(IF($B$4=\"E\",'Wave Areas'!L100,(IF($B$4=\"SE\",'Wave Areas'!Z101,(IF($B$4=\"S\",'Wave Areas'!L118,(IF($B$4=\"W\",'Wave Areas'!L136,(IF($B$4=\"NW\",'Wave Areas'!Z137,0)))))))))))))))","v":0},null,4.5,{"$error":"#DIV/0!"},{"$error":"#DIV/0!"},{"$error":"#DIV/0!"},{"$error":"#DIV/0!"},{"$error":"#DIV/0!"},{"$error":"#DIV/0!"},{"$error":"#DIV/0!"},{"$error":"#DIV/0!"},{"$error":"#DIV/0!"},{"$error":"#DIV/0!"},{"$error":"#DIV/0!"},{"$error":"#DIV/0!"},null,4.5,{"$error":"#DIV/0!"},{"$error":"#DIV/0!"},{"$error":"#DIV/0!"},{"$error":"#DIV/0!"},{"$error":"#DIV/0!"},{"$error":"#DIV/0!"},{"$error":"#DIV/0!"},{"$error":"#DIV/0!"},{"$error":"#DIV/0!"},{"$error":"#DIV/0!"},{"$error":"#DIV/0!"},{"$error":"#DIV/0!"}]
[53104.2890625,6.5,0,0,210061.72407384074,248254.76481453903,286447.8055552374,324640.84629593574,362833.88703663397,401026.92777733231,0,0,0,1833265.9555535191,null,null,null,5.5,{"$f":"IF($B$4=\"SW\",'Wave Areas'!P120,(IF($B$4=\"N\",'Wave Areas'!B83,(IF($B$4=\"NE\",'Wave Areas'!P84,(IF($B$4=\"E\",'Wave Areas'!B101,(IF($B$4=\"SE\",'Wave Areas'!P102,(IF($B$4=\"S\",'Wave Areas'!B119,(IF($B$4=\"W\",'Wave Areas'!B137,(IF($B$4=\"NW\",'Wave Areas'!P138,0)))))))))))))))","v":0},{"$f":"IF($B$4=\"SW\",'Wave Areas'!Q120,(IF($B$4=\"N\",'Wave Areas'!C83,(IF($B$4=\"NE\",'Wave Areas'!Q84,(IF($B$4=\"E\",'Wave Areas'!C101,(IF($B$4=\"SE\",'Wave Areas'!Q102,(IF($B$4=\"S\",'Wave Areas'!C119,(IF($B$4=\"W\",'Wave Areas'!C137,(IF($B$4=\"NW\",'Wave Areas'!Q138,0)))))))))))))))","v":0},{"$f":"IF($B$4=\"SW\",'Wave Areas'!R120,(IF($B$4=\"N\",'Wave Areas'!D83,(IF($B$4=\"NE\",'Wave Areas'!R84,(IF($B$4=\"E\",'Wave Areas'!D101,(IF($B$4=\"SE\",'Wave Areas'!R102,(IF($B$4=\"S\",'Wave Areas'!D119,(IF($B$4=\"W\",'Wave Areas'!D137,(IF($B$4=\"NW\",'Wave Areas'!R138,0)))))))))))))))","v":0},{"$f":"IF($B$4=\"SW\",'Wave Areas'!S120,(IF($B$4=\"N\",'Wave Areas'!E83,(IF($B$4=\"NE\",'Wave Areas'!S84,(IF($B$4=\"E\",'Wave Areas'!E101,(IF($B$4=\"SE\",'Wave Areas'!S102,(IF($B$4=\"S\",'Wave Areas'!E119,(IF($B$4=\"W\",'Wave Areas'!E137,(IF($B$4=\"NW\",'Wave Areas'!S138,0)))))))))))))))","v":0},{"$f":"IF($B$4=\"SW\",'Wave Areas'!T120,(IF($B$4=\"N\",'Wave Areas'!F83,(IF($B$4=\"NE\",'Wave Areas'!T84,(IF($B$4=\"E\",'Wave Areas'!F101,(IF($B$4=\"SE\",'Wave Areas'!T102,(IF($B$4=\"S\",'Wave Areas'!F119,(IF($B$4=\"W\",'Wave Areas'!F137,(IF($B$4=\"NW\",'Wave Areas'!T138,0)))))))))))))))","v":0},{"$f":"IF($B$4=\"SW\",'Wave Areas'!U120,(IF($B$4=\"N\",'Wave Areas'!G83,(IF($B$4=\"NE\",'Wave Areas'!U84,(IF($B$4=\"E\",'Wave Areas'!G101,(IF($B$4=\"SE\",'Wave Areas'!U102,(IF($B$4=\"S\",'Wave Areas'!G119,(IF($B$4=\"W\",'Wave Areas'!G137,(IF($B$4=\"NW\",'Wave Areas'!U138,0)))))))))))))))","v":0},{"$f":"IF($B$4=\"SW\",'Wave Areas'!V120,(IF($B$4=\"N\",'Wave Areas'!H83,(IF($B$4=\"NE\",'Wave Areas'!V84,(IF($B$4=\"E\",'Wave Areas'!H101,(IF($B$4=\"SE\",'Wave Areas'!V102,(IF($B$4=\"S\",'Wave Areas'!H119,(IF($B$4=\"W\",'Wave Areas'!H137,(IF($B$4=\"NW\",'Wave Areas'!V138,0)))))))))))))))","v":0},{"$f":"IF($B$4=\"SW\",'Wave Areas'!W120,(IF($B$4=\"N\",'Wave Areas'!I83,(IF($B$4=\"NE\",'Wave Areas'!W84,(IF($B$4=\"E\",'Wave Areas'!I101,(IF($B$4=\"SE\",'Wave Areas'!W102,(IF($B$4=\"S\",'Wave Areas'!I119,(IF($B$4=\"W\",'Wave Areas'!I137,(IF($B$4=\"NW\",'Wave Areas'!W138,0)))))))))))))))","v":0},{"$f":"IF($B$4=\"SW\",'Wave Areas'!X120,(IF($B$4=\"N\",'Wave Areas'!J83,(IF($B$4=\"NE\",'Wave Areas'!X84,(IF($B$4=\"E\",'Wave Areas'!J101,(IF($B$4=\"SE\",'Wave Areas'!X102,(IF($B$4=\"S\",'Wave Areas'!J119,(IF($B$4=\"W\",'Wave Areas'!J137,(IF($B$4=\"NW\",'Wave Areas'!X138,0)))))))))))))))","v":0},{"$f":"IF($B$4=\"SW\",'Wave Areas'!Y120,(IF($B$4=\"N\",'Wave Areas'!K83,(IF($B$4=\"NE\",'Wave Areas'!Y84,(IF($B$4=\"E\",'Wave Areas'!K101,(IF($B$4=\"SE\",'Wave Areas'!Y102,(IF($B$4=\"S\",'Wave Areas'!K119,(IF($B$4=\"W\",'Wave Areas'!K137,(IF($B$4=\"NW\",'Wave Areas'!Y138,0)))))))))))))))","v":0},{"$f":"IF($B$4=\"SW\",'Wave Areas'!Z120,(IF($B$4=\"N\",'Wave Areas'!L83,(IF($B$4=\"NE\",'Wave Areas'!Z84,(IF($B$4=\"E\",'Wave Areas'!L101,(IF($B$4=\"SE\",'Wave Areas'!Z102,(IF($B$4=\"S\",'Wave Areas'!L119,(IF($B$4=\"W\",'Wave Areas'!L137,(IF($B$4=\"NW\",'Wave Areas'!Z138,0)))))))))))))))","v":0},null,5.5,{"$error":"#DIV/0!"},{"$error":"#DIV/0!"},{"$error":"#DIV/0!"},{"$error":"#DIV/0!"},{"$error":"#DIV/0!"},{"$error":"#DIV/0!"},{"$error":"#DIV/0!"},{"$error":"#DIV/0!"},{"$error":"#DIV/0!"},{"$error":"#DIV/0!"},{"$error":"#DIV/0!"},{"$error":"#DIV/0!"},null,5.5,{"$error":"#DIV/0!"},{"$error":"#DIV/0!"},{"$error":"#DIV/0!"},{"$error":"#DIV/0!"},{"$error":"#DIV/0!"},{"$error":"#DIV/0!"},{"$error":"#DIV/0!"},{"$error":"#DIV/0!"},{"$error":"#DIV/0!"},{"$error":"#DIV/0!"},{"$error":"#DIV/0!"},{"$error":"#DIV/0!"}]
[70700.9765625,7.5,0,0,0,330516.69871758157,381365.42159720953,432214.14447683748,483062.86735646531,0,0,0,0,1627159.132148094,null,null,null,6.5,{"$f":"IF($B$4=\"SW\",'Wave Areas'!P121,(IF($B$4=\"N\",'Wave Areas'!B84,(IF($B$4=\"NE\",'Wave Areas'!P85,(IF($B$4=\"E\",'Wave Areas'!B102,(IF($B$4=\"SE\",'Wave Areas'!P103,(IF($B$4=\"S\",'Wave Areas'!B120,(IF($B$4=\"W\",'Wave Areas'!B138,(IF($B$4=\"NW\",'Wave Areas'!P139,0)))))))))))))))","v":0},{"$f":"IF($B$4=\"SW\",'Wave Areas'!Q121,(IF($B$4=\"N\",'Wave Areas'!C84,(IF($B$4=\"NE\",'Wave Areas'!Q85,(IF($B$4=\"E\",'Wave Areas'!C102,(IF($B$4=\"SE\",'Wave Areas'!Q103,(IF($B$4=\"S\",'Wave Areas'!C120,(IF($B$4=\"W\",'Wave Areas'!C138,(IF($B$4=\"NW\",'Wave Areas'!Q139,0)))))))))))))))","v":0},{"$f":"IF($B$4=\"SW\",'Wave Areas'!R121,(IF($B$4=\"N\",'Wave Areas'!D84,(IF($B$4=\"NE\",'Wave Areas'!R85,(IF($B$4=\"E\",'Wave Areas'!D102,(IF($B$4=\"SE\",'Wave Areas'!R103,(IF($B$4=\"S\",'Wave Areas'!D120,(IF($B$4=\"W\",'Wave Areas'!D138,(IF($B$4=\"NW\",'Wave Areas'!R139,0)))))))))))))))","v":0},{"$f":"IF($B$4=\"SW\",'Wave Areas'!S121,(IF($B$4=\"N\",'Wave Areas'!E84,(IF($B$4=\"NE\",'Wave Areas'!S85,(IF($B$4=\"E\",'Wave Areas'!E102,(IF($B$4=\"SE\",'Wave Areas'!S103,(IF($B$4=\"S\",'Wave Areas'!E120,(IF($B$4=\"W\",'Wave Areas'!E138,(IF($B$4=\"NW\",'Wave Areas'!S139,0)))))))))))))))","v":0},{"$f":"IF($B$4=\"SW\",'Wave Areas'!T121,(IF($B$4=\"N\",'Wave Areas'!F84,(IF($B$4=\"NE\",'Wave Areas'!T85,(IF($B$4=\"E\",'Wave Areas'!F102,(IF($B$4=\"SE\",'Wave Areas'!T103,(IF($B$4=\"S\",'Wave Areas'!F120,(IF($B$4=\"W\",'Wave Areas'!F138,(IF($B$4=\"NW\",'Wave Areas'!T139,0)))))))))))))))","v":0},{"$f":"IF($B$4=\"SW\",'Wave Areas'!U121,(IF($B$4=\"N\",'Wave Areas'!G84,(IF($B$4=\"NE\",'Wave Areas'!U85,(IF($B$4=\"E\",'Wave Areas'!G102,(IF($B$4=\"SE\",'Wave Areas'!U103,(IF($B$4=\"S\",'Wave Areas'!G120,(IF($B$4=\"W\",'Wave Areas'!G138,(IF($B$4=\"NW\",'Wave Areas'!U139,0)))))))))))))))","v":0},{"$f":"IF($B$4=\"SW\",'Wave Areas'!V121,(IF($B$4=\"N\",'Wave Areas'!H84,(IF($B$4=\"NE\",'Wave Areas'!V85,(IF($B$4=\"E\",'Wave Areas'!H102,(IF($B$4=\"SE\",'Wave Areas'!V103,(IF($B$4=\"S\",'Wave Areas'!H120,(IF($B$4=\"W\",'Wave Areas'!H138,(IF($B$4=\"NW\",'Wave Areas'!V139,0)))))))))))))))","v":0},{"$f":"IF($B$4=\"SW\",'Wave Areas'!W121,(IF($B$4=\"N\",'Wave Areas'!I84,(IF($B$4=\"NE\",'Wave Areas'!W85,(IF($B$4=\"E\",'Wave Areas'!I102,(IF($B$4=\"SE\",'Wave Areas'!W103,(IF($B$4=\"S\",'Wave Areas'!I120,(IF($B$4=\"W\",'Wave Areas'!I138,(IF($B$4=\"NW\",'Wave Areas'!W139,0)))))))))))))))","v":0},{"$f":"IF($B$4=\"SW\",'Wave Areas'!X121,(IF($B$4=\"N\",'Wave Areas'!J84,(IF($B$4=\"NE\",'Wave Areas'!X85,(IF($B$4=\"E\",'Wave Areas'!J102,(IF($B$4=\"SE\",'Wave Areas'!X103,(IF($B$4=\"S\",'Wave Areas'!J120,(IF($B$4=\"W\",'Wave Areas'!J138,(IF($B$4=\"NW\",'Wave Areas'!X139,0)))))))))))))))","v":0},{"$f":"IF($B$4=\"SW\",'Wave Areas'!Y121,(IF($B$4=\"N\",'Wave Areas'!K84,(IF($B$4=\"NE\",'Wave Areas'!Y85,(IF($B$4=\"E\",'Wave Areas'!K102,(IF($B$4=\"SE\",'Wave Areas'!Y103,(IF($B$4=\"S\",'Wave Areas'!K120,(IF($B$4=\"W\",'Wave Areas'!K138,(IF($B$4=\"NW\",'Wave Areas'!Y139,0)))))))))))))))","v":0},{"$f":"IF($B$4=\"SW\",'Wave Areas'!Z121,(IF($B$4=\"N\",'Wave Areas'!L84,(IF($B$4=\"NE\",'Wave Areas'!Z85,(IF($B$4=\"E\",'Wave Areas'!L102,(IF($B$4=\"SE\",'Wave Areas'!Z103,(IF($B$4=\"S\",'Wave Areas'!L120,(IF($B$4=\"W\",'Wave Areas'!L138,(IF($B$4=\"NW\",'Wave Areas'!Z139,0)))))))))))))))","v":0},null,6.5,{"$error":"#DIV/0!"},{"$error":"#DIV/0!"},{"$error":"#DIV/0!"},{"$error":"#DIV/0!"},{"$error":"#DIV/0!"},{"$error":"#DIV/0!"},{"$error":"#DIV/0!"},{"$error":"#DIV/0!"},{"$error":"#DIV/0!"},{"$error":"#DIV/0!"},{"$error":"#DIV/0!"},{"$error":"#DIV/0!"},null,6.5,{"$error":"#DIV/0!"},{"$error":"#DIV/0!"},{"$error":"#DIV/0!"},{"$error":"#DIV/0!"},{"$error":"#DIV/0!"},{"$error":"#DIV/0!"},{"$error":"#DIV/0!"},{"$error":"#DIV/0!"},{"$error":"#DIV/0!"},{"$error":"#DIV/0!"},{"$error":"#DIV/0!"},{"$error":"#DIV/0!"}]
[90811.4765625,8.5,0,0,0,424530.33746391587,489842.69707374915,555155.05668358237,620467.41629341547,0,0,0,0,2089995.5075146628,null,null,null,7.5,{"$f":"IF($B$4=\"SW\",'Wave Areas'!P122,(IF($B$4=\"N\",'Wave Areas'!B85,(IF($B$4=\"NE\",'Wave Areas'!P86,(IF($B$4=\"E\",'Wave Areas'!B103,(IF($B$4=\"SE\",'Wave Areas'!P104,(IF($B$4=\"S\",'Wave Areas'!B121,(IF($B$4=\"W\",'Wave Areas'!B139,(IF($B$4=\"NW\",'Wave Areas'!P140,0)))))))))))))))","v":0},{"$f":"IF($B$4=\"SW\",'Wave Areas'!Q122,(IF($B$4=\"N\",'Wave Areas'!C85,(IF($B$4=\"NE\",'Wave Areas'!Q86,(IF($B$4=\"E\",'Wave Areas'!C103,(IF($B$4=\"SE\",'Wave Areas'!Q104,(IF($B$4=\"S\",'Wave Areas'!C121,(IF($B$4=\"W\",'Wave Areas'!C139,(IF($B$4=\"NW\",'Wave Areas'!Q140,0)))))))))))))))","v":0},{"$f":"IF($B$4=\"SW\",'Wave Areas'!R122,(IF($B$4=\"N\",'Wave Areas'!D85,(IF($B$4=\"NE\",'Wave Areas'!R86,(IF($B$4=\"E\",'Wave Areas'!D103,(IF($B$4=\"SE\",'Wave Areas'!R104,(IF($B$4=\"S\",'Wave Areas'!D121,(IF($B$4=\"W\",'Wave Areas'!D139,(IF($B$4=\"NW\",'Wave Areas'!R140,0)))))))))))))))","v":0},{"$f":"IF($B$4=\"SW\",'Wave Areas'!S122,(IF($B$4=\"N\",'Wave Areas'!E85,(IF($B$4=\"NE\",'Wave Areas'!S86,(IF($B$4=\"E\",'Wave Areas'!E103,(IF($B$4=\"SE\",'Wave Areas'!S104,(IF($B$4=\"S\",'Wave Areas'!E121,(IF($B$4=\"W\",'Wave Areas'!E139,(IF($B$4=\"NW\",'Wave Areas'!S140,0)))))))))))))))","v":0},{"$f":"IF($B$4=\"SW\",'Wave Areas'!T122,(IF($B$4=\"N\",'Wave Areas'!F85,(IF($B$4=\"NE\",'Wave Areas'!T86,(IF($B$4=\"E\",'Wave Areas'!F103,(IF($B$4=\"SE\",'Wave Areas'!T104,(IF($B$4=\"S\",'Wave Areas'!F121,(IF($B$4=\"W\",'Wave Areas'!F139,(IF($B$4=\"NW\",'Wave Areas'!T140,0)))))))))))))))","v":0},{"$f":"IF($B$4=\"SW\",'Wave Areas'!U122,(IF($B$4=\"N\",'Wave Areas'!G85,(IF($B$4=\"NE\",'Wave Areas'!U86,(IF($B$4=\"E\",'Wave Areas'!G103,(IF($B$4=\"SE\",'Wave Areas'!U104,(IF($B$4=\"S\",'Wave Areas'!G121,(IF($B$4=\"W\",'Wave Areas'!G139,(IF($B$4=\"NW\",'Wave Areas'!U140,0)))))))))))))))","v":0},{"$f":"IF($B$4=\"SW\",'Wave Areas'!V122,(IF($B$4=\"N\",'Wave Areas'!H85,(IF($B$4=\"NE\",'Wave Areas'!V86,(IF($B$4=\"E\",'Wave Areas'!H103,(IF($B$4=\"SE\",'Wave Areas'!V104,(IF($B$4=\"S\",'Wave Areas'!H121,(IF($B$4=\"W\",'Wave Areas'!H139,(IF($B$4=\"NW\",'Wave Areas'!V140,0)))))))))))))))","v":0},{"$f":"IF($B$4=\"SW\",'Wave Areas'!W122,(IF($B$4=\"N\",'Wave Areas'!I85,(IF($B$4=\"NE\",'Wave Areas'!W86,(IF($B$4=\"E\",'Wave Areas'!I103,(IF($B$4=\"SE\",'Wave Areas'!W104,(IF($B$4=\"S\",'Wave Areas'!I121,(IF($B$4=\"W\",'Wave Areas'!I139,(IF($B$4=\"NW\",'Wave Areas'!W140,0)))))))))))))))","v":0},{"$f":"IF($B$4=\"SW\",'Wave Areas'!X122,(IF($B$4=\"N\",'Wave Areas'!J85,(IF($B$4=\"NE\",'Wave Areas'!X86,(IF($B$4=\"E\",'Wave Areas'!J103,(IF($B$4=\"SE\",'Wave Areas'!X104,(IF($B$4=\"S\",'Wave Areas'!J121,(IF($B$4=\"W\",'Wave Areas'!J139,(IF($B$4=\"NW\",'Wave Areas'!X140,0)))))))))))))))","v":0},{"$f":"IF($B$4=\"SW\",'Wave Areas'!Y122,(IF($B$4=\"N\",'Wave Areas'!K85,(IF($B$4=\"NE\",'Wave Areas'!Y86,(IF($B$4=\"E\",'Wave Areas'!K103,(IF($B$4=\"SE\",'Wave Areas'!Y104,(IF($B$4=\"S\",'Wave Areas'!K121,(IF($B$4=\"W\",'Wave Areas'!K139,(IF($B$4=\"NW\",'Wave Areas'!Y140,0)))))))))))))))","v":0},{"$f":"IF($B$4=\"SW\",'Wave Areas'!Z122,(IF($B$4=\"N\",'Wave Areas'!L85,(IF($B$4=\"NE\",'Wave Areas'!Z86,(IF($B$4=\"E\",'Wave Areas'!L103,(IF($B$4=\"SE\",'Wave Areas'!Z104,(IF($B$4=\"S\",'Wave Areas'!L121,(IF($B$4=\"W\",'Wave Areas'!L139,(IF($B$4=\"NW\",'Wave Areas'!Z140,0)))))))))))))))","v":0},null,7.5,{"$error":"#DIV/0!"},{"$error":"#DIV/0!"},{"$error":"#DIV/0!"},{"$error":"#DIV/0!"},{"$error":"#DIV/0!"},{"$error":"#DIV/0!"},{"$error":"#DIV/0!"},{"$error":"#DIV/0!"},{"$error":"#DIV/0!"},{"$error":"#DIV/0!"},{"$error":"#DIV/0!"},{"$error":"#DIV/0!"},null,7.5,{"$error":"#DIV/0!"},{"$error":"#DIV/0!"},{"$f":"AI55/1004","v":{"$error":"#DIV/0!"}},{"$error":"#DIV/0!"},{"$error":"#DIV/0!"},{"$error":"#DIV/0!"},{"$error":"#DIV/0!"},{"$f":"AN55/1004","v":{"$error":"#DIV/0!"}},{"$error":"#DIV/0!"},{"$error":"#DIV/0!"},{"$error":"#DIV/0!"},{"$error":"#DIV/0!"}]
[113435.7890625,9.5,0,0,0,0,611879.63198485621,693463.58291617036,0,0,0,0,0,1305343.2149010266,null,null,null,8.5,{"$f":"IF($B$4=\"SW\",'Wave Areas'!P123,(IF($B$4=\"N\",'Wave Areas'!B86,(IF($B$4=\"NE\",'Wave Areas'!P87,(IF($B$4=\"E\",'Wave Areas'!B104,(IF($B$4=\"SE\",'Wave Areas'!P105,(IF($B$4=\"S\",'Wave Areas'!B122,(IF($B$4=\"W\",'Wave Areas'!B140,(IF($B$4=\"NW\",'Wave Areas'!P141,0)))))))))))))))","v":0},{"$f":"IF($B$4=\"SW\",'Wave Areas'!Q123,(IF($B$4=\"N\",'Wave Areas'!C86,(IF($B$4=\"NE\",'Wave Areas'!Q87,(IF($B$4=\"E\",'Wave Areas'!C104,(IF($B$4=\"SE\",'Wave Areas'!Q105,(IF($B$4=\"S\",'Wave Areas'!C122,(IF($B$4=\"W\",'Wave Areas'!C140,(IF($B$4=\"NW\",'Wave Areas'!Q141,0)))))))))))))))","v":0},{"$f":"IF($B$4=\"SW\",'Wave Areas'!R123,(IF($B$4=\"N\",'Wave Areas'!D86,(IF($B$4=\"NE\",'Wave Areas'!R87,(IF($B$4=\"E\",'Wave Areas'!D104,(IF($B$4=\"SE\",'Wave Areas'!R105,(IF($B$4=\"S\",'Wave Areas'!D122,(IF($B$4=\"W\",'Wave Areas'!D140,(IF($B$4=\"NW\",'Wave Areas'!R141,0)))))))))))))))","v":0},{"$f":"IF($B$4=\"SW\",'Wave Areas'!S123,(IF($B$4=\"N\",'Wave Areas'!E86,(IF($B$4=\"NE\",'Wave Areas'!S87,(IF($B$4=\"E\",'Wave Areas'!E104,(IF($B$4=\"SE\",'Wave Areas'!S105,(IF($B$4=\"S\",'Wave Areas'!E122,(IF($B$4=\"W\",'Wave Areas'!E140,(IF($B$4=\"NW\",'Wave Areas'!S141,0)))))))))))))))","v":0},{"$f":"IF($B$4=\"SW\",'Wave Areas'!T123,(IF($B$4=\"N\",'Wave Areas'!F86,(IF($B$4=\"NE\",'Wave Areas'!T87,(IF($B$4=\"E\",'Wave Areas'!F104,(IF($B$4=\"SE\",'Wave Areas'!T105,(IF($B$4=\"S\",'Wave Areas'!F122,(IF($B$4=\"W\",'Wave Areas'!F140,(IF($B$4=\"NW\",'Wave Areas'!T141,0)))))))))))))))","v":0},{"$f":"IF($B$4=\"SW\",'Wave Areas'!U123,(IF($B$4=\"N\",'Wave Areas'!G86,(IF($B$4=\"NE\",'Wave Areas'!U87,(IF($B$4=\"E\",'Wave Areas'!G104,(IF($B$4=\"SE\",'Wave Areas'!U105,(IF($B$4=\"S\",'Wave Areas'!G122,(IF($B$4=\"W\",'Wave Areas'!G140,(IF($B$4=\"NW\",'Wave Areas'!U141,0)))))))))))))))","v":0},{"$f":"IF($B$4=\"SW\",'Wave Areas'!V123,(IF($B$4=\"N\",'Wave Areas'!H86,(IF($B$4=\"NE\",'Wave Areas'!V87,(IF($B$4=\"E\",'Wave Areas'!H104,(IF($B$4=\"SE\",'Wave Areas'!V105,(IF($B$4=\"S\",'Wave Areas'!H122,(IF($B$4=\"W\",'Wave Areas'!H140,(IF($B$4=\"NW\",'Wave Areas'!V141,0)))))))))))))))","v":0},{"$f":"IF($B$4=\"SW\",'Wave Areas'!W123,(IF($B$4=\"N\",'Wave Areas'!I86,(IF($B$4=\"NE\",'Wave Areas'!W87,(IF($B$4=\"E\",'Wave Areas'!I104,(IF($B$4=\"SE\",'Wave Areas'!W105,(IF($B$4=\"S\",'Wave Areas'!I122,(IF($B$4=\"W\",'Wave Areas'!I140,(IF($B$4=\"NW\",'Wave Areas'!W141,0)))))))))))))))","v":0},{"$f":"IF($B$4=\"SW\",'Wave Areas'!X123,(IF($B$4=\"N\",'Wave Areas'!J86,(IF($B$4=\"NE\",'Wave Areas'!X87,(IF($B$4=\"E\",'Wave Areas'!J104,(IF($B$4=\"SE\",'Wave Areas'!X105,(IF($B$4=\"S\",'Wave Areas'!J122,(IF($B$4=\"W\",'Wave Areas'!J140,(IF($B$4=\"NW\",'Wave Areas'!X141,0)))))))))))))))","v":0},{"$f":"IF($B$4=\"SW\",'Wave Areas'!Y123,(IF($B$4=\"N\",'Wave Areas'!K86,(IF($B$4=\"NE\",'Wave Areas'!Y87,(IF($B$4=\"E\",'Wave Areas'!K104,(IF($B$4=\"SE\",'Wave Areas'!Y105,(IF($B$4=\"S\",'Wave Areas'!K122,(IF($B$4=\"W\",'Wave Areas'!K140,(IF($B$4=\"NW\",'Wave Areas'!Y141,0)))))))))))))))","v":0},{"$f":"IF($B$4=\"SW\",'Wave Areas'!Z123,(IF($B$4=\"N\",'Wave Areas'!L86,(IF($B$4=\"NE\",'Wave Areas'!Z87,(IF($B$4=\"E\",'Wave Areas'!L104,(IF($B$4=\"SE\",'Wave Areas'!Z105,(IF($B$4=\"S\",'Wave Areas'!L122,(IF($B$4=\"W\",'Wave Areas'!L140,(IF($B$4=\"NW\",'Wave Areas'!Z141,0)))))))))))))))","v":0},null,8.5,{"$error":"#DIV/0!"},{"$error":"#DIV/0!"},{"$error":"#DIV/0!"},{"$error":"#DIV/0!"},{"$error":"#DIV/0!"},{"$error":"#DIV/0!"},{"$error":"#DIV/0!"},{"$error":"#DIV/0!"},{"$error":"#DIV/0!"},{"$error":"#DIV/0!"},{"$error":"#DIV/0!"},{"$error":"#DIV/0!"},null,8.5,{"$error":"#DIV/0!"},{"$error":"#DIV/0!"},{"$f":"AI56/1004","v":{"$error":"#DIV/0!"}},{"$error":"#DIV/0!"},{"$error":"#DIV/0!"},{"$error":"#DIV/0!"},{"$error":"#DIV/0!"},{"$f":"AN56/1004","v":{"$error":"#DIV/0!"}},{"$error":"#DIV/0!"},{"$error":"#DIV/0!"},{"$error":"#DIV/0!"},{"$error":"#DIV/0!"}]
[138573.9140625,10.5,0,0,0,0,0,0,0,0,0,0,0,0,null,null,null,9.5,{"$f":"IF($B$4=\"SW\",'Wave Areas'!P124,(IF($B$4=\"N\",'Wave Areas'!B87,(IF($B$4=\"NE\",'Wave Areas'!P88,(IF($B$4=\"E\",'Wave Areas'!B105,(IF($B$4=\"SE\",'Wave Areas'!P106,(IF($B$4=\"S\",'Wave Areas'!B123,(IF($B$4=\"W\",'Wave Areas'!B141,(IF($B$4=\"NW\",'Wave Areas'!P142,0)))))))))))))))","v":0},{"$f":"IF($B$4=\"SW\",'Wave Areas'!Q124,(IF($B$4=\"N\",'Wave Areas'!C87,(IF($B$4=\"NE\",'Wave Areas'!Q88,(IF($B$4=\"E\",'Wave Areas'!C105,(IF($B$4=\"SE\",'Wave Areas'!Q106,(IF($B$4=\"S\",'Wave Areas'!C123,(IF($B$4=\"W\",'Wave Areas'!C141,(IF($B$4=\"NW\",'Wave Areas'!Q142,0)))))))))))))))","v":0},{"$f":"IF($B$4=\"SW\",'Wave Areas'!R124,(IF($B$4=\"N\",'Wave Areas'!D87,(IF($B$4=\"NE\",'Wave Areas'!R88,(IF($B$4=\"E\",'Wave Areas'!D105,(IF($B$4=\"SE\",'Wave Areas'!R106,(IF($B$4=\"S\",'Wave Areas'!D123,(IF($B$4=\"W\",'Wave Areas'!D141,(IF($B$4=\"NW\",'Wave Areas'!R142,0)))))))))))))))","v":0},{"$f":"IF($B$4=\"SW\",'Wave Areas'!S124,(IF($B$4=\"N\",'Wave Areas'!E87,(IF($B$4=\"NE\",'Wave Areas'!S88,(IF($B$4=\"E\",'Wave Areas'!E105,(IF($B$4=\"SE\",'Wave Areas'!S106,(IF($B$4=\"S\",'Wave Areas'!E123,(IF($B$4=\"W\",'Wave Areas'!E141,(IF($B$4=\"NW\",'Wave Areas'!S142,0)))))))))))))))","v":0},{"$f":"IF($B$4=\"SW\",'Wave Areas'!T124,(IF($B$4=\"N\",'Wave Areas'!F87,(IF($B$4=\"NE\",'Wave Areas'!T88,(IF($B$4=\"E\",'Wave Areas'!F105,(IF($B$4=\"SE\",'Wave Areas'!T106,(IF($B$4=\"S\",'Wave Areas'!F123,(IF($B$4=\"W\",'Wave Areas'!F141,(IF($B$4=\"NW\",'Wave Areas'!T142,0)))))))))))))))","v":0},{"$f":"IF($B$4=\"SW\",'Wave Areas'!U124,(IF($B$4=\"N\",'Wave Areas'!G87,(IF($B$4=\"NE\",'Wave Areas'!U88,(IF($B$4=\"E\",'Wave Areas'!G105,(IF($B$4=\"SE\",'Wave Areas'!U106,(IF($B$4=\"S\",'Wave Areas'!G123,(IF($B$4=\"W\",'Wave Areas'!G141,(IF($B$4=\"NW\",'Wave Areas'!U142,0)))))))))))))))","v":0},{"$f":"IF($B$4=\"SW\",'Wave Areas'!V124,(IF($B$4=\"N\",'Wave Areas'!H87,(IF($B$4=\"NE\",'Wave Areas'!V88,(IF($B$4=\"E\",'Wave Areas'!H105,(IF($B$4=\"SE\",'Wave Areas'!V106,(IF($B$4=\"S\",'Wave Areas'!H123,(IF($B$4=\"W\",'Wave Areas'!H141,(IF($B$4=\"NW\",'Wave Areas'!V142,0)))))))))))))))","v":0},{"$f":"IF($B$4=\"SW\",'Wave Areas'!W124,(IF($B$4=\"N\",'Wave Areas'!I87,(IF($B$4=\"NE\",'Wave Areas'!W88,(IF($B$4=\"E\",'Wave Areas'!I105,(IF($B$4=\"SE\",'Wave Areas'!W106,(IF($B$4=\"S\",'Wave Areas'!I123,(IF($B$4=\"W\",'Wave Areas'!I141,(IF($B$4=\"NW\",'Wave Areas'!W142,0)))))))))))))))","v":0},{"$f":"IF($B$4=\"SW\",'Wave Areas'!X124,(IF($B$4=\"N\",'Wave Areas'!J87,(IF($B$4=\"NE\",'Wave Areas'!X88,(IF($B$4=\"E\",'Wave Areas'!J105,(IF($B$4=\"SE\",'Wave Areas'!X106,(IF($B$4=\"S\",'Wave Areas'!J123,(IF($B$4=\"W\",'Wave Areas'!J141,(IF($B$4=\"NW\",'Wave Areas'!X142,0)))))))))))))))","v":0},{"$f":"IF($B$4=\"SW\",'Wave Areas'!Y124,(IF($B$4=\"N\",'Wave Areas'!K87,(IF($B$4=\"NE\",'Wave Areas'!Y88,(IF($B$4=\"E\",'Wave Areas'!K105,(IF($B$4=\"SE\",'Wave Areas'!Y106,(IF($B$4=\"S\",'Wave Areas'!K123,(IF($B$4=\"W\",'Wave Areas'!K141,(IF($B$4=\"NW\",'Wave Areas'!Y142,0)))))))))))))))","v":0},{"$f":"IF($B$4=\"SW\",'Wave Areas'!Z124,(IF($B$4=\"N\",'Wave Areas'!L87,(IF($B$4=\"NE\",'Wave Areas'!Z88,(IF($B$4=\"E\",'Wave Areas'!L105,(IF($B$4=\"SE\",'Wave Areas'!Z106,(IF($B$4=\"S\",'Wave Areas'!L123,(IF($B$4=\"W\",'Wave Areas'!L141,(IF($B$4=\"NW\",'Wave Areas'!Z142,0)))))))))))))))","v":0},null,9.5,{"$error":"#DIV/0!"},{"$error":"#DIV/0!"},{"$error":"#DIV/0!"},{"$error":"#DIV/0!"},{"$error":"#DIV/0!"},{"$error":"#DIV/0!"},{"$error":"#DIV/0!"},{"$error":"#DIV/0!"},{"$error":"#DIV/0!"},{"$error":"#DIV/0!"},{"$error":"#DIV/0!"},{"$error":"#DIV/0!"},null,9.5,{"$error":"#DIV/0!"},{"$error":"#DIV/0!"},{"$f":"AI57/1004","v":{"$error":"#DIV/0!"}},{"$f":"AJ57/1004","v":{"$error":"#DIV/0!"}},{"$f":"G56*AJ57","v":{"$error":"#DIV/0!"}},{"$f":"H56*AK57","v":{"$error":"#DIV/0!"}},{"$f":"AM57/1004","v":{"$error":"#DIV/0!"}},{"$f":"AN57/1004","v":{"$error":"#DIV/0!"}},{"$error":"#DIV/0!"},{"$error":"#DIV/0!"},{"$error":"#DIV/0!"},{"$error":"#DIV/0!"}]
["Sub Totals",null,{"$f":"SUM(C47:C57)","v":795.07727654024404},167800.78550277217,565550.79558341741,1423425.249143718,2254293.3809968382,2552831.8828812321,2078243.8026713708,1077314.9420763839,0,0,0,{"$f":"SUM(N47:N56)","v":10120255.916132273},"Total",null,null,10.5,{"$f":"IF($B$4=\"SW\",'Wave Areas'!P125,(IF($B$4=\"N\",'Wave Areas'!B88,(IF($B$4=\"NE\",'Wave Areas'!P89,(IF($B$4=\"E\",'Wave Areas'!B106,(IF($B$4=\"SE\",'Wave Areas'!P107,(IF($B$4=\"S\",'Wave Areas'!B124,(IF($B$4=\"W\",'Wave Areas'!B142,(IF($B$4=\"NW\",'Wave Areas'!P143,0)))))))))))))))","v":0},{"$f":"IF($B$4=\"SW\",'Wave Areas'!Q125,(IF($B$4=\"N\",'Wave Areas'!C88,(IF($B$4=\"NE\",'Wave Areas'!Q89,(IF($B$4=\"E\",'Wave Areas'!C106,(IF($B$4=\"SE\",'Wave Areas'!Q107,(IF($B$4=\"S\",'Wave Areas'!C124,(IF($B$4=\"W\",'Wave Areas'!C142,(IF($B$4=\"NW\",'Wave Areas'!Q143,0)))))))))))))))","v":0},{"$f":"IF($B$4=\"SW\",'Wave Areas'!R125,(IF($B$4=\"N\",'Wave Areas'!D88,(IF($B$4=\"NE\",'Wave Areas'!R89,(IF($B$4=\"E\",'Wave Areas'!D106,(IF($B$4=\"SE\",'Wave Areas'!R107,(IF($B$4=\"S\",'Wave Areas'!D124,(IF($B$4=\"W\",'Wave Areas'!D142,(IF($B$4=\"NW\",'Wave Areas'!R143,0)))))))))))))))","v":0},{"$f":"IF($B$4=\"SW\",'Wave Areas'!S125,(IF($B$4=\"N\",'Wave Areas'!E88,(IF($B$4=\"NE\",'Wave Areas'!S89,(IF($B$4=\"E\",'Wave Areas'!E106,(IF($B$4=\"SE\",'Wave Areas'!S107,(IF($B$4=\"S\",'Wave Areas'!E124,(IF($B$4=\"W\",'Wave Areas'!E142,(IF($B$4=\"NW\",'Wave Areas'!S143,0)))))))))))))))","v":0},{"$f":"IF($B$4=\"SW\",'Wave Areas'!T125,(IF($B$4=\"N\",'Wave Areas'!F88,(IF($B$4=\"NE\",'Wave Areas'!T89,(IF($B$4=\"E\",'Wave Areas'!F106,(IF($B$4=\"SE\",'Wave Areas'!T107,(IF($B$4=\"S\",'Wave Areas'!F124,(IF($B$4=\"W\",'Wave Areas'!F142,(IF($B$4=\"NW\",'Wave Areas'!T143,0)))))))))))))))","v":0},{"$f":"IF($B$4=\"SW\",'Wave Areas'!U125,(IF($B$4=\"N\",'Wave Areas'!G88,(IF($B$4=\"NE\",'Wave Areas'!U89,(IF($B$4=\"E\",'Wave Areas'!G106,(IF($B$4=\"SE\",'Wave Areas'!U107,(IF($B$4=\"S\",'Wave Areas'!G124,(IF($B$4=\"W\",'Wave Areas'!G142,(IF($B$4=\"NW\",'Wave Areas'!U143,0)))))))))))))))","v":0},{"$f":"IF($B$4=\"SW\",'Wave Areas'!V125,(IF($B$4=\"N\",'Wave Areas'!H88,(IF($B$4=\"NE\",'Wave Areas'!V89,(IF($B$4=\"E\",'Wave Areas'!H106,(IF($B$4=\"SE\",'Wave Areas'!V107,(IF($B$4=\"S\",'Wave Areas'!H124,(IF($B$4=\"W\",'Wave Areas'!H142,(IF($B$4=\"NW\",'Wave Areas'!V143,0)))))))))))))))","v":0},{"$f":"IF($B$4=\"SW\",'Wave Areas'!W125,(IF($B$4=\"N\",'Wave Areas'!I88,(IF($B$4=\"NE\",'Wave Areas'!W89,(IF($B$4=\"E\",'Wave Areas'!I106,(IF($B$4=\"SE\",'Wave Areas'!W107,(IF($B$4=\"S\",'Wave Areas'!I124,(IF($B$4=\"W\",'Wave Areas'!I142,(IF($B$4=\"NW\",'Wave Areas'!W143,0)))))))))))))))","v":0},{"$f":"IF($B$4=\"SW\",'Wave Areas'!X125,(IF($B$4=\"N\",'Wave Areas'!J88,(IF($B$4=\"NE\",'Wave Areas'!X89,(IF($B$4=\"E\",'Wave Areas'!J106,(IF($B$4=\"SE\",'Wave Areas'!X107,(IF($B$4=\"S\",'Wave Areas'!J124,(IF($B$4=\"W\",'Wave Areas'!J142,(IF($B$4=\"NW\",'Wave Areas'!X143,0)))))))))))))))","v":0},{"$f":"IF($B$4=\"SW\",'Wave Areas'!Y125,(IF($B$4=\"N\",'Wave Areas'!K88,(IF($B$4=\"NE\",'Wave Areas'!Y89,(IF($B$4=\"E\",'Wave Areas'!K106,(IF($B$4=\"SE\",'Wave Areas'!Y107,(IF($B$4=\"S\",'Wave Areas'!K124,(IF($B$4=\"W\",'Wave Areas'!K142,(IF($B$4=\"NW\",'Wave Areas'!Y143,0)))))))))))))))","v":0},{"$f":"IF($B$4=\"SW\",'Wave Areas'!Z125,(IF($B$4=\"N\",'Wave Areas'!L88,(IF($B$4=\"NE\",'Wave Areas'!Z89,(IF($B$4=\"E\",'Wave Areas'!L106,(IF($B$4=\"SE\",'Wave Areas'!Z107,(IF($B$4=\"S\",'Wave Areas'!L124,(IF($B$4=\"W\",'Wave Areas'!L142,(IF($B$4=\"NW\",'Wave Areas'!Z143,0)))))))))))))))","v":0},null,10.5,{"$error":"#DIV/0!"},{"$error":"#DIV/0!"},{"$error":"#DIV/0!"},{"$error":"#DIV/0!"},{"$error":"#DIV/0!"},{"$error":"#DIV/0!"},{"$error":"#DIV/0!"},{"$error":"#DIV/0!"},{"$error":"#DIV/0!"},{"$error":"#DIV/0!"},{"$error":"#DIV/0!"},{"$error":"#DIV/0!"},null,10.5,{"$error":"#DIV/0!"},{"$error":"#DIV/0!"},{"$f":"AI58/1004","v":{"$error":"#DIV/0!"}},{"$f":"AJ58/1004","v":{"$error":"#DIV/0!"}},{"$f":"AK58/1004","v":{"$error":"#DIV/0!"}},{"$f":"AL58/1004","v":{"$error":"#DIV/0!"}},{"$f":"AM58/1004","v":{"$error":"#DIV/0!"}},{"$f":"AN58/1004","v":{"$error":"#DIV/0!"}},{"$error":"#DIV/0!"},{"$error":"#DIV/0!"},{"$error":"#DIV/0!"},{"$error":"#DIV/0!"}]
[null,null,null,null,null,null,null,null,null,null,null,null,null,null,null,null,null,"Total Occurences",null,null,null,null,null,null,null,null,null,null,{"$f":"SUM(S48:AC58)","v":0},null,null,null,null,null,null,null,null,null,null,null,null,null,null,null,"Sub Totals",{"$f":"SUM(AT48:AT58)","v":{"$error":"#DIV/0!"}},{"$error":"#DIV/0!"},{"$error":"#DIV/0!"},{"$error":"#DIV/0!"},{"$error":"#DIV/0!"},{"$error":"#DIV/0!"},{"$error":"#DIV/0!"},{"$error":"#DIV/0!"},{"$error":"#DIV/0!"},{"$error":"#DIV/0!"},{"$error":"#DIV/0!"},{"$f":"SUM(BE48:BE57)","v":{"$error":"#DIV/0!"}},"Total"]
[]
[null,null,null,null,null,null,null,null,null,null,null,null,null,null,null,null,null,null,null,null,null,null,null,null,null,null,null,null,null,null,null,null,null,null,null,null,null,null,null,null,null,null,null,null,null,null,null,null,null,null,null,null,null,null,null,null,"Min","Max"]
[null,null,null,null,null,null,null,null,null,null,null,null,null,null,null,null,null,null,null,null,null,null,null,null,null,null,null,null,null,null,null,null,null,null,null,null,null,null,null,null,null,null,null,null,null,null,null,null,null,null,null,null,null,"Relevant Wave Heights",null,null,{"$f":"IF((AND($B$6>AS48,$B$6<AS49)),AS48,(IF((AND($B$6>AS49,$B$6<AS50)),AS49,(IF((AND($B$6>AS50,$B$6<AS51)),AS50,(IF((AND($B$6>AS51,$B$6<AS52)),AS51,(IF((AND($B$6>AS52,$B$6<AS53)),AS52,(IF((AND($B$6>AS53,$B$6<AS54)),AS53,(IF((AND($B$6>AS54,$B$6<AS55)),AS54,(IF((AND($B$6>AS55,$B$6<AS56)),AS55,(IF((AND($B$6>AS56,$B$6<AS57)),AS56,(IF((AND($B$6>AS57,$B$6<AS58)),AS57,(IF($B$6>AS58,AS58,\"\")))))))))))))))))))))","v":10.5},{"$f":"IF((AND($B$6>AS48,$B$6<AS49)),AS49,(IF((AND($B$6>AS49,$B$6<AS50)),AS50,(IF((AND($B$6>AS50,$B$6<AS51)),AS51,(IF((AND($B$6>AS51,$B$6<AS52)),AS52,(IF((AND($B$6>AS52,$B$6<AS53)),AS53,(IF((AND($B$6>AS53,$B$6<AS54)),AS54,(IF((AND($B$6>AS54,$B$6<AS55)),AS55,(IF((AND($B$6>AS55,$B$6<AS56)),AS56,(IF((AND($B$6>AS56,$B$6<AS57)),AS57,(IF((AND($B$6>AS57,$B$6<AS58)),AS58,(IF($B$6>AS58,AS58,\"\")))))))))))))))))))))","v":10.5}]
[null,null,null,null,null,null,null,null,null,null,null,null,null,null,null,null,null,null,null,null,null,null,null,null,null,null,null,null,null,null,null,null,null,null,null,null,null,null,null,null,null,null,null,null,null,null,null,null,null,null,null,null,null,"Relevant Power (kW/m)",null,null,{"$f":"(((($B$6-BE62)*((VLOOKUP(BF62,AS48:BE58,13,FALSE))-(VLOOKUP(BE62,AS48:BE58,13,FALSE))))/(BF62-BE62))+(VLOOKUP(BE62,AS48:BE58,13,FALSE)))*0.001","v":{"$error":"#VALUE!"}}]

{"sheet":"Wave 4","index":16,"n_rows":63,"n_cols":58,"rows_kept":63,"cut":false,"hidden":false,"merged":[[7,1,7,2],[2,1,2,2],[3,1,3,2],[4,1,4,2],[5,1,5,2],[6,1,6,2],[16,44,16,45],[17,44,17,55],[18,17,18,28],[18,30,18,41],[18,44,18,55],[32,0,32,1],[32,17,32,27],[8,1,8,2],[9,1,9,2],[16,30,16,31],[19,2,19,12],[19,17,19,28],[19,30,19,41],[19,44,19,55],[20,2,20,12],[35,53,35,55],[36,53,36,55],[36,56,36,57],[57,0,57,1],[42,17,42,19],[42,30,42,31],[42,44,42,45],[44,2,44,12],[44,17,44,28],[44,30,44,41],[44,44,44,55],[58,17,58,27],[61,53,61,55],[62,53,62,55],[62,56,62,57],[45,2,45,12],[45,17,45,28],[45,30,45,41],[45,44,45,55]]}
["Wave Resource"]
[]
[{"$f":"Input!I45","v":"Site Name"},{"$f":"Input!J75","v":"[Enter Name]"}]
[{"$f":"Input!I46","v":"Position Relevant to Island"},{"$f":"Input!J76","v":"[Select Value]"}]
[{"$f":"Input!I47","v":"Relevant Ocean Wave Area"},{"$f":"Input!J77","v":"[Select Area]"}]
[{"$f":"Input!I48","v":"Average Wave Height"},{"$f":"Input!J78","v":"[Enter Value]"}]
[{"$f":"Input!I49","v":"Proximity to Grid Connection"},{"$f":"Input!J79","v":"[Select Value]"}]
[{"$f":"Input!I50","v":"Average Water Depth"},{"$f":"Input!J80","v":"[Select Value]"}]
[{"$f":"Input!I51","v":"Seabed Topography"},{"$f":"Input!J81","v":"[Select Value]"}]
[{"$f":"Input!I52","v":"Accessibility"},{"$f":"Input!J82","v":"[Select Value]"}]
[]
["Relavant Wave Power",{"$f":"IF(B8<>\"[Select Value]\",(IF(B8=\"> 20m\", BE63,BE37)),0)","v":0}]
[]
["Transitional Waters Calculation (",">20m"]
[]
["Wave Velocity C","(m/s)",{"$f":"(C17/C18)","v":5.4628571428571435},6.9888888888888889,8.3109090909090906,9.2892307692307696,9.9653333333333318,10.436470588235293,10.77157894736842,11.016190476190477,11.201739130434783,11.344799999999999,11.455555555555556]
["Wave Length (λ)","(m)",19.12,31.45,45.71,60.38,74.739999999999995,88.71,102.33,115.67,128.82,141.81,154.65]
["Wave Period (T)","(s)",3.5,4.5,5.5,6.5,7.5,8.5,9.5,10.5,11.5,12.5,13.5]
[null,null,null,null,null,null,null,null,null,null,null,null,null,null,null,null,null,"North Sea Area 10",null,null,null,null,null,null,null,null,null,null,null,null,"North Sea Area 10",null,null,null,null,null,null,null,null,null,null,null,null,null,"North Sea Area 10"]
["Energy","Wave Height (Hs)","Power",null,null,null,null,null,null,null,null,null,null,"Total Power",null,null,null,"Number of Occurences",null,null,null,null,null,null,null,null,null,null,null,null,"Percentage of Occurences",null,null,null,null,null,null,null,null,null,null,null,null,null,"Annual Power (W/m)",null,null,null,null,null,null,null,null,null,null,null,"Total Power"]
["(J)","(m)","(W/m)",null,null,null,null,null,null,null,null,null,null,"(W/m)",null,null,null,"Hs                      T",3.5,4.5,5.5,6.5,7.5,8.5,9.5,10.5,11.5,12.5,13.5,null,"Hs                 T",3.5,4.5,5.5,6.5,7.5,8.5,9.5,10.5,11.5,12.5,13.5,"Availability",null,"Hs           T",3.5,4.5,5.5,6.5,7.5,8.5,9.5,10.5,11.5,12.5,13.5,"(W/m)"]
[{"$f":"(1025*9.81*B22^2)/8","v":314.2265625},0.5,{"$f":"$A22*($C$16)","v":1716.5748214285716},{"$f":"$A22*(D16)","v":2196.0945312499998},{"$f":"A22*($E$16)","v":2611.5083948863635},{"$f":"$A22*($F$16)","v":2918.9230528846156},{"$f":"$A22*($G$16)","v":3131.3724374999997},{"$f":"$A22*($H$16)","v":3279.416277573529},0,0,0,0,0,{"$f":"SUM(C22:M22)","v":15853.889515523078},null,null,null,0.5,{"$f":"IF($B$4=\"SW\",'Wave Areas'!P115,(IF($B$4=\"N\",'Wave Areas'!B78,(IF($B$4=\"NE\",'Wave Areas'!P79,(IF($B$4=\"E\",'Wave Areas'!B96,(IF($B$4=\"SE\",'Wave Areas'!P97,(IF($B$4=\"S\",'Wave Areas'!B114,(IF($B$4=\"W\",'Wave Areas'!B132,(IF($B$4=\"NW\",'Wave Areas'!P133,0)))))))))))))))","v":0},{"$f":"IF($B$4=\"SW\",'Wave Areas'!Q115,(IF($B$4=\"N\",'Wave Areas'!C78,(IF($B$4=\"NE\",'Wave Areas'!Q79,(IF($B$4=\"E\",'Wave Areas'!C96,(IF($B$4=\"SE\",'Wave Areas'!Q97,(IF($B$4=\"S\",'Wave Areas'!C114,(IF($B$4=\"W\",'Wave Areas'!C132,(IF($B$4=\"NW\",'Wave Areas'!Q133,0)))))))))))))))","v":0},{"$f":"IF($B$4=\"SW\",'Wave Areas'!R115,(IF($B$4=\"N\",'Wave Areas'!D78,(IF($B$4=\"NE\",'Wave Areas'!R79,(IF($B$4=\"E\",'Wave Areas'!D96,(IF($B$4=\"SE\",'Wave Areas'!R97,(IF($B$4=\"S\",'Wave Areas'!D114,(IF($B$4=\"W\",'Wave Areas'!D132,(IF($B$4=\"NW\",'Wave Areas'!R133,0)))))))))))))))","v":0},{"$f":"IF($B$4=\"SW\",'Wave Areas'!S115,(IF($B$4=\"N\",'Wave Areas'!E78,(IF($B$4=\"NE\",'Wave Areas'!S79,(IF($B$4=\"E\",'Wave Areas'!E96,(IF($B$4=\"SE\",'Wave Areas'!S97,(IF($B$4=\"S\",'Wave Areas'!E114,(IF($B$4=\"W\",'Wave Areas'!E132,(IF($B$4=\"NW\",'Wave Areas'!S133,0)))))))))))))))","v":0},{"$f":"IF($B$4=\"SW\",'Wave Areas'!T115,(IF($B$4=\"N\",'Wave Areas'!F78,(IF($B$4=\"NE\",'Wave Areas'!T79,(IF($B$4=\"E\",'Wave Areas'!F96,(IF($B$4=\"SE\",'Wave Areas'!T97,(IF($B$4=\"S\",'Wave Areas'!F114,(IF($B$4=\"W\",'Wave Areas'!F132,(IF($B$4=\"NW\",'Wave Areas'!T133,0)))))))))))))))","v":0},{"$f":"IF($B$4=\"SW\",'Wave Areas'!U115,(IF($B$4=\"N\",'Wave Areas'!G78,(IF($B$4=\"NE\",'Wave Areas'!U79,(IF($B$4=\"E\",'Wave Areas'!G96,(IF($B$4=\"SE\",'Wave Areas'!U97,(IF($B$4=\"S\",'Wave Areas'!G114,(IF($B$4=\"W\",'Wave Areas'!G132,(IF($B$4=\"NW\",'Wave Areas'!U133,0)))))))))))))))","v":0},{"$f":"IF($B$4=\"SW\",'Wave Areas'!V115,(IF($B$4=\"N\",'Wave Areas'!H78,(IF($B$4=\"NE\",'Wave Areas'!V79,(IF($B$4=\"E\",'Wave Areas'!H96,(IF($B$4=\"SE\",'Wave Areas'!V97,(IF($B$4=\"S\",'Wave Areas'!H114,(IF($B$4=\"W\",'Wave Areas'!H132,(IF($B$4=\"NW\",'Wave Areas'!V133,0)))))))))))))))","v":0},{"$f":"IF($B$4=\"SW\",'Wave Areas'!W115,(IF($B$4=\"N\",'Wave Areas'!I78,(IF($B$4=\"NE\",'Wave Areas'!W79,(IF($B$4=\"E\",'Wave Areas'!I96,(IF($B$4=\"SE\",'Wave Areas'!W97,(IF($B$4=\"S\",'Wave Areas'!I114,(IF($B$4=\"W\",'Wave Areas'!I132,(IF($B$4=\"NW\",'Wave Areas'!W133,0)))))))))))))))","v":0},{"$f":"IF($B$4=\"SW\",'Wave Areas'!X115,(IF($B$4=\"N\",'Wave Areas'!J78,(IF($B$4=\"NE\",'Wave Areas'!X79,(IF($B$4=\"E\",'Wave Areas'!J96,(IF($B$4=\"SE\",'Wave Areas'!X97,(IF($B$4=\"S\",'Wave Areas'!J114,(IF($B$4=\"W\",'Wave Areas'!J132,(IF($B$4=\"NW\",'Wave Areas'!X133,0)))))))))))))))","v":0},{"$f":"IF($B$4=\"SW\",'Wave Areas'!Y115,(IF($B$4=\"N\",'Wave Areas'!K78,(IF($B$4=\"NE\",'Wave Areas'!Y79,(IF($B$4=\"E\",'Wave Areas'!K96,(IF($B$4=\"SE\",'Wave Areas'!Y97,(IF($B$4=\"S\",'Wave Areas'!K114,(IF($B$4=\"W\",'Wave Areas'!K132,(IF($B$4=\"NW\",'Wave Areas'!Y133,0)))))))))))))))","v":0},{"$f":"IF($B$4=\"SW\",'Wave Areas'!Z115,(IF($B$4=\"N\",'Wave Areas'!L78,(IF($B$4=\"NE\",'Wave Areas'!Z79,(IF($B$4=\"E\",'Wave Areas'!L96,(IF($B$4=\"SE\",'Wave Areas'!Z97,(IF($B$4=\"S\",'Wave Areas'!L114,(IF($B$4=\"W\",'Wave Areas'!L132,(IF($B$4=\"NW\",'Wave Areas'!Z133,0)))))))))))))))","v":0},null,0.5,{"$f":"S22/($AC$33)","v":{"$error":"#DIV/0!"}},{"$f":"T22/($AC$33)","v":{"$error":"#DIV/0!"}},{"$error":"#DIV/0!"},{"$error":"#DIV/0!"},{"$error":"#DIV/0!"},{"$error":"#DIV/0!"},{"$error":"#DIV/0!"},{"$error":"#DIV/0!"},{"$error":"#DIV/0!"},{"$error":"#DIV/0!"},{"$error":"#DIV/0!"},{"$f":"SUM(AF22:AP22)","v":{"$error":"#DIV/0!"}},null,0.5,{"$f":"C22*AF22","v":{"$error":"#DIV/0!"}},{"$error":"#DIV/0!"},{"$error":"#DIV/0!"},{"$error":"#DIV/0!"},{"$error":"#DIV/0!"},{"$error":"#DIV/0!"},{"$f":"AM22/1004","v":{"$error":"#DIV/0!"}},{"$f":"AN22/1004","v":{"$error":"#DIV/0!"}},{"$f":"AO22/1004","v":{"$error":"#DIV/0!"}},{"$f":"AP22/1004","v":{"$error":"#DIV/0!"}},{"$f":"AQ20/1004","v":0},{"$f":"SUM(AT22:BD22)","v":{"$error":"#DIV/0!"}}]
[2828.0390625,1.5,{"$f":"$A23*($C$16)","v":15449.173392857145},{"$f":"A23*($D$16)","v":19764.850781249999},23503.575553977273,{"$f":"$A23*($F$16)","v":26270.307475961541},28182.351937499996,29514.746498161763,{"$f":"$A23*($I$16)","v":30462.446027960523},{"$f":"$A23*($J$16)","v":31154.216986607145},0,0,0,204301.66865427536,null,null,null,1.5,{"$f":"IF($B$4=\"SW\",'Wave Areas'!P116,(IF($B$4=\"N\",'Wave Areas'!B79,(IF($B$4=\"NE\",'Wave Areas'!P80,(IF($B$4=\"E\",'Wave Areas'!B97,(IF($B$4=\"SE\",'Wave Areas'!P98,(IF($B$4=\"S\",'Wave Areas'!B115,(IF($B$4=\"W\",'Wave Areas'!B133,(IF($B$4=\"NW\",'Wave Areas'!P134,0)))))))))))))))","v":0},{"$f":"IF($B$4=\"SW\",'Wave Areas'!Q116,(IF($B$4=\"N\",'Wave Areas'!C79,(IF($B$4=\"NE\",'Wave Areas'!Q80,(IF($B$4=\"E\",'Wave Areas'!C97,(IF($B$4=\"SE\",'Wave Areas'!Q98,(IF($B$4=\"S\",'Wave Areas'!C115,(IF($B$4=\"W\",'Wave Areas'!C133,(IF($B$4=\"NW\",'Wave Areas'!Q134,0)))))))))))))))","v":0},{"$f":"IF($B$4=\"SW\",'Wave Areas'!R116,(IF($B$4=\"N\",'Wave Areas'!D79,(IF($B$4=\"NE\",'Wave Areas'!R80,(IF($B$4=\"E\",'Wave Areas'!D97,(IF($B$4=\"SE\",'Wave Areas'!R98,(IF($B$4=\"S\",'Wave Areas'!D115,(IF($B$4=\"W\",'Wave Areas'!D133,(IF($B$4=\"NW\",'Wave Areas'!R134,0)))))))))))))))","v":0},{"$f":"IF($B$4=\"SW\",'Wave Areas'!S116,(IF($B$4=\"N\",'Wave Areas'!E79,(IF($B$4=\"NE\",'Wave Areas'!S80,(IF($B$4=\"E\",'Wave Areas'!E97,(IF($B$4=\"SE\",'Wave Areas'!S98,(IF($B$4=\"S\",'Wave Areas'!E115,(IF($B$4=\"W\",'Wave Areas'!E133,(IF($B$4=\"NW\",'Wave Areas'!S134,0)))))))))))))))","v":0},{"$f":"IF($B$4=\"SW\",'Wave Areas'!T116,(IF($B$4=\"N\",'Wave Areas'!F79,(IF($B$4=\"NE\",'Wave Areas'!T80,(IF($B$4=\"E\",'Wave Areas'!F97,(IF($B$4=\"SE\",'Wave Areas'!T98,(IF($B$4=\"S\",'Wave Areas'!F115,(IF($B$4=\"W\",'Wave Areas'!F133,(IF($B$4=\"NW\",'Wave Areas'!T134,0)))))))))))))))","v":0},{"$f":"IF($B$4=\"SW\",'Wave Areas'!U116,(IF($B$4=\"N\",'Wave Areas'!G79,(IF($B$4=\"NE\",'Wave Areas'!U80,(IF($B$4=\"E\",'Wave Areas'!G97,(IF($B$4=\"SE\",'Wave Areas'!U98,(IF($B$4=\"S\",'Wave Areas'!G115,(IF($B$4=\"W\",'Wave Areas'!G133,(IF($B$4=\"NW\",'Wave Areas'!U134,0)))))))))))))))","v":0},{"$f":"IF($B$4=\"SW\",'Wave Areas'!V116,(IF($B$4=\"N\",'Wave Areas'!H79,(IF($B$4=\"NE\",'Wave Areas'!V80,(IF($B$4=\"E\",'Wave Areas'!H97,(IF($B$4=\"SE\",'Wave Areas'!V98,(IF($B$4=\"S\",'Wave Areas'!H115,(IF($B$4=\"W\",'Wave Areas'!H133,(IF($B$4=\"NW\",'Wave Areas'!V134,0)))))))))))))))","v":0},{"$f":"IF($B$4=\"SW\",'Wave Areas'!W116,(IF($B$4=\"N\",'Wave Areas'!I79,(IF($B$4=\"NE\",'Wave Areas'!W80,(IF($B$4=\"E\",'Wave Areas'!I97,(IF($B$4=\"SE\",'Wave Areas'!W98,(IF($B$4=\"S\",'Wave Areas'!I115,(IF($B$4=\"W\",'Wave Areas'!I133,(IF($B$4=\"NW\",'Wave Areas'!W134,0)))))))))))))))","v":0},{"$f":"IF($B$4=\"SW\",'Wave Areas'!X116,(IF($B$4=\"N\",'Wave Areas'!J79,(IF($B$4=\"NE\",'Wave Areas'!X80,(IF($B$4=\"E\",'Wave Areas'!J97,(IF($B$4=\"SE\",'Wave Areas'!X98,(IF($B$4=\"S\",'Wave Areas'!J115,(IF($B$4=\"W\",'Wave Areas'!J133,(IF($B$4=\"NW\",'Wave Areas'!X134,0)))))))))))))))","v":0},{"$f":"IF($B$4=\"SW\",'Wave Areas'!Y116,(IF($B$4=\"N\",'Wave Areas'!K79,(IF($B$4=\"NE\",'Wave Areas'!Y80,(IF($B$4=\"E\",'Wave Areas'!K97,(IF($B$4=\"SE\",'Wave Areas'!Y98,(IF($B$4=\"S\",'Wave Areas'!K115,(IF($B$4=\"W\",'Wave Areas'!K133,(IF($B$4=\"NW\",'Wave Areas'!Y134,0)))))))))))))))","v":0},{"$f":"IF($B$4=\"SW\",'Wave Areas'!Z116,(IF($B$4=\"N\",'Wave Areas'!L79,(IF($B$4=\"NE\",'Wave Areas'!Z80,(IF($B$4=\"E\",'Wave Areas'!L97,(IF($B$4=\"SE\",'Wave Areas'!Z98,(IF($B$4=\"S\",'Wave Areas'!L115,(IF($B$4=\"W\",'Wave Areas'!L133,(IF($B$4=\"NW\",'Wave Areas'!Z134,0)))))))))))))))","v":0},null,1.5,{"$f":"S23/($AC$33)","v":{"$error":"#DIV/0!"}},{"$error":"#DIV/0!"},{"$error":"#DIV/0!"},{"$error":"#DIV/0!"},{"$error":"#DIV/0!"},{"$error":"#DIV/0!"},{"$error":"#DIV/0!"},{"$error":"#DIV/0!"},{"$error":"#DIV/0!"},{"$error":"#DIV/0!"},{"$error":"#DIV/0!"},{"$f":"SUM(AF23:AP23)","v":{"$error":"#DIV/0!"}},null,1.5,{"$error":"#DIV/0!"},{"$error":"#DIV/0!"},{"$error":"#DIV/0!"},{"$error":"#DIV/0!"},{"$error":"#DIV/0!"},{"$error":"#DIV/0!"},{"$error":"#DIV/0!"},{"$error":"#DIV/0!"},{"$f":"AO23/1004","v":{"$error":"#DIV/0!"}},{"$error":"#DIV/0!"},{"$f":"AQ22/1004","v":{"$error":"#DIV/0!"}},{"$error":"#DIV/0!"}]
[7855.6640625,2.5,0,{"$f":"A24*($D$16)","v":54902.36328125},65287.709872159088,{"$f":"$A24*($F$16)","v":72973.07632211539},78284.310937499991,81985.406939338223,84617.90563322368,86539.49162946429,0,0,0,524590.26461505075,null,null,null,2.5,{"$f":"IF($B$4=\"SW\",'Wave Areas'!P117,(IF($B$4=\"N\",'Wave Areas'!B80,(IF($B$4=\"NE\",'Wave Areas'!P81,(IF($B$4=\"E\",'Wave Areas'!B98,(IF($B$4=\"SE\",'Wave Areas'!P99,(IF($B$4=\"S\",'Wave Areas'!B116,(IF($B$4=\"W\",'Wave Areas'!B134,(IF($B$4=\"NW\",'Wave Areas'!P135,0)))))))))))))))","v":0},{"$f":"IF($B$4=\"SW\",'Wave Areas'!Q117,(IF($B$4=\"N\",'Wave Areas'!C80,(IF($B$4=\"NE\",'Wave Areas'!Q81,(IF($B$4=\"E\",'Wave Areas'!C98,(IF($B$4=\"SE\",'Wave Areas'!Q99,(IF($B$4=\"S\",'Wave Areas'!C116,(IF($B$4=\"W\",'Wave Areas'!C134,(IF($B$4=\"NW\",'Wave Areas'!Q135,0)))))))))))))))","v":0},{"$f":"IF($B$4=\"SW\",'Wave Areas'!R117,(IF($B$4=\"N\",'Wave Areas'!D80,(IF($B$4=\"NE\",'Wave Areas'!R81,(IF($B$4=\"E\",'Wave Areas'!D98,(IF($B$4=\"SE\",'Wave Areas'!R99,(IF($B$4=\"S\",'Wave Areas'!D116,(IF($B$4=\"W\",'Wave Areas'!D134,(IF($B$4=\"NW\",'Wave Areas'!R135,0)))))))))))))))","v":0},{"$f":"IF($B$4=\"SW\",'Wave Areas'!S117,(IF($B$4=\"N\",'Wave Areas'!E80,(IF($B$4=\"NE\",'Wave Areas'!S81,(IF($B$4=\"E\",'Wave Areas'!E98,(IF($B$4=\"SE\",'Wave Areas'!S99,(IF($B$4=\"S\",'Wave Areas'!E116,(IF($B$4=\"W\",'Wave Areas'!E134,(IF($B$4=\"NW\",'Wave Areas'!S135,0)))))))))))))))","v":0},{"$f":"IF($B$4=\"SW\",'Wave Areas'!T117,(IF($B$4=\"N\",'Wave Areas'!F80,(IF($B$4=\"NE\",'Wave Areas'!T81,(IF($B$4=\"E\",'Wave Areas'!F98,(IF($B$4=\"SE\",'Wave Areas'!T99,(IF($B$4=\"S\",'Wave Areas'!F116,(IF($B$4=\"W\",'Wave Areas'!F134,(IF($B$4=\"NW\",'Wave Areas'!T135,0)))))))))))))))","v":0},{"$f":"IF($B$4=\"SW\",'Wave Areas'!U117,(IF($B$4=\"N\",'Wave Areas'!G80,(IF($B$4=\"NE\",'Wave Areas'!U81,(IF($B$4=\"E\",'Wave Areas'!G98,(IF($B$4=\"SE\",'Wave Areas'!U99,(IF($B$4=\"S\",'Wave Areas'!G116,(IF($B$4=\"W\",'Wave Areas'!G134,(IF($B$4=\"NW\",'Wave Areas'!U135,0)))))))))))))))","v":0},{"$f":"IF($B$4=\"SW\",'Wave Areas'!V117,(IF($B$4=\"N\",'Wave Areas'!H80,(IF($B$4=\"NE\",'Wave Areas'!V81,(IF($B$4=\"E\",'Wave Areas'!H98,(IF($B$4=\"SE\",'Wave Areas'!V99,(IF($B$4=\"S\",'Wave Areas'!H116,(IF($B$4=\"W\",'Wave Areas'!H134,(IF($B$4=\"NW\",'Wave Areas'!V135,0)))))))))))))))","v":0},{"$f":"IF($B$4=\"SW\",'Wave Areas'!W117,(IF($B$4=\"N\",'Wave Areas'!I80,(IF($B$4=\"NE\",'Wave Areas'!W81,(IF($B$4=\"E\",'Wave Areas'!I98,(IF($B$4=\"SE\",'Wave Areas'!W99,(IF($B$4=\"S\",'Wave Areas'!I116,(IF($B$4=\"W\",'Wave Areas'!I134,(IF($B$4=\"NW\",'Wave Areas'!W135,0)))))))))))))))","v":0},{"$f":"IF($B$4=\"SW\",'Wave Areas'!X117,(IF($B$4=\"N\",'Wave Areas'!J80,(IF($B$4=\"NE\",'Wave Areas'!X81,(IF($B$4=\"E\",'Wave Areas'!J98,(IF($B$4=\"SE\",'Wave Areas'!X99,(IF($B$4=\"S\",'Wave Areas'!J116,(IF($B$4=\"W\",'Wave Areas'!J134,(IF($B$4=\"NW\",'Wave Areas'!X135,0)))))))))))))))","v":0},{"$f":"IF($B$4=\"SW\",'Wave Areas'!Y117,(IF($B$4=\"N\",'Wave Areas'!K80,(IF($B$4=\"NE\",'Wave Areas'!Y81,(IF($B$4=\"E\",'Wave Areas'!K98,(IF($B$4=\"SE\",'Wave Areas'!Y99,(IF($B$4=\"S\",'Wave Areas'!K116,(IF($B$4=\"W\",'Wave Areas'!K134,(IF($B$4=\"NW\",'Wave Areas'!Y135,0)))))))))))))))","v":0},{"$f":"IF($B$4=\"SW\",'Wave Areas'!Z117,(IF($B$4=\"N\",'Wave Areas'!L80,(IF($B$4=\"NE\",'Wave Areas'!Z81,(IF($B$4=\"E\",'Wave Areas'!L98,(IF($B$4=\"SE\",'Wave Areas'!Z99,(IF($B$4=\"S\",'Wave Areas'!L116,(IF($B$4=\"W\",'Wave Areas'!L134,(IF($B$4=\"NW\",'Wave Areas'!Z135,0)))))))))))))))","v":0},null,2.5,{"$error":"#DIV/0!"},{"$f":"T24/($AC$33)","v":{"$error":"#DIV/0!"}},{"$f":"U24/($AC$33)","v":{"$error":"#DIV/0!"}},{"$error":"#DIV/0!"},{"$error":"#DIV/0!"},{"$error":"#DIV/0!"},{"$error":"#DIV/0!"},{"$error":"#DIV/0!"},{"$error":"#DIV/0!"},{"$error":"#DIV/0!"},{"$error":"#DIV/0!"},{"$error":"#DIV/0!"},null,2.5,{"$f":"AG24/1004","v":{"$error":"#DIV/0!"}},{"$f":"D24*AG24","v":{"$error":"#DIV/0!"}},{"$error":"#DIV/0!"},{"$error":"#DIV/0!"},{"$error":"#DIV/0!"},{"$error":"#DIV/0!"},{"$error":"#DIV/0!"},{"$error":"#DIV/0!"},{"$error":"#DIV/0!"},{"$error":"#DIV/0!"},{"$error":"#DIV/0!"},{"$error":"#DIV/0!"}]
[15397.1015625,3.5,0,{"$f":"A25*($D$16)","v":107608.63203125},127963.91134943182,{"$f":"$A25*($F$16)","v":143027.22959134617},153437.24943749997,160691.39760110292,165851.09504111842,169617.40359375,0,0,0,1028196.9186454994,null,null,null,3.5,{"$f":"IF($B$4=\"SW\",'Wave Areas'!P118,(IF($B$4=\"N\",'Wave Areas'!B81,(IF($B$4=\"NE\",'Wave Areas'!P82,(IF($B$4=\"E\",'Wave Areas'!B99,(IF($B$4=\"SE\",'Wave Areas'!P100,(IF($B$4=\"S\",'Wave Areas'!B117,(IF($B$4=\"W\",'Wave Areas'!B135,(IF($B$4=\"NW\",'Wave Areas'!P136,0)))))))))))))))","v":0},{"$f":"IF($B$4=\"SW\",'Wave Areas'!Q118,(IF($B$4=\"N\",'Wave Areas'!C81,(IF($B$4=\"NE\",'Wave Areas'!Q82,(IF($B$4=\"E\",'Wave Areas'!C99,(IF($B$4=\"SE\",'Wave Areas'!Q100,(IF($B$4=\"S\",'Wave Areas'!C117,(IF($B$4=\"W\",'Wave Areas'!C135,(IF($B$4=\"NW\",'Wave Areas'!Q136,0)))))))))))))))","v":0},{"$f":"IF($B$4=\"SW\",'Wave Areas'!R118,(IF($B$4=\"N\",'Wave Areas'!D81,(IF($B$4=\"NE\",'Wave Areas'!R82,(IF($B$4=\"E\",'Wave Areas'!D99,(IF($B$4=\"SE\",'Wave Areas'!R100,(IF($B$4=\"S\",'Wave Areas'!D117,(IF($B$4=\"W\",'Wave Areas'!D135,(IF($B$4=\"NW\",'Wave Areas'!R136,0)))))))))))))))","v":0},{"$f":"IF($B$4=\"SW\",'Wave Areas'!S118,(IF($B$4=\"N\",'Wave Areas'!E81,(IF($B$4=\"NE\",'Wave Areas'!S82,(IF($B$4=\"E\",'Wave Areas'!E99,(IF($B$4=\"SE\",'Wave Areas'!S100,(IF($B$4=\"S\",'Wave Areas'!E117,(IF($B$4=\"W\",'Wave Areas'!E135,(IF($B$4=\"NW\",'Wave Areas'!S136,0)))))))))))))))","v":0},{"$f":"IF($B$4=\"SW\",'Wave Areas'!T118,(IF($B$4=\"N\",'Wave Areas'!F81,(IF($B$4=\"NE\",'Wave Areas'!T82,(IF($B$4=\"E\",'Wave Areas'!F99,(IF($B$4=\"SE\",'Wave Areas'!T100,(IF($B$4=\"S\",'Wave Areas'!F117,(IF($B$4=\"W\",'Wave Areas'!F135,(IF($B$4=\"NW\",'Wave Areas'!T136,0)))))))))))))))","v":0},{"$f":"IF($B$4=\"SW\",'Wave Areas'!U118,(IF($B$4=\"N\",'Wave Areas'!G81,(IF($B$4=\"NE\",'Wave Areas'!U82,(IF($B$4=\"E\",'Wave Areas'!G99,(IF($B$4=\"SE\",'Wave Areas'!U100,(IF($B$4=\"S\",'Wave Areas'!G117,(IF($B$4=\"W\",'Wave Areas'!G135,(IF($B$4=\"NW\",'Wave Areas'!U136,0)))))))))))))))","v":0},{"$f":"IF($B$4=\"SW\",'Wave Areas'!V118,(IF($B$4=\"N\",'Wave Areas'!H81,(IF($B$4=\"NE\",'Wave Areas'!V82,(IF($B$4=\"E\",'Wave Areas'!H99,(IF($B$4=\"SE\",'Wave Areas'!V100,(IF($B$4=\"S\",'Wave Areas'!H117,(IF($B$4=\"W\",'Wave Areas'!H135,(IF($B$4=\"NW\",'Wave Areas'!V136,0)))))))))))))))","v":0},{"$f":"IF($B$4=\"SW\",'Wave Areas'!W118,(IF($B$4=\"N\",'Wave Areas'!I81,(IF($B$4=\"NE\",'Wave Areas'!W82,(IF($B$4=\"E\",'Wave Areas'!I99,(IF($B$4=\"SE\",'Wave Areas'!W100,(IF($B$4=\"S\",'Wave Areas'!I117,(IF($B$4=\"W\",'Wave Areas'!I135,(IF($B$4=\"NW\",'Wave Areas'!W136,0)))))))))))))))","v":0},{"$f":"IF($B$4=\"SW\",'Wave Areas'!X118,(IF($B$4=\"N\",'Wave Areas'!J81,(IF($B$4=\"NE\",'Wave Areas'!X82,(IF($B$4=\"E\",'Wave Areas'!J99,(IF($B$4=\"SE\",'Wave Areas'!X100,(IF($B$4=\"S\",'Wave Areas'!J117,(IF($B$4=\"W\",'Wave Areas'!J135,(IF($B$4=\"NW\",'Wave Areas'!X136,0)))))))))))))))","v":0},{"$f":"IF($B$4=\"SW\",'Wave Areas'!Y118,(IF($B$4=\"N\",'Wave Areas'!K81,(IF($B$4=\"NE\",'Wave Areas'!Y82,(IF($B$4=\"E\",'Wave Areas'!K99,(IF($B$4=\"SE\",'Wave Areas'!Y100,(IF($B$4=\"S\",'Wave Areas'!K117,(IF($B$4=\"W\",'Wave Areas'!K135,(IF($B$4=\"NW\",'Wave Areas'!Y136,0)))))))))))))))","v":0},{"$f":"IF($B$4=\"SW\",'Wave Areas'!Z118,(IF($B$4=\"N\",'Wave Areas'!L81,(IF($B$4=\"NE\",'Wave Areas'!Z82,(IF($B$4=\"E\",'Wave Areas'!L99,(IF($B$4=\"SE\",'Wave Areas'!Z100,(IF($B$4=\"S\",'Wave Areas'!L117,(IF($B$4=\"W\",'Wave Areas'!L135,(IF($B$4=\"NW\",'Wave Areas'!Z136,0)))))))))))))))","v":0},null,3.5,{"$error":"#DIV/0!"},{"$error":"#DIV/0!"},{"$error":"#DIV/0!"},{"$error":"#DIV/0!"},{"$error":"#DIV/0!"},{"$error":"#DIV/0!"},{"$error":"#DIV/0!"},{"$error":"#DIV/0!"},{"$error":"#DIV/0!"},{"$error":"#DIV/0!"},{"$error":"#DIV/0!"},{"$error":"#DIV/0!"},null,3.5,{"$error":"#DIV/0!"},{"$error":"#DIV/0!"},{"$error":"#DIV/0!"},{"$error":"#DIV/0!"},{"$error":"#DIV/0!"},{"$error":"#DIV/0!"},{"$error":"#DIV/0!"},{"$error":"#DIV/0!"},{"$error":"#DIV/0!"},{"$error":"#DIV/0!"},{"$error":"#DIV/0!"},{"$error":"#DIV/0!"}]
[25452.3515625,4.5,0,{"$f":"A26*($D$16)","v":177883.65703125001},211532.17998579543,{"$f":"$A26*($F$16/2)","v":118216.38364182693},253641.16743749997,265632.71848345589,274162.01425164472,280387.95287946431,0,0,0,1581456.0737109373,null,null,null,4.5,{"$f":"IF($B$4=\"SW\",'Wave Areas'!P119,(IF($B$4=\"N\",'Wave Areas'!B82,(IF($B$4=\"NE\",'Wave Areas'!P83,(IF($B$4=\"E\",'Wave Areas'!B100,(IF($B$4=\"SE\",'Wave Areas'!P101,(IF($B$4=\"S\",'Wave Areas'!B118,(IF($B$4=\"W\",'Wave Areas'!B136,(IF($B$4=\"NW\",'Wave Areas'!P137,0)))))))))))))))","v":0},{"$f":"IF($B$4=\"SW\",'Wave Areas'!Q119,(IF($B$4=\"N\",'Wave Areas'!C82,(IF($B$4=\"NE\",'Wave Areas'!Q83,(IF($B$4=\"E\",'Wave Areas'!C100,(IF($B$4=\"SE\",'Wave Areas'!Q101,(IF($B$4=\"S\",'Wave Areas'!C118,(IF($B$4=\"W\",'Wave Areas'!C136,(IF($B$4=\"NW\",'Wave Areas'!Q137,0)))))))))))))))","v":0},{"$f":"IF($B$4=\"SW\",'Wave Areas'!R119,(IF($B$4=\"N\",'Wave Areas'!D82,(IF($B$4=\"NE\",'Wave Areas'!R83,(IF($B$4=\"E\",'Wave Areas'!D100,(IF($B$4=\"SE\",'Wave Areas'!R101,(IF($B$4=\"S\",'Wave Areas'!D118,(IF($B$4=\"W\",'Wave Areas'!D136,(IF($B$4=\"NW\",'Wave Areas'!R137,0)))))))))))))))","v":0},{"$f":"IF($B$4=\"SW\",'Wave Areas'!S119,(IF($B$4=\"N\",'Wave Areas'!E82,(IF($B$4=\"NE\",'Wave Areas'!S83,(IF($B$4=\"E\",'Wave Areas'!E100,(IF($B$4=\"SE\",'Wave Areas'!S101,(IF($B$4=\"S\",'Wave Areas'!E118,(IF($B$4=\"W\",'Wave Areas'!E136,(IF($B$4=\"NW\",'Wave Areas'!S137,0)))))))))))))))","v":0},{"$f":"IF($B$4=\"SW\",'Wave Areas'!T119,(IF($B$4=\"N\",'Wave Areas'!F82,(IF($B$4=\"NE\",'Wave Areas'!T83,(IF($B$4=\"E\",'Wave Areas'!F100,(IF($B$4=\"SE\",'Wave Areas'!T101,(IF($B$4=\"S\",'Wave Areas'!F118,(IF($B$4=\"W\",'Wave Areas'!F136,(IF($B$4=\"NW\",'Wave Areas'!T137,0)))))))))))))))","v":0},{"$f":"IF($B$4=\"SW\",'Wave Areas'!U119,(IF($B$4=\"N\",'Wave Areas'!G82,(IF($B$4=\"NE\",'Wave Areas'!U83,(IF($B$4=\"E\",'Wave Areas'!G100,(IF($B$4=\"SE\",'Wave Areas'!U101,(IF($B$4=\"S\",'Wave Areas'!G118,(IF($B$4=\"W\",'Wave Areas'!G136,(IF($B$4=\"NW\",'Wave Areas'!U137,0)))))))))))))))","v":0},{"$f":"IF($B$4=\"SW\",'Wave Areas'!V119,(IF($B$4=\"N\",'Wave Areas'!H82,(IF($B$4=\"NE\",'Wave Areas'!V83,(IF($B$4=\"E\",'Wave Areas'!H100,(IF($B$4=\"SE\",'Wave Areas'!V101,(IF($B$4=\"S\",'Wave Areas'!H118,(IF($B$4=\"W\",'Wave Areas'!H136,(IF($B$4=\"NW\",'Wave Areas'!V137,0)))))))))))))))","v":0},{"$f":"IF($B$4=\"SW\",'Wave Areas'!W119,(IF($B$4=\"N\",'Wave Areas'!I82,(IF($B$4=\"NE\",'Wave Areas'!W83,(IF($B$4=\"E\",'Wave Areas'!I100,(IF($B$4=\"SE\",'Wave Areas'!W101,(IF($B$4=\"S\",'Wave Areas'!I118,(IF($B$4=\"W\",'Wave Areas'!I136,(IF($B$4=\"NW\",'Wave Areas'!W137,0)))))))))))))))","v":0},{"$f":"IF($B$4=\"SW\",'Wave Areas'!X119,(IF($B$4=\"N\",'Wave Areas'!J82,(IF($B$4=\"NE\",'Wave Areas'!X83,(IF($B$4=\"E\",'Wave Areas'!J100,(IF($B$4=\"SE\",'Wave Areas'!X101,(IF($B$4=\"S\",'Wave Areas'!J118,(IF($B$4=\"W\",'Wave Areas'!J136,(IF($B$4=\"NW\",'Wave Areas'!X137,0)))))))))))))))","v":0},{"$f":"IF($B$4=\"SW\",'Wave Areas'!Y119,(IF($B$4=\"N\",'Wave Areas'!K82,(IF($B$4=\"NE\",'Wave Areas'!Y83,(IF($B$4=\"E\",'Wave Areas'!K100,(IF($B$4=\"SE\",'Wave Areas'!Y101,(IF($B$4=\"S\",'Wave Areas'!K118,(IF($B$4=\"W\",'Wave Areas'!K136,(IF($B$4=\"NW\",'Wave Areas'!Y137,0)))))))))))))))","v":0},{"$f":"IF($B$4=\"SW\",'Wave Areas'!Z119,(IF($B$4=\"N\",'Wave Areas'!L82,(IF($B$4=\"NE\",'Wave Areas'!Z83,(IF($B$4=\"E\",'Wave Areas'!L100,(IF($B$4=\"SE\",'Wave Areas'!Z101,(IF($B$4=\"S\",'Wave Areas'!L118,(IF($B$4=\"W\",'Wave Areas'!L136,(IF($B$4=\"NW\",'Wave Areas'!Z137,0)))))))))))))))","v":0},null,4.5,{"$error":"#DIV/0!"},{"$error":"#DIV/0!"},{"$error":"#DIV/0!"},{"$error":"#DIV/0!"},{"$error":"#DIV/0!"},{"$error":"#DIV/0!"},{"$error":"#DIV/0!"},{"$error":"#DIV/0!"},{"$error":"#DIV/0!"},{"$error":"#DIV/0!"},{"$error":"#DIV/0!"},{"$error":"#DIV/0!"},null,4.5,{"$error":"#DIV/0!"},{"$error":"#DIV/0!"},{"$error":"#DIV/0!"},{"$error":"#DIV/0!"},{"$error":"#DIV/0!"},{"$error":"#DIV/0!"},{"$error":"#DIV/0!"},{"$error":"#DIV/0!"},{"$error":"#DIV/0!"},{"$error":"#DIV/0!"},{"$error":"#DIV/0!"},{"$error":"#DIV/0!"}]
[38021.4140625,5.5,0,0,315992.51578124997,{"$f":"$A27*($F$16)","v":353189.6893990385},378896.06493749993,396809.36958639702,409550.6632648026,418851.13948660716,0,0,0,2273289.4424555954,null,null,null,5.5,{"$f":"IF($B$4=\"SW\",'Wave Areas'!P120,(IF($B$4=\"N\",'Wave Areas'!B83,(IF($B$4=\"NE\",'Wave Areas'!P84,(IF($B$4=\"E\",'Wave Areas'!B101,(IF($B$4=\"SE\",'Wave Areas'!P102,(IF($B$4=\"S\",'Wave Areas'!B119,(IF($B$4=\"W\",'Wave Areas'!B137,(IF($B$4=\"NW\",'Wave Areas'!P138,0)))))))))))))))","v":0},{"$f":"IF($B$4=\"SW\",'Wave Areas'!Q120,(IF($B$4=\"N\",'Wave Areas'!C83,(IF($B$4=\"NE\",'Wave Areas'!Q84,(IF($B$4=\"E\",'Wave Areas'!C101,(IF($B$4=\"SE\",'Wave Areas'!Q102,(IF($B$4=\"S\",'Wave Areas'!C119,(IF($B$4=\"W\",'Wave Areas'!C137,(IF($B$4=\"NW\",'Wave Areas'!Q138,0)))))))))))))))","v":0},{"$f":"IF($B$4=\"SW\",'Wave Areas'!R120,(IF($B$4=\"N\",'Wave Areas'!D83,(IF($B$4=\"NE\",'Wave Areas'!R84,(IF($B$4=\"E\",'Wave Areas'!D101,(IF($B$4=\"SE\",'Wave Areas'!R102,(IF($B$4=\"S\",'Wave Areas'!D119,(IF($B$4=\"W\",'Wave Areas'!D137,(IF($B$4=\"NW\",'Wave Areas'!R138,0)))))))))))))))","v":0},{"$f":"IF($B$4=\"SW\",'Wave Areas'!S120,(IF($B$4=\"N\",'Wave Areas'!E83,(IF($B$4=\"NE\",'Wave Areas'!S84,(IF($B$4=\"E\",'Wave Areas'!E101,(IF($B$4=\"SE\",'Wave Areas'!S102,(IF($B$4=\"S\",'Wave Areas'!E119,(IF($B$4=\"W\",'Wave Areas'!E137,(IF($B$4=\"NW\",'Wave Areas'!S138,0)))))))))))))))","v":0},{"$f":"IF($B$4=\"SW\",'Wave Areas'!T120,(IF($B$4=\"N\",'Wave Areas'!F83,(IF($B$4=\"NE\",'Wave Areas'!T84,(IF($B$4=\"E\",'Wave Areas'!F101,(IF($B$4=\"SE\",'Wave Areas'!T102,(IF($B$4=\"S\",'Wave Areas'!F119,(IF($B$4=\"W\",'Wave Areas'!F137,(IF($B$4=\"NW\",'Wave Areas'!T138,0)))))))))))))))","v":0},{"$f":"IF($B$4=\"SW\",'Wave Areas'!U120,(IF($B$4=\"N\",'Wave Areas'!G83,(IF($B$4=\"NE\",'Wave Areas'!U84,(IF($B$4=\"E\",'Wave Areas'!G101,(IF($B$4=\"SE\",'Wave Areas'!U102,(IF($B$4=\"S\",'Wave Areas'!G119,(IF($B$4=\"W\",'Wave Areas'!G137,(IF($B$4=\"NW\",'Wave Areas'!U138,0)))))))))))))))","v":0},{"$f":"IF($B$4=\"SW\",'Wave Areas'!V120,(IF($B$4=\"N\",'Wave Areas'!H83,(IF($B$4=\"NE\",'Wave Areas'!V84,(IF($B$4=\"E\",'Wave Areas'!H101,(IF($B$4=\"SE\",'Wave Areas'!V102,(IF($B$4=\"S\",'Wave Areas'!H119,(IF($B$4=\"W\",'Wave Areas'!H137,(IF($B$4=\"NW\",'Wave Areas'!V138,0)))))))))))))))","v":0},{"$f":"IF($B$4=\"SW\",'Wave Areas'!W120,(IF($B$4=\"N\",'Wave Areas'!I83,(IF($B$4=\"NE\",'Wave Areas'!W84,(IF($B$4=\"E\",'Wave Areas'!I101,(IF($B$4=\"SE\",'Wave Areas'!W102,(IF($B$4=\"S\",'Wave Areas'!I119,(IF($B$4=\"W\",'Wave Areas'!I137,(IF($B$4=\"NW\",'Wave Areas'!W138,0)))))))))))))))","v":0},{"$f":"IF($B$4=\"SW\",'Wave Areas'!X120,(IF($B$4=\"N\",'Wave Areas'!J83,(IF($B$4=\"NE\",'Wave Areas'!X84,(IF($B$4=\"E\",'Wave Areas'!J101,(IF($B$4=\"SE\",'Wave Areas'!X102,(IF($B$4=\"S\",'Wave Areas'!J119,(IF($B$4=\"W\",'Wave Areas'!J137,(IF($B$4=\"NW\",'Wave Areas'!X138,0)))))))))))))))","v":0},{"$f":"IF($B$4=\"SW\",'Wave Areas'!Y120,(IF($B$4=\"N\",'Wave Areas'!K83,(IF($B$4=\"NE\",'Wave Areas'!Y84,(IF($B$4=\"E\",'Wave Areas'!K101,(IF($B$4=\"SE\",'Wave Areas'!Y102,(IF($B$4=\"S\",'Wave Areas'!K119,(IF($B$4=\"W\",'Wave Areas'!K137,(IF($B$4=\"NW\",'Wave Areas'!Y138,0)))))))))))))))","v":0},{"$f":"IF($B$4=\"SW\",'Wave Areas'!Z120,(IF($B$4=\"N\",'Wave Areas'!L83,(IF($B$4=\"NE\",'Wave Areas'!Z84,(IF($B$4=\"E\",'Wave Areas'!L101,(IF($B$4=\"SE\",'Wave Areas'!Z102,(IF($B$4=\"S\",'Wave Areas'!L119,(IF($B$4=\"W\",'Wave Areas'!L137,(IF($B$4=\"NW\",'Wave Areas'!Z138,0)))))))))))))))","v":0},null,5.5,{"$error":"#DIV/0!"},{"$error":"#DIV/0!"},{"$error":"#DIV/0!"},{"$error":"#DIV/0!"},{"$error":"#DIV/0!"},{"$error":"#DIV/0!"},{"$error":"#DIV/0!"},{"$error":"#DIV/0!"},{"$error":"#DIV/0!"},{"$error":"#DIV/0!"},{"$error":"#DIV/0!"},{"$error":"#DIV/0!"},null,5.5,{"$error":"#DIV/0!"},{"$error":"#DIV/0!"},{"$error":"#DIV/0!"},{"$error":"#DIV/0!"},{"$error":"#DIV/0!"},{"$error":"#DIV/0!"},{"$error":"#DIV/0!"},{"$error":"#DIV/0!"},{"$error":"#DIV/0!"},{"$error":"#DIV/0!"},{"$error":"#DIV/0!"},{"$error":"#DIV/0!"}]
[53104.2890625,6.5,0,0,441344.91873579542,{"$f":"$A28*($F$16/2)","v":246648.99796875002},529201.94193749991,554221.35090992646,572017.04208059201,585006.96341517859,0,0,0,2928441.2150477422,null,null,null,6.5,{"$f":"IF($B$4=\"SW\",'Wave Areas'!P121,(IF($B$4=\"N\",'Wave Areas'!B84,(IF($B$4=\"NE\",'Wave Areas'!P85,(IF($B$4=\"E\",'Wave Areas'!B102,(IF($B$4=\"SE\",'Wave Areas'!P103,(IF($B$4=\"S\",'Wave Areas'!B120,(IF($B$4=\"W\",'Wave Areas'!B138,(IF($B$4=\"NW\",'Wave Areas'!P139,0)))))))))))))))","v":0},{"$f":"IF($B$4=\"SW\",'Wave Areas'!Q121,(IF($B$4=\"N\",'Wave Areas'!C84,(IF($B$4=\"NE\",'Wave Areas'!Q85,(IF($B$4=\"E\",'Wave Areas'!C102,(IF($B$4=\"SE\",'Wave Areas'!Q103,(IF($B$4=\"S\",'Wave Areas'!C120,(IF($B$4=\"W\",'Wave Areas'!C138,(IF($B$4=\"NW\",'Wave Areas'!Q139,0)))))))))))))))","v":0},{"$f":"IF($B$4=\"SW\",'Wave Areas'!R121,(IF($B$4=\"N\",'Wave Areas'!D84,(IF($B$4=\"NE\",'Wave Areas'!R85,(IF($B$4=\"E\",'Wave Areas'!D102,(IF($B$4=\"SE\",'Wave Areas'!R103,(IF($B$4=\"S\",'Wave Areas'!D120,(IF($B$4=\"W\",'Wave Areas'!D138,(IF($B$4=\"NW\",'Wave Areas'!R139,0)))))))))))))))","v":0},{"$f":"IF($B$4=\"SW\",'Wave Areas'!S121,(IF($B$4=\"N\",'Wave Areas'!E84,(IF($B$4=\"NE\",'Wave Areas'!S85,(IF($B$4=\"E\",'Wave Areas'!E102,(IF($B$4=\"SE\",'Wave Areas'!S103,(IF($B$4=\"S\",'Wave Areas'!E120,(IF($B$4=\"W\",'Wave Areas'!E138,(IF($B$4=\"NW\",'Wave Areas'!S139,0)))))))))))))))","v":0},{"$f":"IF($B$4=\"SW\",'Wave Areas'!T121,(IF($B$4=\"N\",'Wave Areas'!F84,(IF($B$4=\"NE\",'Wave Areas'!T85,(IF($B$4=\"E\",'Wave Areas'!F102,(IF($B$4=\"SE\",'Wave Areas'!T103,(IF($B$4=\"S\",'Wave Areas'!F120,(IF($B$4=\"W\",'Wave Areas'!F138,(IF($B$4=\"NW\",'Wave Areas'!T139,0)))))))))))))))","v":0},{"$f":"IF($B$4=\"SW\",'Wave Areas'!U121,(IF($B$4=\"N\",'Wave Areas'!G84,(IF($B$4=\"NE\",'Wave Areas'!U85,(IF($B$4=\"E\",'Wave Areas'!G102,(IF($B$4=\"SE\",'Wave Areas'!U103,(IF($B$4=\"S\",'Wave Areas'!G120,(IF($B$4=\"W\",'Wave Areas'!G138,(IF($B$4=\"NW\",'Wave Areas'!U139,0)))))))))))))))","v":0},{"$f":"IF($B$4=\"SW\",'Wave Areas'!V121,(IF($B$4=\"N\",'Wave Areas'!H84,(IF($B$4=\"NE\",'Wave Areas'!V85,(IF($B$4=\"E\",'Wave Areas'!H102,(IF($B$4=\"SE\",'Wave Areas'!V103,(IF($B$4=\"S\",'Wave Areas'!H120,(IF($B$4=\"W\",'Wave Areas'!H138,(IF($B$4=\"NW\",'Wave Areas'!V139,0)))))))))))))))","v":0},{"$f":"IF($B$4=\"SW\",'Wave Areas'!W121,(IF($B$4=\"N\",'Wave Areas'!I84,(IF($B$4=\"NE\",'Wave Areas'!W85,(IF($B$4=\"E\",'Wave Areas'!I102,(IF($B$4=\"SE\",'Wave Areas'!W103,(IF($B$4=\"S\",'Wave Areas'!I120,(IF($B$4=\"W\",'Wave Areas'!I138,(IF($B$4=\"NW\",'Wave Areas'!W139,0)))))))))))))))","v":0},{"$f":"IF($B$4=\"SW\",'Wave Areas'!X121,(IF($B$4=\"N\",'Wave Areas'!J84,(IF($B$4=\"NE\",'Wave Areas'!X85,(IF($B$4=\"E\",'Wave Areas'!J102,(IF($B$4=\"SE\",'Wave Areas'!X103,(IF($B$4=\"S\",'Wave Areas'!J120,(IF($B$4=\"W\",'Wave Areas'!J138,(IF($B$4=\"NW\",'Wave Areas'!X139,0)))))))))))))))","v":0},{"$f":"IF($B$4=\"SW\",'Wave Areas'!Y121,(IF($B$4=\"N\",'Wave Areas'!K84,(IF($B$4=\"NE\",'Wave Areas'!Y85,(IF($B$4=\"E\",'Wave Areas'!K102,(IF($B$4=\"SE\",'Wave Areas'!Y103,(IF($B$4=\"S\",'Wave Areas'!K120,(IF($B$4=\"W\",'Wave Areas'!K138,(IF($B$4=\"NW\",'Wave Areas'!Y139,0)))))))))))))))","v":0},{"$f":"IF($B$4=\"SW\",'Wave Areas'!Z121,(IF($B$4=\"N\",'Wave Areas'!L84,(IF($B$4=\"NE\",'Wave Areas'!Z85,(IF($B$4=\"E\",'Wave Areas'!L102,(IF($B$4=\"SE\",'Wave Areas'!Z103,(IF($B$4=\"S\",'Wave Areas'!L120,(IF($B$4=\"W\",'Wave Areas'!L138,(IF($B$4=\"NW\",'Wave Areas'!Z139,0)))))))))))))))","v":0},null,6.5,{"$error":"#DIV/0!"},{"$error":"#DIV/0!"},{"$error":"#DIV/0!"},{"$error":"#DIV/0!"},{"$error":"#DIV/0!"},{"$error":"#DIV/0!"},{"$error":"#DIV/0!"},{"$error":"#DIV/0!"},{"$error":"#DIV/0!"},{"$error":"#DIV/0!"},{"$error":"#DIV/0!"},{"$error":"#DIV/0!"},null,6.5,{"$error":"#DIV/0!"},{"$error":"#DIV/0!"},{"$error":"#DIV/0!"},{"$error":"#DIV/0!"},{"$error":"#DIV/0!"},{"$error":"#DIV/0!"},{"$error":"#DIV/0!"},{"$error":"#DIV/0!"},{"$error":"#DIV/0!"},{"$error":"#DIV/0!"},{"$error":"#DIV/0!"},{"$error":"#DIV/0!"}]
[70700.9765625,7.5,0,0,0,{"$f":"$A29*($F$16)","v":656757.6868990385},704558.79843749991,737868.6624540441,761561.15069901303,0,0,0,0,2860746.2984895953,null,null,null,7.5,{"$f":"IF($B$4=\"SW\",'Wave Areas'!P122,(IF($B$4=\"N\",'Wave Areas'!B85,(IF($B$4=\"NE\",'Wave Areas'!P86,(IF($B$4=\"E\",'Wave Areas'!B103,(IF($B$4=\"SE\",'Wave Areas'!P104,(IF($B$4=\"S\",'Wave Areas'!B121,(IF($B$4=\"W\",'Wave Areas'!B139,(IF($B$4=\"NW\",'Wave Areas'!P140,0)))))))))))))))","v":0},{"$f":"IF($B$4=\"SW\",'Wave Areas'!Q122,(IF($B$4=\"N\",'Wave Areas'!C85,(IF($B$4=\"NE\",'Wave Areas'!Q86,(IF($B$4=\"E\",'Wave Areas'!C103,(IF($B$4=\"SE\",'Wave Areas'!Q104,(IF($B$4=\"S\",'Wave Areas'!C121,(IF($B$4=\"W\",'Wave Areas'!C139,(IF($B$4=\"NW\",'Wave Areas'!Q140,0)))))))))))))))","v":0},{"$f":"IF($B$4=\"SW\",'Wave Areas'!R122,(IF($B$4=\"N\",'Wave Areas'!D85,(IF($B$4=\"NE\",'Wave Areas'!R86,(IF($B$4=\"E\",'Wave Areas'!D103,(IF($B$4=\"SE\",'Wave Areas'!R104,(IF($B$4=\"S\",'Wave Areas'!D121,(IF($B$4=\"W\",'Wave Areas'!D139,(IF($B$4=\"NW\",'Wave Areas'!R140,0)))))))))))))))","v":0},{"$f":"IF($B$4=\"SW\",'Wave Areas'!S122,(IF($B$4=\"N\",'Wave Areas'!E85,(IF($B$4=\"NE\",'Wave Areas'!S86,(IF($B$4=\"E\",'Wave Areas'!E103,(IF($B$4=\"SE\",'Wave Areas'!S104,(IF($B$4=\"S\",'Wave Areas'!E121,(IF($B$4=\"W\",'Wave Areas'!E139,(IF($B$4=\"NW\",'Wave Areas'!S140,0)))))))))))))))","v":0},{"$f":"IF($B$4=\"SW\",'Wave Areas'!T122,(IF($B$4=\"N\",'Wave Areas'!F85,(IF($B$4=\"NE\",'Wave Areas'!T86,(IF($B$4=\"E\",'Wave Areas'!F103,(IF($B$4=\"SE\",'Wave Areas'!T104,(IF($B$4=\"S\",'Wave Areas'!F121,(IF($B$4=\"W\",'Wave Areas'!F139,(IF($B$4=\"NW\",'Wave Areas'!T140,0)))))))))))))))","v":0},{"$f":"IF($B$4=\"SW\",'Wave Areas'!U122,(IF($B$4=\"N\",'Wave Areas'!G85,(IF($B$4=\"NE\",'Wave Areas'!U86,(IF($B$4=\"E\",'Wave Areas'!G103,(IF($B$4=\"SE\",'Wave Areas'!U104,(IF($B$4=\"S\",'Wave Areas'!G121,(IF($B$4=\"W\",'Wave Areas'!G139,(IF($B$4=\"NW\",'Wave Areas'!U140,0)))))))))))))))","v":0},{"$f":"IF($B$4=\"SW\",'Wave Areas'!V122,(IF($B$4=\"N\",'Wave Areas'!H85,(IF($B$4=\"NE\",'Wave Areas'!V86,(IF($B$4=\"E\",'Wave Areas'!H103,(IF($B$4=\"SE\",'Wave Areas'!V104,(IF($B$4=\"S\",'Wave Areas'!H121,(IF($B$4=\"W\",'Wave Areas'!H139,(IF($B$4=\"NW\",'Wave Areas'!V140,0)))))))))))))))","v":0},{"$f":"IF($B$4=\"SW\",'Wave Areas'!W122,(IF($B$4=\"N\",'Wave Areas'!I85,(IF($B$4=\"NE\",'Wave Areas'!W86,(IF($B$4=\"E\",'Wave Areas'!I103,(IF($B$4=\"SE\",'Wave Areas'!W104,(IF($B$4=\"S\",'Wave Areas'!I121,(IF($B$4=\"W\",'Wave Areas'!I139,(IF($B$4=\"NW\",'Wave Areas'!W140,0)))))))))))))))","v":0},{"$f":"IF($B$4=\"SW\",'Wave Areas'!X122,(IF($B$4=\"N\",'Wave Areas'!J85,(IF($B$4=\"NE\",'Wave Areas'!X86,(IF($B$4=\"E\",'Wave Areas'!J103,(IF($B$4=\"SE\",'Wave Areas'!X104,(IF($B$4=\"S\",'Wave Areas'!J121,(IF($B$4=\"W\",'Wave Areas'!J139,(IF($B$4=\"NW\",'Wave Areas'!X140,0)))))))))))))))","v":0},{"$f":"IF($B$4=\"SW\",'Wave Areas'!Y122,(IF($B$4=\"N\",'Wave Areas'!K85,(IF($B$4=\"NE\",'Wave Areas'!Y86,(IF($B$4=\"E\",'Wave Areas'!K103,(IF($B$4=\"SE\",'Wave Areas'!Y104,(IF($B$4=\"S\",'Wave Areas'!K121,(IF($B$4=\"W\",'Wave Areas'!K139,(IF($B$4=\"NW\",'Wave Areas'!Y140,0)))))))))))))))","v":0},{"$f":"IF($B$4=\"SW\",'Wave Areas'!Z122,(IF($B$4=\"N\",'Wave Areas'!L85,(IF($B$4=\"NE\",'Wave Areas'!Z86,(IF($B$4=\"E\",'Wave Areas'!L103,(IF($B$4=\"SE\",'Wave Areas'!Z104,(IF($B$4=\"S\",'Wave Areas'!L121,(IF($B$4=\"W\",'Wave Areas'!L139,(IF($B$4=\"NW\",'Wave Areas'!Z140,0)))))))))))))))","v":0},null,7.5,{"$error":"#DIV/0!"},{"$error":"#DIV/0!"},{"$error":"#DIV/0!"},{"$error":"#DIV/0!"},{"$error":"#DIV/0!"},{"$error":"#DIV/0!"},{"$error":"#DIV/0!"},{"$error":"#DIV/0!"},{"$error":"#DIV/0!"},{"$error":"#DIV/0!"},{"$error":"#DIV/0!"},{"$error":"#DIV/0!"},null,7.5,{"$error":"#DIV/0!"},{"$error":"#DIV/0!"},{"$f":"AI29/1004","v":{"$error":"#DIV/0!"}},{"$error":"#DIV/0!"},{"$error":"#DIV/0!"},{"$error":"#DIV/0!"},{"$error":"#DIV/0!"},{"$f":"AN29/1004","v":{"$error":"#DIV/0!"}},{"$error":"#DIV/0!"},{"$error":"#DIV/0!"},{"$error":"#DIV/0!"},{"$error":"#DIV/0!"}]
[90811.4765625,8.5,0,0,0,{"$f":"$A30*($F$16)","v":843568.76228365384},904966.63443749992,947751.30421874998,978182.9891200657,0,0,0,0,3674469.6900599697,null,null,null,8.5,{"$f":"IF($B$4=\"SW\",'Wave Areas'!P123,(IF($B$4=\"N\",'Wave Areas'!B86,(IF($B$4=\"NE\",'Wave Areas'!P87,(IF($B$4=\"E\",'Wave Areas'!B104,(IF($B$4=\"SE\",'Wave Areas'!P105,(IF($B$4=\"S\",'Wave Areas'!B122,(IF($B$4=\"W\",'Wave Areas'!B140,(IF($B$4=\"NW\",'Wave Areas'!P141,0)))))))))))))))","v":0},{"$f":"IF($B$4=\"SW\",'Wave Areas'!Q123,(IF($B$4=\"N\",'Wave Areas'!C86,(IF($B$4=\"NE\",'Wave Areas'!Q87,(IF($B$4=\"E\",'Wave Areas'!C104,(IF($B$4=\"SE\",'Wave Areas'!Q105,(IF($B$4=\"S\",'Wave Areas'!C122,(IF($B$4=\"W\",'Wave Areas'!C140,(IF($B$4=\"NW\",'Wave Areas'!Q141,0)))))))))))))))","v":0},{"$f":"IF($B$4=\"SW\",'Wave Areas'!R123,(IF($B$4=\"N\",'Wave Areas'!D86,(IF($B$4=\"NE\",'Wave Areas'!R87,(IF($B$4=\"E\",'Wave Areas'!D104,(IF($B$4=\"SE\",'Wave Areas'!R105,(IF($B$4=\"S\",'Wave Areas'!D122,(IF($B$4=\"W\",'Wave Areas'!D140,(IF($B$4=\"NW\",'Wave Areas'!R141,0)))))))))))))))","v":0},{"$f":"IF($B$4=\"SW\",'Wave Areas'!S123,(IF($B$4=\"N\",'Wave Areas'!E86,(IF($B$4=\"NE\",'Wave Areas'!S87,(IF($B$4=\"E\",'Wave Areas'!E104,(IF($B$4=\"SE\",'Wave Areas'!S105,(IF($B$4=\"S\",'Wave Areas'!E122,(IF($B$4=\"W\",'Wave Areas'!E140,(IF($B$4=\"NW\",'Wave Areas'!S141,0)))))))))))))))","v":0},{"$f":"IF($B$4=\"SW\",'Wave Areas'!T123,(IF($B$4=\"N\",'Wave Areas'!F86,(IF($B$4=\"NE\",'Wave Areas'!T87,(IF($B$4=\"E\",'Wave Areas'!F104,(IF($B$4=\"SE\",'Wave Areas'!T105,(IF($B$4=\"S\",'Wave Areas'!F122,(IF($B$4=\"W\",'Wave Areas'!F140,(IF($B$4=\"NW\",'Wave Areas'!T141,0)))))))))))))))","v":0},{"$f":"IF($B$4=\"SW\",'Wave Areas'!U123,(IF($B$4=\"N\",'Wave Areas'!G86,(IF($B$4=\"NE\",'Wave Areas'!U87,(IF($B$4=\"E\",'Wave Areas'!G104,(IF($B$4=\"SE\",'Wave Areas'!U105,(IF($B$4=\"S\",'Wave Areas'!G122,(IF($B$4=\"W\",'Wave Areas'!G140,(IF($B$4=\"NW\",'Wave Areas'!U141,0)))))))))))))))","v":0},{"$f":"IF($B$4=\"SW\",'Wave Areas'!V123,(IF($B$4=\"N\",'Wave Areas'!H86,(IF($B$4=\"NE\",'Wave Areas'!V87,(IF($B$4=\"E\",'Wave Areas'!H104,(IF($B$4=\"SE\",'Wave Areas'!V105,(IF($B$4=\"S\",'Wave Areas'!H122,(IF($B$4=\"W\",'Wave Areas'!H140,(IF($B$4=\"NW\",'Wave Areas'!V141,0)))))))))))))))","v":0},{"$f":"IF($B$4=\"SW\",'Wave Areas'!W123,(IF($B$4=\"N\",'Wave Areas'!I86,(IF($B$4=\"NE\",'Wave Areas'!W87,(IF($B$4=\"E\",'Wave Areas'!I104,(IF($B$4=\"SE\",'Wave Areas'!W105,(IF($B$4=\"S\",'Wave Areas'!I122,(IF($B$4=\"W\",'Wave Areas'!I140,(IF($B$4=\"NW\",'Wave Areas'!W141,0)))))))))))))))","v":0},{"$f":"IF($B$4=\"SW\",'Wave Areas'!X123,(IF($B$4=\"N\",'Wave Areas'!J86,(IF($B$4=\"NE\",'Wave Areas'!X87,(IF($B$4=\"E\",'Wave Areas'!J104,(IF($B$4=\"SE\",'Wave Areas'!X105,(IF($B$4=\"S\",'Wave Areas'!J122,(IF($B$4=\"W\",'Wave Areas'!J140,(IF($B$4=\"NW\",'Wave Areas'!X141,0)))))))))))))))","v":0},{"$f":"IF($B$4=\"SW\",'Wave Areas'!Y123,(IF($B$4=\"N\",'Wave Areas'!K86,(IF($B$4=\"NE\",'Wave Areas'!Y87,(IF($B$4=\"E\",'Wave Areas'!K104,(IF($B$4=\"SE\",'Wave Areas'!Y105,(IF($B$4=\"S\",'Wave Areas'!K122,(IF($B$4=\"W\",'Wave Areas'!K140,(IF($B$4=\"NW\",'Wave Areas'!Y141,0)))))))))))))))","v":0},{"$f":"IF($B$4=\"SW\",'Wave Areas'!Z123,(IF($B$4=\"N\",'Wave Areas'!L86,(IF($B$4=\"NE\",'Wave Areas'!Z87,(IF($B$4=\"E\",'Wave Areas'!L104,(IF($B$4=\"SE\",'Wave Areas'!Z105,(IF($B$4=\"S\",'Wave Areas'!L122,(IF($B$4=\"W\",'Wave Areas'!L140,(IF($B$4=\"NW\",'Wave Areas'!Z141,0)))))))))))))))","v":0},null,8.5,{"$error":"#DIV/0!"},{"$error":"#DIV/0!"},{"$error":"#DIV/0!"},{"$error":"#DIV/0!"},{"$error":"#DIV/0!"},{"$error":"#DIV/0!"},{"$error":"#DIV/0!"},{"$error":"#DIV/0!"},{"$error":"#DIV/0!"},{"$error":"#DIV/0!"},{"$error":"#DIV/0!"},{"$error":"#DIV/0!"},null,8.5,{"$error":"#DIV/0!"},{"$error":"#DIV/0!"},{"$f":"AI30/1004","v":{"$error":"#DIV/0!"}},{"$error":"#DIV/0!"},{"$error":"#DIV/0!"},{"$error":"#DIV/0!"},{"$error":"#DIV/0!"},{"$f":"AN30/1004","v":{"$error":"#DIV/0!"}},{"$error":"#DIV/0!"},{"$error":"#DIV/0!"},{"$error":"#DIV/0!"},{"$error":"#DIV/0!"}]
[113435.7890625,9.5,0,0,0,0,1130425.4499374998,1183869.276204044,0,0,0,0,0,2314294.7261415441,null,null,null,9.5,{"$f":"IF($B$4=\"SW\",'Wave Areas'!P124,(IF($B$4=\"N\",'Wave Areas'!B87,(IF($B$4=\"NE\",'Wave Areas'!P88,(IF($B$4=\"E\",'Wave Areas'!B105,(IF($B$4=\"SE\",'Wave Areas'!P106,(IF($B$4=\"S\",'Wave Areas'!B123,(IF($B$4=\"W\",'Wave Areas'!B141,(IF($B$4=\"NW\",'Wave Areas'!P142,0)))))))))))))))","v":0},{"$f":"IF($B$4=\"SW\",'Wave Areas'!Q124,(IF($B$4=\"N\",'Wave Areas'!C87,(IF($B$4=\"NE\",'Wave Areas'!Q88,(IF($B$4=\"E\",'Wave Areas'!C105,(IF($B$4=\"SE\",'Wave Areas'!Q106,(IF($B$4=\"S\",'Wave Areas'!C123,(IF($B$4=\"W\",'Wave Areas'!C141,(IF($B$4=\"NW\",'Wave Areas'!Q142,0)))))))))))))))","v":0},{"$f":"IF($B$4=\"SW\",'Wave Areas'!R124,(IF($B$4=\"N\",'Wave Areas'!D87,(IF($B$4=\"NE\",'Wave Areas'!R88,(IF($B$4=\"E\",'Wave Areas'!D105,(IF($B$4=\"SE\",'Wave Areas'!R106,(IF($B$4=\"S\",'Wave Areas'!D123,(IF($B$4=\"W\",'Wave Areas'!D141,(IF($B$4=\"NW\",'Wave Areas'!R142,0)))))))))))))))","v":0},{"$f":"IF($B$4=\"SW\",'Wave Areas'!S124,(IF($B$4=\"N\",'Wave Areas'!E87,(IF($B$4=\"NE\",'Wave Areas'!S88,(IF($B$4=\"E\",'Wave Areas'!E105,(IF($B$4=\"SE\",'Wave Areas'!S106,(IF($B$4=\"S\",'Wave Areas'!E123,(IF($B$4=\"W\",'Wave Areas'!E141,(IF($B$4=\"NW\",'Wave Areas'!S142,0)))))))))))))))","v":0},{"$f":"IF($B$4=\"SW\",'Wave Areas'!T124,(IF($B$4=\"N\",'Wave Areas'!F87,(IF($B$4=\"NE\",'Wave Areas'!T88,(IF($B$4=\"E\",'Wave Areas'!F105,(IF($B$4=\"SE\",'Wave Areas'!T106,(IF($B$4=\"S\",'Wave Areas'!F123,(IF($B$4=\"W\",'Wave Areas'!F141,(IF($B$4=\"NW\",'Wave Areas'!T142,0)))))))))))))))","v":0},{"$f":"IF($B$4=\"SW\",'Wave Areas'!U124,(IF($B$4=\"N\",'Wave Areas'!G87,(IF($B$4=\"NE\",'Wave Areas'!U88,(IF($B$4=\"E\",'Wave Areas'!G105,(IF($B$4=\"SE\",'Wave Areas'!U106,(IF($B$4=\"S\",'Wave Areas'!G123,(IF($B$4=\"W\",'Wave Areas'!G141,(IF($B$4=\"NW\",'Wave Areas'!U142,0)))))))))))))))","v":0},{"$f":"IF($B$4=\"SW\",'Wave Areas'!V124,(IF($B$4=\"N\",'Wave Areas'!H87,(IF($B$4=\"NE\",'Wave Areas'!V88,(IF($B$4=\"E\",'Wave Areas'!H105,(IF($B$4=\"SE\",'Wave Areas'!V106,(IF($B$4=\"S\",'Wave Areas'!H123,(IF($B$4=\"W\",'Wave Areas'!H141,(IF($B$4=\"NW\",'Wave Areas'!V142,0)))))))))))))))","v":0},{"$f":"IF($B$4=\"SW\",'Wave Areas'!W124,(IF($B$4=\"N\",'Wave Areas'!I87,(IF($B$4=\"NE\",'Wave Areas'!W88,(IF($B$4=\"E\",'Wave Areas'!I105,(IF($B$4=\"SE\",'Wave Areas'!W106,(IF($B$4=\"S\",'Wave Areas'!I123,(IF($B$4=\"W\",'Wave Areas'!I141,(IF($B$4=\"NW\",'Wave Areas'!W142,0)))))))))))))))","v":0},{"$f":"IF($B$4=\"SW\",'Wave Areas'!X124,(IF($B$4=\"N\",'Wave Areas'!J87,(IF($B$4=\"NE\",'Wave Areas'!X88,(IF($B$4=\"E\",'Wave Areas'!J105,(IF($B$4=\"SE\",'Wave Areas'!X106,(IF($B$4=\"S\",'Wave Areas'!J123,(IF($B$4=\"W\",'Wave Areas'!J141,(IF($B$4=\"NW\",'Wave Areas'!X142,0)))))))))))))))","v":0},{"$f":"IF($B$4=\"SW\",'Wave Areas'!Y124,(IF($B$4=\"N\",'Wave Areas'!K87,(IF($B$4=\"NE\",'Wave Areas'!Y88,(IF($B$4=\"E\",'Wave Areas'!K105,(IF($B$4=\"SE\",'Wave Areas'!Y106,(IF($B$4=\"S\",'Wave Areas'!K123,(IF($B$4=\"W\",'Wave Areas'!K141,(IF($B$4=\"NW\",'Wave Areas'!Y142,0)))))))))))))))","v":0},{"$f":"IF($B$4=\"SW\",'Wave Areas'!Z124,(IF($B$4=\"N\",'Wave Areas'!L87,(IF($B$4=\"NE\",'Wave Areas'!Z88,(IF($B$4=\"E\",'Wave Areas'!L105,(IF($B$4=\"SE\",'Wave Areas'!Z106,(IF($B$4=\"S\",'Wave Areas'!L123,(IF($B$4=\"W\",'Wave Areas'!L141,(IF($B$4=\"NW\",'Wave Areas'!Z142,0)))))))))))))))","v":0},null,9.5,{"$error":"#DIV/0!"},{"$error":"#DIV/0!"},{"$error":"#DIV/0!"},{"$error":"#DIV/0!"},{"$error":"#DIV/0!"},{"$error":"#DIV/0!"},{"$error":"#DIV/0!"},{"$error":"#DIV/0!"},{"$error":"#DIV/0!"},{"$error":"#DIV/0!"},{"$error":"#DIV/0!"},{"$error":"#DIV/0!"},null,9.5,{"$error":"#DIV/0!"},{"$error":"#DIV/0!"},{"$f":"AI31/1004","v":{"$error":"#DIV/0!"}},{"$f":"AJ31/1004","v":{"$error":"#DIV/0!"}},{"$f":"G31*AJ31","v":{"$error":"#DIV/0!"}},{"$f":"H31*AK31","v":{"$error":"#DIV/0!"}},{"$f":"AM31/1004","v":{"$error":"#DIV/0!"}},{"$f":"AN31/1004","v":{"$error":"#DIV/0!"}},{"$error":"#DIV/0!"},{"$error":"#DIV/0!"},{"$error":"#DIV/0!"},{"$error":"#DIV/0!"}]
[138573.9140625,10.5,0,0,0,0,0,0,0,0,0,0,0,0,null,null,null,10.5,{"$f":"IF($B$4=\"SW\",'Wave Areas'!P125,(IF($B$4=\"N\",'Wave Areas'!B88,(IF($B$4=\"NE\",'Wave Areas'!P89,(IF($B$4=\"E\",'Wave Areas'!B106,(IF($B$4=\"SE\",'Wave Areas'!P107,(IF($B$4=\"S\",'Wave Areas'!B124,(IF($B$4=\"W\",'Wave Areas'!B142,(IF($B$4=\"NW\",'Wave Areas'!P143,0)))))))))))))))","v":0},{"$f":"IF($B$4=\"SW\",'Wave Areas'!Q125,(IF($B$4=\"N\",'Wave Areas'!C88,(IF($B$4=\"NE\",'Wave Areas'!Q89,(IF($B$4=\"E\",'Wave Areas'!C106,(IF($B$4=\"SE\",'Wave Areas'!Q107,(IF($B$4=\"S\",'Wave Areas'!C124,(IF($B$4=\"W\",'Wave Areas'!C142,(IF($B$4=\"NW\",'Wave Areas'!Q143,0)))))))))))))))","v":0},{"$f":"IF($B$4=\"SW\",'Wave Areas'!R125,(IF($B$4=\"N\",'Wave Areas'!D88,(IF($B$4=\"NE\",'Wave Areas'!R89,(IF($B$4=\"E\",'Wave Areas'!D106,(IF($B$4=\"SE\",'Wave Areas'!R107,(IF($B$4=\"S\",'Wave Areas'!D124,(IF($B$4=\"W\",'Wave Areas'!D142,(IF($B$4=\"NW\",'Wave Areas'!R143,0)))))))))))))))","v":0},{"$f":"IF($B$4=\"SW\",'Wave Areas'!S125,(IF($B$4=\"N\",'Wave Areas'!E88,(IF($B$4=\"NE\",'Wave Areas'!S89,(IF($B$4=\"E\",'Wave Areas'!E106,(IF($B$4=\"SE\",'Wave Areas'!S107,(IF($B$4=\"S\",'Wave Areas'!E124,(IF($B$4=\"W\",'Wave Areas'!E142,(IF($B$4=\"NW\",'Wave Areas'!S143,0)))))))))))))))","v":0},{"$f":"IF($B$4=\"SW\",'Wave Areas'!T125,(IF($B$4=\"N\",'Wave Areas'!F88,(IF($B$4=\"NE\",'Wave Areas'!T89,(IF($B$4=\"E\",'Wave Areas'!F106,(IF($B$4=\"SE\",'Wave Areas'!T107,(IF($B$4=\"S\",'Wave Areas'!F124,(IF($B$4=\"W\",'Wave Areas'!F142,(IF($B$4=\"NW\",'Wave Areas'!T143,0)))))))))))))))","v":0},{"$f":"IF($B$4=\"SW\",'Wave Areas'!U125,(IF($B$4=\"N\",'Wave Areas'!G88,(IF($B$4=\"NE\",'Wave Areas'!U89,(IF($B$4=\"E\",'Wave Areas'!G106,(IF($B$4=\"SE\",'Wave Areas'!U107,(IF($B$4=\"S\",'Wave Areas'!G124,(IF($B$4=\"W\",'Wave Areas'!G142,(IF($B$4=\"NW\",'Wave Areas'!U143,0)))))))))))))))","v":0},{"$f":"IF($B$4=\"SW\",'Wave Areas'!V125,(IF($B$4=\"N\",'Wave Areas'!H88,(IF($B$4=\"NE\",'Wave Areas'!V89,(IF($B$4=\"E\",'Wave Areas'!H106,(IF($B$4=\"SE\",'Wave Areas'!V107,(IF($B$4=\"S\",'Wave Areas'!H124,(IF($B$4=\"W\",'Wave Areas'!H142,(IF($B$4=\"NW\",'Wave Areas'!V143,0)))))))))))))))","v":0},{"$f":"IF($B$4=\"SW\",'Wave Areas'!W125,(IF($B$4=\"N\",'Wave Areas'!I88,(IF($B$4=\"NE\",'Wave Areas'!W89,(IF($B$4=\"E\",'Wave Areas'!I106,(IF($B$4=\"SE\",'Wave Areas'!W107,(IF($B$4=\"S\",'Wave Areas'!I124,(IF($B$4=\"W\",'Wave Areas'!I142,(IF($B$4=\"NW\",'Wave Areas'!W143,0)))))))))))))))","v":0},{"$f":"IF($B$4=\"SW\",'Wave Areas'!X125,(IF($B$4=\"N\",'Wave Areas'!J88,(IF($B$4=\"NE\",'Wave Areas'!X89,(IF($B$4=\"E\",'Wave Areas'!J106,(IF($B$4=\"SE\",'Wave Areas'!X107,(IF($B$4=\"S\",'Wave Areas'!J124,(IF($B$4=\"W\",'Wave Areas'!J142,(IF($B$4=\"NW\",'Wave Areas'!X143,0)))))))))))))))","v":0},{"$f":"IF($B$4=\"SW\",'Wave Areas'!Y125,(IF($B$4=\"N\",'Wave Areas'!K88,(IF($B$4=\"NE\",'Wave Areas'!Y89,(IF($B$4=\"E\",'Wave Areas'!K106,(IF($B$4=\"SE\",'Wave Areas'!Y107,(IF($B$4=\"S\",'Wave Areas'!K124,(IF($B$4=\"W\",'Wave Areas'!K142,(IF($B$4=\"NW\",'Wave Areas'!Y143,0)))))))))))))))","v":0},{"$f":"IF($B$4=\"SW\",'Wave Areas'!Z125,(IF($B$4=\"N\",'Wave Areas'!L88,(IF($B$4=\"NE\",'Wave Areas'!Z89,(IF($B$4=\"E\",'Wave Areas'!L106,(IF($B$4=\"SE\",'Wave Areas'!Z107,(IF($B$4=\"S\",'Wave Areas'!L124,(IF($B$4=\"W\",'Wave Areas'!L142,(IF($B$4=\"NW\",'Wave Areas'!Z143,0)))))))))))))))","v":0},null,10.5,{"$f":"S32/($AC$33)","v":{"$error":"#DIV/0!"}},{"$error":"#DIV/0!"},{"$error":"#DIV/0!"},{"$error":"#DIV/0!"},{"$error":"#DIV/0!"},{"$error":"#DIV/0!"},{"$error":"#DIV/0!"},{"$error":"#DIV/0!"},{"$error":"#DIV/0!"},{"$error":"#DIV/0!"},{"$error":"#DIV/0!"},{"$error":"#DIV/0!"},null,10.5,{"$error":"#DIV/0!"},{"$error":"#DIV/0!"},{"$f":"AI32/1004","v":{"$error":"#DIV/0!"}},{"$f":"AJ32/1004","v":{"$error":"#DIV/0!"}},{"$f":"AK32/1004","v":{"$error":"#DIV/0!"}},{"$f":"AL32/1004","v":{"$error":"#DIV/0!"}},{"$f":"AM32/1004","v":{"$error":"#DIV/0!"}},{"$f":"AN32/1004","v":{"$error":"#DIV/0!"}},{"$error":"#DIV/0!"},{"$error":"#DIV/0!"},{"$error":"#DIV/0!"},{"$error":"#DIV/0!"}]
["Sub Totals",null,{"$f":"SUM(C22:C32)","v":17165.748214285715},362355.59765625,1188236.3196732954,2463571.0566346156,4164725.341874999,4361623.6491727941,3276405.3061184208,1571557.1679910715,0,0,0,{"$f":"SUM(N22:N31)","v":17405640.18733573},"Total",null,null,"Total Occurences",null,null,null,null,null,null,null,null,null,null,{"$f":"SUM(S22:AC32)","v":0},null,null,null,null,null,null,null,null,null,null,null,null,null,null,null,"Sub Totals",{"$f":"SUM(AT22:AT32)","v":{"$error":"#DIV/0!"}},{"$error":"#DIV/0!"},{"$error":"#DIV/0!"},{"$error":"#DIV/0!"},{"$error":"#DIV/0!"},{"$error":"#DIV/0!"},{"$error":"#DIV/0!"},{"$error":"#DIV/0!"},{"$error":"#DIV/0!"},{"$error":"#DIV/0!"},{"$error":"#DIV/0!"},{"$f":"SUM(BE22:BE31)","v":{"$error":"#DIV/0!"}},"Total"]
[]
[null,null,null,null,null,null,null,null,null,null,null,null,null,null,null,null,null,null,null,null,null,null,null,null,null,null,null,null,null,null,null,null,null,null,null,null,null,null,null,null,null,null,null,null,null,null,null,null,null,null,null,null,null,null,null,null,"Min","Max"]
[null,null,null,null,null,null,null,null,null,null,null,null,null,null,null,null,null,null,null,null,null,null,null,null,null,null,null,null,null,null,null,null,null,null,null,null,null,null,null,null,null,null,null,null,null,null,null,null,null,null,null,null,null,"Relevant Wave Heights",null,null,{"$f":"IF((AND($B$6>AS22,$B$6<AS23)),AS22,(IF((AND($B$6>AS23,$B$6<AS24)),AS23,(IF((AND($B$6>AS24,$B$6<AS25)),AS24,(IF((AND($B$6>AS25,$B$6<AS26)),AS25,(IF((AND($B$6>AS26,$B$6<AS27)),AS26,(IF((AND($B$6>AS27,$B$6<AS28)),AS27,(IF((AND($B$6>AS28,$B$6<AS29)),AS28,(IF((AND($B$6>AS29,$B$6<AS30)),AS29,(IF((AND($B$6>AS30,$B$6<AS31)),AS30,(IF((AND($B$6>AS31,$B$6<AS32)),AS31,(IF($B$6>AS32,AS32,\"\")))))))))))))))))))))","v":10.5},{"$f":"IF((AND($B$6>AS22,$B$6<AS23)),AS23,(IF((AND($B$6>AS23,$B$6<AS24)),AS24,(IF((AND($B$6>AS24,$B$6<AS25)),AS25,(IF((AND($B$6>AS25,$B$6<AS26)),AS26,(IF((AND($B$6>AS26,$B$6<AS27)),AS27,(IF((AND($B$6>AS27,$B$6<AS28)),AS28,(IF((AND($B$6>AS28,$B$6<AS29)),AS29,(IF((AND($B$6>AS29,$B$6<AS30)),AS30,(IF((AND($B$6>AS30,$B$6<AS31)),AS31,(IF((AND($B$6>AS31,$B$6<AS32)),AS32,(IF($B$6>AS32,AS32,\"\")))))))))))))))))))))","v":10.5}]
[null,null,null,null,null,null,null,null,null,null,null,null,null,null,null,null,null,null,null,null,null,null,null,null,null,null,null,null,null,null,null,null,null,null,null,null,null,null,null,null,null,null,null,null,null,null,null,null,null,null,null,null,null,"Relevant Power (kW/m)",null,null,{"$f":"(((($B$6-BE36)*((VLOOKUP(BF36,AS22:BE32,13,FALSE))-(VLOOKUP(BE36,AS22:BE32,13,FALSE))))/(BF36-BE36))+(VLOOKUP(BE36,AS22:BE32,13,FALSE)))*0.001","v":{"$error":"#VALUE!"}}]
[]
["Deep"]
[]
["Wave Velocity C","(m/s)",{"$f":"(C42/C43)","v":5.0344574780058648},6.4728739002932549,7.9112903225806459,9.3497067448680351,10.788123167155426,12.226539589442817,13.664956011730204,15.103372434017595,16.541788856304986,17.980205278592376,19.418621700879768]
["Wave Length (λ)","(m)",{"$f":"(9.81/(2*3.41))*C43^2","v":17.620601173020528},29.127932551319649,43.512096774193552,60.773093841642229,80.910923753665699,103.92558651026394,129.81708211143695,158.58541055718476,190.23057184750735,224.75256598240469,262.15139296187687]
["Wave Period (T)","(s)",3.5,4.5,5.5,6.5,7.5,8.5,9.5,10.5,11.5,12.5,13.5]
[]
["Energy","Wave Height (Hs)","Power",null,null,null,null,null,null,null,null,null,null,"Total Power",null,null,null,"North Sea Area 10",null,null,null,null,null,null,null,null,null,null,null,null,"North Sea Area 10",null,null,null,null,null,null,null,null,null,null,null,null,null,"North Sea Area 10"]
["(J)","(m)","(W/m)",null,null,null,null,null,null,null,null,null,null,"(W/m)",null,null,null,"Number of Occurences",null,null,null,null,null,null,null,null,null,null,null,null,"Percentage of Occurences",null,null,null,null,null,null,null,null,null,null,null,null,null,"Annual Power (W/m)",null,null,null,null,null,null,null,null,null,null,null,"Total Power"]
[{"$f":"(1025*9.81*B47^2)/8","v":314.2265625},0.5,{"$f":"$A47*($C$41)/2","v":790.98013368310114},{"$f":"$A47*($D$41)/2","v":1016.9744575925586},{"$f":"$A47*($E$41)/2","v":1242.9687815020163},{"$f":"$A47*($F$41)/2","v":1468.9631054114736},{"$f":"$A47*($G$41)/2","v":1694.9574293209312},{"$f":"$A47*($H$41)/2","v":1920.9517532303889},0,0,0,0,0,{"$f":"SUM(C47:M47)","v":8135.7956607404703},null,null,null,"Hs                      T",3.5,4.5,5.5,6.5,7.5,8.5,9.5,10.5,11.5,12.5,13.5,null,"Hs                 T",3.5,4.5,5.5,6.5,7.5,8.5,9.5,10.5,11.5,12.5,13.5,"Availability",null,"Hs           T",3.5,4.5,5.5,6.5,7.5,8.5,9.5,10.5,11.5,12.5,13.5,"(W/m)"]
[2828.0390625,1.5,{"$f":"$B48*($C$16/2)","v":4.0971428571428579},{"$f":"$A48*($D$41)/2","v":9152.7701183330282},11186.719033518146,13220.667948703262,15254.616863888381,{"$f":"$A48*($G$41)/2","v":15254.616863888381},{"$f":"$A48*($I$41)/2","v":19322.514694258614},{"$f":"$A48*($J$41)/2","v":21356.46360944373},0,0,0,104752.46627489068,null,null,null,0.5,{"$f":"IF($B$4=\"SW\",'Wave Areas'!P115,(IF($B$4=\"N\",'Wave Areas'!B78,(IF($B$4=\"NE\",'Wave Areas'!P79,(IF($B$4=\"E\",'Wave Areas'!B96,(IF($B$4=\"SE\",'Wave Areas'!P97,(IF($B$4=\"S\",'Wave Areas'!B114,(IF($B$4=\"W\",'Wave Areas'!B132,(IF($B$4=\"NW\",'Wave Areas'!P133,0)))))))))))))))","v":0},{"$f":"IF($B$4=\"SW\",'Wave Areas'!Q115,(IF($B$4=\"N\",'Wave Areas'!C78,(IF($B$4=\"NE\",'Wave Areas'!Q79,(IF($B$4=\"E\",'Wave Areas'!C96,(IF($B$4=\"SE\",'Wave Areas'!Q97,(IF($B$4=\"S\",'Wave Areas'!C114,(IF($B$4=\"W\",'Wave Areas'!C132,(IF($B$4=\"NW\",'Wave Areas'!Q133,0)))))))))))))))","v":0},{"$f":"IF($B$4=\"SW\",'Wave Areas'!R115,(IF($B$4=\"N\",'Wave Areas'!D78,(IF($B$4=\"NE\",'Wave Areas'!R79,(IF($B$4=\"E\",'Wave Areas'!D96,(IF($B$4=\"SE\",'Wave Areas'!R97,(IF($B$4=\"S\",'Wave Areas'!D114,(IF($B$4=\"W\",'Wave Areas'!D132,(IF($B$4=\"NW\",'Wave Areas'!R133,0)))))))))))))))","v":0},{"$f":"IF($B$4=\"SW\",'Wave Areas'!S115,(IF($B$4=\"N\",'Wave Areas'!E78,(IF($B$4=\"NE\",'Wave Areas'!S79,(IF($B$4=\"E\",'Wave Areas'!E96,(IF($B$4=\"SE\",'Wave Areas'!S97,(IF($B$4=\"S\",'Wave Areas'!E114,(IF($B$4=\"W\",'Wave Areas'!E132,(IF($B$4=\"NW\",'Wave Areas'!S133,0)))))))))))))))","v":0},{"$f":"IF($B$4=\"SW\",'Wave Areas'!T115,(IF($B$4=\"N\",'Wave Areas'!F78,(IF($B$4=\"NE\",'Wave Areas'!T79,(IF($B$4=\"E\",'Wave Areas'!F96,(IF($B$4=\"SE\",'Wave Areas'!T97,(IF($B$4=\"S\",'Wave Areas'!F114,(IF($B$4=\"W\",'Wave Areas'!F132,(IF($B$4=\"NW\",'Wave Areas'!T133,0)))))))))))))))","v":0},{"$f":"IF($B$4=\"SW\",'Wave Areas'!U115,(IF($B$4=\"N\",'Wave Areas'!G78,(IF($B$4=\"NE\",'Wave Areas'!U79,(IF($B$4=\"E\",'Wave Areas'!G96,(IF($B$4=\"SE\",'Wave Areas'!U97,(IF($B$4=\"S\",'Wave Areas'!G114,(IF($B$4=\"W\",'Wave Areas'!G132,(IF($B$4=\"NW\",'Wave Areas'!U133,0)))))))))))))))","v":0},{"$f":"IF($B$4=\"SW\",'Wave Areas'!V115,(IF($B$4=\"N\",'Wave Areas'!H78,(IF($B$4=\"NE\",'Wave Areas'!V79,(IF($B$4=\"E\",'Wave Areas'!H96,(IF($B$4=\"SE\",'Wave Areas'!V97,(IF($B$4=\"S\",'Wave Areas'!H114,(IF($B$4=\"W\",'Wave Areas'!H132,(IF($B$4=\"NW\",'Wave Areas'!V133,0)))))))))))))))","v":0},{"$f":"IF($B$4=\"SW\",'Wave Areas'!W115,(IF($B$4=\"N\",'Wave Areas'!I78,(IF($B$4=\"NE\",'Wave Areas'!W79,(IF($B$4=\"E\",'Wave Areas'!I96,(IF($B$4=\"SE\",'Wave Areas'!W97,(IF($B$4=\"S\",'Wave Areas'!I114,(IF($B$4=\"W\",'Wave Areas'!I132,(IF($B$4=\"NW\",'Wave Areas'!W133,0)))))))))))))))","v":0},{"$f":"IF($B$4=\"SW\",'Wave Areas'!X115,(IF($B$4=\"N\",'Wave Areas'!J78,(IF($B$4=\"NE\",'Wave Areas'!X79,(IF($B$4=\"E\",'Wave Areas'!J96,(IF($B$4=\"SE\",'Wave Areas'!X97,(IF($B$4=\"S\",'Wave Areas'!J114,(IF($B$4=\"W\",'Wave Areas'!J132,(IF($B$4=\"NW\",'Wave Areas'!X133,0)))))))))))))))","v":0},{"$f":"IF($B$4=\"SW\",'Wave Areas'!Y115,(IF($B$4=\"N\",'Wave Areas'!K78,(IF($B$4=\"NE\",'Wave Areas'!Y79,(IF($B$4=\"E\",'Wave Areas'!K96,(IF($B$4=\"SE\",'Wave Areas'!Y97,(IF($B$4=\"S\",'Wave Areas'!K114,(IF($B$4=\"W\",'Wave Areas'!K132,(IF($B$4=\"NW\",'Wave Areas'!Y133,0)))))))))))))))","v":0},{"$f":"IF($B$4=\"SW\",'Wave Areas'!Z115,(IF($B$4=\"N\",'Wave Areas'!L78,(IF($B$4=\"NE\",'Wave Areas'!Z79,(IF($B$4=\"E\",'Wave Areas'!L96,(IF($B$4=\"SE\",'Wave Areas'!Z97,(IF($B$4=\"S\",'Wave Areas'!L114,(IF($B$4=\"W\",'Wave Areas'!L132,(IF($B$4=\"NW\",'Wave Areas'!Z133,0)))))))))))))))","v":0},null,0.5,{"$f":"S48/$AC$59","v":{"$error":"#DIV/0!"}},{"$f":"T48/$AC$59","v":{"$error":"#DIV/0!"}},{"$error":"#DIV/0!"},{"$error":"#DIV/0!"},{"$error":"#DIV/0!"},{"$error":"#DIV/0!"},{"$error":"#DIV/0!"},{"$error":"#DIV/0!"},{"$error":"#DIV/0!"},{"$error":"#DIV/0!"},{"$error":"#DIV/0!"},{"$f":"SUM(AF48:AP48)","v":{"$error":"#DIV/0!"}},null,0.5,{"$f":"C47*AF48","v":{"$error":"#DIV/0!"}},{"$error":"#DIV/0!"},{"$error":"#DIV/0!"},{"$error":"#DIV/0!"},{"$error":"#DIV/0!"},{"$error":"#DIV/0!"},{"$f":"AM48/1004","v":{"$error":"#DIV/0!"}},{"$f":"AN48/1004","v":{"$error":"#DIV/0!"}},{"$f":"AO48/1004","v":{"$error":"#DIV/0!"}},{"$f":"AP48/1004","v":{"$error":"#DIV/0!"}},{"$f":"AQ44/1004","v":0},{"$f":"SUM(AT48:BD48)","v":{"$error":"#DIV/0!"}}]
[7855.6640625,2.5,0,{"$f":"$A49*($D$41)/2","v":25424.361439813965},31074.219537550405,36724.077635286842,42373.935733023282,{"$f":"$A49*($H$41)/2","v":48023.793830759721},53673.651928496147,59323.510026232587,0,0,0,296617.55013116292,null,null,null,1.5,{"$f":"IF($B$4=\"SW\",'Wave Areas'!P116,(IF($B$4=\"N\",'Wave Areas'!B79,(IF($B$4=\"NE\",'Wave Areas'!P80,(IF($B$4=\"E\",'Wave Areas'!B97,(IF($B$4=\"SE\",'Wave Areas'!P98,(IF($B$4=\"S\",'Wave Areas'!B115,(IF($B$4=\"W\",'Wave Areas'!B133,(IF($B$4=\"NW\",'Wave Areas'!P134,0)))))))))))))))","v":0},{"$f":"IF($B$4=\"SW\",'Wave Areas'!Q116,(IF($B$4=\"N\",'Wave Areas'!C79,(IF($B$4=\"NE\",'Wave Areas'!Q80,(IF($B$4=\"E\",'Wave Areas'!C97,(IF($B$4=\"SE\",'Wave Areas'!Q98,(IF($B$4=\"S\",'Wave Areas'!C115,(IF($B$4=\"W\",'Wave Areas'!C133,(IF($B$4=\"NW\",'Wave Areas'!Q134,0)))))))))))))))","v":0},{"$f":"IF($B$4=\"SW\",'Wave Areas'!R116,(IF($B$4=\"N\",'Wave Areas'!D79,(IF($B$4=\"NE\",'Wave Areas'!R80,(IF($B$4=\"E\",'Wave Areas'!D97,(IF($B$4=\"SE\",'Wave Areas'!R98,(IF($B$4=\"S\",'Wave Areas'!D115,(IF($B$4=\"W\",'Wave Areas'!D133,(IF($B$4=\"NW\",'Wave Areas'!R134,0)))))))))))))))","v":0},{"$f":"IF($B$4=\"SW\",'Wave Areas'!S116,(IF($B$4=\"N\",'Wave Areas'!E79,(IF($B$4=\"NE\",'Wave Areas'!S80,(IF($B$4=\"E\",'Wave Areas'!E97,(IF($B$4=\"SE\",'Wave Areas'!S98,(IF($B$4=\"S\",'Wave Areas'!E115,(IF($B$4=\"W\",'Wave Areas'!E133,(IF($B$4=\"NW\",'Wave Areas'!S134,0)))))))))))))))","v":0},{"$f":"IF($B$4=\"SW\",'Wave Areas'!T116,(IF($B$4=\"N\",'Wave Areas'!F79,(IF($B$4=\"NE\",'Wave Areas'!T80,(IF($B$4=\"E\",'Wave Areas'!F97,(IF($B$4=\"SE\",'Wave Areas'!T98,(IF($B$4=\"S\",'Wave Areas'!F115,(IF($B$4=\"W\",'Wave Areas'!F133,(IF($B$4=\"NW\",'Wave Areas'!T134,0)))))))))))))))","v":0},{"$f":"IF($B$4=\"SW\",'Wave Areas'!U116,(IF($B$4=\"N\",'Wave Areas'!G79,(IF($B$4=\"NE\",'Wave Areas'!U80,(IF($B$4=\"E\",'Wave Areas'!G97,(IF($B$4=\"SE\",'Wave Areas'!U98,(IF($B$4=\"S\",'Wave Areas'!G115,(IF($B$4=\"W\",'Wave Areas'!G133,(IF($B$4=\"NW\",'Wave Areas'!U134,0)))))))))))))))","v":0},{"$f":"IF($B$4=\"SW\",'Wave Areas'!V116,(IF($B$4=\"N\",'Wave Areas'!H79,(IF($B$4=\"NE\",'Wave Areas'!V80,(IF($B$4=\"E\",'Wave Areas'!H97,(IF($B$4=\"SE\",'Wave Areas'!V98,(IF($B$4=\"S\",'Wave Areas'!H115,(IF($B$4=\"W\",'Wave Areas'!H133,(IF($B$4=\"NW\",'Wave Areas'!V134,0)))))))))))))))","v":0},{"$f":"IF($B$4=\"SW\",'Wave Areas'!W116,(IF($B$4=\"N\",'Wave Areas'!I79,(IF($B$4=\"NE\",'Wave Areas'!W80,(IF($B$4=\"E\",'Wave Areas'!I97,(IF($B$4=\"SE\",'Wave Areas'!W98,(IF($B$4=\"S\",'Wave Areas'!I115,(IF($B$4=\"W\",'Wave Areas'!I133,(IF($B$4=\"NW\",'Wave Areas'!W134,0)))))))))))))))","v":0},{"$f":"IF($B$4=\"SW\",'Wave Areas'!X116,(IF($B$4=\"N\",'Wave Areas'!J79,(IF($B$4=\"NE\",'Wave Areas'!X80,(IF($B$4=\"E\",'Wave Areas'!J97,(IF($B$4=\"SE\",'Wave Areas'!X98,(IF($B$4=\"S\",'Wave Areas'!J115,(IF($B$4=\"W\",'Wave Areas'!J133,(IF($B$4=\"NW\",'Wave Areas'!X134,0)))))))))))))))","v":0},{"$f":"IF($B$4=\"SW\",'Wave Areas'!Y116,(IF($B$4=\"N\",'Wave Areas'!K79,(IF($B$4=\"NE\",'Wave Areas'!Y80,(IF($B$4=\"E\",'Wave Areas'!K97,(IF($B$4=\"SE\",'Wave Areas'!Y98,(IF($B$4=\"S\",'Wave Areas'!K115,(IF($B$4=\"W\",'Wave Areas'!K133,(IF($B$4=\"NW\",'Wave Areas'!Y134,0)))))))))))))))","v":0},{"$f":"IF($B$4=\"SW\",'Wave Areas'!Z116,(IF($B$4=\"N\",'Wave Areas'!L79,(IF($B$4=\"NE\",'Wave Areas'!Z80,(IF($B$4=\"E\",'Wave Areas'!L97,(IF($B$4=\"SE\",'Wave Areas'!Z98,(IF($B$4=\"S\",'Wave Areas'!L115,(IF($B$4=\"W\",'Wave Areas'!L133,(IF($B$4=\"NW\",'Wave Areas'!Z134,0)))))))))))))))","v":0},null,1.5,{"$f":"S49/$AC$59","v":{"$error":"#DIV/0!"}},{"$error":"#DIV/0!"},{"$error":"#DIV/0!"},{"$error":"#DIV/0!"},{"$error":"#DIV/0!"},{"$error":"#DIV/0!"},{"$error":"#DIV/0!"},{"$error":"#DIV/0!"},{"$error":"#DIV/0!"},{"$error":"#DIV/0!"},{"$error":"#DIV/0!"},{"$f":"SUM(AF49:AP49)","v":{"$error":"#DIV/0!"}},null,1.5,{"$error":"#DIV/0!"},{"$error":"#DIV/0!"},{"$error":"#DIV/0!"},{"$error":"#DIV/0!"},{"$error":"#DIV/0!"},{"$error":"#DIV/0!"},{"$error":"#DIV/0!"},{"$error":"#DIV/0!"},{"$f":"AO49/1004","v":{"$error":"#DIV/0!"}},{"$error":"#DIV/0!"},{"$f":"AQ46/1004","v":0},{"$error":"#DIV/0!"}]
[15397.1015625,3.5,0,{"$f":"$A50*($D$41)/2","v":49831.748422035373},60905.470293598795,71979.192165162211,83052.914036725633,94126.635908289056,105200.35777985245,116274.07965141587,0,0,0,581370.39825707942,null,null,null,2.5,{"$f":"IF($B$4=\"SW\",'Wave Areas'!P117,(IF($B$4=\"N\",'Wave Areas'!B80,(IF($B$4=\"NE\",'Wave Areas'!P81,(IF($B$4=\"E\",'Wave Areas'!B98,(IF($B$4=\"SE\",'Wave Areas'!P99,(IF($B$4=\"S\",'Wave Areas'!B116,(IF($B$4=\"W\",'Wave Areas'!B134,(IF($B$4=\"NW\",'Wave Areas'!P135,0)))))))))))))))","v":0},{"$f":"IF($B$4=\"SW\",'Wave Areas'!Q117,(IF($B$4=\"N\",'Wave Areas'!C80,(IF($B$4=\"NE\",'Wave Areas'!Q81,(IF($B$4=\"E\",'Wave Areas'!C98,(IF($B$4=\"SE\",'Wave Areas'!Q99,(IF($B$4=\"S\",'Wave Areas'!C116,(IF($B$4=\"W\",'Wave Areas'!C134,(IF($B$4=\"NW\",'Wave Areas'!Q135,0)))))))))))))))","v":0},{"$f":"IF($B$4=\"SW\",'Wave Areas'!R117,(IF($B$4=\"N\",'Wave Areas'!D80,(IF($B$4=\"NE\",'Wave Areas'!R81,(IF($B$4=\"E\",'Wave Areas'!D98,(IF($B$4=\"SE\",'Wave Areas'!R99,(IF($B$4=\"S\",'Wave Areas'!D116,(IF($B$4=\"W\",'Wave Areas'!D134,(IF($B$4=\"NW\",'Wave Areas'!R135,0)))))))))))))))","v":0},{"$f":"IF($B$4=\"SW\",'Wave Areas'!S117,(IF($B$4=\"N\",'Wave Areas'!E80,(IF($B$4=\"NE\",'Wave Areas'!S81,(IF($B$4=\"E\",'Wave Areas'!E98,(IF($B$4=\"SE\",'Wave Areas'!S99,(IF($B$4=\"S\",'Wave Areas'!E116,(IF($B$4=\"W\",'Wave Areas'!E134,(IF($B$4=\"NW\",'Wave Areas'!S135,0)))))))))))))))","v":0},{"$f":"IF($B$4=\"SW\",'Wave Areas'!T117,(IF($B$4=\"N\",'Wave Areas'!F80,(IF($B$4=\"NE\",'Wave Areas'!T81,(IF($B$4=\"E\",'Wave Areas'!F98,(IF($B$4=\"SE\",'Wave Areas'!T99,(IF($B$4=\"S\",'Wave Areas'!F116,(IF($B$4=\"W\",'Wave Areas'!F134,(IF($B$4=\"NW\",'Wave Areas'!T135,0)))))))))))))))","v":0},{"$f":"IF($B$4=\"SW\",'Wave Areas'!U117,(IF($B$4=\"N\",'Wave Areas'!G80,(IF($B$4=\"NE\",'Wave Areas'!U81,(IF($B$4=\"E\",'Wave Areas'!G98,(IF($B$4=\"SE\",'Wave Areas'!U99,(IF($B$4=\"S\",'Wave Areas'!G116,(IF($B$4=\"W\",'Wave Areas'!G134,(IF($B$4=\"NW\",'Wave Areas'!U135,0)))))))))))))))","v":0},{"$f":"IF($B$4=\"SW\",'Wave Areas'!V117,(IF($B$4=\"N\",'Wave Areas'!H80,(IF($B$4=\"NE\",'Wave Areas'!V81,(IF($B$4=\"E\",'Wave Areas'!H98,(IF($B$4=\"SE\",'Wave Areas'!V99,(IF($B$4=\"S\",'Wave Areas'!H116,(IF($B$4=\"W\",'Wave Areas'!H134,(IF($B$4=\"NW\",'Wave Areas'!V135,0)))))))))))))))","v":0},{"$f":"IF($B$4=\"SW\",'Wave Areas'!W117,(IF($B$4=\"N\",'Wave Areas'!I80,(IF($B$4=\"NE\",'Wave Areas'!W81,(IF($B$4=\"E\",'Wave Areas'!I98,(IF($B$4=\"SE\",'Wave Areas'!W99,(IF($B$4=\"S\",'Wave Areas'!I116,(IF($B$4=\"W\",'Wave Areas'!I134,(IF($B$4=\"NW\",'Wave Areas'!W135,0)))))))))))))))","v":0},{"$f":"IF($B$4=\"SW\",'Wave Areas'!X117,(IF($B$4=\"N\",'Wave Areas'!J80,(IF($B$4=\"NE\",'Wave Areas'!X81,(IF($B$4=\"E\",'Wave Areas'!J98,(IF($B$4=\"SE\",'Wave Areas'!X99,(IF($B$4=\"S\",'Wave Areas'!J116,(IF($B$4=\"W\",'Wave Areas'!J134,(IF($B$4=\"NW\",'Wave Areas'!X135,0)))))))))))))))","v":0},{"$f":"IF($B$4=\"SW\",'Wave Areas'!Y117,(IF($B$4=\"N\",'Wave Areas'!K80,(IF($B$4=\"NE\",'Wave Areas'!Y81,(IF($B$4=\"E\",'Wave Areas'!K98,(IF($B$4=\"SE\",'Wave Areas'!Y99,(IF($B$4=\"S\",'Wave Areas'!K116,(IF($B$4=\"W\",'Wave Areas'!K134,(IF($B$4=\"NW\",'Wave Areas'!Y135,0)))))))))))))))","v":0},{"$f":"IF($B$4=\"SW\",'Wave Areas'!Z117,(IF($B$4=\"N\",'Wave Areas'!L80,(IF($B$4=\"NE\",'Wave Areas'!Z81,(IF($B$4=\"E\",'Wave Areas'!L98,(IF($B$4=\"SE\",'Wave Areas'!Z99,(IF($B$4=\"S\",'Wave Areas'!L116,(IF($B$4=\"W\",'Wave Areas'!L134,(IF($B$4=\"NW\",'Wave Areas'!Z135,0)))))))))))))))","v":0},null,2.5,{"$error":"#DIV/0!"},{"$error":"#DIV/0!"},{"$error":"#DIV/0!"},{"$error":"#DIV/0!"},{"$error":"#DIV/0!"},{"$error":"#DIV/0!"},{"$error":"#DIV/0!"},{"$error":"#DIV/0!"},{"$error":"#DIV/0!"},{"$error":"#DIV/0!"},{"$error":"#DIV/0!"},{"$error":"#DIV/0!"},null,2.5,{"$f":"AG50/1004","v":{"$error":"#DIV/0!"}},{"$error":"#DIV/0!"},{"$error":"#DIV/0!"},{"$error":"#DIV/0!"},{"$error":"#DIV/0!"},{"$error":"#DIV/0!"},{"$error":"#DIV/0!"},{"$error":"#DIV/0!"},{"$error":"#DIV/0!"},{"$error":"#DIV/0!"},{"$f":"AQ48/1004","v":{"$error":"#DIV/0!"}},{"$error":"#DIV/0!"}]
[25452.3515625,4.5,0,{"$f":"$A51*($D$41)/2","v":82374.931064997247},100680.47130166332,118986.01153832936,137291.55177499543,155597.0920116615,173902.63224832751,192208.17248499359,0,0,0,961040.86242496793,null,null,null,3.5,{"$f":"IF($B$4=\"SW\",'Wave Areas'!P118,(IF($B$4=\"N\",'Wave Areas'!B81,(IF($B$4=\"NE\",'Wave Areas'!P82,(IF($B$4=\"E\",'Wave Areas'!B99,(IF($B$4=\"SE\",'Wave Areas'!P100,(IF($B$4=\"S\",'Wave Areas'!B117,(IF($B$4=\"W\",'Wave Areas'!B135,(IF($B$4=\"NW\",'Wave Areas'!P136,0)))))))))))))))","v":0},{"$f":"IF($B$4=\"SW\",'Wave Areas'!Q118,(IF($B$4=\"N\",'Wave Areas'!C81,(IF($B$4=\"NE\",'Wave Areas'!Q82,(IF($B$4=\"E\",'Wave Areas'!C99,(IF($B$4=\"SE\",'Wave Areas'!Q100,(IF($B$4=\"S\",'Wave Areas'!C117,(IF($B$4=\"W\",'Wave Areas'!C135,(IF($B$4=\"NW\",'Wave Areas'!Q136,0)))))))))))))))","v":0},{"$f":"IF($B$4=\"SW\",'Wave Areas'!R118,(IF($B$4=\"N\",'Wave Areas'!D81,(IF($B$4=\"NE\",'Wave Areas'!R82,(IF($B$4=\"E\",'Wave Areas'!D99,(IF($B$4=\"SE\",'Wave Areas'!R100,(IF($B$4=\"S\",'Wave Areas'!D117,(IF($B$4=\"W\",'Wave Areas'!D135,(IF($B$4=\"NW\",'Wave Areas'!R136,0)))))))))))))))","v":0},{"$f":"IF($B$4=\"SW\",'Wave Areas'!S118,(IF($B$4=\"N\",'Wave Areas'!E81,(IF($B$4=\"NE\",'Wave Areas'!S82,(IF($B$4=\"E\",'Wave Areas'!E99,(IF($B$4=\"SE\",'Wave Areas'!S100,(IF($B$4=\"S\",'Wave Areas'!E117,(IF($B$4=\"W\",'Wave Areas'!E135,(IF($B$4=\"NW\",'Wave Areas'!S136,0)))))))))))))))","v":0},{"$f":"IF($B$4=\"SW\",'Wave Areas'!T118,(IF($B$4=\"N\",'Wave Areas'!F81,(IF($B$4=\"NE\",'Wave Areas'!T82,(IF($B$4=\"E\",'Wave Areas'!F99,(IF($B$4=\"SE\",'Wave Areas'!T100,(IF($B$4=\"S\",'Wave Areas'!F117,(IF($B$4=\"W\",'Wave Areas'!F135,(IF($B$4=\"NW\",'Wave Areas'!T136,0)))))))))))))))","v":0},{"$f":"IF($B$4=\"SW\",'Wave Areas'!U118,(IF($B$4=\"N\",'Wave Areas'!G81,(IF($B$4=\"NE\",'Wave Areas'!U82,(IF($B$4=\"E\",'Wave Areas'!G99,(IF($B$4=\"SE\",'Wave Areas'!U100,(IF($B$4=\"S\",'Wave Areas'!G117,(IF($B$4=\"W\",'Wave Areas'!G135,(IF($B$4=\"NW\",'Wave Areas'!U136,0)))))))))))))))","v":0},{"$f":"IF($B$4=\"SW\",'Wave Areas'!V118,(IF($B$4=\"N\",'Wave Areas'!H81,(IF($B$4=\"NE\",'Wave Areas'!V82,(IF($B$4=\"E\",'Wave Areas'!H99,(IF($B$4=\"SE\",'Wave Areas'!V100,(IF($B$4=\"S\",'Wave Areas'!H117,(IF($B$4=\"W\",'Wave Areas'!H135,(IF($B$4=\"NW\",'Wave Areas'!V136,0)))))))))))))))","v":0},{"$f":"IF($B$4=\"SW\",'Wave Areas'!W118,(IF($B$4=\"N\",'Wave Areas'!I81,(IF($B$4=\"NE\",'Wave Areas'!W82,(IF($B$4=\"E\",'Wave Areas'!I99,(IF($B$4=\"SE\",'Wave Areas'!W100,(IF($B$4=\"S\",'Wave Areas'!I117,(IF($B$4=\"W\",'Wave Areas'!I135,(IF($B$4=\"NW\",'Wave Areas'!W136,0)))))))))))))))","v":0},{"$f":"IF($B$4=\"SW\",'Wave Areas'!X118,(IF($B$4=\"N\",'Wave Areas'!J81,(IF($B$4=\"NE\",'Wave Areas'!X82,(IF($B$4=\"E\",'Wave Areas'!J99,(IF($B$4=\"SE\",'Wave Areas'!X100,(IF($B$4=\"S\",'Wave Areas'!J117,(IF($B$4=\"W\",'Wave Areas'!J135,(IF($B$4=\"NW\",'Wave Areas'!X136,0)))))))))))))))","v":0},{"$f":"IF($B$4=\"SW\",'Wave Areas'!Y118,(IF($B$4=\"N\",'Wave Areas'!K81,(IF($B$4=\"NE\",'Wave Areas'!Y82,(IF($B$4=\"E\",'Wave Areas'!K99,(IF($B$4=\"SE\",'Wave Areas'!Y100,(IF($B$4=\"S\",'Wave Areas'!K117,(IF($B$4=\"W\",'Wave Areas'!K135,(IF($B$4=\"NW\",'Wave Areas'!Y136,0)))))))))))))))","v":0},{"$f":"IF($B$4=\"SW\",'Wave Areas'!Z118,(IF($B$4=\"N\",'Wave Areas'!L81,(IF($B$4=\"NE\",'Wave Areas'!Z82,(IF($B$4=\"E\",'Wave Areas'!L99,(IF($B$4=\"SE\",'Wave Areas'!Z100,(IF($B$4=\"S\",'Wave Areas'!L117,(IF($B$4=\"W\",'Wave Areas'!L135,(IF($B$4=\"NW\",'Wave Areas'!Z136,0)))))))))))))))","v":0},null,3.5,{"$error":"#DIV/0!"},{"$error":"#DIV/0!"},{"$error":"#DIV/0!"},{"$error":"#DIV/0!"},{"$error":"#DIV/0!"},{"$error":"#DIV/0!"},{"$error":"#DIV/0!"},{"$error":"#DIV/0!"},{"$error":"#DIV/0!"},{"$error":"#DIV/0!"},{"$error":"#DIV/0!"},{"$error":"#DIV/0!"},null,3.5,{"$error":"#DIV/0!"},{"$error":"#DIV/0!"},{"$error":"#DIV/0!"},{"$error":"#DIV/0!"},{"$error":"#DIV/0!"},{"$error":"#DIV/0!"},{"$error":"#DIV/0!"},{"$error":"#DIV/0!"},{"$error":"#DIV/0!"},{"$error":"#DIV/0!"},{"$error":"#DIV/0!"},{"$error":"#DIV/0!"}]
[38021.4140625,5.5,0,0,150399.22256174395,177744.53575478832,205089.84894783268,232435.16214087704,259780.47533392135,287125.78852696571,0,0,0,1312575.0332661292,null,null,null,4.5,{"$f":"IF($B$4=\"SW\",'Wave Areas'!P119,(IF($B$4=\"N\",'Wave Areas'!B82,(IF($B$4=\"NE\",'Wave Areas'!P83,(IF($B$4=\"E\",'Wave Areas'!B100,(IF($B$4=\"SE\",'Wave Areas'!P101,(IF($B$4=\"S\",'Wave Areas'!B118,(IF($B$4=\"W\",'Wave Areas'!B136,(IF($B$4=\"NW\",'Wave Areas'!P137,0)))))))))))))))","v":0},{"$f":"IF($B$4=\"SW\",'Wave Areas'!Q119,(IF($B$4=\"N\",'Wave Areas'!C82,(IF($B$4=\"NE\",'Wave Areas'!Q83,(IF($B$4=\"E\",'Wave Areas'!C100,(IF($B$4=\"SE\",'Wave Areas'!Q101,(IF($B$4=\"S\",'Wave Areas'!C118,(IF($B$4=\"W\",'Wave Areas'!C136,(IF($B$4=\"NW\",'Wave Areas'!Q137,0)))))))))))))))","v":0},{"$f":"IF($B$4=\"SW\",'Wave Areas'!R119,(IF($B$4=\"N\",'Wave Areas'!D82,(IF($B$4=\"NE\",'Wave Areas'!R83,(IF($B$4=\"E\",'Wave Areas'!D100,(IF($B$4=\"SE\",'Wave Areas'!R101,(IF($B$4=\"S\",'Wave Areas'!D118,(IF($B$4=\"W\",'Wave Areas'!D136,(IF($B$4=\"NW\",'Wave Areas'!R137,0)))))))))))))))","v":0},{"$f":"IF($B$4=\"SW\",'Wave Areas'!S119,(IF($B$4=\"N\",'Wave Areas'!E82,(IF($B$4=\"NE\",'Wave Areas'!S83,(IF($B$4=\"E\",'Wave Areas'!E100,(IF($B$4=\"SE\",'Wave Areas'!S101,(IF($B$4=\"S\",'Wave Areas'!E118,(IF($B$4=\"W\",'Wave Areas'!E136,(IF($B$4=\"NW\",'Wave Areas'!S137,0)))))))))))))))","v":0},{"$f":"IF($B$4=\"SW\",'Wave Areas'!T119,(IF($B$4=\"N\",'Wave Areas'!F82,(IF($B$4=\"NE\",'Wave Areas'!T83,(IF($B$4=\"E\",'Wave Areas'!F100,(IF($B$4=\"SE\",'Wave Areas'!T101,(IF($B$4=\"S\",'Wave Areas'!F118,(IF($B$4=\"W\",'Wave Areas'!F136,(IF($B$4=\"NW\",'Wave Areas'!T137,0)))))))))))))))","v":0},{"$f":"IF($B$4=\"SW\",'Wave Areas'!U119,(IF($B$4=\"N\",'Wave Areas'!G82,(IF($B$4=\"NE\",'Wave Areas'!U83,(IF($B$4=\"E\",'Wave Areas'!G100,(IF($B$4=\"SE\",'Wave Areas'!U101,(IF($B$4=\"S\",'Wave Areas'!G118,(IF($B$4=\"W\",'Wave Areas'!G136,(IF($B$4=\"NW\",'Wave Areas'!U137,0)))))))))))))))","v":0},{"$f":"IF($B$4=\"SW\",'Wave Areas'!V119,(IF($B$4=\"N\",'Wave Areas'!H82,(IF($B$4=\"NE\",'Wave Areas'!V83,(IF($B$4=\"E\",'Wave Areas'!H100,(IF($B$4=\"SE\",'Wave Areas'!V101,(IF($B$4=\"S\",'Wave Areas'!H118,(IF($B$4=\"W\",'Wave Areas'!H136,(IF($B$4=\"NW\",'Wave Areas'!V137,0)))))))))))))))","v":0},{"$f":"IF($B$4=\"SW\",'Wave Areas'!W119,(IF($B$4=\"N\",'Wave Areas'!I82,(IF($B$4=\"NE\",'Wave Areas'!W83,(IF($B$4=\"E\",'Wave Areas'!I100,(IF($B$4=\"SE\",'Wave Areas'!W101,(IF($B$4=\"S\",'Wave Areas'!I118,(IF($B$4=\"W\",'Wave Areas'!I136,(IF($B$4=\"NW\",'Wave Areas'!W137,0)))))))))))))))","v":0},{"$f":"IF($B$4=\"SW\",'Wave Areas'!X119,(IF($B$4=\"N\",'Wave Areas'!J82,(IF($B$4=\"NE\",'Wave Areas'!X83,(IF($B$4=\"E\",'Wave Areas'!J100,(IF($B$4=\"SE\",'Wave Areas'!X101,(IF($B$4=\"S\",'Wave Areas'!J118,(IF($B$4=\"W\",'Wave Areas'!J136,(IF($B$4=\"NW\",'Wave Areas'!X137,0)))))))))))))))","v":0},{"$f":"IF($B$4=\"SW\",'Wave Areas'!Y119,(IF($B$4=\"N\",'Wave Areas'!K82,(IF($B$4=\"NE\",'Wave Areas'!Y83,(IF($B$4=\"E\",'Wave Areas'!K100,(IF($B$4=\"SE\",'Wave Areas'!Y101,(IF($B$4=\"S\",'Wave Areas'!K118,(IF($B$4=\"W\",'Wave Areas'!K136,(IF($B$4=\"NW\",'Wave Areas'!Y137,0)))))))))))))))","v":0},{"$f":"IF($B$4=\"SW\",'Wave Areas'!Z119,(IF($B$4=\"N\",'Wave Areas'!L82,(IF($B$4=\"NE\",'Wave Areas'!Z83,(IF($B$4=\"E\",'Wave Areas'!L100,(IF($B$4=\"SE\",'Wave Areas'!Z101,(IF($B$4=\"S\",'Wave Areas'!L118,(IF($B$4=\"W\",'Wave Areas'!L136,(IF($B$4=\"NW\",'Wave Areas'!Z137,0)))))))))))))))","v":0},null,4.5,{"$error":"#DIV/0!"},{"$error":"#DIV/0!"},{"$error":"#DIV/0!"},{"$error":"#DIV/0!"},{"$error":"#DIV/0!"},{"$error":"#DIV/0!"},{"$error":"#DIV/0!"},{"$error":"#DIV/0!"},{"$error":"#DIV/0!"},{"$error":"#DIV/0!"},{"$error":"#DIV/0!"},{"$error":"#DIV/0!"},null,4.5,{"$error":"#DIV/0!"},{"$error":"#DIV/0!"},{"$error":"#DIV/0!"},{"$error":"#DIV/0!"},{"$error":"#DIV/0!"},{"$error":"#DIV/0!"},{"$error":"#DIV/0!"},{"$error":"#DIV/0!"},{"$error":"#DIV/0!"},{"$error":"#DIV/0!"},{"$error":"#DIV/0!"},{"$error":"#DIV/0!"}]
[53104.2890625,6.5,0,0,210061.72407384074,248254.76481453903,286447.8055552374,324640.84629593574,362833.88703663397,401026.92777733231,0,0,0,1833265.9555535191,null,null,null,5.5,{"$f":"IF($B$4=\"SW\",'Wave Areas'!P120,(IF($B$4=\"N\",'Wave Areas'!B83,(IF($B$4=\"NE\",'Wave Areas'!P84,(IF($B$4=\"E\",'Wave Areas'!B101,(IF($B$4=\"SE\",'Wave Areas'!P102,(IF($B$4=\"S\",'Wave Areas'!B119,(IF($B$4=\"W\",'Wave Areas'!B137,(IF($B$4=\"NW\",'Wave Areas'!P138,0)))))))))))))))","v":0},{"$f":"IF($B$4=\"SW\",'Wave Areas'!Q120,(IF($B$4=\"N\",'Wave Areas'!C83,(IF($B$4=\"NE\",'Wave Areas'!Q84,(IF($B$4=\"E\",'Wave Areas'!C101,(IF($B$4=\"SE\",'Wave Areas'!Q102,(IF($B$4=\"S\",'Wave Areas'!C119,(IF($B$4=\"W\",'Wave Areas'!C137,(IF($B$4=\"NW\",'Wave Areas'!Q138,0)))))))))))))))","v":0},{"$f":"IF($B$4=\"SW\",'Wave Areas'!R120,(IF($B$4=\"N\",'Wave Areas'!D83,(IF($B$4=\"NE\",'Wave Areas'!R84,(IF($B$4=\"E\",'Wave Areas'!D101,(IF($B$4=\"SE\",'Wave Areas'!R102,(IF($B$4=\"S\",'Wave Areas'!D119,(IF($B$4=\"W\",'Wave Areas'!D137,(IF($B$4=\"NW\",'Wave Areas'!R138,0)))))))))))))))","v":0},{"$f":"IF($B$4=\"SW\",'Wave Areas'!S120,(IF($B$4=\"N\",'Wave Areas'!E83,(IF($B$4=\"NE\",'Wave Areas'!S84,(IF($B$4=\"E\",'Wave Areas'!E101,(IF($B$4=\"SE\",'Wave Areas'!S102,(IF($B$4=\"S\",'Wave Areas'!E119,(IF($B$4=\"W\",'Wave Areas'!E137,(IF($B$4=\"NW\",'Wave Areas'!S138,0)))))))))))))))","v":0},{"$f":"IF($B$4=\"SW\",'Wave Areas'!T120,(IF($B$4=\"N\",'Wave Areas'!F83,(IF($B$4=\"NE\",'Wave Areas'!T84,(IF($B$4=\"E\",'Wave Areas'!F101,(IF($B$4=\"SE\",'Wave Areas'!T102,(IF($B$4=\"S\",'Wave Areas'!F119,(IF($B$4=\"W\",'Wave Areas'!F137,(IF($B$4=\"NW\",'Wave Areas'!T138,0)))))))))))))))","v":0},{"$f":"IF($B$4=\"SW\",'Wave Areas'!U120,(IF($B$4=\"N\",'Wave Areas'!G83,(IF($B$4=\"NE\",'Wave Areas'!U84,(IF($B$4=\"E\",'Wave Areas'!G101,(IF($B$4=\"SE\",'Wave Areas'!U102,(IF($B$4=\"S\",'Wave Areas'!G119,(IF($B$4=\"W\",'Wave Areas'!G137,(IF($B$4=\"NW\",'Wave Areas'!U138,0)))))))))))))))","v":0},{"$f":"IF($B$4=\"SW\",'Wave Areas'!V120,(IF($B$4=\"N\",'Wave Areas'!H83,(IF($B$4=\"NE\",'Wave Areas'!V84,(IF($B$4=\"E\",'Wave Areas'!H101,(IF($B$4=\"SE\",'Wave Areas'!V102,(IF($B$4=\"S\",'Wave Areas'!H119,(IF($B$4=\"W\",'Wave Areas'!H137,(IF($B$4=\"NW\",'Wave Areas'!V138,0)))))))))))))))","v":0},{"$f":"IF($B$4=\"SW\",'Wave Areas'!W120,(IF($B$4=\"N\",'Wave Areas'!I83,(IF($B$4=\"NE\",'Wave Areas'!W84,(IF($B$4=\"E\",'Wave Areas'!I101,(IF($B$4=\"SE\",'Wave Areas'!W102,(IF($B$4=\"S\",'Wave Areas'!I119,(IF($B$4=\"W\",'Wave Areas'!I137,(IF($B$4=\"NW\",'Wave Areas'!W138,0)))))))))))))))","v":0},{"$f":"IF($B$4=\"SW\",'Wave Areas'!X120,(IF($B$4=\"N\",'Wave Areas'!J83,(IF($B$4=\"NE\",'Wave Areas'!X84,(IF($B$4=\"E\",'Wave Areas'!J101,(IF($B$4=\"SE\",'Wave Areas'!X102,(IF($B$4=\"S\",'Wave Areas'!J119,(IF($B$4=\"W\",'Wave Areas'!J137,(IF($B$4=\"NW\",'Wave Areas'!X138,0)))))))))))))))","v":0},{"$f":"IF($B$4=\"SW\",'Wave Areas'!Y120,(IF($B$4=\"N\",'Wave Areas'!K83,(IF($B$4=\"NE\",'Wave Areas'!Y84,(IF($B$4=\"E\",'Wave Areas'!K101,(IF($B$4=\"SE\",'Wave Areas'!Y102,(IF($B$4=\"S\",'Wave Areas'!K119,(IF($B$4=\"W\",'Wave Areas'!K137,(IF($B$4=\"NW\",'Wave Areas'!Y138,0)))))))))))))))","v":0},{"$f":"IF($B$4=\"SW\",'Wave Areas'!Z120,(IF($B$4=\"N\",'Wave Areas'!L83,(IF($B$4=\"NE\",'Wave Areas'!Z84,(IF($B$4=\"E\",'Wave Areas'!L101,(IF($B$4=\"SE\",'Wave Areas'!Z102,(IF($B$4=\"S\",'Wave Areas'!L119,(IF($B$4=\"W\",'Wave Areas'!L137,(IF($B$4=\"NW\",'Wave Areas'!Z138,0)))))))))))))))","v":0},null,5.5,{"$error":"#DIV/0!"},{"$error":"#DIV/0!"},{"$error":"#DIV/0!"},{"$error":"#DIV/0!"},{"$error":"#DIV/0!"},{"$error":"#DIV/0!"},{"$error":"#DIV/0!"},{"$error":"#DIV/0!"},{"$error":"#DIV/0!"},{"$error":"#DIV/0!"},{"$error":"#DIV/0!"},{"$error":"#DIV/0!"},null,5.5,{"$error":"#DIV/0!"},{"$error":"#DIV/0!"},{"$error":"#DIV/0!"},{"$error":"#DIV/0!"},{"$error":"#DIV/0!"},{"$error":"#DIV/0!"},{"$error":"#DIV/0!"},{"$error":"#DIV/0!"},{"$error":"#DIV/0!"},{"$error":"#DIV/0!"},{"$error":"#DIV/0!"},{"$error":"#DIV/0!"}]
[70700.9765625,7.5,0,0,0,330516.69871758157,381365.42159720953,432214.14447683748,483062.86735646531,0,0,0,0,1627159.132148094,null,null,null,6.5,{"$f":"IF($B$4=\"SW\",'Wave Areas'!P121,(IF($B$4=\"N\",'Wave Areas'!B84,(IF($B$4=\"NE\",'Wave Areas'!P85,(IF($B$4=\"E\",'Wave Areas'!B102,(IF($B$4=\"SE\",'Wave Areas'!P103,(IF($B$4=\"S\",'Wave Areas'!B120,(IF($B$4=\"W\",'Wave Areas'!B138,(IF($B$4=\"NW\",'Wave Areas'!P139,0)))))))))))))))","v":0},{"$f":"IF($B$4=\"SW\",'Wave Areas'!Q121,(IF($B$4=\"N\",'Wave Areas'!C84,(IF($B$4=\"NE\",'Wave Areas'!Q85,(IF($B$4=\"E\",'Wave Areas'!C102,(IF($B$4=\"SE\",'Wave Areas'!Q103,(IF($B$4=\"S\",'Wave Areas'!C120,(IF($B$4=\"W\",'Wave Areas'!C138,(IF($B$4=\"NW\",'Wave Areas'!Q139,0)))))))))))))))","v":0},{"$f":"IF($B$4=\"SW\",'Wave Areas'!R121,(IF($B$4=\"N\",'Wave Areas'!D84,(IF($B$4=\"NE\",'Wave Areas'!R85,(IF($B$4=\"E\",'Wave Areas'!D102,(IF($B$4=\"SE\",'Wave Areas'!R103,(IF($B$4=\"S\",'Wave Areas'!D120,(IF($B$4=\"W\",'Wave Areas'!D138,(IF($B$4=\"NW\",'Wave Areas'!R139,0)))))))))))))))","v":0},{"$f":"IF($B$4=\"SW\",'Wave Areas'!S121,(IF($B$4=\"N\",'Wave Areas'!E84,(IF($B$4=\"NE\",'Wave Areas'!S85,(IF($B$4=\"E\",'Wave Areas'!E102,(IF($B$4=\"SE\",'Wave Areas'!S103,(IF($B$4=\"S\",'Wave Areas'!E120,(IF($B$4=\"W\",'Wave Areas'!E138,(IF($B$4=\"NW\",'Wave Areas'!S139,0)))))))))))))))","v":0},{"$f":"IF($B$4=\"SW\",'Wave Areas'!T121,(IF($B$4=\"N\",'Wave Areas'!F84,(IF($B$4=\"NE\",'Wave Areas'!T85,(IF($B$4=\"E\",'Wave Areas'!F102,(IF($B$4=\"SE\",'Wave Areas'!T103,(IF($B$4=\"S\",'Wave Areas'!F120,(IF($B$4=\"W\",'Wave Areas'!F138,(IF($B$4=\"NW\",'Wave Areas'!T139,0)))))))))))))))","v":0},{"$f":"IF($B$4=\"SW\",'Wave Areas'!U121,(IF($B$4=\"N\",'Wave Areas'!G84,(IF($B$4=\"NE\",'Wave Areas'!U85,(IF($B$4=\"E\",'Wave Areas'!G102,(IF($B$4=\"SE\",'Wave Areas'!U103,(IF($B$4=\"S\",'Wave Areas'!G120,(IF($B$4=\"W\",'Wave Areas'!G138,(IF($B$4=\"NW\",'Wave Areas'!U139,0)))))))))))))))","v":0},{"$f":"IF($B$4=\"SW\",'Wave Areas'!V121,(IF($B$4=\"N\",'Wave Areas'!H84,(IF($B$4=\"NE\",'Wave Areas'!V85,(IF($B$4=\"E\",'Wave Areas'!H102,(IF($B$4=\"SE\",'Wave Areas'!V103,(IF($B$4=\"S\",'Wave Areas'!H120,(IF($B$4=\"W\",'Wave Areas'!H138,(IF($B$4=\"NW\",'Wave Areas'!V139,0)))))))))))))))","v":0},{"$f":"IF($B$4=\"SW\",'Wave Areas'!W121,(IF($B$4=\"N\",'Wave Areas'!I84,(IF($B$4=\"NE\",'Wave Areas'!W85,(IF($B$4=\"E\",'Wave Areas'!I102,(IF($B$4=\"SE\",'Wave Areas'!W103,(IF($B$4=\"S\",'Wave Areas'!I120,(IF($B$4=\"W\",'Wave Areas'!I138,(IF($B$4=\"NW\",'Wave Areas'!W139,0)))))))))))))))","v":0},{"$f":"IF($B$4=\"SW\",'Wave Areas'!X121,(IF($B$4=\"N\",'Wave Areas'!J84,(IF($B$4=\"NE\",'Wave Areas'!X85,(IF($B$4=\"E\",'Wave Areas'!J102,(IF($B$4=\"SE\",'Wave Areas'!X103,(IF($B$4=\"S\",'Wave Areas'!J120,(IF($B$4=\"W\",'Wave Areas'!J138,(IF($B$4=\"NW\",'Wave Areas'!X139,0)))))))))))))))","v":0},{"$f":"IF($B$4=\"SW\",'Wave Areas'!Y121,(IF($B$4=\"N\",'Wave Areas'!K84,(IF($B$4=\"NE\",'Wave Areas'!Y85,(IF($B$4=\"E\",'Wave Areas'!K102,(IF($B$4=\"SE\",'Wave Areas'!Y103,(IF($B$4=\"S\",'Wave Areas'!K120,(IF($B$4=\"W\",'Wave Areas'!K138,(IF($B$4=\"NW\",'Wave Areas'!Y139,0)))))))))))))))","v":0},{"$f":"IF($B$4=\"SW\",'Wave Areas'!Z121,(IF($B$4=\"N\",'Wave Areas'!L84,(IF($B$4=\"NE\",'Wave Areas'!Z85,(IF($B$4=\"E\",'Wave Areas'!L102,(IF($B$4=\"SE\",'Wave Areas'!Z103,(IF($B$4=\"S\",'Wave Areas'!L120,(IF($B$4=\"W\",'Wave Areas'!L138,(IF($B$4=\"NW\",'Wave Areas'!Z139,0)))))))))))))))","v":0},null,6.5,{"$error":"#DIV/0!"},{"$error":"#DIV/0!"},{"$error":"#DIV/0!"},{"$error":"#DIV/0!"},{"$error":"#DIV/0!"},{"$error":"#DIV/0!"},{"$error":"#DIV/0!"},{"$error":"#DIV/0!"},{"$error":"#DIV/0!"},{"$error":"#DIV/0!"},{"$error":"#DIV/0!"},{"$error":"#DIV/0!"},null,6.5,{"$error":"#DIV/0!"},{"$error":"#DIV/0!"},{"$error":"#DIV/0!"},{"$error":"#DIV/0!"},{"$error":"#DIV/0!"},{"$error":"#DIV/0!"},{"$error":"#DIV/0!"},{"$error":"#DIV/0!"},{"$error":"#DIV/0!"},{"$error":"#DIV/0!"},{"$error":"#DIV/0!"},{"$error":"#DIV/0!"}]
[90811.4765625,8.5,0,0,0,424530.33746391587,489842.69707374915,555155.05668358237,620467.41629341547,0,0,0,0,2089995.5075146628,null,null,null,7.5,{"$f":"IF($B$4=\"SW\",'Wave Areas'!P122,(IF($B$4=\"N\",'Wave Areas'!B85,(IF($B$4=\"NE\",'Wave Areas'!P86,(IF($B$4=\"E\",'Wave Areas'!B103,(IF($B$4=\"SE\",'Wave Areas'!P104,(IF($B$4=\"S\",'Wave Areas'!B121,(IF($B$4=\"W\",'Wave Areas'!B139,(IF($B$4=\"NW\",'Wave Areas'!P140,0)))))))))))))))","v":0},{"$f":"IF($B$4=\"SW\",'Wave Areas'!Q122,(IF($B$4=\"N\",'Wave Areas'!C85,(IF($B$4=\"NE\",'Wave Areas'!Q86,(IF($B$4=\"E\",'Wave Areas'!C103,(IF($B$4=\"SE\",'Wave Areas'!Q104,(IF($B$4=\"S\",'Wave Areas'!C121,(IF($B$4=\"W\",'Wave Areas'!C139,(IF($B$4=\"NW\",'Wave Areas'!Q140,0)))))))))))))))","v":0},{"$f":"IF($B$4=\"SW\",'Wave Areas'!R122,(IF($B$4=\"N\",'Wave Areas'!D85,(IF($B$4=\"NE\",'Wave Areas'!R86,(IF($B$4=\"E\",'Wave Areas'!D103,(IF($B$4=\"SE\",'Wave Areas'!R104,(IF($B$4=\"S\",'Wave Areas'!D121,(IF($B$4=\"W\",'Wave Areas'!D139,(IF($B$4=\"NW\",'Wave Areas'!R140,0)))))))))))))))","v":0},{"$f":"IF($B$4=\"SW\",'Wave Areas'!S122,(IF($B$4=\"N\",'Wave Areas'!E85,(IF($B$4=\"NE\",'Wave Areas'!S86,(IF($B$4=\"E\",'Wave Areas'!E103,(IF($B$4=\"SE\",'Wave Areas'!S104,(IF($B$4=\"S\",'Wave Areas'!E121,(IF($B$4=\"W\",'Wave Areas'!E139,(IF($B$4=\"NW\",'Wave Areas'!S140,0)))))))))))))))","v":0},{"$f":"IF($B$4=\"SW\",'Wave Areas'!T122,(IF($B$4=\"N\",'Wave Areas'!F85,(IF($B$4=\"NE\",'Wave Areas'!T86,(IF($B$4=\"E\",'Wave Areas'!F103,(IF($B$4=\"SE\",'Wave Areas'!T104,(IF($B$4=\"S\",'Wave Areas'!F121,(IF($B$4=\"W\",'Wave Areas'!F139,(IF($B$4=\"NW\",'Wave Areas'!T140,0)))))))))))))))","v":0},{"$f":"IF($B$4=\"SW\",'Wave Areas'!U122,(IF($B$4=\"N\",'Wave Areas'!G85,(IF($B$4=\"NE\",'Wave Areas'!U86,(IF($B$4=\"E\",'Wave Areas'!G103,(IF($B$4=\"SE\",'Wave Areas'!U104,(IF($B$4=\"S\",'Wave Areas'!G121,(IF($B$4=\"W\",'Wave Areas'!G139,(IF($B$4=\"NW\",'Wave Areas'!U140,0)))))))))))))))","v":0},{"$f":"IF($B$4=\"SW\",'Wave Areas'!V122,(IF($B$4=\"N\",'Wave Areas'!H85,(IF($B$4=\"NE\",'Wave Areas'!V86,(IF($B$4=\"E\",'Wave Areas'!H103,(IF($B$4=\"SE\",'Wave Areas'!V104,(IF($B$4=\"S\",'Wave Areas'!H121,(IF($B$4=\"W\",'Wave Areas'!H139,(IF($B$4=\"NW\",'Wave Areas'!V140,0)))))))))))))))","v":0},{"$f":"IF($B$4=\"SW\",'Wave Areas'!W122,(IF($B$4=\"N\",'Wave Areas'!I85,(IF($B$4=\"NE\",'Wave Areas'!W86,(IF($B$4=\"E\",'Wave Areas'!I103,(IF($B$4=\"SE\",'Wave Areas'!W104,(IF($B$4=\"S\",'Wave Areas'!I121,(IF($B$4=\"W\",'Wave Areas'!I139,(IF($B$4=\"NW\",'Wave Areas'!W140,0)))))))))))))))","v":0},{"$f":"IF($B$4=\"SW\",'Wave Areas'!X122,(IF($B$4=\"N\",'Wave Areas'!J85,(IF($B$4=\"NE\",'Wave Areas'!X86,(IF($B$4=\"E\",'Wave Areas'!J103,(IF($B$4=\"SE\",'Wave Areas'!X104,(IF($B$4=\"S\",'Wave Areas'!J121,(IF($B$4=\"W\",'Wave Areas'!J139,(IF($B$4=\"NW\",'Wave Areas'!X140,0)))))))))))))))","v":0},{"$f":"IF($B$4=\"SW\",'Wave Areas'!Y122,(IF($B$4=\"N\",'Wave Areas'!K85,(IF($B$4=\"NE\",'Wave Areas'!Y86,(IF($B$4=\"E\",'Wave Areas'!K103,(IF($B$4=\"SE\",'Wave Areas'!Y104,(IF($B$4=\"S\",'Wave Areas'!K121,(IF($B$4=\"W\",'Wave Areas'!K139,(IF($B$4=\"NW\",'Wave Areas'!Y140,0)))))))))))))))","v":0},{"$f":"IF($B$4=\"SW\",'Wave Areas'!Z122,(IF($B$4=\"N\",'Wave Areas'!L85,(IF($B$4=\"NE\",'Wave Areas'!Z86,(IF($B$4=\"E\",'Wave Areas'!L103,(IF($B$4=\"SE\",'Wave Areas'!Z104,(IF($B$4=\"S\",'Wave Areas'!L121,(IF($B$4=\"W\",'Wave Areas'!L139,(IF($B$4=\"NW\",'Wave Areas'!Z140,0)))))))))))))))","v":0},null,7.5,{"$error":"#DIV/0!"},{"$error":"#DIV/0!"},{"$error":"#DIV/0!"},{"$error":"#DIV/0!"},{"$error":"#DIV/0!"},{"$error":"#DIV/0!"},{"$error":"#DIV/0!"},{"$error":"#DIV/0!"},{"$error":"#DIV/0!"},{"$error":"#DIV/0!"},{"$error":"#DIV/0!"},{"$error":"#DIV/0!"},null,7.5,{"$error":"#DIV/0!"},{"$error":"#DIV/0!"},{"$f":"AI55/1004","v":{"$error":"#DIV/0!"}},{"$error":"#DIV/0!"},{"$error":"#DIV/0!"},{"$error":"#DIV/0!"},{"$error":"#DIV/0!"},{"$f":"AN55/1004","v":{"$error":"#DIV/0!"}},{"$error":"#DIV/0!"},{"$error":"#DIV/0!"},{"$error":"#DIV/0!"},{"$error":"#DIV/0!"}]
[113435.7890625,9.5,0,0,0,0,611879.63198485621,693463.58291617036,0,0,0,0,0,1305343.2149010266,null,null,null,8.5,{"$f":"IF($B$4=\"SW\",'Wave Areas'!P123,(IF($B$4=\"N\",'Wave Areas'!B86,(IF($B$4=\"NE\",'Wave Areas'!P87,(IF($B$4=\"E\",'Wave Areas'!B104,(IF($B$4=\"SE\",'Wave Areas'!P105,(IF($B$4=\"S\",'Wave Areas'!B122,(IF($B$4=\"W\",'Wave Areas'!B140,(IF($B$4=\"NW\",'Wave Areas'!P141,0)))))))))))))))","v":0},{"$f":"IF($B$4=\"SW\",'Wave Areas'!Q123,(IF($B$4=\"N\",'Wave Areas'!C86,(IF($B$4=\"NE\",'Wave Areas'!Q87,(IF($B$4=\"E\",'Wave Areas'!C104,(IF($B$4=\"SE\",'Wave Areas'!Q105,(IF($B$4=\"S\",'Wave Areas'!C122,(IF($B$4=\"W\",'Wave Areas'!C140,(IF($B$4=\"NW\",'Wave Areas'!Q141,0)))))))))))))))","v":0},{"$f":"IF($B$4=\"SW\",'Wave Areas'!R123,(IF($B$4=\"N\",'Wave Areas'!D86,(IF($B$4=\"NE\",'Wave Areas'!R87,(IF($B$4=\"E\",'Wave Areas'!D104,(IF($B$4=\"SE\",'Wave Areas'!R105,(IF($B$4=\"S\",'Wave Areas'!D122,(IF($B$4=\"W\",'Wave Areas'!D140,(IF($B$4=\"NW\",'Wave Areas'!R141,0)))))))))))))))","v":0},{"$f":"IF($B$4=\"SW\",'Wave Areas'!S123,(IF($B$4=\"N\",'Wave Areas'!E86,(IF($B$4=\"NE\",'Wave Areas'!S87,(IF($B$4=\"E\",'Wave Areas'!E104,(IF($B$4=\"SE\",'Wave Areas'!S105,(IF($B$4=\"S\",'Wave Areas'!E122,(IF($B$4=\"W\",'Wave Areas'!E140,(IF($B$4=\"NW\",'Wave Areas'!S141,0)))))))))))))))","v":0},{"$f":"IF($B$4=\"SW\",'Wave Areas'!T123,(IF($B$4=\"N\",'Wave Areas'!F86,(IF($B$4=\"NE\",'Wave Areas'!T87,(IF($B$4=\"E\",'Wave Areas'!F104,(IF($B$4=\"SE\",'Wave Areas'!T105,(IF($B$4=\"S\",'Wave Areas'!F122,(IF($B$4=\"W\",'Wave Areas'!F140,(IF($B$4=\"NW\",'Wave Areas'!T141,0)))))))))))))))","v":0},{"$f":"IF($B$4=\"SW\",'Wave Areas'!U123,(IF($B$4=\"N\",'Wave Areas'!G86,(IF($B$4=\"NE\",'Wave Areas'!U87,(IF($B$4=\"E\",'Wave Areas'!G104,(IF($B$4=\"SE\",'Wave Areas'!U105,(IF($B$4=\"S\",'Wave Areas'!G122,(IF($B$4=\"W\",'Wave Areas'!G140,(IF($B$4=\"NW\",'Wave Areas'!U141,0)))))))))))))))","v":0},{"$f":"IF($B$4=\"SW\",'Wave Areas'!V123,(IF($B$4=\"N\",'Wave Areas'!H86,(IF($B$4=\"NE\",'Wave Areas'!V87,(IF($B$4=\"E\",'Wave Areas'!H104,(IF($B$4=\"SE\",'Wave Areas'!V105,(IF($B$4=\"S\",'Wave Areas'!H122,(IF($B$4=\"W\",'Wave Areas'!H140,(IF($B$4=\"NW\",'Wave Areas'!V141,0)))))))))))))))","v":0},{"$f":"IF($B$4=\"SW\",'Wave Areas'!W123,(IF($B$4=\"N\",'Wave Areas'!I86,(IF($B$4=\"NE\",'Wave Areas'!W87,(IF($B$4=\"E\",'Wave Areas'!I104,(IF($B$4=\"SE\",'Wave Areas'!W105,(IF($B$4=\"S\",'Wave Areas'!I122,(IF($B$4=\"W\",'Wave Areas'!I140,(IF($B$4=\"NW\",'Wave Areas'!W141,0)))))))))))))))","v":0},{"$f":"IF($B$4=\"SW\",'Wave Areas'!X123,(IF($B$4=\"N\",'Wave Areas'!J86,(IF($B$4=\"NE\",'Wave Areas'!X87,(IF($B$4=\"E\",'Wave Areas'!J104,(IF($B$4=\"SE\",'Wave Areas'!X105,(IF($B$4=\"S\",'Wave Areas'!J122,(IF($B$4=\"W\",'Wave Areas'!J140,(IF($B$4=\"NW\",'Wave Areas'!X141,0)))))))))))))))","v":0},{"$f":"IF($B$4=\"SW\",'Wave Areas'!Y123,(IF($B$4=\"N\",'Wave Areas'!K86,(IF($B$4=\"NE\",'Wave Areas'!Y87,(IF($B$4=\"E\",'Wave Areas'!K104,(IF($B$4=\"SE\",'Wave Areas'!Y105,(IF($B$4=\"S\",'Wave Areas'!K122,(IF($B$4=\"W\",'Wave Areas'!K140,(IF($B$4=\"NW\",'Wave Areas'!Y141,0)))))))))))))))","v":0},{"$f":"IF($B$4=\"SW\",'Wave Areas'!Z123,(IF($B$4=\"N\",'Wave Areas'!L86,(IF($B$4=\"NE\",'Wave Areas'!Z87,(IF($B$4=\"E\",'Wave Areas'!L104,(IF($B$4=\"SE\",'Wave Areas'!Z105,(IF($B$4=\"S\",'Wave Areas'!L122,(IF($B$4=\"W\",'Wave Areas'!L140,(IF($B$4=\"NW\",'Wave Areas'!Z141,0)))))))))))))))","v":0},null,8.5,{"$error":"#DIV/0!"},{"$error":"#DIV/0!"},{"$error":"#DIV/0!"},{"$error":"#DIV/0!"},{"$error":"#DIV/0!"},{"$error":"#DIV/0!"},{"$error":"#DIV/0!"},{"$error":"#DIV/0!"},{"$error":"#DIV/0!"},{"$error":"#DIV/0!"},{"$error":"#DIV/0!"},{"$error":"#DIV/0!"},null,8.5,{"$error":"#DIV/0!"},{"$error":"#DIV/0!"},{"$f":"AI56/1004","v":{"$error":"#DIV/0!"}},{"$error":"#DIV/0!"},{"$error":"#DIV/0!"},{"$error":"#DIV/0!"},{"$error":"#DIV/0!"},{"$f":"AN56/1004","v":{"$error":"#DIV/0!"}},{"$error":"#DIV/0!"},{"$error":"#DIV/0!"},{"$error":"#DIV/0!"},{"$error":"#DIV/0!"}]
[138573.9140625,10.5,0,0,0,0,0,0,0,0,0,0,0,0,null,null,null,9.5,{"$f":"IF($B$4=\"SW\",'Wave Areas'!P124,(IF($B$4=\"N\",'Wave Areas'!B87,(IF($B$4=\"NE\",'Wave Areas'!P88,(IF($B$4=\"E\",'Wave Areas'!B105,(IF($B$4=\"SE\",'Wave Areas'!P106,(IF($B$4=\"S\",'Wave Areas'!B123,(IF($B$4=\"W\",'Wave Areas'!B141,(IF($B$4=\"NW\",'Wave Areas'!P142,0)))))))))))))))","v":0},{"$f":"IF($B$4=\"SW\",'Wave Areas'!Q124,(IF($B$4=\"N\",'Wave Areas'!C87,(IF($B$4=\"NE\",'Wave Areas'!Q88,(IF($B$4=\"E\",'Wave Areas'!C105,(IF($B$4=\"SE\",'Wave Areas'!Q106,(IF($B$4=\"S\",'Wave Areas'!C123,(IF($B$4=\"W\",'Wave Areas'!C141,(IF($B$4=\"NW\",'Wave Areas'!Q142,0)))))))))))))))","v":0},{"$f":"IF($B$4=\"SW\",'Wave Areas'!R124,(IF($B$4=\"N\",'Wave Areas'!D87,(IF($B$4=\"NE\",'Wave Areas'!R88,(IF($B$4=\"E\",'Wave Areas'!D105,(IF($B$4=\"SE\",'Wave Areas'!R106,(IF($B$4=\"S\",'Wave Areas'!D123,(IF($B$4=\"W\",'Wave Areas'!D141,(IF($B$4=\"NW\",'Wave Areas'!R142,0)))))))))))))))","v":0},{"$f":"IF($B$4=\"SW\",'Wave Areas'!S124,(IF($B$4=\"N\",'Wave Areas'!E87,(IF($B$4=\"NE\",'Wave Areas'!S88,(IF($B$4=\"E\",'Wave Areas'!E105,(IF($B$4=\"SE\",'Wave Areas'!S106,(IF($B$4=\"S\",'Wave Areas'!E123,(IF($B$4=\"W\",'Wave Areas'!E141,(IF($B$4=\"NW\",'Wave Areas'!S142,0)))))))))))))))","v":0},{"$f":"IF($B$4=\"SW\",'Wave Areas'!T124,(IF($B$4=\"N\",'Wave Areas'!F87,(IF($B$4=\"NE\",'Wave Areas'!T88,(IF($B$4=\"E\",'Wave Areas'!F105,(IF($B$4=\"SE\",'Wave Areas'!T106,(IF($B$4=\"S\",'Wave Areas'!F123,(IF($B$4=\"W\",'Wave Areas'!F141,(IF($B$4=\"NW\",'Wave Areas'!T142,0)))))))))))))))","v":0},{"$f":"IF($B$4=\"SW\",'Wave Areas'!U124,(IF($B$4=\"N\",'Wave Areas'!G87,(IF($B$4=\"NE\",'Wave Areas'!U88,(IF($B$4=\"E\",'Wave Areas'!G105,(IF($B$4=\"SE\",'Wave Areas'!U106,(IF($B$4=\"S\",'Wave Areas'!G123,(IF($B$4=\"W\",'Wave Areas'!G141,(IF($B$4=\"NW\",'Wave Areas'!U142,0)))))))))))))))","v":0},{"$f":"IF($B$4=\"SW\",'Wave Areas'!V124,(IF($B$4=\"N\",'Wave Areas'!H87,(IF($B$4=\"NE\",'Wave Areas'!V88,(IF($B$4=\"E\",'Wave Areas'!H105,(IF($B$4=\"SE\",'Wave Areas'!V106,(IF($B$4=\"S\",'Wave Areas'!H123,(IF($B$4=\"W\",'Wave Areas'!H141,(IF($B$4=\"NW\",'Wave Areas'!V142,0)))))))))))))))","v":0},{"$f":"IF($B$4=\"SW\",'Wave Areas'!W124,(IF($B$4=\"N\",'Wave Areas'!I87,(IF($B$4=\"NE\",'Wave Areas'!W88,(IF($B$4=\"E\",'Wave Areas'!I105,(IF($B$4=\"SE\",'Wave Areas'!W106,(IF($B$4=\"S\",'Wave Areas'!I123,(IF($B$4=\"W\",'Wave Areas'!I141,(IF($B$4=\"NW\",'Wave Areas'!W142,0)))))))))))))))","v":0},{"$f":"IF($B$4=\"SW\",'Wave Areas'!X124,(IF($B$4=\"N\",'Wave Areas'!J87,(IF($B$4=\"NE\",'Wave Areas'!X88,(IF($B$4=\"E\",'Wave Areas'!J105,(IF($B$4=\"SE\",'Wave Areas'!X106,(IF($B$4=\"S\",'Wave Areas'!J123,(IF($B$4=\"W\",'Wave Areas'!J141,(IF($B$4=\"NW\",'Wave Areas'!X142,0)))))))))))))))","v":0},{"$f":"IF($B$4=\"SW\",'Wave Areas'!Y124,(IF($B$4=\"N\",'Wave Areas'!K87,(IF($B$4=\"NE\",'Wave Areas'!Y88,(IF($B$4=\"E\",'Wave Areas'!K105,(IF($B$4=\"SE\",'Wave Areas'!Y106,(IF($B$4=\"S\",'Wave Areas'!K123,(IF($B$4=\"W\",'Wave Areas'!K141,(IF($B$4=\"NW\",'Wave Areas'!Y142,0)))))))))))))))","v":0},{"$f":"IF($B$4=\"SW\",'Wave Areas'!Z124,(IF($B$4=\"N\",'Wave Areas'!L87,(IF($B$4=\"NE\",'Wave Areas'!Z88,(IF($B$4=\"E\",'Wave Areas'!L105,(IF($B$4=\"SE\",'Wave Areas'!Z106,(IF($B$4=\"S\",'Wave Areas'!L123,(IF($B$4=\"W\",'Wave Areas'!L141,(IF($B$4=\"NW\",'Wave Areas'!Z142,0)))))))))))))))","v":0},null,9.5,{"$error":"#DIV/0!"},{"$error":"#DIV/0!"},{"$error":"#DIV/0!"},{"$error":"#DIV/0!"},{"$error":"#DIV/0!"},{"$error":"#DIV/0!"},{"$error":"#DIV/0!"},{"$error":"#DIV/0!"},{"$error":"#DIV/0!"},{"$error":"#DIV/0!"},{"$error":"#DIV/0!"},{"$error":"#DIV/0!"},null,9.5,{"$error":"#DIV/0!"},{"$error":"#DIV/0!"},{"$f":"AI57/1004","v":{"$error":"#DIV/0!"}},{"$f":"AJ57/1004","v":{"$error":"#DIV/0!"}},{"$f":"G56*AJ57","v":{"$error":"#DIV/0!"}},{"$f":"H56*AK57","v":{"$error":"#DIV/0!"}},{"$f":"AM57/1004","v":{"$error":"#DIV/0!"}},{"$f":"AN57/1004","v":{"$error":"#DIV/0!"}},{"$error":"#DIV/0!"},{"$error":"#DIV/0!"},{"$error":"#DIV/0!"},{"$error":"#DIV/0!"}]
["Sub Totals",null,{"$f":"SUM(C47:C57)","v":795.07727654024404},167800.78550277217,565550.79558341741,1423425.249143718,2254293.3809968382,2552831.8828812321,2078243.8026713708,1077314.9420763839,0,0,0,{"$f":"SUM(N47:N56)","v":10120255.916132273},"Total",null,null,10.5,{"$f":"IF($B$4=\"SW\",'Wave Areas'!P125,(IF($B$4=\"N\",'Wave Areas'!B88,(IF($B$4=\"NE\",'Wave Areas'!P89,(IF($B$4=\"E\",'Wave Areas'!B106,(IF($B$4=\"SE\",'Wave Areas'!P107,(IF($B$4=\"S\",'Wave Areas'!B124,(IF($B$4=\"W\",'Wave Areas'!B142,(IF($B$4=\"NW\",'Wave Areas'!P143,0)))))))))))))))","v":0},{"$f":"IF($B$4=\"SW\",'Wave Areas'!Q125,(IF($B$4=\"N\",'Wave Areas'!C88,(IF($B$4=\"NE\",'Wave Areas'!Q89,(IF($B$4=\"E\",'Wave Areas'!C106,(IF($B$4=\"SE\",'Wave Areas'!Q107,(IF($B$4=\"S\",'Wave Areas'!C124,(IF($B$4=\"W\",'Wave Areas'!C142,(IF($B$4=\"NW\",'Wave Areas'!Q143,0)))))))))))))))","v":0},{"$f":"IF($B$4=\"SW\",'Wave Areas'!R125,(IF($B$4=\"N\",'Wave Areas'!D88,(IF($B$4=\"NE\",'Wave Areas'!R89,(IF($B$4=\"E\",'Wave Areas'!D106,(IF($B$4=\"SE\",'Wave Areas'!R107,(IF($B$4=\"S\",'Wave Areas'!D124,(IF($B$4=\"W\",'Wave Areas'!D142,(IF($B$4=\"NW\",'Wave Areas'!R143,0)))))))))))))))","v":0},{"$f":"IF($B$4=\"SW\",'Wave Areas'!S125,(IF($B$4=\"N\",'Wave Areas'!E88,(IF($B$4=\"NE\",'Wave Areas'!S89,(IF($B$4=\"E\",'Wave Areas'!E106,(IF($B$4=\"SE\",'Wave Areas'!S107,(IF($B$4=\"S\",'Wave Areas'!E124,(IF($B$4=\"W\",'Wave Areas'!E142,(IF($B$4=\"NW\",'Wave Areas'!S143,0)))))))))))))))","v":0},{"$f":"IF($B$4=\"SW\",'Wave Areas'!T125,(IF($B$4=\"N\",'Wave Areas'!F88,(IF($B$4=\"NE\",'Wave Areas'!T89,(IF($B$4=\"E\",'Wave Areas'!F106,(IF($B$4=\"SE\",'Wave Areas'!T107,(IF($B$4=\"S\",'Wave Areas'!F124,(IF($B$4=\"W\",'Wave Areas'!F142,(IF($B$4=\"NW\",'Wave Areas'!T143,0)))))))))))))))","v":0},{"$f":"IF($B$4=\"SW\",'Wave Areas'!U125,(IF($B$4=\"N\",'Wave Areas'!G88,(IF($B$4=\"NE\",'Wave Areas'!U89,(IF($B$4=\"E\",'Wave Areas'!G106,(IF($B$4=\"SE\",'Wave Areas'!U107,(IF($B$4=\"S\",'Wave Areas'!G124,(IF($B$4=\"W\",'Wave Areas'!G142,(IF($B$4=\"NW\",'Wave Areas'!U143,0)))))))))))))))","v":0},{"$f":"IF($B$4=\"SW\",'Wave Areas'!V125,(IF($B$4=\"N\",'Wave Areas'!H88,(IF($B$4=\"NE\",'Wave Areas'!V89,(IF($B$4=\"E\",'Wave Areas'!H106,(IF($B$4=\"SE\",'Wave Areas'!V107,(IF($B$4=\"S\",'Wave Areas'!H124,(IF($B$4=\"W\",'Wave Areas'!H142,(IF($B$4=\"NW\",'Wave Areas'!V143,0)))))))))))))))","v":0},{"$f":"IF($B$4=\"SW\",'Wave Areas'!W125,(IF($B$4=\"N\",'Wave Areas'!I88,(IF($B$4=\"NE\",'Wave Areas'!W89,(IF($B$4=\"E\",'Wave Areas'!I106,(IF($B$4=\"SE\",'Wave Areas'!W107,(IF($B$4=\"S\",'Wave Areas'!I124,(IF($B$4=\"W\",'Wave Areas'!I142,(IF($B$4=\"NW\",'Wave Areas'!W143,0)))))))))))))))","v":0},{"$f":"IF($B$4=\"SW\",'Wave Areas'!X125,(IF($B$4=\"N\",'Wave Areas'!J88,(IF($B$4=\"NE\",'Wave Areas'!X89,(IF($B$4=\"E\",'Wave Areas'!J106,(IF($B$4=\"SE\",'Wave Areas'!X107,(IF($B$4=\"S\",'Wave Areas'!J124,(IF($B$4=\"W\",'Wave Areas'!J142,(IF($B$4=\"NW\",'Wave Areas'!X143,0)))))))))))))))","v":0},{"$f":"IF($B$4=\"SW\",'Wave Areas'!Y125,(IF($B$4=\"N\",'Wave Areas'!K88,(IF($B$4=\"NE\",'Wave Areas'!Y89,(IF($B$4=\"E\",'Wave Areas'!K106,(IF($B$4=\"SE\",'Wave Areas'!Y107,(IF($B$4=\"S\",'Wave Areas'!K124,(IF($B$4=\"W\",'Wave Areas'!K142,(IF($B$4=\"NW\",'Wave Areas'!Y143,0)))))))))))))))","v":0},{"$f":"IF($B$4=\"SW\",'Wave Areas'!Z125,(IF($B$4=\"N\",'Wave Areas'!L88,(IF($B$4=\"NE\",'Wave Areas'!Z89,(IF($B$4=\"E\",'Wave Areas'!L106,(IF($B$4=\"SE\",'Wave Areas'!Z107,(IF($B$4=\"S\",'Wave Areas'!L124,(IF($B$4=\"W\",'Wave Areas'!L142,(IF($B$4=\"NW\",'Wave Areas'!Z143,0)))))))))))))))","v":0},null,10.5,{"$error":"#DIV/0!"},{"$error":"#DIV/0!"},{"$error":"#DIV/0!"},{"$error":"#DIV/0!"},{"$error":"#DIV/0!"},{"$error":"#DIV/0!"},{"$error":"#DIV/0!"},{"$error":"#DIV/0!"},{"$error":"#DIV/0!"},{"$error":"#DIV/0!"},{"$error":"#DIV/0!"},{"$error":"#DIV/0!"},null,10.5,{"$error":"#DIV/0!"},{"$error":"#DIV/0!"},{"$f":"AI58/1004","v":{"$error":"#DIV/0!"}},{"$f":"AJ58/1004","v":{"$error":"#DIV/0!"}},{"$f":"AK58/1004","v":{"$error":"#DIV/0!"}},{"$f":"AL58/1004","v":{"$error":"#DIV/0!"}},{"$f":"AM58/1004","v":{"$error":"#DIV/0!"}},{"$f":"AN58/1004","v":{"$error":"#DIV/0!"}},{"$error":"#DIV/0!"},{"$error":"#DIV/0!"},{"$error":"#DIV/0!"},{"$error":"#DIV/0!"}]
[null,null,null,null,null,null,null,null,null,null,null,null,null,null,null,null,null,"Total Occurences",null,null,null,null,null,null,null,null,null,null,{"$f":"SUM(S48:AC58)","v":0},null,null,null,null,null,null,null,null,null,null,null,null,null,null,null,"Sub Totals",{"$f":"SUM(AT48:AT58)","v":{"$error":"#DIV/0!"}},{"$error":"#DIV/0!"},{"$error":"#DIV/0!"},{"$error":"#DIV/0!"},{"$error":"#DIV/0!"},{"$error":"#DIV/0!"},{"$error":"#DIV/0!"},{"$error":"#DIV/0!"},{"$error":"#DIV/0!"},{"$error":"#DIV/0!"},{"$error":"#DIV/0!"},{"$f":"SUM(BE48:BE57)","v":{"$error":"#DIV/0!"}},"Total"]
[]
[null,null,null,null,null,null,null,null,null,null,null,null,null,null,null,null,null,null,null,null,null,null,null,null,null,null,null,null,null,null,null,null,null,null,null,null,null,null,null,null,null,null,null,null,null,null,null,null,null,null,null,null,null,null,null,null,"Min","Max"]
[null,null,null,null,null,null,null,null,null,null,null,null,null,null,null,null,null,null,null,null,null,null,null,null,null,null,null,null,null,null,null,null,null,null,null,null,null,null,null,null,null,null,null,null,null,null,null,null,null,null,null,null,null,"Relevant Wave Heights",null,null,{"$f":"IF((AND($B$6>AS48,$B$6<AS49)),AS48,(IF((AND($B$6>AS49,$B$6<AS50)),AS49,(IF((AND($B$6>AS50,$B$6<AS51)),AS50,(IF((AND($B$6>AS51,$B$6<AS52)),AS51,(IF((AND($B$6>AS52,$B$6<AS53)),AS52,(IF((AND($B$6>AS53,$B$6<AS54)),AS53,(IF((AND($B$6>AS54,$B$6<AS55)),AS54,(IF((AND($B$6>AS55,$B$6<AS56)),AS55,(IF((AND($B$6>AS56,$B$6<AS57)),AS56,(IF((AND($B$6>AS57,$B$6<AS58)),AS57,(IF($B$6>AS58,AS58,\"\")))))))))))))))))))))","v":10.5},{"$f":"IF((AND($B$6>AS48,$B$6<AS49)),AS49,(IF((AND($B$6>AS49,$B$6<AS50)),AS50,(IF((AND($B$6>AS50,$B$6<AS51)),AS51,(IF((AND($B$6>AS51,$B$6<AS52)),AS52,(IF((AND($B$6>AS52,$B$6<AS53)),AS53,(IF((AND($B$6>AS53,$B$6<AS54)),AS54,(IF((AND($B$6>AS54,$B$6<AS55)),AS55,(IF((AND($B$6>AS55,$B$6<AS56)),AS56,(IF((AND($B$6>AS56,$B$6<AS57)),AS57,(IF((AND($B$6>AS57,$B$6<AS58)),AS58,(IF($B$6>AS58,AS58,\"\")))))))))))))))))))))","v":10.5}]
[null,null,null,null,null,null,null,null,null,null,null,null,null,null,null,null,null,null,null,null,null,null,null,null,null,null,null,null,null,null,null,null,null,null,null,null,null,null,null,null,null,null,null,null,null,null,null,null,null,null,null,null,null,"Relevant Power (kW/m)",null,null,{"$f":"(((($B$6-BE62)*((VLOOKUP(BF62,AS48:BE58,13,FALSE))-(VLOOKUP(BE62,AS48:BE58,13,FALSE))))/(BF62-BE62))+(VLOOKUP(BE62,AS48:BE58,13,FALSE)))*0.001","v":{"$error":"#VALUE!"}}]

{"sheet":"Wave 5","index":17,"n_rows":63,"n_cols":58,"rows_kept":63,"cut":false,"hidden":false,"merged":[[7,1,7,2],[2,1,2,2],[3,1,3,2],[4,1,4,2],[5,1,5,2],[6,1,6,2],[16,44,16,45],[17,44,17,55],[18,17,18,28],[18,30,18,41],[18,44,18,55],[32,0,32,1],[32,17,32,27],[8,1,8,2],[9,1,9,2],[16,30,16,31],[19,2,19,12],[19,17,19,28],[19,30,19,41],[19,44,19,55],[20,2,20,12],[35,53,35,55],[36,53,36,55],[36,56,36,57],[57,0,57,1],[42,17,42,19],[42,30,42,31],[42,44,42,45],[44,2,44,12],[44,17,44,28],[44,30,44,41],[44,44,44,55],[58,17,58,27],[61,53,61,55],[62,53,62,55],[62,56,62,57],[45,2,45,12],[45,17,45,28],[45,30,45,41],[45,44,45,55]]}
["Wave Resource"]
[]
[{"$f":"Input!I45","v":"Site Name"},{"$f":"Input!J85","v":"[Enter Name]"}]
[{"$f":"Input!I46","v":"Position Relevant to Island"},{"$f":"Input!J86","v":"[Select Value]"}]
[{"$f":"Input!I47","v":"Relevant Ocean Wave Area"},{"$f":"Input!J87","v":"[Select Area]"}]
[{"$f":"Input!I48","v":"Average Wave Height"},{"$f":"Input!J88","v":"[Enter Value]"}]
[{"$f":"Input!I49","v":"Proximity to Grid Connection"},{"$f":"Input!J89","v":"[Select Value]"}]
[{"$f":"Input!I50","v":"Average Water Depth"},{"$f":"Input!J90","v":"[Select Value]"}]
[{"$f":"Input!I51","v":"Seabed Topography"},{"$f":"Input!J91","v":"[Select Value]"}]
[{"$f":"Input!I52","v":"Accessibility"},{"$f":"Input!J92","v":"[Select Value]"}]
[]
["Relavant Wave Power",{"$f":"IF(B8<>\"[Select Value]\",(IF(B8=\"> 20m\", BE63,BE37)),0)","v":0}]
[]
["Transitional Waters Calculation (",">20m"]
[]
["Wave Velocity C","(m/s)",{"$f":"(C17/C18)","v":5.4628571428571435},6.9888888888888889,8.3109090909090906,9.2892307692307696,9.9653333333333318,10.436470588235293,10.77157894736842,11.016190476190477,11.201739130434783,11.344799999999999,11.455555555555556]
["Wave Length (λ)","(m)",19.12,31.45,45.71,60.38,74.739999999999995,88.71,102.33,115.67,128.82,141.81,154.65]
["Wave Period (T)","(s)",3.5,4.5,5.5,6.5,7.5,8.5,9.5,10.5,11.5,12.5,13.5]
[null,null,null,null,null,null,null,null,null,null,null,null,null,null,null,null,null,"North Sea Area 10",null,null,null,null,null,null,null,null,null,null,null,null,"North Sea Area 10",null,null,null,null,null,null,null,null,null,null,null,null,null,"North Sea Area 10"]
["Energy","Wave Height (Hs)","Power",null,null,null,null,null,null,null,null,null,null,"Total Power",null,null,null,"Number of Occurences",null,null,null,null,null,null,null,null,null,null,null,null,"Percentage of Occurences",null,null,null,null,null,null,null,null,null,null,null,null,null,"Annual Power (W/m)",null,null,null,null,null,null,null,null,null,null,null,"Total Power"]
["(J)","(m)","(W/m)",null,null,null,null,null,null,null,null,null,null,"(W/m)",null,null,null,"Hs                      T",3.5,4.5,5.5,6.5,7.5,8.5,9.5,10.5,11.5,12.5,13.5,null,"Hs                 T",3.5,4.5,5.5,6.5,7.5,8.5,9.5,10.5,11.5,12.5,13.5,"Availability",null,"Hs           T",3.5,4.5,5.5,6.5,7.5,8.5,9.5,10.5,11.5,12.5,13.5,"(W/m)"]
[{"$f":"(1025*9.81*B22^2)/8","v":314.2265625},0.5,{"$f":"$A22*($C$16)","v":1716.5748214285716},{"$f":"$A22*(D16)","v":2196.0945312499998},{"$f":"A22*($E$16)","v":2611.5083948863635},{"$f":"$A22*($F$16)","v":2918.9230528846156},{"$f":"$A22*($G$16)","v":3131.3724374999997},{"$f":"$A22*($H$16)","v":3279.416277573529},0,0,0,0,0,{"$f":"SUM(C22:M22)","v":15853.889515523078},null,null,null,0.5,{"$f":"IF($B$4=\"SW\",'Wave Areas'!P115,(IF($B$4=\"N\",'Wave Areas'!B78,(IF($B$4=\"NE\",'Wave Areas'!P79,(IF($B$4=\"E\",'Wave Areas'!B96,(IF($B$4=\"SE\",'Wave Areas'!P97,(IF($B$4=\"S\",'Wave Areas'!B114,(IF($B$4=\"W\",'Wave Areas'!B132,(IF($B$4=\"NW\",'Wave Areas'!P133,0)))))))))))))))","v":0},{"$f":"IF($B$4=\"SW\",'Wave Areas'!Q115,(IF($B$4=\"N\",'Wave Areas'!C78,(IF($B$4=\"NE\",'Wave Areas'!Q79,(IF($B$4=\"E\",'Wave Areas'!C96,(IF($B$4=\"SE\",'Wave Areas'!Q97,(IF($B$4=\"S\",'Wave Areas'!C114,(IF($B$4=\"W\",'Wave Areas'!C132,(IF($B$4=\"NW\",'Wave Areas'!Q133,0)))))))))))))))","v":0},{"$f":"IF($B$4=\"SW\",'Wave Areas'!R115,(IF($B$4=\"N\",'Wave Areas'!D78,(IF($B$4=\"NE\",'Wave Areas'!R79,(IF($B$4=\"E\",'Wave Areas'!D96,(IF($B$4=\"SE\",'Wave Areas'!R97,(IF($B$4=\"S\",'Wave Areas'!D114,(IF($B$4=\"W\",'Wave Areas'!D132,(IF($B$4=\"NW\",'Wave Areas'!R133,0)))))))))))))))","v":0},{"$f":"IF($B$4=\"SW\",'Wave Areas'!S115,(IF($B$4=\"N\",'Wave Areas'!E78,(IF($B$4=\"NE\",'Wave Areas'!S79,(IF($B$4=\"E\",'Wave Areas'!E96,(IF($B$4=\"SE\",'Wave Areas'!S97,(IF($B$4=\"S\",'Wave Areas'!E114,(IF($B$4=\"W\",'Wave Areas'!E132,(IF($B$4=\"NW\",'Wave Areas'!S133,0)))))))))))))))","v":0},{"$f":"IF($B$4=\"SW\",'Wave Areas'!T115,(IF($B$4=\"N\",'Wave Areas'!F78,(IF($B$4=\"NE\",'Wave Areas'!T79,(IF($B$4=\"E\",'Wave Areas'!F96,(IF($B$4=\"SE\",'Wave Areas'!T97,(IF($B$4=\"S\",'Wave Areas'!F114,(IF($B$4=\"W\",'Wave Areas'!F132,(IF($B$4=\"NW\",'Wave Areas'!T133,0)))))))))))))))","v":0},{"$f":"IF($B$4=\"SW\",'Wave Areas'!U115,(IF($B$4=\"N\",'Wave Areas'!G78,(IF($B$4=\"NE\",'Wave Areas'!U79,(IF($B$4=\"E\",'Wave Areas'!G96,(IF($B$4=\"SE\",'Wave Areas'!U97,(IF($B$4=\"S\",'Wave Areas'!G114,(IF($B$4=\"W\",'Wave Areas'!G132,(IF($B$4=\"NW\",'Wave Areas'!U133,0)))))))))))))))","v":0},{"$f":"IF($B$4=\"SW\",'Wave Areas'!V115,(IF($B$4=\"N\",'Wave Areas'!H78,(IF($B$4=\"NE\",'Wave Areas'!V79,(IF($B$4=\"E\",'Wave Areas'!H96,(IF($B$4=\"SE\",'Wave Areas'!V97,(IF($B$4=\"S\",'Wave Areas'!H114,(IF($B$4=\"W\",'Wave Areas'!H132,(IF($B$4=\"NW\",'Wave Areas'!V133,0)))))))))))))))","v":0},{"$f":"IF($B$4=\"SW\",'Wave Areas'!W115,(IF($B$4=\"N\",'Wave Areas'!I78,(IF($B$4=\"NE\",'Wave Areas'!W79,(IF($B$4=\"E\",'Wave Areas'!I96,(IF($B$4=\"SE\",'Wave Areas'!W97,(IF($B$4=\"S\",'Wave Areas'!I114,(IF($B$4=\"W\",'Wave Areas'!I132,(IF($B$4=\"NW\",'Wave Areas'!W133,0)))))))))))))))","v":0},{"$f":"IF($B$4=\"SW\",'Wave Areas'!X115,(IF($B$4=\"N\",'Wave Areas'!J78,(IF($B$4=\"NE\",'Wave Areas'!X79,(IF($B$4=\"E\",'Wave Areas'!J96,(IF($B$4=\"SE\",'Wave Areas'!X97,(IF($B$4=\"S\",'Wave Areas'!J114,(IF($B$4=\"W\",'Wave Areas'!J132,(IF($B$4=\"NW\",'Wave Areas'!X133,0)))))))))))))))","v":0},{"$f":"IF($B$4=\"SW\",'Wave Areas'!Y115,(IF($B$4=\"N\",'Wave Areas'!K78,(IF($B$4=\"NE\",'Wave Areas'!Y79,(IF($B$4=\"E\",'Wave Areas'!K96,(IF($B$4=\"SE\",'Wave Areas'!Y97,(IF($B$4=\"S\",'Wave Areas'!K114,(IF($B$4=\"W\",'Wave Areas'!K132,(IF($B$4=\"NW\",'Wave Areas'!Y133,0)))))))))))))))","v":0},{"$f":"IF($B$4=\"SW\",'Wave Areas'!Z115,(IF($B$4=\"N\",'Wave Areas'!L78,(IF($B$4=\"NE\",'Wave Areas'!Z79,(IF($B$4=\"E\",'Wave Areas'!L96,(IF($B$4=\"SE\",'Wave Areas'!Z97,(IF($B$4=\"S\",'Wave Areas'!L114,(IF($B$4=\"W\",'Wave Areas'!L132,(IF($B$4=\"NW\",'Wave Areas'!Z133,0)))))))))))))))","v":0},null,0.5,{"$f":"S22/($AC$33)","v":{"$error":"#DIV/0!"}},{"$f":"T22/($AC$33)","v":{"$error":"#DIV/0!"}},{"$error":"#DIV/0!"},{"$error":"#DIV/0!"},{"$error":"#DIV/0!"},{"$error":"#DIV/0!"},{"$error":"#DIV/0!"},{"$error":"#DIV/0!"},{"$error":"#DIV/0!"},{"$error":"#DIV/0!"},{"$error":"#DIV/0!"},{"$f":"SUM(AF22:AP22)","v":{"$error":"#DIV/0!"}},null,0.5,{"$f":"C22*AF22","v":{"$error":"#DIV/0!"}},{"$error":"#DIV/0!"},{"$error":"#DIV/0!"},{"$error":"#DIV/0!"},{"$error":"#DIV/0!"},{"$error":"#DIV/0!"},{"$f":"AM22/1004","v":{"$error":"#DIV/0!"}},{"$f":"AN22/1004","v":{"$error":"#DIV/0!"}},{"$f":"AO22/1004","v":{"$error":"#DIV/0!"}},{"$f":"AP22/1004","v":{"$error":"#DIV/0!"}},{"$f":"AQ20/1004","v":0},{"$f":"SUM(AT22:BD22)","v":{"$error":"#DIV/0!"}}]
[2828.0390625,1.5,{"$f":"$A23*($C$16)","v":15449.173392857145},{"$f":"A23*($D$16)","v":19764.850781249999},23503.575553977273,{"$f":"$A23*($F$16)","v":26270.307475961541},28182.351937499996,29514.746498161763,{"$f":"$A23*($I$16)","v":30462.446027960523},{"$f":"$A23*($J$16)","v":31154.216986607145},0,0,0,204301.66865427536,null,null,null,1.5,{"$f":"IF($B$4=\"SW\",'Wave Areas'!P116,(IF($B$4=\"N\",'Wave Areas'!B79,(IF($B$4=\"NE\",'Wave Areas'!P80,(IF($B$4=\"E\",'Wave Areas'!B97,(IF($B$4=\"SE\",'Wave Areas'!P98,(IF($B$4=\"S\",'Wave Areas'!B115,(IF($B$4=\"W\",'Wave Areas'!B133,(IF($B$4=\"NW\",'Wave Areas'!P134,0)))))))))))))))","v":0},{"$f":"IF($B$4=\"SW\",'Wave Areas'!Q116,(IF($B$4=\"N\",'Wave Areas'!C79,(IF($B$4=\"NE\",'Wave Areas'!Q80,(IF($B$4=\"E\",'Wave Areas'!C97,(IF($B$4=\"SE\",'Wave Areas'!Q98,(IF($B$4=\"S\",'Wave Areas'!C115,(IF($B$4=\"W\",'Wave Areas'!C133,(IF($B$4=\"NW\",'Wave Areas'!Q134,0)))))))))))))))","v":0},{"$f":"IF($B$4=\"SW\",'Wave Areas'!R116,(IF($B$4=\"N\",'Wave Areas'!D79,(IF($B$4=\"NE\",'Wave Areas'!R80,(IF($B$4=\"E\",'Wave Areas'!D97,(IF($B$4=\"SE\",'Wave Areas'!R98,(IF($B$4=\"S\",'Wave Areas'!D115,(IF($B$4=\"W\",'Wave Areas'!D133,(IF($B$4=\"NW\",'Wave Areas'!R134,0)))))))))))))))","v":0},{"$f":"IF($B$4=\"SW\",'Wave Areas'!S116,(IF($B$4=\"N\",'Wave Areas'!E79,(IF($B$4=\"NE\",'Wave Areas'!S80,(IF($B$4=\"E\",'Wave Areas'!E97,(IF($B$4=\"SE\",'Wave Areas'!S98,(IF($B$4=\"S\",'Wave Areas'!E115,(IF($B$4=\"W\",'Wave Areas'!E133,(IF($B$4=\"NW\",'Wave Areas'!S134,0)))))))))))))))","v":0},{"$f":"IF($B$4=\"SW\",'Wave Areas'!T116,(IF($B$4=\"N\",'Wave Areas'!F79,(IF($B$4=\"NE\",'Wave Areas'!T80,(IF($B$4=\"E\",'Wave Areas'!F97,(IF($B$4=\"SE\",'Wave Areas'!T98,(IF($B$4=\"S\",'Wave Areas'!F115,(IF($B$4=\"W\",'Wave Areas'!F133,(IF($B$4=\"NW\",'Wave Areas'!T134,0)))))))))))))))","v":0},{"$f":"IF($B$4=\"SW\",'Wave Areas'!U116,(IF($B$4=\"N\",'Wave Areas'!G79,(IF($B$4=\"NE\",'Wave Areas'!U80,(IF($B$4=\"E\",'Wave Areas'!G97,(IF($B$4=\"SE\",'Wave Areas'!U98,(IF($B$4=\"S\",'Wave Areas'!G115,(IF($B$4=\"W\",'Wave Areas'!G133,(IF($B$4=\"NW\",'Wave Areas'!U134,0)))))))))))))))","v":0},{"$f":"IF($B$4=\"SW\",'Wave Areas'!V116,(IF($B$4=\"N\",'Wave Areas'!H79,(IF($B$4=\"NE\",'Wave Areas'!V80,(IF($B$4=\"E\",'Wave Areas'!H97,(IF($B$4=\"SE\",'Wave Areas'!V98,(IF($B$4=\"S\",'Wave Areas'!H115,(IF($B$4=\"W\",'Wave Areas'!H133,(IF($B$4=\"NW\",'Wave Areas'!V134,0)))))))))))))))","v":0},{"$f":"IF($B$4=\"SW\",'Wave Areas'!W116,(IF($B$4=\"N\",'Wave Areas'!I79,(IF($B$4=\"NE\",'Wave Areas'!W80,(IF($B$4=\"E\",'Wave Areas'!I97,(IF($B$4=\"SE\",'Wave Areas'!W98,(IF($B$4=\"S\",'Wave Areas'!I115,(IF($B$4=\"W\",'Wave Areas'!I133,(IF($B$4=\"NW\",'Wave Areas'!W134,0)))))))))))))))","v":0},{"$f":"IF($B$4=\"SW\",'Wave Areas'!X116,(IF($B$4=\"N\",'Wave Areas'!J79,(IF($B$4=\"NE\",'Wave Areas'!X80,(IF($B$4=\"E\",'Wave Areas'!J97,(IF($B$4=\"SE\",'Wave Areas'!X98,(IF($B$4=\"S\",'Wave Areas'!J115,(IF($B$4=\"W\",'Wave Areas'!J133,(IF($B$4=\"NW\",'Wave Areas'!X134,0)))))))))))))))","v":0},{"$f":"IF($B$4=\"SW\",'Wave Areas'!Y116,(IF($B$4=\"N\",'Wave Areas'!K79,(IF($B$4=\"NE\",'Wave Areas'!Y80,(IF($B$4=\"E\",'Wave Areas'!K97,(IF($B$4=\"SE\",'Wave Areas'!Y98,(IF($B$4=\"S\",'Wave Areas'!K115,(IF($B$4=\"W\",'Wave Areas'!K133,(IF($B$4=\"NW\",'Wave Areas'!Y134,0)))))))))))))))","v":0},{"$f":"IF($B$4=\"SW\",'Wave Areas'!Z116,(IF($B$4=\"N\",'Wave Areas'!L79,(IF($B$4=\"NE\",'Wave Areas'!Z80,(IF($B$4=\"E\",'Wave Areas'!L97,(IF($B$4=\"SE\",'Wave Areas'!Z98,(IF($B$4=\"S\",'Wave Areas'!L115,(IF($B$4=\"W\",'Wave Areas'!L133,(IF($B$4=\"NW\",'Wave Areas'!Z134,0)))))))))))))))","v":0},null,1.5,{"$f":"S23/($AC$33)","v":{"$error":"#DIV/0!"}},{"$error":"#DIV/0!"},{"$error":"#DIV/0!"},{"$error":"#DIV/0!"},{"$error":"#DIV/0!"},{"$error":"#DIV/0!"},{"$error":"#DIV/0!"},{"$error":"#DIV/0!"},{"$error":"#DIV/0!"},{"$error":"#DIV/0!"},{"$error":"#DIV/0!"},{"$f":"SUM(AF23:AP23)","v":{"$error":"#DIV/0!"}},null,1.5,{"$error":"#DIV/0!"},{"$error":"#DIV/0!"},{"$error":"#DIV/0!"},{"$error":"#DIV/0!"},{"$error":"#DIV/0!"},{"$error":"#DIV/0!"},{"$error":"#DIV/0!"},{"$error":"#DIV/0!"},{"$f":"AO23/1004","v":{"$error":"#DIV/0!"}},{"$error":"#DIV/0!"},{"$f":"AQ22/1004","v":{"$error":"#DIV/0!"}},{"$error":"#DIV/0!"}]
[7855.6640625,2.5,0,{"$f":"A24*($D$16)","v":54902.36328125},65287.709872159088,{"$f":"$A24*($F$16)","v":72973.07632211539},78284.310937499991,81985.406939338223,84617.90563322368,86539.49162946429,0,0,0,524590.26461505075,null,null,null,2.5,{"$f":"IF($B$4=\"SW\",'Wave Areas'!P117,(IF($B$4=\"N\",'Wave Areas'!B80,(IF($B$4=\"NE\",'Wave Areas'!P81,(IF($B$4=\"E\",'Wave Areas'!B98,(IF($B$4=\"SE\",'Wave Areas'!P99,(IF($B$4=\"S\",'Wave Areas'!B116,(IF($B$4=\"W\",'Wave Areas'!B134,(IF($B$4=\"NW\",'Wave Areas'!P135,0)))))))))))))))","v":0},{"$f":"IF($B$4=\"SW\",'Wave Areas'!Q117,(IF($B$4=\"N\",'Wave Areas'!C80,(IF($B$4=\"NE\",'Wave Areas'!Q81,(IF($B$4=\"E\",'Wave Areas'!C98,(IF($B$4=\"SE\",'Wave Areas'!Q99,(IF($B$4=\"S\",'Wave Areas'!C116,(IF($B$4=\"W\",'Wave Areas'!C134,(IF($B$4=\"NW\",'Wave Areas'!Q135,0)))))))))))))))","v":0},{"$f":"IF($B$4=\"SW\",'Wave Areas'!R117,(IF($B$4=\"N\",'Wave Areas'!D80,(IF($B$4=\"NE\",'Wave Areas'!R81,(IF($B$4=\"E\",'Wave Areas'!D98,(IF($B$4=\"SE\",'Wave Areas'!R99,(IF($B$4=\"S\",'Wave Areas'!D116,(IF($B$4=\"W\",'Wave Areas'!D134,(IF($B$4=\"NW\",'Wave Areas'!R135,0)))))))))))))))","v":0},{"$f":"IF($B$4=\"SW\",'Wave Areas'!S117,(IF($B$4=\"N\",'Wave Areas'!E80,(IF($B$4=\"NE\",'Wave Areas'!S81,(IF($B$4=\"E\",'Wave Areas'!E98,(IF($B$4=\"SE\",'Wave Areas'!S99,(IF($B$4=\"S\",'Wave Areas'!E116,(IF($B$4=\"W\",'Wave Areas'!E134,(IF($B$4=\"NW\",'Wave Areas'!S135,0)))))))))))))))","v":0},{"$f":"IF($B$4=\"SW\",'Wave Areas'!T117,(IF($B$4=\"N\",'Wave Areas'!F80,(IF($B$4=\"NE\",'Wave Areas'!T81,(IF($B$4=\"E\",'Wave Areas'!F98,(IF($B$4=\"SE\",'Wave Areas'!T99,(IF($B$4=\"S\",'Wave Areas'!F116,(IF($B$4=\"W\",'Wave Areas'!F134,(IF($B$4=\"NW\",'Wave Areas'!T135,0)))))))))))))))","v":0},{"$f":"IF($B$4=\"SW\",'Wave Areas'!U117,(IF($B$4=\"N\",'Wave Areas'!G80,(IF($B$4=\"NE\",'Wave Areas'!U81,(IF($B$4=\"E\",'Wave Areas'!G98,(IF($B$4=\"SE\",'Wave Areas'!U99,(IF($B$4=\"S\",'Wave Areas'!G116,(IF($B$4=\"W\",'Wave Areas'!G134,(IF($B$4=\"NW\",'Wave Areas'!U135,0)))))))))))))))","v":0},{"$f":"IF($B$4=\"SW\",'Wave Areas'!V117,(IF($B$4=\"N\",'Wave Areas'!H80,(IF($B$4=\"NE\",'Wave Areas'!V81,(IF($B$4=\"E\",'Wave Areas'!H98,(IF($B$4=\"SE\",'Wave Areas'!V99,(IF($B$4=\"S\",'Wave Areas'!H116,(IF($B$4=\"W\",'Wave Areas'!H134,(IF($B$4=\"NW\",'Wave Areas'!V135,0)))))))))))))))","v":0},{"$f":"IF($B$4=\"SW\",'Wave Areas'!W117,(IF($B$4=\"N\",'Wave Areas'!I80,(IF($B$4=\"NE\",'Wave Areas'!W81,(IF($B$4=\"E\",'Wave Areas'!I98,(IF($B$4=\"SE\",'Wave Areas'!W99,(IF($B$4=\"S\",'Wave Areas'!I116,(IF($B$4=\"W\",'Wave Areas'!I134,(IF($B$4=\"NW\",'Wave Areas'!W135,0)))))))))))))))","v":0},{"$f":"IF($B$4=\"SW\",'Wave Areas'!X117,(IF($B$4=\"N\",'Wave Areas'!J80,(IF($B$4=\"NE\",'Wave Areas'!X81,(IF($B$4=\"E\",'Wave Areas'!J98,(IF($B$4=\"SE\",'Wave Areas'!X99,(IF($B$4=\"S\",'Wave Areas'!J116,(IF($B$4=\"W\",'Wave Areas'!J134,(IF($B$4=\"NW\",'Wave Areas'!X135,0)))))))))))))))","v":0},{"$f":"IF($B$4=\"SW\",'Wave Areas'!Y117,(IF($B$4=\"N\",'Wave Areas'!K80,(IF($B$4=\"NE\",'Wave Areas'!Y81,(IF($B$4=\"E\",'Wave Areas'!K98,(IF($B$4=\"SE\",'Wave Areas'!Y99,(IF($B$4=\"S\",'Wave Areas'!K116,(IF($B$4=\"W\",'Wave Areas'!K134,(IF($B$4=\"NW\",'Wave Areas'!Y135,0)))))))))))))))","v":0},{"$f":"IF($B$4=\"SW\",'Wave Areas'!Z117,(IF($B$4=\"N\",'Wave Areas'!L80,(IF($B$4=\"NE\",'Wave Areas'!Z81,(IF($B$4=\"E\",'Wave Areas'!L98,(IF($B$4=\"SE\",'Wave Areas'!Z99,(IF($B$4=\"S\",'Wave Areas'!L116,(IF($B$4=\"W\",'Wave Areas'!L134,(IF($B$4=\"NW\",'Wave Areas'!Z135,0)))))))))))))))","v":0},null,2.5,{"$error":"#DIV/0!"},{"$f":"T24/($AC$33)","v":{"$error":"#DIV/0!"}},{"$f":"U24/($AC$33)","v":{"$error":"#DIV/0!"}},{"$error":"#DIV/0!"},{"$error":"#DIV/0!"},{"$error":"#DIV/0!"},{"$error":"#DIV/0!"},{"$error":"#DIV/0!"},{"$error":"#DIV/0!"},{"$error":"#DIV/0!"},{"$error":"#DIV/0!"},{"$error":"#DIV/0!"},null,2.5,{"$f":"AG24/1004","v":{"$error":"#DIV/0!"}},{"$f":"D24*AG24","v":{"$error":"#DIV/0!"}},{"$error":"#DIV/0!"},{"$error":"#DIV/0!"},{"$error":"#DIV/0!"},{"$error":"#DIV/0!"},{"$error":"#DIV/0!"},{"$error":"#DIV/0!"},{"$error":"#DIV/0!"},{"$error":"#DIV/0!"},{"$error":"#DIV/0!"},{"$error":"#DIV/0!"}]
[15397.1015625,3.5,0,{"$f":"A25*($D$16)","v":107608.63203125},127963.91134943182,{"$f":"$A25*($F$16)","v":143027.22959134617},153437.24943749997,160691.39760110292,165851.09504111842,169617.40359375,0,0,0,1028196.9186454994,null,null,null,3.5,{"$f":"IF($B$4=\"SW\",'Wave Areas'!P118,(IF($B$4=\"N\",'Wave Areas'!B81,(IF($B$4=\"NE\",'Wave Areas'!P82,(IF($B$4=\"E\",'Wave Areas'!B99,(IF($B$4=\"SE\",'Wave Areas'!P100,(IF($B$4=\"S\",'Wave Areas'!B117,(IF($B$4=\"W\",'Wave Areas'!B135,(IF($B$4=\"NW\",'Wave Areas'!P136,0)))))))))))))))","v":0},{"$f":"IF($B$4=\"SW\",'Wave Areas'!Q118,(IF($B$4=\"N\",'Wave Areas'!C81,(IF($B$4=\"NE\",'Wave Areas'!Q82,(IF($B$4=\"E\",'Wave Areas'!C99,(IF($B$4=\"SE\",'Wave Areas'!Q100,(IF($B$4=\"S\",'Wave Areas'!C117,(IF($B$4=\"W\",'Wave Areas'!C135,(IF($B$4=\"NW\",'Wave Areas'!Q136,0)))))))))))))))","v":0},{"$f":"IF($B$4=\"SW\",'Wave Areas'!R118,(IF($B$4=\"N\",'Wave Areas'!D81,(IF($B$4=\"NE\",'Wave Areas'!R82,(IF($B$4=\"E\",'Wave Areas'!D99,(IF($B$4=\"SE\",'Wave Areas'!R100,(IF($B$4=\"S\",'Wave Areas'!D117,(IF($B$4=\"W\",'Wave Areas'!D135,(IF($B$4=\"NW\",'Wave Areas'!R136,0)))))))))))))))","v":0},{"$f":"IF($B$4=\"SW\",'Wave Areas'!S118,(IF($B$4=\"N\",'Wave Areas'!E81,(IF($B$4=\"NE\",'Wave Areas'!S82,(IF($B$4=\"E\",'Wave Areas'!E99,(IF($B$4=\"SE\",'Wave Areas'!S100,(IF($B$4=\"S\",'Wave Areas'!E117,(IF($B$4=\"W\",'Wave Areas'!E135,(IF($B$4=\"NW\",'Wave Areas'!S136,0)))))))))))))))","v":0},{"$f":"IF($B$4=\"SW\",'Wave Areas'!T118,(IF($B$4=\"N\",'Wave Areas'!F81,(IF($B$4=\"NE\",'Wave Areas'!T82,(IF($B$4=\"E\",'Wave Areas'!F99,(IF($B$4=\"SE\",'Wave Areas'!T100,(IF($B$4=\"S\",'Wave Areas'!F117,(IF($B$4=\"W\",'Wave Areas'!F135,(IF($B$4=\"NW\",'Wave Areas'!T136,0)))))))))))))))","v":0},{"$f":"IF($B$4=\"SW\",'Wave Areas'!U118,(IF($B$4=\"N\",'Wave Areas'!G81,(IF($B$4=\"NE\",'Wave Areas'!U82,(IF($B$4=\"E\",'Wave Areas'!G99,(IF($B$4=\"SE\",'Wave Areas'!U100,(IF($B$4=\"S\",'Wave Areas'!G117,(IF($B$4=\"W\",'Wave Areas'!G135,(IF($B$4=\"NW\",'Wave Areas'!U136,0)))))))))))))))","v":0},{"$f":"IF($B$4=\"SW\",'Wave Areas'!V118,(IF($B$4=\"N\",'Wave Areas'!H81,(IF($B$4=\"NE\",'Wave Areas'!V82,(IF($B$4=\"E\",'Wave Areas'!H99,(IF($B$4=\"SE\",'Wave Areas'!V100,(IF($B$4=\"S\",'Wave Areas'!H117,(IF($B$4=\"W\",'Wave Areas'!H135,(IF($B$4=\"NW\",'Wave Areas'!V136,0)))))))))))))))","v":0},{"$f":"IF($B$4=\"SW\",'Wave Areas'!W118,(IF($B$4=\"N\",'Wave Areas'!I81,(IF($B$4=\"NE\",'Wave Areas'!W82,(IF($B$4=\"E\",'Wave Areas'!I99,(IF($B$4=\"SE\",'Wave Areas'!W100,(IF($B$4=\"S\",'Wave Areas'!I117,(IF($B$4=\"W\",'Wave Areas'!I135,(IF($B$4=\"NW\",'Wave Areas'!W136,0)))))))))))))))","v":0},{"$f":"IF($B$4=\"SW\",'Wave Areas'!X118,(IF($B$4=\"N\",'Wave Areas'!J81,(IF($B$4=\"NE\",'Wave Areas'!X82,(IF($B$4=\"E\",'Wave Areas'!J99,(IF($B$4=\"SE\",'Wave Areas'!X100,(IF($B$4=\"S\",'Wave Areas'!J117,(IF($B$4=\"W\",'Wave Areas'!J135,(IF($B$4=\"NW\",'Wave Areas'!X136,0)))))))))))))))","v":0},{"$f":"IF($B$4=\"SW\",'Wave Areas'!Y118,(IF($B$4=\"N\",'Wave Areas'!K81,(IF($B$4=\"NE\",'Wave Areas'!Y82,(IF($B$4=\"E\",'Wave Areas'!K99,(IF($B$4=\"SE\",'Wave Areas'!Y100,(IF($B$4=\"S\",'Wave Areas'!K117,(IF($B$4=\"W\",'Wave Areas'!K135,(IF($B$4=\"NW\",'Wave Areas'!Y136,0)))))))))))))))","v":0},{"$f":"IF($B$4=\"SW\",'Wave Areas'!Z118,(IF($B$4=\"N\",'Wave Areas'!L81,(IF($B$4=\"NE\",'Wave Areas'!Z82,(IF($B$4=\"E\",'Wave Areas'!L99,(IF($B$4=\"SE\",'Wave Areas'!Z100,(IF($B$4=\"S\",'Wave Areas'!L117,(IF($B$4=\"W\",'Wave Areas'!L135,(IF($B$4=\"NW\",'Wave Areas'!Z136,0)))))))))))))))","v":0},null,3.5,{"$error":"#DIV/0!"},{"$error":"#DIV/0!"},{"$error":"#DIV/0!"},{"$error":"#DIV/0!"},{"$error":"#DIV/0!"},{"$error":"#DIV/0!"},{"$error":"#DIV/0!"},{"$error":"#DIV/0!"},{"$error":"#DIV/0!"},{"$error":"#DIV/0!"},{"$error":"#DIV/0!"},{"$error":"#DIV/0!"},null,3.5,{"$error":"#DIV/0!"},{"$error":"#DIV/0!"},{"$error":"#DIV/0!"},{"$error":"#DIV/0!"},{"$error":"#DIV/0!"},{"$error":"#DIV/0!"},{"$error":"#DIV/0!"},{"$error":"#DIV/0!"},{"$error":"#DIV/0!"},{"$error":"#DIV/0!"},{"$error":"#DIV/0!"},{"$error":"#DIV/0!"}]
[25452.3515625,4.5,0,{"$f":"A26*($D$16)","v":177883.65703125001},211532.17998579543,{"$f":"$A26*($F$16/2)","v":118216.38364182693},253641.16743749997,265632.71848345589,274162.01425164472,280387.95287946431,0,0,0,1581456.0737109373,null,null,null,4.5,{"$f":"IF($B$4=\"SW\",'Wave Areas'!P119,(IF($B$4=\"N\",'Wave Areas'!B82,(IF($B$4=\"NE\",'Wave Areas'!P83,(IF($B$4=\"E\",'Wave Areas'!B100,(IF($B$4=\"SE\",'Wave Areas'!P101,(IF($B$4=\"S\",'Wave Areas'!B118,(IF($B$4=\"W\",'Wave Areas'!B136,(IF($B$4=\"NW\",'Wave Areas'!P137,0)))))))))))))))","v":0},{"$f":"IF($B$4=\"SW\",'Wave Areas'!Q119,(IF($B$4=\"N\",'Wave Areas'!C82,(IF($B$4=\"NE\",'Wave Areas'!Q83,(IF($B$4=\"E\",'Wave Areas'!C100,(IF($B$4=\"SE\",'Wave Areas'!Q101,(IF($B$4=\"S\",'Wave Areas'!C118,(IF($B$4=\"W\",'Wave Areas'!C136,(IF($B$4=\"NW\",'Wave Areas'!Q137,0)))))))))))))))","v":0},{"$f":"IF($B$4=\"SW\",'Wave Areas'!R119,(IF($B$4=\"N\",'Wave Areas'!D82,(IF($B$4=\"NE\",'Wave Areas'!R83,(IF($B$4=\"E\",'Wave Areas'!D100,(IF($B$4=\"SE\",'Wave Areas'!R101,(IF($B$4=\"S\",'Wave Areas'!D118,(IF($B$4=\"W\",'Wave Areas'!D136,(IF($B$4=\"NW\",'Wave Areas'!R137,0)))))))))))))))","v":0},{"$f":"IF($B$4=\"SW\",'Wave Areas'!S119,(IF($B$4=\"N\",'Wave Areas'!E82,(IF($B$4=\"NE\",'Wave Areas'!S83,(IF($B$4=\"E\",'Wave Areas'!E100,(IF($B$4=\"SE\",'Wave Areas'!S101,(IF($B$4=\"S\",'Wave Areas'!E118,(IF($B$4=\"W\",'Wave Areas'!E136,(IF($B$4=\"NW\",'Wave Areas'!S137,0)))))))))))))))","v":0},{"$f":"IF($B$4=\"SW\",'Wave Areas'!T119,(IF($B$4=\"N\",'Wave Areas'!F82,(IF($B$4=\"NE\",'Wave Areas'!T83,(IF($B$4=\"E\",'Wave Areas'!F100,(IF($B$4=\"SE\",'Wave Areas'!T101,(IF($B$4=\"S\",'Wave Areas'!F118,(IF($B$4=\"W\",'Wave Areas'!F136,(IF($B$4=\"NW\",'Wave Areas'!T137,0)))))))))))))))","v":0},{"$f":"IF($B$4=\"SW\",'Wave Areas'!U119,(IF($B$4=\"N\",'Wave Areas'!G82,(IF($B$4=\"NE\",'Wave Areas'!U83,(IF($B$4=\"E\",'Wave Areas'!G100,(IF($B$4=\"SE\",'Wave Areas'!U101,(IF($B$4=\"S\",'Wave Areas'!G118,(IF($B$4=\"W\",'Wave Areas'!G136,(IF($B$4=\"NW\",'Wave Areas'!U137,0)))))))))))))))","v":0},{"$f":"IF($B$4=\"SW\",'Wave Areas'!V119,(IF($B$4=\"N\",'Wave Areas'!H82,(IF($B$4=\"NE\",'Wave Areas'!V83,(IF($B$4=\"E\",'Wave Areas'!H100,(IF($B$4=\"SE\",'Wave Areas'!V101,(IF($B$4=\"S\",'Wave Areas'!H118,(IF($B$4=\"W\",'Wave Areas'!H136,(IF($B$4=\"NW\",'Wave Areas'!V137,0)))))))))))))))","v":0},{"$f":"IF($B$4=\"SW\",'Wave Areas'!W119,(IF($B$4=\"N\",'Wave Areas'!I82,(IF($B$4=\"NE\",'Wave Areas'!W83,(IF($B$4=\"E\",'Wave Areas'!I100,(IF($B$4=\"SE\",'Wave Areas'!W101,(IF($B$4=\"S\",'Wave Areas'!I118,(IF($B$4=\"W\",'Wave Areas'!I136,(IF($B$4=\"NW\",'Wave Areas'!W137,0)))))))))))))))","v":0},{"$f":"IF($B$4=\"SW\",'Wave Areas'!X119,(IF($B$4=\"N\",'Wave Areas'!J82,(IF($B$4=\"NE\",'Wave Areas'!X83,(IF($B$4=\"E\",'Wave Areas'!J100,(IF($B$4=\"SE\",'Wave Areas'!X101,(IF($B$4=\"S\",'Wave Areas'!J118,(IF($B$4=\"W\",'Wave Areas'!J136,(IF($B$4=\"NW\",'Wave Areas'!X137,0)))))))))))))))","v":0},{"$f":"IF($B$4=\"SW\",'Wave Areas'!Y119,(IF($B$4=\"N\",'Wave Areas'!K82,(IF($B$4=\"NE\",'Wave Areas'!Y83,(IF($B$4=\"E\",'Wave Areas'!K100,(IF($B$4=\"SE\",'Wave Areas'!Y101,(IF($B$4=\"S\",'Wave Areas'!K118,(IF($B$4=\"W\",'Wave Areas'!K136,(IF($B$4=\"NW\",'Wave Areas'!Y137,0)))))))))))))))","v":0},{"$f":"IF($B$4=\"SW\",'Wave Areas'!Z119,(IF($B$4=\"N\",'Wave Areas'!L82,(IF($B$4=\"NE\",'Wave Areas'!Z83,(IF($B$4=\"E\",'Wave Areas'!L100,(IF($B$4=\"SE\",'Wave Areas'!Z101,(IF($B$4=\"S\",'Wave Areas'!L118,(IF($B$4=\"W\",'Wave Areas'!L136,(IF($B$4=\"NW\",'Wave Areas'!Z137,0)))))))))))))))","v":0},null,4.5,{"$error":"#DIV/0!"},{"$error":"#DIV/0!"},{"$error":"#DIV/0!"},{"$error":"#DIV/0!"},{"$error":"#DIV/0!"},{"$error":"#DIV/0!"},{"$error":"#DIV/0!"},{"$error":"#DIV/0!"},{"$error":"#DIV/0!"},{"$error":"#DIV/0!"},{"$error":"#DIV/0!"},{"$error":"#DIV/0!"},null,4.5,{"$error":"#DIV/0!"},{"$error":"#DIV/0!"},{"$error":"#DIV/0!"},{"$error":"#DIV/0!"},{"$error":"#DIV/0!"},{"$error":"#DIV/0!"},{"$error":"#DIV/0!"},{"$error":"#DIV/0!"},{"$error":"#DIV/0!"},{"$error":"#DIV/0!"},{"$error":"#DIV/0!"},{"$error":"#DIV/0!"}]
[38021.4140625,5.5,0,0,315992.51578124997,{"$f":"$A27*($F$16)","v":353189.6893990385},378896.06493749993,396809.36958639702,409550.6632648026,418851.13948660716,0,0,0,2273289.4424555954,null,null,null,5.5,{"$f":"IF($B$4=\"SW\",'Wave Areas'!P120,(IF($B$4=\"N\",'Wave Areas'!B83,(IF($B$4=\"NE\",'Wave Areas'!P84,(IF($B$4=\"E\",'Wave Areas'!B101,(IF($B$4=\"SE\",'Wave Areas'!P102,(IF($B$4=\"S\",'Wave Areas'!B119,(IF($B$4=\"W\",'Wave Areas'!B137,(IF($B$4=\"NW\",'Wave Areas'!P138,0)))))))))))))))","v":0},{"$f":"IF($B$4=\"SW\",'Wave Areas'!Q120,(IF($B$4=\"N\",'Wave Areas'!C83,(IF($B$4=\"NE\",'Wave Areas'!Q84,(IF($B$4=\"E\",'Wave Areas'!C101,(IF($B$4=\"SE\",'Wave Areas'!Q102,(IF($B$4=\"S\",'Wave Areas'!C119,(IF($B$4=\"W\",'Wave Areas'!C137,(IF($B$4=\"NW\",'Wave Areas'!Q138,0)))))))))))))))","v":0},{"$f":"IF($B$4=\"SW\",'Wave Areas'!R120,(IF($B$4=\"N\",'Wave Areas'!D83,(IF($B$4=\"NE\",'Wave Areas'!R84,(IF($B$4=\"E\",'Wave Areas'!D101,(IF($B$4=\"SE\",'Wave Areas'!R102,(IF($B$4=\"S\",'Wave Areas'!D119,(IF($B$4=\"W\",'Wave Areas'!D137,(IF($B$4=\"NW\",'Wave Areas'!R138,0)))))))))))))))","v":0},{"$f":"IF($B$4=\"SW\",'Wave Areas'!S120,(IF($B$4=\"N\",'Wave Areas'!E83,(IF($B$4=\"NE\",'Wave Areas'!S84,(IF($B$4=\"E\",'Wave Areas'!E101,(IF($B$4=\"SE\",'Wave Areas'!S102,(IF($B$4=\"S\",'Wave Areas'!E119,(IF($B$4=\"W\",'Wave Areas'!E137,(IF($B$4=\"NW\",'Wave Areas'!S138,0)))))))))))))))","v":0},{"$f":"IF($B$4=\"SW\",'Wave Areas'!T120,(IF($B$4=\"N\",'Wave Areas'!F83,(IF($B$4=\"NE\",'Wave Areas'!T84,(IF($B$4=\"E\",'Wave Areas'!F101,(IF($B$4=\"SE\",'Wave Areas'!T102,(IF($B$4=\"S\",'Wave Areas'!F119,(IF($B$4=\"W\",'Wave Areas'!F137,(IF($B$4=\"NW\",'Wave Areas'!T138,0)))))))))))))))","v":0},{"$f":"IF($B$4=\"SW\",'Wave Areas'!U120,(IF($B$4=\"N\",'Wave Areas'!G83,(IF($B$4=\"NE\",'Wave Areas'!U84,(IF($B$4=\"E\",'Wave Areas'!G101,(IF($B$4=\"SE\",'Wave Areas'!U102,(IF($B$4=\"S\",'Wave Areas'!G119,(IF($B$4=\"W\",'Wave Areas'!G137,(IF($B$4=\"NW\",'Wave Areas'!U138,0)))))))))))))))","v":0},{"$f":"IF($B$4=\"SW\",'Wave Areas'!V120,(IF($B$4=\"N\",'Wave Areas'!H83,(IF($B$4=\"NE\",'Wave Areas'!V84,(IF($B$4=\"E\",'Wave Areas'!H101,(IF($B$4=\"SE\",'Wave Areas'!V102,(IF($B$4=\"S\",'Wave Areas'!H119,(IF($B$4=\"W\",'Wave Areas'!H137,(IF($B$4=\"NW\",'Wave Areas'!V138,0)))))))))))))))","v":0},{"$f":"IF($B$4=\"SW\",'Wave Areas'!W120,(IF($B$4=\"N\",'Wave Areas'!I83,(IF($B$4=\"NE\",'Wave Areas'!W84,(IF($B$4=\"E\",'Wave Areas'!I101,(IF($B$4=\"SE\",'Wave Areas'!W102,(IF($B$4=\"S\",'Wave Areas'!I119,(IF($B$4=\"W\",'Wave Areas'!I137,(IF($B$4=\"NW\",'Wave Areas'!W138,0)))))))))))))))","v":0},{"$f":"IF($B$4=\"SW\",'Wave Areas'!X120,(IF($B$4=\"N\",'Wave Areas'!J83,(IF($B$4=\"NE\",'Wave Areas'!X84,(IF($B$4=\"E\",'Wave Areas'!J101,(IF($B$4=\"SE\",'Wave Areas'!X102,(IF($B$4=\"S\",'Wave Areas'!J119,(IF($B$4=\"W\",'Wave Areas'!J137,(IF($B$4=\"NW\",'Wave Areas'!X138,0)))))))))))))))","v":0},{"$f":"IF($B$4=\"SW\",'Wave Areas'!Y120,(IF($B$4=\"N\",'Wave Areas'!K83,(IF($B$4=\"NE\",'Wave Areas'!Y84,(IF($B$4=\"E\",'Wave Areas'!K101,(IF($B$4=\"SE\",'Wave Areas'!Y102,(IF($B$4=\"S\",'Wave Areas'!K119,(IF($B$4=\"W\",'Wave Areas'!K137,(IF($B$4=\"NW\",'Wave Areas'!Y138,0)))))))))))))))","v":0},{"$f":"IF($B$4=\"SW\",'Wave Areas'!Z120,(IF($B$4=\"N\",'Wave Areas'!L83,(IF($B$4=\"NE\",'Wave Areas'!Z84,(IF($B$4=\"E\",'Wave Areas'!L101,(IF($B$4=\"SE\",'Wave Areas'!Z102,(IF($B$4=\"S\",'Wave Areas'!L119,(IF($B$4=\"W\",'Wave Areas'!L137,(IF($B$4=\"NW\",'Wave Areas'!Z138,0)))))))))))))))","v":0},null,5.5,{"$error":"#DIV/0!"},{"$error":"#DIV/0!"},{"$error":"#DIV/0!"},{"$error":"#DIV/0!"},{"$error":"#DIV/0!"},{"$error":"#DIV/0!"},{"$error":"#DIV/0!"},{"$error":"#DIV/0!"},{"$error":"#DIV/0!"},{"$error":"#DIV/0!"},{"$error":"#DIV/0!"},{"$error":"#DIV/0!"},null,5.5,{"$error":"#DIV/0!"},{"$error":"#DIV/0!"},{"$error":"#DIV/0!"},{"$error":"#DIV/0!"},{"$error":"#DIV/0!"},{"$error":"#DIV/0!"},{"$error":"#DIV/0!"},{"$error":"#DIV/0!"},{"$error":"#DIV/0!"},{"$error":"#DIV/0!"},{"$error":"#DIV/0!"},{"$error":"#DIV/0!"}]
[53104.2890625,6.5,0,0,441344.91873579542,{"$f":"$A28*($F$16/2)","v":246648.99796875002},529201.94193749991,554221.35090992646,572017.04208059201,585006.96341517859,0,0,0,2928441.2150477422,null,null,null,6.5,{"$f":"IF($B$4=\"SW\",'Wave Areas'!P121,(IF($B$4=\"N\",'Wave Areas'!B84,(IF($B$4=\"NE\",'Wave Areas'!P85,(IF($B$4=\"E\",'Wave Areas'!B102,(IF($B$4=\"SE\",'Wave Areas'!P103,(IF($B$4=\"S\",'Wave Areas'!B120,(IF($B$4=\"W\",'Wave Areas'!B138,(IF($B$4=\"NW\",'Wave Areas'!P139,0)))))))))))))))","v":0},{"$f":"IF($B$4=\"SW\",'Wave Areas'!Q121,(IF($B$4=\"N\",'Wave Areas'!C84,(IF($B$4=\"NE\",'Wave Areas'!Q85,(IF($B$4=\"E\",'Wave Areas'!C102,(IF($B$4=\"SE\",'Wave Areas'!Q103,(IF($B$4=\"S\",'Wave Areas'!C120,(IF($B$4=\"W\",'Wave Areas'!C138,(IF($B$4=\"NW\",'Wave Areas'!Q139,0)))))))))))))))","v":0},{"$f":"IF($B$4=\"SW\",'Wave Areas'!R121,(IF($B$4=\"N\",'Wave Areas'!D84,(IF($B$4=\"NE\",'Wave Areas'!R85,(IF($B$4=\"E\",'Wave Areas'!D102,(IF($B$4=\"SE\",'Wave Areas'!R103,(IF($B$4=\"S\",'Wave Areas'!D120,(IF($B$4=\"W\",'Wave Areas'!D138,(IF($B$4=\"NW\",'Wave Areas'!R139,0)))))))))))))))","v":0},{"$f":"IF($B$4=\"SW\",'Wave Areas'!S121,(IF($B$4=\"N\",'Wave Areas'!E84,(IF($B$4=\"NE\",'Wave Areas'!S85,(IF($B$4=\"E\",'Wave Areas'!E102,(IF($B$4=\"SE\",'Wave Areas'!S103,(IF($B$4=\"S\",'Wave Areas'!E120,(IF($B$4=\"W\",'Wave Areas'!E138,(IF($B$4=\"NW\",'Wave Areas'!S139,0)))))))))))))))","v":0},{"$f":"IF($B$4=\"SW\",'Wave Areas'!T121,(IF($B$4=\"N\",'Wave Areas'!F84,(IF($B$4=\"NE\",'Wave Areas'!T85,(IF($B$4=\"E\",'Wave Areas'!F102,(IF($B$4=\"SE\",'Wave Areas'!T103,(IF($B$4=\"S\",'Wave Areas'!F120,(IF($B$4=\"W\",'Wave Areas'!F138,(IF($B$4=\"NW\",'Wave Areas'!T139,0)))))))))))))))","v":0},{"$f":"IF($B$4=\"SW\",'Wave Areas'!U121,(IF($B$4=\"N\",'Wave Areas'!G84,(IF($B$4=\"NE\",'Wave Areas'!U85,(IF($B$4=\"E\",'Wave Areas'!G102,(IF($B$4=\"SE\",'Wave Areas'!U103,(IF($B$4=\"S\",'Wave Areas'!G120,(IF($B$4=\"W\",'Wave Areas'!G138,(IF($B$4=\"NW\",'Wave Areas'!U139,0)))))))))))))))","v":0},{"$f":"IF($B$4=\"SW\",'Wave Areas'!V121,(IF($B$4=\"N\",'Wave Areas'!H84,(IF($B$4=\"NE\",'Wave Areas'!V85,(IF($B$4=\"E\",'Wave Areas'!H102,(IF($B$4=\"SE\",'Wave Areas'!V103,(IF($B$4=\"S\",'Wave Areas'!H120,(IF($B$4=\"W\",'Wave Areas'!H138,(IF($B$4=\"NW\",'Wave Areas'!V139,0)))))))))))))))","v":0},{"$f":"IF($B$4=\"SW\",'Wave Areas'!W121,(IF($B$4=\"N\",'Wave Areas'!I84,(IF($B$4=\"NE\",'Wave Areas'!W85,(IF($B$4=\"E\",'Wave Areas'!I102,(IF($B$4=\"SE\",'Wave Areas'!W103,(IF($B$4=\"S\",'Wave Areas'!I120,(IF($B$4=\"W\",'Wave Areas'!I138,(IF($B$4=\"NW\",'Wave Areas'!W139,0)))))))))))))))","v":0},{"$f":"IF($B$4=\"SW\",'Wave Areas'!X121,(IF($B$4=\"N\",'Wave Areas'!J84,(IF($B$4=\"NE\",'Wave Areas'!X85,(IF($B$4=\"E\",'Wave Areas'!J102,(IF($B$4=\"SE\",'Wave Areas'!X103,(IF($B$4=\"S\",'Wave Areas'!J120,(IF($B$4=\"W\",'Wave Areas'!J138,(IF($B$4=\"NW\",'Wave Areas'!X139,0)))))))))))))))","v":0},{"$f":"IF($B$4=\"SW\",'Wave Areas'!Y121,(IF($B$4=\"N\",'Wave Areas'!K84,(IF($B$4=\"NE\",'Wave Areas'!Y85,(IF($B$4=\"E\",'Wave Areas'!K102,(IF($B$4=\"SE\",'Wave Areas'!Y103,(IF($B$4=\"S\",'Wave Areas'!K120,(IF($B$4=\"W\",'Wave Areas'!K138,(IF($B$4=\"NW\",'Wave Areas'!Y139,0)))))))))))))))","v":0},{"$f":"IF($B$4=\"SW\",'Wave Areas'!Z121,(IF($B$4=\"N\",'Wave Areas'!L84,(IF($B$4=\"NE\",'Wave Areas'!Z85,(IF($B$4=\"E\",'Wave Areas'!L102,(IF($B$4=\"SE\",'Wave Areas'!Z103,(IF($B$4=\"S\",'Wave Areas'!L120,(IF($B$4=\"W\",'Wave Areas'!L138,(IF($B$4=\"NW\",'Wave Areas'!Z139,0)))))))))))))))","v":0},null,6.5,{"$error":"#DIV/0!"},{"$error":"#DIV/0!"},{"$error":"#DIV/0!"},{"$error":"#DIV/0!"},{"$error":"#DIV/0!"},{"$error":"#DIV/0!"},{"$error":"#DIV/0!"},{"$error":"#DIV/0!"},{"$error":"#DIV/0!"},{"$error":"#DIV/0!"},{"$error":"#DIV/0!"},{"$error":"#DIV/0!"},null,6.5,{"$error":"#DIV/0!"},{"$error":"#DIV/0!"},{"$error":"#DIV/0!"},{"$error":"#DIV/0!"},{"$error":"#DIV/0!"},{"$error":"#DIV/0!"},{"$error":"#DIV/0!"},{"$error":"#DIV/0!"},{"$error":"#DIV/0!"},{"$error":"#DIV/0!"},{"$error":"#DIV/0!"},{"$error":"#DIV/0!"}]
[70700.9765625,7.5,0,0,0,{"$f":"$A29*($F$16)","v":656757.6868990385},704558.79843749991,737868.6624540441,761561.15069901303,0,0,0,0,2860746.2984895953,null,null,null,7.5,{"$f":"IF($B$4=\"SW\",'Wave Areas'!P122,(IF($B$4=\"N\",'Wave Areas'!B85,(IF($B$4=\"NE\",'Wave Areas'!P86,(IF($B$4=\"E\",'Wave Areas'!B103,(IF($B$4=\"SE\",'Wave Areas'!P104,(IF($B$4=\"S\",'Wave Areas'!B121,(IF($B$4=\"W\",'Wave Areas'!B139,(IF($B$4=\"NW\",'Wave Areas'!P140,0)))))))))))))))","v":0},{"$f":"IF($B$4=\"SW\",'Wave Areas'!Q122,(IF($B$4=\"N\",'Wave Areas'!C85,(IF($B$4=\"NE\",'Wave Areas'!Q86,(IF($B$4=\"E\",'Wave Areas'!C103,(IF($B$4=\"SE\",'Wave Areas'!Q104,(IF($B$4=\"S\",'Wave Areas'!C121,(IF($B$4=\"W\",'Wave Areas'!C139,(IF($B$4=\"NW\",'Wave Areas'!Q140,0)))))))))))))))","v":0},{"$f":"IF($B$4=\"SW\",'Wave Areas'!R122,(IF($B$4=\"N\",'Wave Areas'!D85,(IF($B$4=\"NE\",'Wave Areas'!R86,(IF($B$4=\"E\",'Wave Areas'!D103,(IF($B$4=\"SE\",'Wave Areas'!R104,(IF($B$4=\"S\",'Wave Areas'!D121,(IF($B$4=\"W\",'Wave Areas'!D139,(IF($B$4=\"NW\",'Wave Areas'!R140,0)))))))))))))))","v":0},{"$f":"IF($B$4=\"SW\",'Wave Areas'!S122,(IF($B$4=\"N\",'Wave Areas'!E85,(IF($B$4=\"NE\",'Wave Areas'!S86,(IF($B$4=\"E\",'Wave Areas'!E103,(IF($B$4=\"SE\",'Wave Areas'!S104,(IF($B$4=\"S\",'Wave Areas'!E121,(IF($B$4=\"W\",'Wave Areas'!E139,(IF($B$4=\"NW\",'Wave Areas'!S140,0)))))))))))))))","v":0},{"$f":"IF($B$4=\"SW\",'Wave Areas'!T122,(IF($B$4=\"N\",'Wave Areas'!F85,(IF($B$4=\"NE\",'Wave Areas'!T86,(IF($B$4=\"E\",'Wave Areas'!F103,(IF($B$4=\"SE\",'Wave Areas'!T104,(IF($B$4=\"S\",'Wave Areas'!F121,(IF($B$4=\"W\",'Wave Areas'!F139,(IF($B$4=\"NW\",'Wave Areas'!T140,0)))))))))))))))","v":0},{"$f":"IF($B$4=\"SW\",'Wave Areas'!U122,(IF($B$4=\"N\",'Wave Areas'!G85,(IF($B$4=\"NE\",'Wave Areas'!U86,(IF($B$4=\"E\",'Wave Areas'!G103,(IF($B$4=\"SE\",'Wave Areas'!U104,(IF($B$4=\"S\",'Wave Areas'!G121,(IF($B$4=\"W\",'Wave Areas'!G139,(IF($B$4=\"NW\",'Wave Areas'!U140,0)))))))))))))))","v":0},{"$f":"IF($B$4=\"SW\",'Wave Areas'!V122,(IF($B$4=\"N\",'Wave Areas'!H85,(IF($B$4=\"NE\",'Wave Areas'!V86,(IF($B$4=\"E\",'Wave Areas'!H103,(IF($B$4=\"SE\",'Wave Areas'!V104,(IF($B$4=\"S\",'Wave Areas'!H121,(IF($B$4=\"W\",'Wave Areas'!H139,(IF($B$4=\"NW\",'Wave Areas'!V140,0)))))))))))))))","v":0},{"$f":"IF($B$4=\"SW\",'Wave Areas'!W122,(IF($B$4=\"N\",'Wave Areas'!I85,(IF($B$4=\"NE\",'Wave Areas'!W86,(IF($B$4=\"E\",'Wave Areas'!I103,(IF($B$4=\"SE\",'Wave Areas'!W104,(IF($B$4=\"S\",'Wave Areas'!I121,(IF($B$4=\"W\",'Wave Areas'!I139,(IF($B$4=\"NW\",'Wave Areas'!W140,0)))))))))))))))","v":0},{"$f":"IF($B$4=\"SW\",'Wave Areas'!X122,(IF($B$4=\"N\",'Wave Areas'!J85,(IF($B$4=\"NE\",'Wave Areas'!X86,(IF($B$4=\"E\",'Wave Areas'!J103,(IF($B$4=\"SE\",'Wave Areas'!X104,(IF($B$4=\"S\",'Wave Areas'!J121,(IF($B$4=\"W\",'Wave Areas'!J139,(IF($B$4=\"NW\",'Wave Areas'!X140,0)))))))))))))))","v":0},{"$f":"IF($B$4=\"SW\",'Wave Areas'!Y122,(IF($B$4=\"N\",'Wave Areas'!K85,(IF($B$4=\"NE\",'Wave Areas'!Y86,(IF($B$4=\"E\",'Wave Areas'!K103,(IF($B$4=\"SE\",'Wave Areas'!Y104,(IF($B$4=\"S\",'Wave Areas'!K121,(IF($B$4=\"W\",'Wave Areas'!K139,(IF($B$4=\"NW\",'Wave Areas'!Y140,0)))))))))))))))","v":0},{"$f":"IF($B$4=\"SW\",'Wave Areas'!Z122,(IF($B$4=\"N\",'Wave Areas'!L85,(IF($B$4=\"NE\",'Wave Areas'!Z86,(IF($B$4=\"E\",'Wave Areas'!L103,(IF($B$4=\"SE\",'Wave Areas'!Z104,(IF($B$4=\"S\",'Wave Areas'!L121,(IF($B$4=\"W\",'Wave Areas'!L139,(IF($B$4=\"NW\",'Wave Areas'!Z140,0)))))))))))))))","v":0},null,7.5,{"$error":"#DIV/0!"},{"$error":"#DIV/0!"},{"$error":"#DIV/0!"},{"$error":"#DIV/0!"},{"$error":"#DIV/0!"},{"$error":"#DIV/0!"},{"$error":"#DIV/0!"},{"$error":"#DIV/0!"},{"$error":"#DIV/0!"},{"$error":"#DIV/0!"},{"$error":"#DIV/0!"},{"$error":"#DIV/0!"},null,7.5,{"$error":"#DIV/0!"},{"$error":"#DIV/0!"},{"$f":"AI29/1004","v":{"$error":"#DIV/0!"}},{"$error":"#DIV/0!"},{"$error":"#DIV/0!"},{"$error":"#DIV/0!"},{"$error":"#DIV/0!"},{"$f":"AN29/1004","v":{"$error":"#DIV/0!"}},{"$error":"#DIV/0!"},{"$error":"#DIV/0!"},{"$error":"#DIV/0!"},{"$error":"#DIV/0!"}]
[90811.4765625,8.5,0,0,0,{"$f":"$A30*($F$16)","v":843568.76228365384},904966.63443749992,947751.30421874998,978182.9891200657,0,0,0,0,3674469.6900599697,null,null,null,8.5,{"$f":"IF($B$4=\"SW\",'Wave Areas'!P123,(IF($B$4=\"N\",'Wave Areas'!B86,(IF($B$4=\"NE\",'Wave Areas'!P87,(IF($B$4=\"E\",'Wave Areas'!B104,(IF($B$4=\"SE\",'Wave Areas'!P105,(IF($B$4=\"S\",'Wave Areas'!B122,(IF($B$4=\"W\",'Wave Areas'!B140,(IF($B$4=\"NW\",'Wave Areas'!P141,0)))))))))))))))","v":0},{"$f":"IF($B$4=\"SW\",'Wave Areas'!Q123,(IF($B$4=\"N\",'Wave Areas'!C86,(IF($B$4=\"NE\",'Wave Areas'!Q87,(IF($B$4=\"E\",'Wave Areas'!C104,(IF($B$4=\"SE\",'Wave Areas'!Q105,(IF($B$4=\"S\",'Wave Areas'!C122,(IF($B$4=\"W\",'Wave Areas'!C140,(IF($B$4=\"NW\",'Wave Areas'!Q141,0)))))))))))))))","v":0},{"$f":"IF($B$4=\"SW\",'Wave Areas'!R123,(IF($B$4=\"N\",'Wave Areas'!D86,(IF($B$4=\"NE\",'Wave Areas'!R87,(IF($B$4=\"E\",'Wave Areas'!D104,(IF($B$4=\"SE\",'Wave Areas'!R105,(IF($B$4=\"S\",'Wave Areas'!D122,(IF($B$4=\"W\",'Wave Areas'!D140,(IF($B$4=\"NW\",'Wave Areas'!R141,0)))))))))))))))","v":0},{"$f":"IF($B$4=\"SW\",'Wave Areas'!S123,(IF($B$4=\"N\",'Wave Areas'!E86,(IF($B$4=\"NE\",'Wave Areas'!S87,(IF($B$4=\"E\",'Wave Areas'!E104,(IF($B$4=\"SE\",'Wave Areas'!S105,(IF($B$4=\"S\",'Wave Areas'!E122,(IF($B$4=\"W\",'Wave Areas'!E140,(IF($B$4=\"NW\",'Wave Areas'!S141,0)))))))))))))))","v":0},{"$f":"IF($B$4=\"SW\",'Wave Areas'!T123,(IF($B$4=\"N\",'Wave Areas'!F86,(IF($B$4=\"NE\",'Wave Areas'!T87,(IF($B$4=\"E\",'Wave Areas'!F104,(IF($B$4=\"SE\",'Wave Areas'!T105,(IF($B$4=\"S\",'Wave Areas'!F122,(IF($B$4=\"W\",'Wave Areas'!F140,(IF($B$4=\"NW\",'Wave Areas'!T141,0)))))))))))))))","v":0},{"$f":"IF($B$4=\"SW\",'Wave Areas'!U123,(IF($B$4=\"N\",'Wave Areas'!G86,(IF($B$4=\"NE\",'Wave Areas'!U87,(IF($B$4=\"E\",'Wave Areas'!G104,(IF($B$4=\"SE\",'Wave Areas'!U105,(IF($B$4=\"S\",'Wave Areas'!G122,(IF($B$4=\"W\",'Wave Areas'!G140,(IF($B$4=\"NW\",'Wave Areas'!U141,0)))))))))))))))","v":0},{"$f":"IF($B$4=\"SW\",'Wave Areas'!V123,(IF($B$4=\"N\",'Wave Areas'!H86,(IF($B$4=\"NE\",'Wave Areas'!V87,(IF($B$4=\"E\",'Wave Areas'!H104,(IF($B$4=\"SE\",'Wave Areas'!V105,(IF($B$4=\"S\",'Wave Areas'!H122,(IF($B$4=\"W\",'Wave Areas'!H140,(IF($B$4=\"NW\",'Wave Areas'!V141,0)))))))))))))))","v":0},{"$f":"IF($B$4=\"SW\",'Wave Areas'!W123,(IF($B$4=\"N\",'Wave Areas'!I86,(IF($B$4=\"NE\",'Wave Areas'!W87,(IF($B$4=\"E\",'Wave Areas'!I104,(IF($B$4=\"SE\",'Wave Areas'!W105,(IF($B$4=\"S\",'Wave Areas'!I122,(IF($B$4=\"W\",'Wave Areas'!I140,(IF($B$4=\"NW\",'Wave Areas'!W141,0)))))))))))))))","v":0},{"$f":"IF($B$4=\"SW\",'Wave Areas'!X123,(IF($B$4=\"N\",'Wave Areas'!J86,(IF($B$4=\"NE\",'Wave Areas'!X87,(IF($B$4=\"E\",'Wave Areas'!J104,(IF($B$4=\"SE\",'Wave Areas'!X105,(IF($B$4=\"S\",'Wave Areas'!J122,(IF($B$4=\"W\",'Wave Areas'!J140,(IF($B$4=\"NW\",'Wave Areas'!X141,0)))))))))))))))","v":0},{"$f":"IF($B$4=\"SW\",'Wave Areas'!Y123,(IF($B$4=\"N\",'Wave Areas'!K86,(IF($B$4=\"NE\",'Wave Areas'!Y87,(IF($B$4=\"E\",'Wave Areas'!K104,(IF($B$4=\"SE\",'Wave Areas'!Y105,(IF($B$4=\"S\",'Wave Areas'!K122,(IF($B$4=\"W\",'Wave Areas'!K140,(IF($B$4=\"NW\",'Wave Areas'!Y141,0)))))))))))))))","v":0},{"$f":"IF($B$4=\"SW\",'Wave Areas'!Z123,(IF($B$4=\"N\",'Wave Areas'!L86,(IF($B$4=\"NE\",'Wave Areas'!Z87,(IF($B$4=\"E\",'Wave Areas'!L104,(IF($B$4=\"SE\",'Wave Areas'!Z105,(IF($B$4=\"S\",'Wave Areas'!L122,(IF($B$4=\"W\",'Wave Areas'!L140,(IF($B$4=\"NW\",'Wave Areas'!Z141,0)))))))))))))))","v":0},null,8.5,{"$error":"#DIV/0!"},{"$error":"#DIV/0!"},{"$error":"#DIV/0!"},{"$error":"#DIV/0!"},{"$error":"#DIV/0!"},{"$error":"#DIV/0!"},{"$error":"#DIV/0!"},{"$error":"#DIV/0!"},{"$error":"#DIV/0!"},{"$error":"#DIV/0!"},{"$error":"#DIV/0!"},{"$error":"#DIV/0!"},null,8.5,{"$error":"#DIV/0!"},{"$error":"#DIV/0!"},{"$f":"AI30/1004","v":{"$error":"#DIV/0!"}},{"$error":"#DIV/0!"},{"$error":"#DIV/0!"},{"$error":"#DIV/0!"},{"$error":"#DIV/0!"},{"$f":"AN30/1004","v":{"$error":"#DIV/0!"}},{"$error":"#DIV/0!"},{"$error":"#DIV/0!"},{"$error":"#DIV/0!"},{"$error":"#DIV/0!"}]
[113435.7890625,9.5,0,0,0,0,1130425.4499374998,1183869.276204044,0,0,0,0,0,2314294.7261415441,null,null,null,9.5,{"$f":"IF($B$4=\"SW\",'Wave Areas'!P124,(IF($B$4=\"N\",'Wave Areas'!B87,(IF($B$4=\"NE\",'Wave Areas'!P88,(IF($B$4=\"E\",'Wave Areas'!B105,(IF($B$4=\"SE\",'Wave Areas'!P106,(IF($B$4=\"S\",'Wave Areas'!B123,(IF($B$4=\"W\",'Wave Areas'!B141,(IF($B$4=\"NW\",'Wave Areas'!P142,0)))))))))))))))","v":0},{"$f":"IF($B$4=\"SW\",'Wave Areas'!Q124,(IF($B$4=\"N\",'Wave Areas'!C87,(IF($B$4=\"NE\",'Wave Areas'!Q88,(IF($B$4=\"E\",'Wave Areas'!C105,(IF($B$4=\"SE\",'Wave Areas'!Q106,(IF($B$4=\"S\",'Wave Areas'!C123,(IF($B$4=\"W\",'Wave Areas'!C141,(IF($B$4=\"NW\",'Wave Areas'!Q142,0)))))))))))))))","v":0},{"$f":"IF($B$4=\"SW\",'Wave Areas'!R124,(IF($B$4=\"N\",'Wave Areas'!D87,(IF($B$4=\"NE\",'Wave Areas'!R88,(IF($B$4=\"E\",'Wave Areas'!D105,(IF($B$4=\"SE\",'Wave Areas'!R106,(IF($B$4=\"S\",'Wave Areas'!D123,(IF($B$4=\"W\",'Wave Areas'!D141,(IF($B$4=\"NW\",'Wave Areas'!R142,0)))))))))))))))","v":0},{"$f":"IF($B$4=\"SW\",'Wave Areas'!S124,(IF($B$4=\"N\",'Wave Areas'!E87,(IF($B$4=\"NE\",'Wave Areas'!S88,(IF($B$4=\"E\",'Wave Areas'!E105,(IF($B$4=\"SE\",'Wave Areas'!S106,(IF($B$4=\"S\",'Wave Areas'!E123,(IF($B$4=\"W\",'Wave Areas'!E141,(IF($B$4=\"NW\",'Wave Areas'!S142,0)))))))))))))))","v":0},{"$f":"IF($B$4=\"SW\",'Wave Areas'!T124,(IF($B$4=\"N\",'Wave Areas'!F87,(IF($B$4=\"NE\",'Wave Areas'!T88,(IF($B$4=\"E\",'Wave Areas'!F105,(IF($B$4=\"SE\",'Wave Areas'!T106,(IF($B$4=\"S\",'Wave Areas'!F123,(IF($B$4=\"W\",'Wave Areas'!F141,(IF($B$4=\"NW\",'Wave Areas'!T142,0)))))))))))))))","v":0},{"$f":"IF($B$4=\"SW\",'Wave Areas'!U124,(IF($B$4=\"N\",'Wave Areas'!G87,(IF($B$4=\"NE\",'Wave Areas'!U88,(IF($B$4=\"E\",'Wave Areas'!G105,(IF($B$4=\"SE\",'Wave Areas'!U106,(IF($B$4=\"S\",'Wave Areas'!G123,(IF($B$4=\"W\",'Wave Areas'!G141,(IF($B$4=\"NW\",'Wave Areas'!U142,0)))))))))))))))","v":0},{"$f":"IF($B$4=\"SW\",'Wave Areas'!V124,(IF($B$4=\"N\",'Wave Areas'!H87,(IF($B$4=\"NE\",'Wave Areas'!V88,(IF($B$4=\"E\",'Wave Areas'!H105,(IF($B$4=\"SE\",'Wave Areas'!V106,(IF($B$4=\"S\",'Wave Areas'!H123,(IF($B$4=\"W\",'Wave Areas'!H141,(IF($B$4=\"NW\",'Wave Areas'!V142,0)))))))))))))))","v":0},{"$f":"IF($B$4=\"SW\",'Wave Areas'!W124,(IF($B$4=\"N\",'Wave Areas'!I87,(IF($B$4=\"NE\",'Wave Areas'!W88,(IF($B$4=\"E\",'Wave Areas'!I105,(IF($B$4=\"SE\",'Wave Areas'!W106,(IF($B$4=\"S\",'Wave Areas'!I123,(IF($B$4=\"W\",'Wave Areas'!I141,(IF($B$4=\"NW\",'Wave Areas'!W142,0)))))))))))))))","v":0},{"$f":"IF($B$4=\"SW\",'Wave Areas'!X124,(IF($B$4=\"N\",'Wave Areas'!J87,(IF($B$4=\"NE\",'Wave Areas'!X88,(IF($B$4=\"E\",'Wave Areas'!J105,(IF($B$4=\"SE\",'Wave Areas'!X106,(IF($B$4=\"S\",'Wave Areas'!J123,(IF($B$4=\"W\",'Wave Areas'!J141,(IF($B$4=\"NW\",'Wave Areas'!X142,0)))))))))))))))","v":0},{"$f":"IF($B$4=\"SW\",'Wave Areas'!Y124,(IF($B$4=\"N\",'Wave Areas'!K87,(IF($B$4=\"NE\",'Wave Areas'!Y88,(IF($B$4=\"E\",'Wave Areas'!K105,(IF($B$4=\"SE\",'Wave Areas'!Y106,(IF($B$4=\"S\",'Wave Areas'!K123,(IF($B$4=\"W\",'Wave Areas'!K141,(IF($B$4=\"NW\",'Wave Areas'!Y142,0)))))))))))))))","v":0},{"$f":"IF($B$4=\"SW\",'Wave Areas'!Z124,(IF($B$4=\"N\",'Wave Areas'!L87,(IF($B$4=\"NE\",'Wave Areas'!Z88,(IF($B$4=\"E\",'Wave Areas'!L105,(IF($B$4=\"SE\",'Wave Areas'!Z106,(IF($B$4=\"S\",'Wave Areas'!L123,(IF($B$4=\"W\",'Wave Areas'!L141,(IF($B$4=\"NW\",'Wave Areas'!Z142,0)))))))))))))))","v":0},null,9.5,{"$error":"#DIV/0!"},{"$error":"#DIV/0!"},{"$error":"#DIV/0!"},{"$error":"#DIV/0!"},{"$error":"#DIV/0!"},{"$error":"#DIV/0!"},{"$error":"#DIV/0!"},{"$error":"#DIV/0!"},{"$error":"#DIV/0!"},{"$error":"#DIV/0!"},{"$error":"#DIV/0!"},{"$error":"#DIV/0!"},null,9.5,{"$error":"#DIV/0!"},{"$error":"#DIV/0!"},{"$f":"AI31/1004","v":{"$error":"#DIV/0!"}},{"$f":"AJ31/1004","v":{"$error":"#DIV/0!"}},{"$f":"G31*AJ31","v":{"$error":"#DIV/0!"}},{"$f":"H31*AK31","v":{"$error":"#DIV/0!"}},{"$f":"AM31/1004","v":{"$error":"#DIV/0!"}},{"$f":"AN31/1004","v":{"$error":"#DIV/0!"}},{"$error":"#DIV/0!"},{"$error":"#DIV/0!"},{"$error":"#DIV/0!"},{"$error":"#DIV/0!"}]
[138573.9140625,10.5,0,0,0,0,0,0,0,0,0,0,0,0,null,null,null,10.5,{"$f":"IF($B$4=\"SW\",'Wave Areas'!P125,(IF($B$4=\"N\",'Wave Areas'!B88,(IF($B$4=\"NE\",'Wave Areas'!P89,(IF($B$4=\"E\",'Wave Areas'!B106,(IF($B$4=\"SE\",'Wave Areas'!P107,(IF($B$4=\"S\",'Wave Areas'!B124,(IF($B$4=\"W\",'Wave Areas'!B142,(IF($B$4=\"NW\",'Wave Areas'!P143,0)))))))))))))))","v":0},{"$f":"IF($B$4=\"SW\",'Wave Areas'!Q125,(IF($B$4=\"N\",'Wave Areas'!C88,(IF($B$4=\"NE\",'Wave Areas'!Q89,(IF($B$4=\"E\",'Wave Areas'!C106,(IF($B$4=\"SE\",'Wave Areas'!Q107,(IF($B$4=\"S\",'Wave Areas'!C124,(IF($B$4=\"W\",'Wave Areas'!C142,(IF($B$4=\"NW\",'Wave Areas'!Q143,0)))))))))))))))","v":0},{"$f":"IF($B$4=\"SW\",'Wave Areas'!R125,(IF($B$4=\"N\",'Wave Areas'!D88,(IF($B$4=\"NE\",'Wave Areas'!R89,(IF($B$4=\"E\",'Wave Areas'!D106,(IF($B$4=\"SE\",'Wave Areas'!R107,(IF($B$4=\"S\",'Wave Areas'!D124,(IF($B$4=\"W\",'Wave Areas'!D142,(IF($B$4=\"NW\",'Wave Areas'!R143,0)))))))))))))))","v":0},{"$f":"IF($B$4=\"SW\",'Wave Areas'!S125,(IF($B$4=\"N\",'Wave Areas'!E88,(IF($B$4=\"NE\",'Wave Areas'!S89,(IF($B$4=\"E\",'Wave Areas'!E106,(IF($B$4=\"SE\",'Wave Areas'!S107,(IF($B$4=\"S\",'Wave Areas'!E124,(IF($B$4=\"W\",'Wave Areas'!E142,(IF($B$4=\"NW\",'Wave Areas'!S143,0)))))))))))))))","v":0},{"$f":"IF($B$4=\"SW\",'Wave Areas'!T125,(IF($B$4=\"N\",'Wave Areas'!F88,(IF($B$4=\"NE\",'Wave Areas'!T89,(IF($B$4=\"E\",'Wave Areas'!F106,(IF($B$4=\"SE\",'Wave Areas'!T107,(IF($B$4=\"S\",'Wave Areas'!F124,(IF($B$4=\"W\",'Wave Areas'!F142,(IF($B$4=\"NW\",'Wave Areas'!T143,0)))))))))))))))","v":0},{"$f":"IF($B$4=\"SW\",'Wave Areas'!U125,(IF($B$4=\"N\",'Wave Areas'!G88,(IF($B$4=\"NE\",'Wave Areas'!U89,(IF($B$4=\"E\",'Wave Areas'!G106,(IF($B$4=\"SE\",'Wave Areas'!U107,(IF($B$4=\"S\",'Wave Areas'!G124,(IF($B$4=\"W\",'Wave Areas'!G142,(IF($B$4=\"NW\",'Wave Areas'!U143,0)))))))))))))))","v":0},{"$f":"IF($B$4=\"SW\",'Wave Areas'!V125,(IF($B$4=\"N\",'Wave Areas'!H88,(IF($B$4=\"NE\",'Wave Areas'!V89,(IF($B$4=\"E\",'Wave Areas'!H106,(IF($B$4=\"SE\",'Wave Areas'!V107,(IF($B$4=\"S\",'Wave Areas'!H124,(IF($B$4=\"W\",'Wave Areas'!H142,(IF($B$4=\"NW\",'Wave Areas'!V143,0)))))))))))))))","v":0},{"$f":"IF($B$4=\"SW\",'Wave Areas'!W125,(IF($B$4=\"N\",'Wave Areas'!I88,(IF($B$4=\"NE\",'Wave Areas'!W89,(IF($B$4=\"E\",'Wave Areas'!I106,(IF($B$4=\"SE\",'Wave Areas'!W107,(IF($B$4=\"S\",'Wave Areas'!I124,(IF($B$4=\"W\",'Wave Areas'!I142,(IF($B$4=\"NW\",'Wave Areas'!W143,0)))))))))))))))","v":0},{"$f":"IF($B$4=\"SW\",'Wave Areas'!X125,(IF($B$4=\"N\",'Wave Areas'!J88,(IF($B$4=\"NE\",'Wave Areas'!X89,(IF($B$4=\"E\",'Wave Areas'!J106,(IF($B$4=\"SE\",'Wave Areas'!X107,(IF($B$4=\"S\",'Wave Areas'!J124,(IF($B$4=\"W\",'Wave Areas'!J142,(IF($B$4=\"NW\",'Wave Areas'!X143,0)))))))))))))))","v":0},{"$f":"IF($B$4=\"SW\",'Wave Areas'!Y125,(IF($B$4=\"N\",'Wave Areas'!K88,(IF($B$4=\"NE\",'Wave Areas'!Y89,(IF($B$4=\"E\",'Wave Areas'!K106,(IF($B$4=\"SE\",'Wave Areas'!Y107,(IF($B$4=\"S\",'Wave Areas'!K124,(IF($B$4=\"W\",'Wave Areas'!K142,(IF($B$4=\"NW\",'Wave Areas'!Y143,0)))))))))))))))","v":0},{"$f":"IF($B$4=\"SW\",'Wave Areas'!Z125,(IF($B$4=\"N\",'Wave Areas'!L88,(IF($B$4=\"NE\",'Wave Areas'!Z89,(IF($B$4=\"E\",'Wave Areas'!L106,(IF($B$4=\"SE\",'Wave Areas'!Z107,(IF($B$4=\"S\",'Wave Areas'!L124,(IF($B$4=\"W\",'Wave Areas'!L142,(IF($B$4=\"NW\",'Wave Areas'!Z143,0)))))))))))))))","v":0},null,10.5,{"$f":"S32/($AC$33)","v":{"$error":"#DIV/0!"}},{"$error":"#DIV/0!"},{"$error":"#DIV/0!"},{"$error":"#DIV/0!"},{"$error":"#DIV/0!"},{"$error":"#DIV/0!"},{"$error":"#DIV/0!"},{"$error":"#DIV/0!"},{"$error":"#DIV/0!"},{"$error":"#DIV/0!"},{"$error":"#DIV/0!"},{"$error":"#DIV/0!"},null,10.5,{"$error":"#DIV/0!"},{"$error":"#DIV/0!"},{"$f":"AI32/1004","v":{"$error":"#DIV/0!"}},{"$f":"AJ32/1004","v":{"$error":"#DIV/0!"}},{"$f":"AK32/1004","v":{"$error":"#DIV/0!"}},{"$f":"AL32/1004","v":{"$error":"#DIV/0!"}},{"$f":"AM32/1004","v":{"$error":"#DIV/0!"}},{"$f":"AN32/1004","v":{"$error":"#DIV/0!"}},{"$error":"#DIV/0!"},{"$error":"#DIV/0!"},{"$error":"#DIV/0!"},{"$error":"#DIV/0!"}]
["Sub Totals",null,{"$f":"SUM(C22:C32)","v":17165.748214285715},362355.59765625,1188236.3196732954,2463571.0566346156,4164725.341874999,4361623.6491727941,3276405.3061184208,1571557.1679910715,0,0,0,{"$f":"SUM(N22:N31)","v":17405640.18733573},"Total",null,null,"Total Occurences",null,null,null,null,null,null,null,null,null,null,{"$f":"SUM(S22:AC32)","v":0},null,null,null,null,null,null,null,null,null,null,null,null,null,null,null,"Sub Totals",{"$f":"SUM(AT22:AT32)","v":{"$error":"#DIV/0!"}},{"$error":"#DIV/0!"},{"$error":"#DIV/0!"},{"$error":"#DIV/0!"},{"$error":"#DIV/0!"},{"$error":"#DIV/0!"},{"$error":"#DIV/0!"},{"$error":"#DIV/0!"},{"$error":"#DIV/0!"},{"$error":"#DIV/0!"},{"$error":"#DIV/0!"},{"$f":"SUM(BE22:BE31)","v":{"$error":"#DIV/0!"}},"Total"]
[]
[null,null,null,null,null,null,null,null,null,null,null,null,null,null,null,null,null,null,null,null,null,null,null,null,null,null,null,null,null,null,null,null,null,null,null,null,null,null,null,null,null,null,null,null,null,null,null,null,null,null,null,null,null,null,null,null,"Min","Max"]
[null,null,null,null,null,null,null,null,null,null,null,null,null,null,null,null,null,null,null,null,null,null,null,null,null,null,null,null,null,null,null,null,null,null,null,null,null,null,null,null,null,null,null,null,null,null,null,null,null,null,null,null,null,"Relevant Wave Heights",null,null,{"$f":"IF((AND($B$6>AS22,$B$6<AS23)),AS22,(IF((AND($B$6>AS23,$B$6<AS24)),AS23,(IF((AND($B$6>AS24,$B$6<AS25)),AS24,(IF((AND($B$6>AS25,$B$6<AS26)),AS25,(IF((AND($B$6>AS26,$B$6<AS27)),AS26,(IF((AND($B$6>AS27,$B$6<AS28)),AS27,(IF((AND($B$6>AS28,$B$6<AS29)),AS28,(IF((AND($B$6>AS29,$B$6<AS30)),AS29,(IF((AND($B$6>AS30,$B$6<AS31)),AS30,(IF((AND($B$6>AS31,$B$6<AS32)),AS31,(IF($B$6>AS32,AS32,\"\")))))))))))))))))))))","v":10.5},{"$f":"IF((AND($B$6>AS22,$B$6<AS23)),AS23,(IF((AND($B$6>AS23,$B$6<AS24)),AS24,(IF((AND($B$6>AS24,$B$6<AS25)),AS25,(IF((AND($B$6>AS25,$B$6<AS26)),AS26,(IF((AND($B$6>AS26,$B$6<AS27)),AS27,(IF((AND($B$6>AS27,$B$6<AS28)),AS28,(IF((AND($B$6>AS28,$B$6<AS29)),AS29,(IF((AND($B$6>AS29,$B$6<AS30)),AS30,(IF((AND($B$6>AS30,$B$6<AS31)),AS31,(IF((AND($B$6>AS31,$B$6<AS32)),AS32,(IF($B$6>AS32,AS32,\"\")))))))))))))))))))))","v":10.5}]
[null,null,null,null,null,null,null,null,null,null,null,null,null,null,null,null,null,null,null,null,null,null,null,null,null,null,null,null,null,null,null,null,null,null,null,null,null,null,null,null,null,null,null,null,null,null,null,null,null,null,null,null,null,"Relevant Power (kW/m)",null,null,{"$f":"(((($B$6-BE36)*((VLOOKUP(BF36,AS22:BE32,13,FALSE))-(VLOOKUP(BE36,AS22:BE32,13,FALSE))))/(BF36-BE36))+(VLOOKUP(BE36,AS22:BE32,13,FALSE)))*0.001","v":{"$error":"#VALUE!"}}]
[]
["Deep"]
[]
["Wave Velocity C","(m/s)",{"$f":"(C42/C43)","v":5.0344574780058648},6.4728739002932549,7.9112903225806459,9.3497067448680351,10.788123167155426,12.226539589442817,13.664956011730204,15.103372434017595,16.541788856304986,17.980205278592376,19.418621700879768]
["Wave Length (λ)","(m)",{"$f":"(9.81/(2*3.41))*C43^2","v":17.620601173020528},29.127932551319649,43.512096774193552,60.773093841642229,80.910923753665699,103.92558651026394,129.81708211143695,158.58541055718476,190.23057184750735,224.75256598240469,262.15139296187687]
["Wave Period (T)","(s)",3.5,4.5,5.5,6.5,7.5,8.5,9.5,10.5,11.5,12.5,13.5]
[]
["Energy","Wave Height (Hs)","Power",null,null,null,null,null,null,null,null,null,null,"Total Power",null,null,null,"North Sea Area 10",null,null,null,null,null,null,null,null,null,null,null,null,"North Sea Area 10",null,null,null,null,null,null,null,null,null,null,null,null,null,"North Sea Area 10"]
["(J)","(m)","(W/m)",null,null,null,null,null,null,null,null,null,null,"(W/m)",null,null,null,"Number of Occurences",null,null,null,null,null,null,null,null,null,null,null,null,"Percentage of Occurences",null,null,null,null,null,null,null,null,null,null,null,null,null,"Annual Power (W/m)",null,null,null,null,null,null,null,null,null,null,null,"Total Power"]
[{"$f":"(1025*9.81*B47^2)/8","v":314.2265625},0.5,{"$f":"$A47*($C$41)/2","v":790.98013368310114},{"$f":"$A47*($D$41)/2","v":1016.9744575925586},{"$f":"$A47*($E$41)/2","v":1242.9687815020163},{"$f":"$A47*($F$41)/2","v":1468.9631054114736},{"$f":"$A47*($G$41)/2","v":1694.9574293209312},{"$f":"$A47*($H$41)/2","v":1920.9517532303889},0,0,0,0,0,{"$f":"SUM(C47:M47)","v":8135.7956607404703},null,null,null,"Hs                      T",3.5,4.5,5.5,6.5,7.5,8.5,9.5,10.5,11.5,12.5,13.5,null,"Hs                 T",3.5,4.5,5.5,6.5,7.5,8.5,9.5,10.5,11.5,12.5,13.5,"Availability",null,"Hs           T",3.5,4.5,5.5,6.5,7.5,8.5,9.5,10.5,11.5,12.5,13.5,"(W/m)"]
[2828.0390625,1.5,{"$f":"$B48*($C$16/2)","v":4.0971428571428579},{"$f":"$A48*($D$41)/2","v":9152.7701183330282},11186.719033518146,13220.667948703262,15254.616863888381,{"$f":"$A48*($G$41)/2","v":15254.616863888381},{"$f":"$A48*($I$41)/2","v":19322.514694258614},{"$f":"$A48*($J$41)/2","v":21356.46360944373},0,0,0,104752.46627489068,null,null,null,0.5,{"$f":"IF($B$4=\"SW\",'Wave Areas'!P115,(IF($B$4=\"N\",'Wave Areas'!B78,(IF($B$4=\"NE\",'Wave Areas'!P79,(IF($B$4=\"E\",'Wave Areas'!B96,(IF($B$4=\"SE\",'Wave Areas'!P97,(IF($B$4=\"S\",'Wave Areas'!B114,(IF($B$4=\"W\",'Wave Areas'!B132,(IF($B$4=\"NW\",'Wave Areas'!P133,0)))))))))))))))","v":0},{"$f":"IF($B$4=\"SW\",'Wave Areas'!Q115,(IF($B$4=\"N\",'Wave Areas'!C78,(IF($B$4=\"NE\",'Wave Areas'!Q79,(IF($B$4=\"E\",'Wave Areas'!C96,(IF($B$4=\"SE\",'Wave Areas'!Q97,(IF($B$4=\"S\",'Wave Areas'!C114,(IF($B$4=\"W\",'Wave Areas'!C132,(IF($B$4=\"NW\",'Wave Areas'!Q133,0)))))))))))))))","v":0},{"$f":"IF($B$4=\"SW\",'Wave Areas'!R115,(IF($B$4=\"N\",'Wave Areas'!D78,(IF($B$4=\"NE\",'Wave Areas'!R79,(IF($B$4=\"E\",'Wave Areas'!D96,(IF($B$4=\"SE\",'Wave Areas'!R97,(IF($B$4=\"S\",'Wave Areas'!D114,(IF($B$4=\"W\",'Wave Areas'!D132,(IF($B$4=\"NW\",'Wave Areas'!R133,0)))))))))))))))","v":0},{"$f":"IF($B$4=\"SW\",'Wave Areas'!S115,(IF($B$4=\"N\",'Wave Areas'!E78,(IF($B$4=\"NE\",'Wave Areas'!S79,(IF($B$4=\"E\",'Wave Areas'!E96,(IF($B$4=\"SE\",'Wave Areas'!S97,(IF($B$4=\"S\",'Wave Areas'!E114,(IF($B$4=\"W\",'Wave Areas'!E132,(IF($B$4=\"NW\",'Wave Areas'!S133,0)))))))))))))))","v":0},{"$f":"IF($B$4=\"SW\",'Wave Areas'!T115,(IF($B$4=\"N\",'Wave Areas'!F78,(IF($B$4=\"NE\",'Wave Areas'!T79,(IF($B$4=\"E\",'Wave Areas'!F96,(IF($B$4=\"SE\",'Wave Areas'!T97,(IF($B$4=\"S\",'Wave Areas'!F114,(IF($B$4=\"W\",'Wave Areas'!F132,(IF($B$4=\"NW\",'Wave Areas'!T133,0)))))))))))))))","v":0},{"$f":"IF($B$4=\"SW\",'Wave Areas'!U115,(IF($B$4=\"N\",'Wave Areas'!G78,(IF($B$4=\"NE\",'Wave Areas'!U79,(IF($B$4=\"E\",'Wave Areas'!G96,(IF($B$4=\"SE\",'Wave Areas'!U97,(IF($B$4=\"S\",'Wave Areas'!G114,(IF($B$4=\"W\",'Wave Areas'!G132,(IF($B$4=\"NW\",'Wave Areas'!U133,0)))))))))))))))","v":0},{"$f":"IF($B$4=\"SW\",'Wave Areas'!V115,(IF($B$4=\"N\",'Wave Areas'!H78,(IF($B$4=\"NE\",'Wave Areas'!V79,(IF($B$4=\"E\",'Wave Areas'!H96,(IF($B$4=\"SE\",'Wave Areas'!V97,(IF($B$4=\"S\",'Wave Areas'!H114,(IF($B$4=\"W\",'Wave Areas'!H132,(IF($B$4=\"NW\",'Wave Areas'!V133,0)))))))))))))))","v":0},{"$f":"IF($B$4=\"SW\",'Wave Areas'!W115,(IF($B$4=\"N\",'Wave Areas'!I78,(IF($B$4=\"NE\",'Wave Areas'!W79,(IF($B$4=\"E\",'Wave Areas'!I96,(IF($B$4=\"SE\",'Wave Areas'!W97,(IF($B$4=\"S\",'Wave Areas'!I114,(IF($B$4=\"W\",'Wave Areas'!I132,(IF($B$4=\"NW\",'Wave Areas'!W133,0)))))))))))))))","v":0},{"$f":"IF($B$4=\"SW\",'Wave Areas'!X115,(IF($B$4=\"N\",'Wave Areas'!J78,(IF($B$4=\"NE\",'Wave Areas'!X79,(IF($B$4=\"E\",'Wave Areas'!J96,(IF($B$4=\"SE\",'Wave Areas'!X97,(IF($B$4=\"S\",'Wave Areas'!J114,(IF($B$4=\"W\",'Wave Areas'!J132,(IF($B$4=\"NW\",'Wave Areas'!X133,0)))))))))))))))","v":0},{"$f":"IF($B$4=\"SW\",'Wave Areas'!Y115,(IF($B$4=\"N\",'Wave Areas'!K78,(IF($B$4=\"NE\",'Wave Areas'!Y79,(IF($B$4=\"E\",'Wave Areas'!K96,(IF($B$4=\"SE\",'Wave Areas'!Y97,(IF($B$4=\"S\",'Wave Areas'!K114,(IF($B$4=\"W\",'Wave Areas'!K132,(IF($B$4=\"NW\",'Wave Areas'!Y133,0)))))))))))))))","v":0},{"$f":"IF($B$4=\"SW\",'Wave Areas'!Z115,(IF($B$4=\"N\",'Wave Areas'!L78,(IF($B$4=\"NE\",'Wave Areas'!Z79,(IF($B$4=\"E\",'Wave Areas'!L96,(IF($B$4=\"SE\",'Wave Areas'!Z97,(IF($B$4=\"S\",'Wave Areas'!L114,(IF($B$4=\"W\",'Wave Areas'!L132,(IF($B$4=\"NW\",'Wave Areas'!Z133,0)))))))))))))))","v":0},null,0.5,{"$f":"S48/$AC$59","v":{"$error":"#DIV/0!"}},{"$f":"T48/$AC$59","v":{"$error":"#DIV/0!"}},{"$error":"#DIV/0!"},{"$error":"#DIV/0!"},{"$error":"#DIV/0!"},{"$error":"#DIV/0!"},{"$error":"#DIV/0!"},{"$error":"#DIV/0!"},{"$error":"#DIV/0!"},{"$error":"#DIV/0!"},{"$error":"#DIV/0!"},{"$f":"SUM(AF48:AP48)","v":{"$error":"#DIV/0!"}},null,0.5,{"$f":"C47*AF48","v":{"$error":"#DIV/0!"}},{"$error":"#DIV/0!"},{"$error":"#DIV/0!"},{"$error":"#DIV/0!"},{"$error":"#DIV/0!"},{"$error":"#DIV/0!"},{"$f":"AM48/1004","v":{"$error":"#DIV/0!"}},{"$f":"AN48/1004","v":{"$error":"#DIV/0!"}},{"$f":"AO48/1004","v":{"$error":"#DIV/0!"}},{"$f":"AP48/1004","v":{"$error":"#DIV/0!"}},{"$f":"AQ44/1004","v":0},{"$f":"SUM(AT48:BD48)","v":{"$error":"#DIV/0!"}}]
[7855.6640625,2.5,0,{"$f":"$A49*($D$41)/2","v":25424.361439813965},31074.219537550405,36724.077635286842,42373.935733023282,{"$f":"$A49*($H$41)/2","v":48023.793830759721},53673.651928496147,59323.510026232587,0,0,0,296617.55013116292,null,null,null,1.5,{"$f":"IF($B$4=\"SW\",'Wave Areas'!P116,(IF($B$4=\"N\",'Wave Areas'!B79,(IF($B$4=\"NE\",'Wave Areas'!P80,(IF($B$4=\"E\",'Wave Areas'!B97,(IF($B$4=\"SE\",'Wave Areas'!P98,(IF($B$4=\"S\",'Wave Areas'!B115,(IF($B$4=\"W\",'Wave Areas'!B133,(IF($B$4=\"NW\",'Wave Areas'!P134,0)))))))))))))))","v":0},{"$f":"IF($B$4=\"SW\",'Wave Areas'!Q116,(IF($B$4=\"N\",'Wave Areas'!C79,(IF($B$4=\"NE\",'Wave Areas'!Q80,(IF($B$4=\"E\",'Wave Areas'!C97,(IF($B$4=\"SE\",'Wave Areas'!Q98,(IF($B$4=\"S\",'Wave Areas'!C115,(IF($B$4=\"W\",'Wave Areas'!C133,(IF($B$4=\"NW\",'Wave Areas'!Q134,0)))))))))))))))","v":0},{"$f":"IF($B$4=\"SW\",'Wave Areas'!R116,(IF($B$4=\"N\",'Wave Areas'!D79,(IF($B$4=\"NE\",'Wave Areas'!R80,(IF($B$4=\"E\",'Wave Areas'!D97,(IF($B$4=\"SE\",'Wave Areas'!R98,(IF($B$4=\"S\",'Wave Areas'!D115,(IF($B$4=\"W\",'Wave Areas'!D133,(IF($B$4=\"NW\",'Wave Areas'!R134,0)))))))))))))))","v":0},{"$f":"IF($B$4=\"SW\",'Wave Areas'!S116,(IF($B$4=\"N\",'Wave Areas'!E79,(IF($B$4=\"NE\",'Wave Areas'!S80,(IF($B$4=\"E\",'Wave Areas'!E97,(IF($B$4=\"SE\",'Wave Areas'!S98,(IF($B$4=\"S\",'Wave Areas'!E115,(IF($B$4=\"W\",'Wave Areas'!E133,(IF($B$4=\"NW\",'Wave Areas'!S134,0)))))))))))))))","v":0},{"$f":"IF($B$4=\"SW\",'Wave Areas'!T116,(IF($B$4=\"N\",'Wave Areas'!F79,(IF($B$4=\"NE\",'Wave Areas'!T80,(IF($B$4=\"E\",'Wave Areas'!F97,(IF($B$4=\"SE\",'Wave Areas'!T98,(IF($B$4=\"S\",'Wave Areas'!F115,(IF($B$4=\"W\",'Wave Areas'!F133,(IF($B$4=\"NW\",'Wave Areas'!T134,0)))))))))))))))","v":0},{"$f":"IF($B$4=\"SW\",'Wave Areas'!U116,(IF($B$4=\"N\",'Wave Areas'!G79,(IF($B$4=\"NE\",'Wave Areas'!U80,(IF($B$4=\"E\",'Wave Areas'!G97,(IF($B$4=\"SE\",'Wave Areas'!U98,(IF($B$4=\"S\",'Wave Areas'!G115,(IF($B$4=\"W\",'Wave Areas'!G133,(IF($B$4=\"NW\",'Wave Areas'!U134,0)))))))))))))))","v":0},{"$f":"IF($B$4=\"SW\",'Wave Areas'!V116,(IF($B$4=\"N\",'Wave Areas'!H79,(IF($B$4=\"NE\",'Wave Areas'!V80,(IF($B$4=\"E\",'Wave Areas'!H97,(IF($B$4=\"SE\",'Wave Areas'!V98,(IF($B$4=\"S\",'Wave Areas'!H115,(IF($B$4=\"W\",'Wave Areas'!H133,(IF($B$4=\"NW\",'Wave Areas'!V134,0)))))))))))))))","v":0},{"$f":"IF($B$4=\"SW\",'Wave Areas'!W116,(IF($B$4=\"N\",'Wave Areas'!I79,(IF($B$4=\"NE\",'Wave Areas'!W80,(IF($B$4=\"E\",'Wave Areas'!I97,(IF($B$4=\"SE\",'Wave Areas'!W98,(IF($B$4=\"S\",'Wave Areas'!I115,(IF($B$4=\"W\",'Wave Areas'!I133,(IF($B$4=\"NW\",'Wave Areas'!W134,0)))))))))))))))","v":0},{"$f":"IF($B$4=\"SW\",'Wave Areas'!X116,(IF($B$4=\"N\",'Wave Areas'!J79,(IF($B$4=\"NE\",'Wave Areas'!X80,(IF($B$4=\"E\",'Wave Areas'!J97,(IF($B$4=\"SE\",'Wave Areas'!X98,(IF($B$4=\"S\",'Wave Areas'!J115,(IF($B$4=\"W\",'Wave Areas'!J133,(IF($B$4=\"NW\",'Wave Areas'!X134,0)))))))))))))))","v":0},{"$f":"IF($B$4=\"SW\",'Wave Areas'!Y116,(IF($B$4=\"N\",'Wave Areas'!K79,(IF($B$4=\"NE\",'Wave Areas'!Y80,(IF($B$4=\"E\",'Wave Areas'!K97,(IF($B$4=\"SE\",'Wave Areas'!Y98,(IF($B$4=\"S\",'Wave Areas'!K115,(IF($B$4=\"W\",'Wave Areas'!K133,(IF($B$4=\"NW\",'Wave Areas'!Y134,0)))))))))))))))","v":0},{"$f":"IF($B$4=\"SW\",'Wave Areas'!Z116,(IF($B$4=\"N\",'Wave Areas'!L79,(IF($B$4=\"NE\",'Wave Areas'!Z80,(IF($B$4=\"E\",'Wave Areas'!L97,(IF($B$4=\"SE\",'Wave Areas'!Z98,(IF($B$4=\"S\",'Wave Areas'!L115,(IF($B$4=\"W\",'Wave Areas'!L133,(IF($B$4=\"NW\",'Wave Areas'!Z134,0)))))))))))))))","v":0},null,1.5,{"$f":"S49/$AC$59","v":{"$error":"#DIV/0!"}},{"$error":"#DIV/0!"},{"$error":"#DIV/0!"},{"$error":"#DIV/0!"},{"$error":"#DIV/0!"},{"$error":"#DIV/0!"},{"$error":"#DIV/0!"},{"$error":"#DIV/0!"},{"$error":"#DIV/0!"},{"$error":"#DIV/0!"},{"$error":"#DIV/0!"},{"$f":"SUM(AF49:AP49)","v":{"$error":"#DIV/0!"}},null,1.5,{"$error":"#DIV/0!"},{"$error":"#DIV/0!"},{"$error":"#DIV/0!"},{"$error":"#DIV/0!"},{"$error":"#DIV/0!"},{"$error":"#DIV/0!"},{"$error":"#DIV/0!"},{"$error":"#DIV/0!"},{"$f":"AO49/1004","v":{"$error":"#DIV/0!"}},{"$error":"#DIV/0!"},{"$f":"AQ46/1004","v":0},{"$error":"#DIV/0!"}]
[15397.1015625,3.5,0,{"$f":"$A50*($D$41)/2","v":49831.748422035373},60905.470293598795,71979.192165162211,83052.914036725633,94126.635908289056,105200.35777985245,116274.07965141587,0,0,0,581370.39825707942,null,null,null,2.5,{"$f":"IF($B$4=\"SW\",'Wave Areas'!P117,(IF($B$4=\"N\",'Wave Areas'!B80,(IF($B$4=\"NE\",'Wave Areas'!P81,(IF($B$4=\"E\",'Wave Areas'!B98,(IF($B$4=\"SE\",'Wave Areas'!P99,(IF($B$4=\"S\",'Wave Areas'!B116,(IF($B$4=\"W\",'Wave Areas'!B134,(IF($B$4=\"NW\",'Wave Areas'!P135,0)))))))))))))))","v":0},{"$f":"IF($B$4=\"SW\",'Wave Areas'!Q117,(IF($B$4=\"N\",'Wave Areas'!C80,(IF($B$4=\"NE\",'Wave Areas'!Q81,(IF($B$4=\"E\",'Wave Areas'!C98,(IF($B$4=\"SE\",'Wave Areas'!Q99,(IF($B$4=\"S\",'Wave Areas'!C116,(IF($B$4=\"W\",'Wave Areas'!C134,(IF($B$4=\"NW\",'Wave Areas'!Q135,0)))))))))))))))","v":0},{"$f":"IF($B$4=\"SW\",'Wave Areas'!R117,(IF($B$4=\"N\",'Wave Areas'!D80,(IF($B$4=\"NE\",'Wave Areas'!R81,(IF($B$4=\"E\",'Wave Areas'!D98,(IF($B$4=\"SE\",'Wave Areas'!R99,(IF($B$4=\"S\",'Wave Areas'!D116,(IF($B$4=\"W\",'Wave Areas'!D134,(IF($B$4=\"NW\",'Wave Areas'!R135,0)))))))))))))))","v":0},{"$f":"IF($B$4=\"SW\",'Wave Areas'!S117,(IF($B$4=\"N\",'Wave Areas'!E80,(IF($B$4=\"NE\",'Wave Areas'!S81,(IF($B$4=\"E\",'Wave Areas'!E98,(IF($B$4=\"SE\",'Wave Areas'!S99,(IF($B$4=\"S\",'Wave Areas'!E116,(IF($B$4=\"W\",'Wave Areas'!E134,(IF($B$4=\"NW\",'Wave Areas'!S135,0)))))))))))))))","v":0},{"$f":"IF($B$4=\"SW\",'Wave Areas'!T117,(IF($B$4=\"N\",'Wave Areas'!F80,(IF($B$4=\"NE\",'Wave Areas'!T81,(IF($B$4=\"E\",'Wave Areas'!F98,(IF($B$4=\"SE\",'Wave Areas'!T99,(IF($B$4=\"S\",'Wave Areas'!F116,(IF($B$4=\"W\",'Wave Areas'!F134,(IF($B$4=\"NW\",'Wave Areas'!T135,0)))))))))))))))","v":0},{"$f":"IF($B$4=\"SW\",'Wave Areas'!U117,(IF($B$4=\"N\",'Wave Areas'!G80,(IF($B$4=\"NE\",'Wave Areas'!U81,(IF($B$4=\"E\",'Wave Areas'!G98,(IF($B$4=\"SE\",'Wave Areas'!U99,(IF($B$4=\"S\",'Wave Areas'!G116,(IF($B$4=\"W\",'Wave Areas'!G134,(IF($B$4=\"NW\",'Wave Areas'!U135,0)))))))))))))))","v":0},{"$f":"IF($B$4=\"SW\",'Wave Areas'!V117,(IF($B$4=\"N\",'Wave Areas'!H80,(IF($B$4=\"NE\",'Wave Areas'!V81,(IF($B$4=\"E\",'Wave Areas'!H98,(IF($B$4=\"SE\",'Wave Areas'!V99,(IF($B$4=\"S\",'Wave Areas'!H116,(IF($B$4=\"W\",'Wave Areas'!H134,(IF($B$4=\"NW\",'Wave Areas'!V135,0)))))))))))))))","v":0},{"$f":"IF($B$4=\"SW\",'Wave Areas'!W117,(IF($B$4=\"N\",'Wave Areas'!I80,(IF($B$4=\"NE\",'Wave Areas'!W81,(IF($B$4=\"E\",'Wave Areas'!I98,(IF($B$4=\"SE\",'Wave Areas'!W99,(IF($B$4=\"S\",'Wave Areas'!I116,(IF($B$4=\"W\",'Wave Areas'!I134,(IF($B$4=\"NW\",'Wave Areas'!W135,0)))))))))))))))","v":0},{"$f":"IF($B$4=\"SW\",'Wave Areas'!X117,(IF($B$4=\"N\",'Wave Areas'!J80,(IF($B$4=\"NE\",'Wave Areas'!X81,(IF($B$4=\"E\",'Wave Areas'!J98,(IF($B$4=\"SE\",'Wave Areas'!X99,(IF($B$4=\"S\",'Wave Areas'!J116,(IF($B$4=\"W\",'Wave Areas'!J134,(IF($B$4=\"NW\",'Wave Areas'!X135,0)))))))))))))))","v":0},{"$f":"IF($B$4=\"SW\",'Wave Areas'!Y117,(IF($B$4=\"N\",'Wave Areas'!K80,(IF($B$4=\"NE\",'Wave Areas'!Y81,(IF($B$4=\"E\",'Wave Areas'!K98,(IF($B$4=\"SE\",'Wave Areas'!Y99,(IF($B$4=\"S\",'Wave Areas'!K116,(IF($B$4=\"W\",'Wave Areas'!K134,(IF($B$4=\"NW\",'Wave Areas'!Y135,0)))))))))))))))","v":0},{"$f":"IF($B$4=\"SW\",'Wave Areas'!Z117,(IF($B$4=\"N\",'Wave Areas'!L80,(IF($B$4=\"NE\",'Wave Areas'!Z81,(IF($B$4=\"E\",'Wave Areas'!L98,(IF($B$4=\"SE\",'Wave Areas'!Z99,(IF($B$4=\"S\",'Wave Areas'!L116,(IF($B$4=\"W\",'Wave Areas'!L134,(IF($B$4=\"NW\",'Wave Areas'!Z135,0)))))))))))))))","v":0},null,2.5,{"$error":"#DIV/0!"},{"$error":"#DIV/0!"},{"$error":"#DIV/0!"},{"$error":"#DIV/0!"},{"$error":"#DIV/0!"},{"$error":"#DIV/0!"},{"$error":"#DIV/0!"},{"$error":"#DIV/0!"},{"$error":"#DIV/0!"},{"$error":"#DIV/0!"},{"$error":"#DIV/0!"},{"$error":"#DIV/0!"},null,2.5,{"$f":"AG50/1004","v":{"$error":"#DIV/0!"}},{"$error":"#DIV/0!"},{"$error":"#DIV/0!"},{"$error":"#DIV/0!"},{"$error":"#DIV/0!"},{"$error":"#DIV/0!"},{"$error":"#DIV/0!"},{"$error":"#DIV/0!"},{"$error":"#DIV/0!"},{"$error":"#DIV/0!"},{"$f":"AQ48/1004","v":{"$error":"#DIV/0!"}},{"$error":"#DIV/0!"}]
[25452.3515625,4.5,0,{"$f":"$A51*($D$41)/2","v":82374.931064997247},100680.47130166332,118986.01153832936,137291.55177499543,155597.0920116615,173902.63224832751,192208.17248499359,0,0,0,961040.86242496793,null,null,null,3.5,{"$f":"IF($B$4=\"SW\",'Wave Areas'!P118,(IF($B$4=\"N\",'Wave Areas'!B81,(IF($B$4=\"NE\",'Wave Areas'!P82,(IF($B$4=\"E\",'Wave Areas'!B99,(IF($B$4=\"SE\",'Wave Areas'!P100,(IF($B$4=\"S\",'Wave Areas'!B117,(IF($B$4=\"W\",'Wave Areas'!B135,(IF($B$4=\"NW\",'Wave Areas'!P136,0)))))))))))))))","v":0},{"$f":"IF($B$4=\"SW\",'Wave Areas'!Q118,(IF($B$4=\"N\",'Wave Areas'!C81,(IF($B$4=\"NE\",'Wave Areas'!Q82,(IF($B$4=\"E\",'Wave Areas'!C99,(IF($B$4=\"SE\",'Wave Areas'!Q100,(IF($B$4=\"S\",'Wave Areas'!C117,(IF($B$4=\"W\",'Wave Areas'!C135,(IF($B$4=\"NW\",'Wave Areas'!Q136,0)))))))))))))))","v":0},{"$f":"IF($B$4=\"SW\",'Wave Areas'!R118,(IF($B$4=\"N\",'Wave Areas'!D81,(IF($B$4=\"NE\",'Wave Areas'!R82,(IF($B$4=\"E\",'Wave Areas'!D99,(IF($B$4=\"SE\",'Wave Areas'!R100,(IF($B$4=\"S\",'Wave Areas'!D117,(IF($B$4=\"W\",'Wave Areas'!D135,(IF($B$4=\"NW\",'Wave Areas'!R136,0)))))))))))))))","v":0},{"$f":"IF($B$4=\"SW\",'Wave Areas'!S118,(IF($B$4=\"N\",'Wave Areas'!E81,(IF($B$4=\"NE\",'Wave Areas'!S82,(IF($B$4=\"E\",'Wave Areas'!E99,(IF($B$4=\"SE\",'Wave Areas'!S100,(IF($B$4=\"S\",'Wave Areas'!E117,(IF($B$4=\"W\",'Wave Areas'!E135,(IF($B$4=\"NW\",'Wave Areas'!S136,0)))))))))))))))","v":0},{"$f":"IF($B$4=\"SW\",'Wave Areas'!T118,(IF($B$4=\"N\",'Wave Areas'!F81,(IF($B$4=\"NE\",'Wave Areas'!T82,(IF($B$4=\"E\",'Wave Areas'!F99,(IF($B$4=\"SE\",'Wave Areas'!T100,(IF($B$4=\"S\",'Wave Areas'!F117,(IF($B$4=\"W\",'Wave Areas'!F135,(IF($B$4=\"NW\",'Wave Areas'!T136,0)))))))))))))))","v":0},{"$f":"IF($B$4=\"SW\",'Wave Areas'!U118,(IF($B$4=\"N\",'Wave Areas'!G81,(IF($B$4=\"NE\",'Wave Areas'!U82,(IF($B$4=\"E\",'Wave Areas'!G99,(IF($B$4=\"SE\",'Wave Areas'!U100,(IF($B$4=\"S\",'Wave Areas'!G117,(IF($B$4=\"W\",'Wave Areas'!G135,(IF($B$4=\"NW\",'Wave Areas'!U136,0)))))))))))))))","v":0},{"$f":"IF($B$4=\"SW\",'Wave Areas'!V118,(IF($B$4=\"N\",'Wave Areas'!H81,(IF($B$4=\"NE\",'Wave Areas'!V82,(IF($B$4=\"E\",'Wave Areas'!H99,(IF($B$4=\"SE\",'Wave Areas'!V100,(IF($B$4=\"S\",'Wave Areas'!H117,(IF($B$4=\"W\",'Wave Areas'!H135,(IF($B$4=\"NW\",'Wave Areas'!V136,0)))))))))))))))","v":0},{"$f":"IF($B$4=\"SW\",'Wave Areas'!W118,(IF($B$4=\"N\",'Wave Areas'!I81,(IF($B$4=\"NE\",'Wave Areas'!W82,(IF($B$4=\"E\",'Wave Areas'!I99,(IF($B$4=\"SE\",'Wave Areas'!W100,(IF($B$4=\"S\",'Wave Areas'!I117,(IF($B$4=\"W\",'Wave Areas'!I135,(IF($B$4=\"NW\",'Wave Areas'!W136,0)))))))))))))))","v":0},{"$f":"IF($B$4=\"SW\",'Wave Areas'!X118,(IF($B$4=\"N\",'Wave Areas'!J81,(IF($B$4=\"NE\",'Wave Areas'!X82,(IF($B$4=\"E\",'Wave Areas'!J99,(IF($B$4=\"SE\",'Wave Areas'!X100,(IF($B$4=\"S\",'Wave Areas'!J117,(IF($B$4=\"W\",'Wave Areas'!J135,(IF($B$4=\"NW\",'Wave Areas'!X136,0)))))))))))))))","v":0},{"$f":"IF($B$4=\"SW\",'Wave Areas'!Y118,(IF($B$4=\"N\",'Wave Areas'!K81,(IF($B$4=\"NE\",'Wave Areas'!Y82,(IF($B$4=\"E\",'Wave Areas'!K99,(IF($B$4=\"SE\",'Wave Areas'!Y100,(IF($B$4=\"S\",'Wave Areas'!K117,(IF($B$4=\"W\",'Wave Areas'!K135,(IF($B$4=\"NW\",'Wave Areas'!Y136,0)))))))))))))))","v":0},{"$f":"IF($B$4=\"SW\",'Wave Areas'!Z118,(IF($B$4=\"N\",'Wave Areas'!L81,(IF($B$4=\"NE\",'Wave Areas'!Z82,(IF($B$4=\"E\",'Wave Areas'!L99,(IF($B$4=\"SE\",'Wave Areas'!Z100,(IF($B$4=\"S\",'Wave Areas'!L117,(IF($B$4=\"W\",'Wave Areas'!L135,(IF($B$4=\"NW\",'Wave Areas'!Z136,0)))))))))))))))","v":0},null,3.5,{"$error":"#DIV/0!"},{"$error":"#DIV/0!"},{"$error":"#DIV/0!"},{"$error":"#DIV/0!"},{"$error":"#DIV/0!"},{"$error":"#DIV/0!"},{"$error":"#DIV/0!"},{"$error":"#DIV/0!"},{"$error":"#DIV/0!"},{"$error":"#DIV/0!"},{"$error":"#DIV/0!"},{"$error":"#DIV/0!"},null,3.5,{"$error":"#DIV/0!"},{"$error":"#DIV/0!"},{"$error":"#DIV/0!"},{"$error":"#DIV/0!"},{"$error":"#DIV/0!"},{"$error":"#DIV/0!"},{"$error":"#DIV/0!"},{"$error":"#DIV/0!"},{"$error":"#DIV/0!"},{"$error":"#DIV/0!"},{"$error":"#DIV/0!"},{"$error":"#DIV/0!"}]
[38021.4140625,5.5,0,0,150399.22256174395,177744.53575478832,205089.84894783268,232435.16214087704,259780.47533392135,287125.78852696571,0,0,0,1312575.0332661292,null,null,null,4.5,{"$f":"IF($B$4=\"SW\",'Wave Areas'!P119,(IF($B$4=\"N\",'Wave Areas'!B82,(IF($B$4=\"NE\",'Wave Areas'!P83,(IF($B$4=\"E\",'Wave Areas'!B100,(IF($B$4=\"SE\",'Wave Areas'!P101,(IF($B$4=\"S\",'Wave Areas'!B118,(IF($B$4=\"W\",'Wave Areas'!B136,(IF($B$4=\"NW\",'Wave Areas'!P137,0)))))))))))))))","v":0},{"$f":"IF($B$4=\"SW\",'Wave Areas'!Q119,(IF($B$4=\"N\",'Wave Areas'!C82,(IF($B$4=\"NE\",'Wave Areas'!Q83,(IF($B$4=\"E\",'Wave Areas'!C100,(IF($B$4=\"SE\",'Wave Areas'!Q101,(IF($B$4=\"S\",'Wave Areas'!C118,(IF($B$4=\"W\",'Wave Areas'!C136,(IF($B$4=\"NW\",'Wave Areas'!Q137,0)))))))))))))))","v":0},{"$f":"IF($B$4=\"SW\",'Wave Areas'!R119,(IF($B$4=\"N\",'Wave Areas'!D82,(IF($B$4=\"NE\",'Wave Areas'!R83,(IF($B$4=\"E\",'Wave Areas'!D100,(IF($B$4=\"SE\",'Wave Areas'!R101,(IF($B$4=\"S\",'Wave Areas'!D118,(IF($B$4=\"W\",'Wave Areas'!D136,(IF($B$4=\"NW\",'Wave Areas'!R137,0)))))))))))))))","v":0},{"$f":"IF($B$4=\"SW\",'Wave Areas'!S119,(IF($B$4=\"N\",'Wave Areas'!E82,(IF($B$4=\"NE\",'Wave Areas'!S83,(IF($B$4=\"E\",'Wave Areas'!E100,(IF($B$4=\"SE\",'Wave Areas'!S101,(IF($B$4=\"S\",'Wave Areas'!E118,(IF($B$4=\"W\",'Wave Areas'!E136,(IF($B$4=\"NW\",'Wave Areas'!S137,0)))))))))))))))","v":0},{"$f":"IF($B$4=\"SW\",'Wave Areas'!T119,(IF($B$4=\"N\",'Wave Areas'!F82,(IF($B$4=\"NE\",'Wave Areas'!T83,(IF($B$4=\"E\",'Wave Areas'!F100,(IF($B$4=\"SE\",'Wave Areas'!T101,(IF($B$4=\"S\",'Wave Areas'!F118,(IF($B$4=\"W\",'Wave Areas'!F136,(IF($B$4=\"NW\",'Wave Areas'!T137,0)))))))))))))))","v":0},{"$f":"IF($B$4=\"SW\",'Wave Areas'!U119,(IF($B$4=\"N\",'Wave Areas'!G82,(IF($B$4=\"NE\",'Wave Areas'!U83,(IF($B$4=\"E\",'Wave Areas'!G100,(IF($B$4=\"SE\",'Wave Areas'!U101,(IF($B$4=\"S\",'Wave Areas'!G118,(IF($B$4=\"W\",'Wave Areas'!G136,(IF($B$4=\"NW\",'Wave Areas'!U137,0)))))))))))))))","v":0},{"$f":"IF($B$4=\"SW\",'Wave Areas'!V119,(IF($B$4=\"N\",'Wave Areas'!H82,(IF($B$4=\"NE\",'Wave Areas'!V83,(IF($B$4=\"E\",'Wave Areas'!H100,(IF($B$4=\"SE\",'Wave Areas'!V101,(IF($B$4=\"S\",'Wave Areas'!H118,(IF($B$4=\"W\",'Wave Areas'!H136,(IF($B$4=\"NW\",'Wave Areas'!V137,0)))))))))))))))","v":0},{"$f":"IF($B$4=\"SW\",'Wave Areas'!W119,(IF($B$4=\"N\",'Wave Areas'!I82,(IF($B$4=\"NE\",'Wave Areas'!W83,(IF($B$4=\"E\",'Wave Areas'!I100,(IF($B$4=\"SE\",'Wave Areas'!W101,(IF($B$4=\"S\",'Wave Areas'!I118,(IF($B$4=\"W\",'Wave Areas'!I136,(IF($B$4=\"NW\",'Wave Areas'!W137,0)))))))))))))))","v":0},{"$f":"IF($B$4=\"SW\",'Wave Areas'!X119,(IF($B$4=\"N\",'Wave Areas'!J82,(IF($B$4=\"NE\",'Wave Areas'!X83,(IF($B$4=\"E\",'Wave Areas'!J100,(IF($B$4=\"SE\",'Wave Areas'!X101,(IF($B$4=\"S\",'Wave Areas'!J118,(IF($B$4=\"W\",'Wave Areas'!J136,(IF($B$4=\"NW\",'Wave Areas'!X137,0)))))))))))))))","v":0},{"$f":"IF($B$4=\"SW\",'Wave Areas'!Y119,(IF($B$4=\"N\",'Wave Areas'!K82,(IF($B$4=\"NE\",'Wave Areas'!Y83,(IF($B$4=\"E\",'Wave Areas'!K100,(IF($B$4=\"SE\",'Wave Areas'!Y101,(IF($B$4=\"S\",'Wave Areas'!K118,(IF($B$4=\"W\",'Wave Areas'!K136,(IF($B$4=\"NW\",'Wave Areas'!Y137,0)))))))))))))))","v":0},{"$f":"IF($B$4=\"SW\",'Wave Areas'!Z119,(IF($B$4=\"N\",'Wave Areas'!L82,(IF($B$4=\"NE\",'Wave Areas'!Z83,(IF($B$4=\"E\",'Wave Areas'!L100,(IF($B$4=\"SE\",'Wave Areas'!Z101,(IF($B$4=\"S\",'Wave Areas'!L118,(IF($B$4=\"W\",'Wave Areas'!L136,(IF($B$4=\"NW\",'Wave Areas'!Z137,0)))))))))))))))","v":0},null,4.5,{"$error":"#DIV/0!"},{"$error":"#DIV/0!"},{"$error":"#DIV/0!"},{"$error":"#DIV/0!"},{"$error":"#DIV/0!"},{"$error":"#DIV/0!"},{"$error":"#DIV/0!"},{"$error":"#DIV/0!"},{"$error":"#DIV/0!"},{"$error":"#DIV/0!"},{"$error":"#DIV/0!"},{"$error":"#DIV/0!"},null,4.5,{"$error":"#DIV/0!"},{"$error":"#DIV/0!"},{"$error":"#DIV/0!"},{"$error":"#DIV/0!"},{"$error":"#DIV/0!"},{"$error":"#DIV/0!"},{"$error":"#DIV/0!"},{"$error":"#DIV/0!"},{"$error":"#DIV/0!"},{"$error":"#DIV/0!"},{"$error":"#DIV/0!"},{"$error":"#DIV/0!"}]
[53104.2890625,6.5,0,0,210061.72407384074,248254.76481453903,286447.8055552374,324640.84629593574,362833.88703663397,401026.92777733231,0,0,0,1833265.9555535191,null,null,null,5.5,{"$f":"IF($B$4=\"SW\",'Wave Areas'!P120,(IF($B$4=\"N\",'Wave Areas'!B83,(IF($B$4=\"NE\",'Wave Areas'!P84,(IF($B$4=\"E\",'Wave Areas'!B101,(IF($B$4=\"SE\",'Wave Areas'!P102,(IF($B$4=\"S\",'Wave Areas'!B119,(IF($B$4=\"W\",'Wave Areas'!B137,(IF($B$4=\"NW\",'Wave Areas'!P138,0)))))))))))))))","v":0},{"$f":"IF($B$4=\"SW\",'Wave Areas'!Q120,(IF($B$4=\"N\",'Wave Areas'!C83,(IF($B$4=\"NE\",'Wave Areas'!Q84,(IF($B$4=\"E\",'Wave Areas'!C101,(IF($B$4=\"SE\",'Wave Areas'!Q102,(IF($B$4=\"S\",'Wave Areas'!C119,(IF($B$4=\"W\",'Wave Areas'!C137,(IF($B$4=\"NW\",'Wave Areas'!Q138,0)))))))))))))))","v":0},{"$f":"IF($B$4=\"SW\",'Wave Areas'!R120,(IF($B$4=\"N\",'Wave Areas'!D83,(IF($B$4=\"NE\",'Wave Areas'!R84,(IF($B$4=\"E\",'Wave Areas'!D101,(IF($B$4=\"SE\",'Wave Areas'!R102,(IF($B$4=\"S\",'Wave Areas'!D119,(IF($B$4=\"W\",'Wave Areas'!D137,(IF($B$4=\"NW\",'Wave Areas'!R138,0)))))))))))))))","v":0},{"$f":"IF($B$4=\"SW\",'Wave Areas'!S120,(IF($B$4=\"N\",'Wave Areas'!E83,(IF($B$4=\"NE\",'Wave Areas'!S84,(IF($B$4=\"E\",'Wave Areas'!E101,(IF($B$4=\"SE\",'Wave Areas'!S102,(IF($B$4=\"S\",'Wave Areas'!E119,(IF($B$4=\"W\",'Wave Areas'!E137,(IF($B$4=\"NW\",'Wave Areas'!S138,0)))))))))))))))","v":0},{"$f":"IF($B$4=\"SW\",'Wave Areas'!T120,(IF($B$4=\"N\",'Wave Areas'!F83,(IF($B$4=\"NE\",'Wave Areas'!T84,(IF($B$4=\"E\",'Wave Areas'!F101,(IF($B$4=\"SE\",'Wave Areas'!T102,(IF($B$4=\"S\",'Wave Areas'!F119,(IF($B$4=\"W\",'Wave Areas'!F137,(IF($B$4=\"NW\",'Wave Areas'!T138,0)))))))))))))))","v":0},{"$f":"IF($B$4=\"SW\",'Wave Areas'!U120,(IF($B$4=\"N\",'Wave Areas'!G83,(IF($B$4=\"NE\",'Wave Areas'!U84,(IF($B$4=\"E\",'Wave Areas'!G101,(IF($B$4=\"SE\",'Wave Areas'!U102,(IF($B$4=\"S\",'Wave Areas'!G119,(IF($B$4=\"W\",'Wave Areas'!G137,(IF($B$4=\"NW\",'Wave Areas'!U138,0)))))))))))))))","v":0},{"$f":"IF($B$4=\"SW\",'Wave Areas'!V120,(IF($B$4=\"N\",'Wave Areas'!H83,(IF($B$4=\"NE\",'Wave Areas'!V84,(IF($B$4=\"E\",'Wave Areas'!H101,(IF($B$4=\"SE\",'Wave Areas'!V102,(IF($B$4=\"S\",'Wave Areas'!H119,(IF($B$4=\"W\",'Wave Areas'!H137,(IF($B$4=\"NW\",'Wave Areas'!V138,0)))))))))))))))","v":0},{"$f":"IF($B$4=\"SW\",'Wave Areas'!W120,(IF($B$4=\"N\",'Wave Areas'!I83,(IF($B$4=\"NE\",'Wave Areas'!W84,(IF($B$4=\"E\",'Wave Areas'!I101,(IF($B$4=\"SE\",'Wave Areas'!W102,(IF($B$4=\"S\",'Wave Areas'!I119,(IF($B$4=\"W\",'Wave Areas'!I137,(IF($B$4=\"NW\",'Wave Areas'!W138,0)))))))))))))))","v":0},{"$f":"IF($B$4=\"SW\",'Wave Areas'!X120,(IF($B$4=\"N\",'Wave Areas'!J83,(IF($B$4=\"NE\",'Wave Areas'!X84,(IF($B$4=\"E\",'Wave Areas'!J101,(IF($B$4=\"SE\",'Wave Areas'!X102,(IF($B$4=\"S\",'Wave Areas'!J119,(IF($B$4=\"W\",'Wave Areas'!J137,(IF($B$4=\"NW\",'Wave Areas'!X138,0)))))))))))))))","v":0},{"$f":"IF($B$4=\"SW\",'Wave Areas'!Y120,(IF($B$4=\"N\",'Wave Areas'!K83,(IF($B$4=\"NE\",'Wave Areas'!Y84,(IF($B$4=\"E\",'Wave Areas'!K101,(IF($B$4=\"SE\",'Wave Areas'!Y102,(IF($B$4=\"S\",'Wave Areas'!K119,(IF($B$4=\"W\",'Wave Areas'!K137,(IF($B$4=\"NW\",'Wave Areas'!Y138,0)))))))))))))))","v":0},{"$f":"IF($B$4=\"SW\",'Wave Areas'!Z120,(IF($B$4=\"N\",'Wave Areas'!L83,(IF($B$4=\"NE\",'Wave Areas'!Z84,(IF($B$4=\"E\",'Wave Areas'!L101,(IF($B$4=\"SE\",'Wave Areas'!Z102,(IF($B$4=\"S\",'Wave Areas'!L119,(IF($B$4=\"W\",'Wave Areas'!L137,(IF($B$4=\"NW\",'Wave Areas'!Z138,0)))))))))))))))","v":0},null,5.5,{"$error":"#DIV/0!"},{"$error":"#DIV/0!"},{"$error":"#DIV/0!"},{"$error":"#DIV/0!"},{"$error":"#DIV/0!"},{"$error":"#DIV/0!"},{"$error":"#DIV/0!"},{"$error":"#DIV/0!"},{"$error":"#DIV/0!"},{"$error":"#DIV/0!"},{"$error":"#DIV/0!"},{"$error":"#DIV/0!"},null,5.5,{"$error":"#DIV/0!"},{"$error":"#DIV/0!"},{"$error":"#DIV/0!"},{"$error":"#DIV/0!"},{"$error":"#DIV/0!"},{"$error":"#DIV/0!"},{"$error":"#DIV/0!"},{"$error":"#DIV/0!"},{"$error":"#DIV/0!"},{"$error":"#DIV/0!"},{"$error":"#DIV/0!"},{"$error":"#DIV/0!"}]
[70700.9765625,7.5,0,0,0,330516.69871758157,381365.42159720953,432214.14447683748,483062.86735646531,0,0,0,0,1627159.132148094,null,null,null,6.5,{"$f":"IF($B$4=\"SW\",'Wave Areas'!P121,(IF($B$4=\"N\",'Wave Areas'!B84,(IF($B$4=\"NE\",'Wave Areas'!P85,(IF($B$4=\"E\",'Wave Areas'!B102,(IF($B$4=\"SE\",'Wave Areas'!P103,(IF($B$4=\"S\",'Wave Areas'!B120,(IF($B$4=\"W\",'Wave Areas'!B138,(IF($B$4=\"NW\",'Wave Areas'!P139,0)))))))))))))))","v":0},{"$f":"IF($B$4=\"SW\",'Wave Areas'!Q121,(IF($B$4=\"N\",'Wave Areas'!C84,(IF($B$4=\"NE\",'Wave Areas'!Q85,(IF($B$4=\"E\",'Wave Areas'!C102,(IF($B$4=\"SE\",'Wave Areas'!Q103,(IF($B$4=\"S\",'Wave Areas'!C120,(IF($B$4=\"W\",'Wave Areas'!C138,(IF($B$4=\"NW\",'Wave Areas'!Q139,0)))))))))))))))","v":0},{"$f":"IF($B$4=\"SW\",'Wave Areas'!R121,(IF($B$4=\"N\",'Wave Areas'!D84,(IF($B$4=\"NE\",'Wave Areas'!R85,(IF($B$4=\"E\",'Wave Areas'!D102,(IF($B$4=\"SE\",'Wave Areas'!R103,(IF($B$4=\"S\",'Wave Areas'!D120,(IF($B$4=\"W\",'Wave Areas'!D138,(IF($B$4=\"NW\",'Wave Areas'!R139,0)))))))))))))))","v":0},{"$f":"IF($B$4=\"SW\",'Wave Areas'!S121,(IF($B$4=\"N\",'Wave Areas'!E84,(IF($B$4=\"NE\",'Wave Areas'!S85,(IF($B$4=\"E\",'Wave Areas'!E102,(IF($B$4=\"SE\",'Wave Areas'!S103,(IF($B$4=\"S\",'Wave Areas'!E120,(IF($B$4=\"W\",'Wave Areas'!E138,(IF($B$4=\"NW\",'Wave Areas'!S139,0)))))))))))))))","v":0},{"$f":"IF($B$4=\"SW\",'Wave Areas'!T121,(IF($B$4=\"N\",'Wave Areas'!F84,(IF($B$4=\"NE\",'Wave Areas'!T85,(IF($B$4=\"E\",'Wave Areas'!F102,(IF($B$4=\"SE\",'Wave Areas'!T103,(IF($B$4=\"S\",'Wave Areas'!F120,(IF($B$4=\"W\",'Wave Areas'!F138,(IF($B$4=\"NW\",'Wave Areas'!T139,0)))))))))))))))","v":0},{"$f":"IF($B$4=\"SW\",'Wave Areas'!U121,(IF($B$4=\"N\",'Wave Areas'!G84,(IF($B$4=\"NE\",'Wave Areas'!U85,(IF($B$4=\"E\",'Wave Areas'!G102,(IF($B$4=\"SE\",'Wave Areas'!U103,(IF($B$4=\"S\",'Wave Areas'!G120,(IF($B$4=\"W\",'Wave Areas'!G138,(IF($B$4=\"NW\",'Wave Areas'!U139,0)))))))))))))))","v":0},{"$f":"IF($B$4=\"SW\",'Wave Areas'!V121,(IF($B$4=\"N\",'Wave Areas'!H84,(IF($B$4=\"NE\",'Wave Areas'!V85,(IF($B$4=\"E\",'Wave Areas'!H102,(IF($B$4=\"SE\",'Wave Areas'!V103,(IF($B$4=\"S\",'Wave Areas'!H120,(IF($B$4=\"W\",'Wave Areas'!H138,(IF($B$4=\"NW\",'Wave Areas'!V139,0)))))))))))))))","v":0},{"$f":"IF($B$4=\"SW\",'Wave Areas'!W121,(IF($B$4=\"N\",'Wave Areas'!I84,(IF($B$4=\"NE\",'Wave Areas'!W85,(IF($B$4=\"E\",'Wave Areas'!I102,(IF($B$4=\"SE\",'Wave Areas'!W103,(IF($B$4=\"S\",'Wave Areas'!I120,(IF($B$4=\"W\",'Wave Areas'!I138,(IF($B$4=\"NW\",'Wave Areas'!W139,0)))))))))))))))","v":0},{"$f":"IF($B$4=\"SW\",'Wave Areas'!X121,(IF($B$4=\"N\",'Wave Areas'!J84,(IF($B$4=\"NE\",'Wave Areas'!X85,(IF($B$4=\"E\",'Wave Areas'!J102,(IF($B$4=\"SE\",'Wave Areas'!X103,(IF($B$4=\"S\",'Wave Areas'!J120,(IF($B$4=\"W\",'Wave Areas'!J138,(IF($B$4=\"NW\",'Wave Areas'!X139,0)))))))))))))))","v":0},{"$f":"IF($B$4=\"SW\",'Wave Areas'!Y121,(IF($B$4=\"N\",'Wave Areas'!K84,(IF($B$4=\"NE\",'Wave Areas'!Y85,(IF($B$4=\"E\",'Wave Areas'!K102,(IF($B$4=\"SE\",'Wave Areas'!Y103,(IF($B$4=\"S\",'Wave Areas'!K120,(IF($B$4=\"W\",'Wave Areas'!K138,(IF($B$4=\"NW\",'Wave Areas'!Y139,0)))))))))))))))","v":0},{"$f":"IF($B$4=\"SW\",'Wave Areas'!Z121,(IF($B$4=\"N\",'Wave Areas'!L84,(IF($B$4=\"NE\",'Wave Areas'!Z85,(IF($B$4=\"E\",'Wave Areas'!L102,(IF($B$4=\"SE\",'Wave Areas'!Z103,(IF($B$4=\"S\",'Wave Areas'!L120,(IF($B$4=\"W\",'Wave Areas'!L138,(IF($B$4=\"NW\",'Wave Areas'!Z139,0)))))))))))))))","v":0},null,6.5,{"$error":"#DIV/0!"},{"$error":"#DIV/0!"},{"$error":"#DIV/0!"},{"$error":"#DIV/0!"},{"$error":"#DIV/0!"},{"$error":"#DIV/0!"},{"$error":"#DIV/0!"},{"$error":"#DIV/0!"},{"$error":"#DIV/0!"},{"$error":"#DIV/0!"},{"$error":"#DIV/0!"},{"$error":"#DIV/0!"},null,6.5,{"$error":"#DIV/0!"},{"$error":"#DIV/0!"},{"$error":"#DIV/0!"},{"$error":"#DIV/0!"},{"$error":"#DIV/0!"},{"$error":"#DIV/0!"},{"$error":"#DIV/0!"},{"$error":"#DIV/0!"},{"$error":"#DIV/0!"},{"$error":"#DIV/0!"},{"$error":"#DIV/0!"},{"$error":"#DIV/0!"}]
[90811.4765625,8.5,0,0,0,424530.33746391587,489842.69707374915,555155.05668358237,620467.41629341547,0,0,0,0,2089995.5075146628,null,null,null,7.5,{"$f":"IF($B$4=\"SW\",'Wave Areas'!P122,(IF($B$4=\"N\",'Wave Areas'!B85,(IF($B$4=\"NE\",'Wave Areas'!P86,(IF($B$4=\"E\",'Wave Areas'!B103,(IF($B$4=\"SE\",'Wave Areas'!P104,(IF($B$4=\"S\",'Wave Areas'!B121,(IF($B$4=\"W\",'Wave Areas'!B139,(IF($B$4=\"NW\",'Wave Areas'!P140,0)))))))))))))))","v":0},{"$f":"IF($B$4=\"SW\",'Wave Areas'!Q122,(IF($B$4=\"N\",'Wave Areas'!C85,(IF($B$4=\"NE\",'Wave Areas'!Q86,(IF($B$4=\"E\",'Wave Areas'!C103,(IF($B$4=\"SE\",'Wave Areas'!Q104,(IF($B$4=\"S\",'Wave Areas'!C121,(IF($B$4=\"W\",'Wave Areas'!C139,(IF($B$4=\"NW\",'Wave Areas'!Q140,0)))))))))))))))","v":0},{"$f":"IF($B$4=\"SW\",'Wave Areas'!R122,(IF($B$4=\"N\",'Wave Areas'!D85,(IF($B$4=\"NE\",'Wave Areas'!R86,(IF($B$4=\"E\",'Wave Areas'!D103,(IF($B$4=\"SE\",'Wave Areas'!R104,(IF($B$4=\"S\",'Wave Areas'!D121,(IF($B$4=\"W\",'Wave Areas'!D139,(IF($B$4=\"NW\",'Wave Areas'!R140,0)))))))))))))))","v":0},{"$f":"IF($B$4=\"SW\",'Wave Areas'!S122,(IF($B$4=\"N\",'Wave Areas'!E85,(IF($B$4=\"NE\",'Wave Areas'!S86,(IF($B$4=\"E\",'Wave Areas'!E103,(IF($B$4=\"SE\",'Wave Areas'!S104,(IF($B$4=\"S\",'Wave Areas'!E121,(IF($B$4=\"W\",'Wave Areas'!E139,(IF($B$4=\"NW\",'Wave Areas'!S140,0)))))))))))))))","v":0},{"$f":"IF($B$4=\"SW\",'Wave Areas'!T122,(IF($B$4=\"N\",'Wave Areas'!F85,(IF($B$4=\"NE\",'Wave Areas'!T86,(IF($B$4=\"E\",'Wave Areas'!F103,(IF($B$4=\"SE\",'Wave Areas'!T104,(IF($B$4=\"S\",'Wave Areas'!F121,(IF($B$4=\"W\",'Wave Areas'!F139,(IF($B$4=\"NW\",'Wave Areas'!T140,0)))))))))))))))","v":0},{"$f":"IF($B$4=\"SW\",'Wave Areas'!U122,(IF($B$4=\"N\",'Wave Areas'!G85,(IF($B$4=\"NE\",'Wave Areas'!U86,(IF($B$4=\"E\",'Wave Areas'!G103,(IF($B$4=\"SE\",'Wave Areas'!U104,(IF($B$4=\"S\",'Wave Areas'!G121,(IF($B$4=\"W\",'Wave Areas'!G139,(IF($B$4=\"NW\",'Wave Areas'!U140,0)))))))))))))))","v":0},{"$f":"IF($B$4=\"SW\",'Wave Areas'!V122,(IF($B$4=\"N\",'Wave Areas'!H85,(IF($B$4=\"NE\",'Wave Areas'!V86,(IF($B$4=\"E\",'Wave Areas'!H103,(IF($B$4=\"SE\",'Wave Areas'!V104,(IF($B$4=\"S\",'Wave Areas'!H121,(IF($B$4=\"W\",'Wave Areas'!H139,(IF($B$4=\"NW\",'Wave Areas'!V140,0)))))))))))))))","v":0},{"$f":"IF($B$4=\"SW\",'Wave Areas'!W122,(IF($B$4=\"N\",'Wave Areas'!I85,(IF($B$4=\"NE\",'Wave Areas'!W86,(IF($B$4=\"E\",'Wave Areas'!I103,(IF($B$4=\"SE\",'Wave Areas'!W104,(IF($B$4=\"S\",'Wave Areas'!I121,(IF($B$4=\"W\",'Wave Areas'!I139,(IF($B$4=\"NW\",'Wave Areas'!W140,0)))))))))))))))","v":0},{"$f":"IF($B$4=\"SW\",'Wave Areas'!X122,(IF($B$4=\"N\",'Wave Areas'!J85,(IF($B$4=\"NE\",'Wave Areas'!X86,(IF($B$4=\"E\",'Wave Areas'!J103,(IF($B$4=\"SE\",'Wave Areas'!X104,(IF($B$4=\"S\",'Wave Areas'!J121,(IF($B$4=\"W\",'Wave Areas'!J139,(IF($B$4=\"NW\",'Wave Areas'!X140,0)))))))))))))))","v":0},{"$f":"IF($B$4=\"SW\",'Wave Areas'!Y122,(IF($B$4=\"N\",'Wave Areas'!K85,(IF($B$4=\"NE\",'Wave Areas'!Y86,(IF($B$4=\"E\",'Wave Areas'!K103,(IF($B$4=\"SE\",'Wave Areas'!Y104,(IF($B$4=\"S\",'Wave Areas'!K121,(IF($B$4=\"W\",'Wave Areas'!K139,(IF($B$4=\"NW\",'Wave Areas'!Y140,0)))))))))))))))","v":0},{"$f":"IF($B$4=\"SW\",'Wave Areas'!Z122,(IF($B$4=\"N\",'Wave Areas'!L85,(IF($B$4=\"NE\",'Wave Areas'!Z86,(IF($B$4=\"E\",'Wave Areas'!L103,(IF($B$4=\"SE\",'Wave Areas'!Z104,(IF($B$4=\"S\",'Wave Areas'!L121,(IF($B$4=\"W\",'Wave Areas'!L139,(IF($B$4=\"NW\",'Wave Areas'!Z140,0)))))))))))))))","v":0},null,7.5,{"$error":"#DIV/0!"},{"$error":"#DIV/0!"},{"$error":"#DIV/0!"},{"$error":"#DIV/0!"},{"$error":"#DIV/0!"},{"$error":"#DIV/0!"},{"$error":"#DIV/0!"},{"$error":"#DIV/0!"},{"$error":"#DIV/0!"},{"$error":"#DIV/0!"},{"$error":"#DIV/0!"},{"$error":"#DIV/0!"},null,7.5,{"$error":"#DIV/0!"},{"$error":"#DIV/0!"},{"$f":"AI55/1004","v":{"$error":"#DIV/0!"}},{"$error":"#DIV/0!"},{"$error":"#DIV/0!"},{"$error":"#DIV/0!"},{"$error":"#DIV/0!"},{"$f":"AN55/1004","v":{"$error":"#DIV/0!"}},{"$error":"#DIV/0!"},{"$error":"#DIV/0!"},{"$error":"#DIV/0!"},{"$error":"#DIV/0!"}]
[113435.7890625,9.5,0,0,0,0,611879.63198485621,693463.58291617036,0,0,0,0,0,1305343.2149010266,null,null,null,8.5,{"$f":"IF($B$4=\"SW\",'Wave Areas'!P123,(IF($B$4=\"N\",'Wave Areas'!B86,(IF($B$4=\"NE\",'Wave Areas'!P87,(IF($B$4=\"E\",'Wave Areas'!B104,(IF($B$4=\"SE\",'Wave Areas'!P105,(IF($B$4=\"S\",'Wave Areas'!B122,(IF($B$4=\"W\",'Wave Areas'!B140,(IF($B$4=\"NW\",'Wave Areas'!P141,0)))))))))))))))","v":0},{"$f":"IF($B$4=\"SW\",'Wave Areas'!Q123,(IF($B$4=\"N\",'Wave Areas'!C86,(IF($B$4=\"NE\",'Wave Areas'!Q87,(IF($B$4=\"E\",'Wave Areas'!C104,(IF($B$4=\"SE\",'Wave Areas'!Q105,(IF($B$4=\"S\",'Wave Areas'!C122,(IF($B$4=\"W\",'Wave Areas'!C140,(IF($B$4=\"NW\",'Wave Areas'!Q141,0)))))))))))))))","v":0},{"$f":"IF($B$4=\"SW\",'Wave Areas'!R123,(IF($B$4=\"N\",'Wave Areas'!D86,(IF($B$4=\"NE\",'Wave Areas'!R87,(IF($B$4=\"E\",'Wave Areas'!D104,(IF($B$4=\"SE\",'Wave Areas'!R105,(IF($B$4=\"S\",'Wave Areas'!D122,(IF($B$4=\"W\",'Wave Areas'!D140,(IF($B$4=\"NW\",'Wave Areas'!R141,0)))))))))))))))","v":0},{"$f":"IF($B$4=\"SW\",'Wave Areas'!S123,(IF($B$4=\"N\",'Wave Areas'!E86,(IF($B$4=\"NE\",'Wave Areas'!S87,(IF($B$4=\"E\",'Wave Areas'!E104,(IF($B$4=\"SE\",'Wave Areas'!S105,(IF($B$4=\"S\",'Wave Areas'!E122,(IF($B$4=\"W\",'Wave Areas'!E140,(IF($B$4=\"NW\",'Wave Areas'!S141,0)))))))))))))))","v":0},{"$f":"IF($B$4=\"SW\",'Wave Areas'!T123,(IF($B$4=\"N\",'Wave Areas'!F86,(IF($B$4=\"NE\",'Wave Areas'!T87,(IF($B$4=\"E\",'Wave Areas'!F104,(IF($B$4=\"SE\",'Wave Areas'!T105,(IF($B$4=\"S\",'Wave Areas'!F122,(IF($B$4=\"W\",'Wave Areas'!F140,(IF($B$4=\"NW\",'Wave Areas'!T141,0)))))))))))))))","v":0},{"$f":"IF($B$4=\"SW\",'Wave Areas'!U123,(IF($B$4=\"N\",'Wave Areas'!G86,(IF($B$4=\"NE\",'Wave Areas'!U87,(IF($B$4=\"E\",'Wave Areas'!G104,(IF($B$4=\"SE\",'Wave Areas'!U105,(IF($B$4=\"S\",'Wave Areas'!G122,(IF($B$4=\"W\",'Wave Areas'!G140,(IF($B$4=\"NW\",'Wave Areas'!U141,0)))))))))))))))","v":0},{"$f":"IF($B$4=\"SW\",'Wave Areas'!V123,(IF($B$4=\"N\",'Wave Areas'!H86,(IF($B$4=\"NE\",'Wave Areas'!V87,(IF($B$4=\"E\",'Wave Areas'!H104,(IF($B$4=\"SE\",'Wave Areas'!V105,(IF($B$4=\"S\",'Wave Areas'!H122,(IF($B$4=\"W\",'Wave Areas'!H140,(IF($B$4=\"NW\",'Wave Areas'!V141,0)))))))))))))))","v":0},{"$f":"IF($B$4=\"SW\",'Wave Areas'!W123,(IF($B$4=\"N\",'Wave Areas'!I86,(IF($B$4=\"NE\",'Wave Areas'!W87,(IF($B$4=\"E\",'Wave Areas'!I104,(IF($B$4=\"SE\",'Wave Areas'!W105,(IF($B$4=\"S\",'Wave Areas'!I122,(IF($B$4=\"W\",'Wave Areas'!I140,(IF($B$4=\"NW\",'Wave Areas'!W141,0)))))))))))))))","v":0},{"$f":"IF($B$4=\"SW\",'Wave Areas'!X123,(IF($B$4=\"N\",'Wave Areas'!J86,(IF($B$4=\"NE\",'Wave Areas'!X87,(IF($B$4=\"E\",'Wave Areas'!J104,(IF($B$4=\"SE\",'Wave Areas'!X105,(IF($B$4=\"S\",'Wave Areas'!J122,(IF($B$4=\"W\",'Wave Areas'!J140,(IF($B$4=\"NW\",'Wave Areas'!X141,0)))))))))))))))","v":0},{"$f":"IF($B$4=\"SW\",'Wave Areas'!Y123,(IF($B$4=\"N\",'Wave Areas'!K86,(IF($B$4=\"NE\",'Wave Areas'!Y87,(IF($B$4=\"E\",'Wave Areas'!K104,(IF($B$4=\"SE\",'Wave Areas'!Y105,(IF($B$4=\"S\",'Wave Areas'!K122,(IF($B$4=\"W\",'Wave Areas'!K140,(IF($B$4=\"NW\",'Wave Areas'!Y141,0)))))))))))))))","v":0},{"$f":"IF($B$4=\"SW\",'Wave Areas'!Z123,(IF($B$4=\"N\",'Wave Areas'!L86,(IF($B$4=\"NE\",'Wave Areas'!Z87,(IF($B$4=\"E\",'Wave Areas'!L104,(IF($B$4=\"SE\",'Wave Areas'!Z105,(IF($B$4=\"S\",'Wave Areas'!L122,(IF($B$4=\"W\",'Wave Areas'!L140,(IF($B$4=\"NW\",'Wave Areas'!Z141,0)))))))))))))))","v":0},null,8.5,{"$error":"#DIV/0!"},{"$error":"#DIV/0!"},{"$error":"#DIV/0!"},{"$error":"#DIV/0!"},{"$error":"#DIV/0!"},{"$error":"#DIV/0!"},{"$error":"#DIV/0!"},{"$error":"#DIV/0!"},{"$error":"#DIV/0!"},{"$error":"#DIV/0!"},{"$error":"#DIV/0!"},{"$error":"#DIV/0!"},null,8.5,{"$error":"#DIV/0!"},{"$error":"#DIV/0!"},{"$f":"AI56/1004","v":{"$error":"#DIV/0!"}},{"$error":"#DIV/0!"},{"$error":"#DIV/0!"},{"$error":"#DIV/0!"},{"$error":"#DIV/0!"},{"$f":"AN56/1004","v":{"$error":"#DIV/0!"}},{"$error":"#DIV/0!"},{"$error":"#DIV/0!"},{"$error":"#DIV/0!"},{"$error":"#DIV/0!"}]
[138573.9140625,10.5,0,0,0,0,0,0,0,0,0,0,0,0,null,null,null,9.5,{"$f":"IF($B$4=\"SW\",'Wave Areas'!P124,(IF($B$4=\"N\",'Wave Areas'!B87,(IF($B$4=\"NE\",'Wave Areas'!P88,(IF($B$4=\"E\",'Wave Areas'!B105,(IF($B$4=\"SE\",'Wave Areas'!P106,(IF($B$4=\"S\",'Wave Areas'!B123,(IF($B$4=\"W\",'Wave Areas'!B141,(IF($B$4=\"NW\",'Wave Areas'!P142,0)))))))))))))))","v":0},{"$f":"IF($B$4=\"SW\",'Wave Areas'!Q124,(IF($B$4=\"N\",'Wave Areas'!C87,(IF($B$4=\"NE\",'Wave Areas'!Q88,(IF($B$4=\"E\",'Wave Areas'!C105,(IF($B$4=\"SE\",'Wave Areas'!Q106,(IF($B$4=\"S\",'Wave Areas'!C123,(IF($B$4=\"W\",'Wave Areas'!C141,(IF($B$4=\"NW\",'Wave Areas'!Q142,0)))))))))))))))","v":0},{"$f":"IF($B$4=\"SW\",'Wave Areas'!R124,(IF($B$4=\"N\",'Wave Areas'!D87,(IF($B$4=\"NE\",'Wave Areas'!R88,(IF($B$4=\"E\",'Wave Areas'!D105,(IF($B$4=\"SE\",'Wave Areas'!R106,(IF($B$4=\"S\",'Wave Areas'!D123,(IF($B$4=\"W\",'Wave Areas'!D141,(IF($B$4=\"NW\",'Wave Areas'!R142,0)))))))))))))))","v":0},{"$f":"IF($B$4=\"SW\",'Wave Areas'!S124,(IF($B$4=\"N\",'Wave Areas'!E87,(IF($B$4=\"NE\",'Wave Areas'!S88,(IF($B$4=\"E\",'Wave Areas'!E105,(IF($B$4=\"SE\",'Wave Areas'!S106,(IF($B$4=\"S\",'Wave Areas'!E123,(IF($B$4=\"W\",'Wave Areas'!E141,(IF($B$4=\"NW\",'Wave Areas'!S142,0)))))))))))))))","v":0},{"$f":"IF($B$4=\"SW\",'Wave Areas'!T124,(IF($B$4=\"N\",'Wave Areas'!F87,(IF($B$4=\"NE\",'Wave Areas'!T88,(IF($B$4=\"E\",'Wave Areas'!F105,(IF($B$4=\"SE\",'Wave Areas'!T106,(IF($B$4=\"S\",'Wave Areas'!F123,(IF($B$4=\"W\",'Wave Areas'!F141,(IF($B$4=\"NW\",'Wave Areas'!T142,0)))))))))))))))","v":0},{"$f":"IF($B$4=\"SW\",'Wave Areas'!U124,(IF($B$4=\"N\",'Wave Areas'!G87,(IF($B$4=\"NE\",'Wave Areas'!U88,(IF($B$4=\"E\",'Wave Areas'!G105,(IF($B$4=\"SE\",'Wave Areas'!U106,(IF($B$4=\"S\",'Wave Areas'!G123,(IF($B$4=\"W\",'Wave Areas'!G141,(IF($B$4=\"NW\",'Wave Areas'!U142,0)))))))))))))))","v":0},{"$f":"IF($B$4=\"SW\",'Wave Areas'!V124,(IF($B$4=\"N\",'Wave Areas'!H87,(IF($B$4=\"NE\",'Wave Areas'!V88,(IF($B$4=\"E\",'Wave Areas'!H105,(IF($B$4=\"SE\",'Wave Areas'!V106,(IF($B$4=\"S\",'Wave Areas'!H123,(IF($B$4=\"W\",'Wave Areas'!H141,(IF($B$4=\"NW\",'Wave Areas'!V142,0)))))))))))))))","v":0},{"$f":"IF($B$4=\"SW\",'Wave Areas'!W124,(IF($B$4=\"N\",'Wave Areas'!I87,(IF($B$4=\"NE\",'Wave Areas'!W88,(IF($B$4=\"E\",'Wave Areas'!I105,(IF($B$4=\"SE\",'Wave Areas'!W106,(IF($B$4=\"S\",'Wave Areas'!I123,(IF($B$4=\"W\",'Wave Areas'!I141,(IF($B$4=\"NW\",'Wave Areas'!W142,0)))))))))))))))","v":0},{"$f":"IF($B$4=\"SW\",'Wave Areas'!X124,(IF($B$4=\"N\",'Wave Areas'!J87,(IF($B$4=\"NE\",'Wave Areas'!X88,(IF($B$4=\"E\",'Wave Areas'!J105,(IF($B$4=\"SE\",'Wave Areas'!X106,(IF($B$4=\"S\",'Wave Areas'!J123,(IF($B$4=\"W\",'Wave Areas'!J141,(IF($B$4=\"NW\",'Wave Areas'!X142,0)))))))))))))))","v":0},{"$f":"IF($B$4=\"SW\",'Wave Areas'!Y124,(IF($B$4=\"N\",'Wave Areas'!K87,(IF($B$4=\"NE\",'Wave Areas'!Y88,(IF($B$4=\"E\",'Wave Areas'!K105,(IF($B$4=\"SE\",'Wave Areas'!Y106,(IF($B$4=\"S\",'Wave Areas'!K123,(IF($B$4=\"W\",'Wave Areas'!K141,(IF($B$4=\"NW\",'Wave Areas'!Y142,0)))))))))))))))","v":0},{"$f":"IF($B$4=\"SW\",'Wave Areas'!Z124,(IF($B$4=\"N\",'Wave Areas'!L87,(IF($B$4=\"NE\",'Wave Areas'!Z88,(IF($B$4=\"E\",'Wave Areas'!L105,(IF($B$4=\"SE\",'Wave Areas'!Z106,(IF($B$4=\"S\",'Wave Areas'!L123,(IF($B$4=\"W\",'Wave Areas'!L141,(IF($B$4=\"NW\",'Wave Areas'!Z142,0)))))))))))))))","v":0},null,9.5,{"$error":"#DIV/0!"},{"$error":"#DIV/0!"},{"$error":"#DIV/0!"},{"$error":"#DIV/0!"},{"$error":"#DIV/0!"},{"$error":"#DIV/0!"},{"$error":"#DIV/0!"},{"$error":"#DIV/0!"},{"$error":"#DIV/0!"},{"$error":"#DIV/0!"},{"$error":"#DIV/0!"},{"$error":"#DIV/0!"},null,9.5,{"$error":"#DIV/0!"},{"$error":"#DIV/0!"},{"$f":"AI57/1004","v":{"$error":"#DIV/0!"}},{"$f":"AJ57/1004","v":{"$error":"#DIV/0!"}},{"$f":"G56*AJ57","v":{"$error":"#DIV/0!"}},{"$f":"H56*AK57","v":{"$error":"#DIV/0!"}},{"$f":"AM57/1004","v":{"$error":"#DIV/0!"}},{"$f":"AN57/1004","v":{"$error":"#DIV/0!"}},{"$error":"#DIV/0!"},{"$error":"#DIV/0!"},{"$error":"#DIV/0!"},{"$error":"#DIV/0!"}]
["Sub Totals",null,{"$f":"SUM(C47:C57)","v":795.07727654024404},167800.78550277217,565550.79558341741,1423425.249143718,2254293.3809968382,2552831.8828812321,2078243.8026713708,1077314.9420763839,0,0,0,{"$f":"SUM(N47:N56)","v":10120255.916132273},"Total",null,null,10.5,{"$f":"IF($B$4=\"SW\",'Wave Areas'!P125,(IF($B$4=\"N\",'Wave Areas'!B88,(IF($B$4=\"NE\",'Wave Areas'!P89,(IF($B$4=\"E\",'Wave Areas'!B106,(IF($B$4=\"SE\",'Wave Areas'!P107,(IF($B$4=\"S\",'Wave Areas'!B124,(IF($B$4=\"W\",'Wave Areas'!B142,(IF($B$4=\"NW\",'Wave Areas'!P143,0)))))))))))))))","v":0},{"$f":"IF($B$4=\"SW\",'Wave Areas'!Q125,(IF($B$4=\"N\",'Wave Areas'!C88,(IF($B$4=\"NE\",'Wave Areas'!Q89,(IF($B$4=\"E\",'Wave Areas'!C106,(IF($B$4=\"SE\",'Wave Areas'!Q107,(IF($B$4=\"S\",'Wave Areas'!C124,(IF($B$4=\"W\",'Wave Areas'!C142,(IF($B$4=\"NW\",'Wave Areas'!Q143,0)))))))))))))))","v":0},{"$f":"IF($B$4=\"SW\",'Wave Areas'!R125,(IF($B$4=\"N\",'Wave Areas'!D88,(IF($B$4=\"NE\",'Wave Areas'!R89,(IF($B$4=\"E\",'Wave Areas'!D106,(IF($B$4=\"SE\",'Wave Areas'!R107,(IF($B$4=\"S\",'Wave Areas'!D124,(IF($B$4=\"W\",'Wave Areas'!D142,(IF($B$4=\"NW\",'Wave Areas'!R143,0)))))))))))))))","v":0},{"$f":"IF($B$4=\"SW\",'Wave Areas'!S125,(IF($B$4=\"N\",'Wave Areas'!E88,(IF($B$4=\"NE\",'Wave Areas'!S89,(IF($B$4=\"E\",'Wave Areas'!E106,(IF($B$4=\"SE\",'Wave Areas'!S107,(IF($B$4=\"S\",'Wave Areas'!E124,(IF($B$4=\"W\",'Wave Areas'!E142,(IF($B$4=\"NW\",'Wave Areas'!S143,0)))))))))))))))","v":0},{"$f":"IF($B$4=\"SW\",'Wave Areas'!T125,(IF($B$4=\"N\",'Wave Areas'!F88,(IF($B$4=\"NE\",'Wave Areas'!T89,(IF($B$4=\"E\",'Wave Areas'!F106,(IF($B$4=\"SE\",'Wave Areas'!T107,(IF($B$4=\"S\",'Wave Areas'!F124,(IF($B$4=\"W\",'Wave Areas'!F142,(IF($B$4=\"NW\",'Wave Areas'!T143,0)))))))))))))))","v":0},{"$f":"IF($B$4=\"SW\",'Wave Areas'!U125,(IF($B$4=\"N\",'Wave Areas'!G88,(IF($B$4=\"NE\",'Wave Areas'!U89,(IF($B$4=\"E\",'Wave Areas'!G106,(IF($B$4=\"SE\",'Wave Areas'!U107,(IF($B$4=\"S\",'Wave Areas'!G124,(IF($B$4=\"W\",'Wave Areas'!G142,(IF($B$4=\"NW\",'Wave Areas'!U143,0)))))))))))))))","v":0},{"$f":"IF($B$4=\"SW\",'Wave Areas'!V125,(IF($B$4=\"N\",'Wave Areas'!H88,(IF($B$4=\"NE\",'Wave Areas'!V89,(IF($B$4=\"E\",'Wave Areas'!H106,(IF($B$4=\"SE\",'Wave Areas'!V107,(IF($B$4=\"S\",'Wave Areas'!H124,(IF($B$4=\"W\",'Wave Areas'!H142,(IF($B$4=\"NW\",'Wave Areas'!V143,0)))))))))))))))","v":0},{"$f":"IF($B$4=\"SW\",'Wave Areas'!W125,(IF($B$4=\"N\",'Wave Areas'!I88,(IF($B$4=\"NE\",'Wave Areas'!W89,(IF($B$4=\"E\",'Wave Areas'!I106,(IF($B$4=\"SE\",'Wave Areas'!W107,(IF($B$4=\"S\",'Wave Areas'!I124,(IF($B$4=\"W\",'Wave Areas'!I142,(IF($B$4=\"NW\",'Wave Areas'!W143,0)))))))))))))))","v":0},{"$f":"IF($B$4=\"SW\",'Wave Areas'!X125,(IF($B$4=\"N\",'Wave Areas'!J88,(IF($B$4=\"NE\",'Wave Areas'!X89,(IF($B$4=\"E\",'Wave Areas'!J106,(IF($B$4=\"SE\",'Wave Areas'!X107,(IF($B$4=\"S\",'Wave Areas'!J124,(IF($B$4=\"W\",'Wave Areas'!J142,(IF($B$4=\"NW\",'Wave Areas'!X143,0)))))))))))))))","v":0},{"$f":"IF($B$4=\"SW\",'Wave Areas'!Y125,(IF($B$4=\"N\",'Wave Areas'!K88,(IF($B$4=\"NE\",'Wave Areas'!Y89,(IF($B$4=\"E\",'Wave Areas'!K106,(IF($B$4=\"SE\",'Wave Areas'!Y107,(IF($B$4=\"S\",'Wave Areas'!K124,(IF($B$4=\"W\",'Wave Areas'!K142,(IF($B$4=\"NW\",'Wave Areas'!Y143,0)))))))))))))))","v":0},{"$f":"IF($B$4=\"SW\",'Wave Areas'!Z125,(IF($B$4=\"N\",'Wave Areas'!L88,(IF($B$4=\"NE\",'Wave Areas'!Z89,(IF($B$4=\"E\",'Wave Areas'!L106,(IF($B$4=\"SE\",'Wave Areas'!Z107,(IF($B$4=\"S\",'Wave Areas'!L124,(IF($B$4=\"W\",'Wave Areas'!L142,(IF($B$4=\"NW\",'Wave Areas'!Z143,0)))))))))))))))","v":0},null,10.5,{"$error":"#DIV/0!"},{"$error":"#DIV/0!"},{"$error":"#DIV/0!"},{"$error":"#DIV/0!"},{"$error":"#DIV/0!"},{"$error":"#DIV/0!"},{"$error":"#DIV/0!"},{"$error":"#DIV/0!"},{"$error":"#DIV/0!"},{"$error":"#DIV/0!"},{"$error":"#DIV/0!"},{"$error":"#DIV/0!"},null,10.5,{"$error":"#DIV/0!"},{"$error":"#DIV/0!"},{"$f":"AI58/1004","v":{"$error":"#DIV/0!"}},{"$f":"AJ58/1004","v":{"$error":"#DIV/0!"}},{"$f":"AK58/1004","v":{"$error":"#DIV/0!"}},{"$f":"AL58/1004","v":{"$error":"#DIV/0!"}},{"$f":"AM58/1004","v":{"$error":"#DIV/0!"}},{"$f":"AN58/1004","v":{"$error":"#DIV/0!"}},{"$error":"#DIV/0!"},{"$error":"#DIV/0!"},{"$error":"#DIV/0!"},{"$error":"#DIV/0!"}]
[null,null,null,null,null,null,null,null,null,null,null,null,null,null,null,null,null,"Total Occurences",null,null,null,null,null,null,null,null,null,null,{"$f":"SUM(S48:AC58)","v":0},null,null,null,null,null,null,null,null,null,null,null,null,null,null,null,"Sub Totals",{"$f":"SUM(AT48:AT58)","v":{"$error":"#DIV/0!"}},{"$error":"#DIV/0!"},{"$error":"#DIV/0!"},{"$error":"#DIV/0!"},{"$error":"#DIV/0!"},{"$error":"#DIV/0!"},{"$error":"#DIV/0!"},{"$error":"#DIV/0!"},{"$error":"#DIV/0!"},{"$error":"#DIV/0!"},{"$error":"#DIV/0!"},{"$f":"SUM(BE48:BE57)","v":{"$error":"#DIV/0!"}},"Total"]
[]
[null,null,null,null,null,null,null,null,null,null,null,null,null,null,null,null,null,null,null,null,null,null,null,null,null,null,null,null,null,null,null,null,null,null,null,null,null,null,null,null,null,null,null,null,null,null,null,null,null,null,null,null,null,null,null,null,"Min","Max"]
[null,null,null,null,null,null,null,null,null,null,null,null,null,null,null,null,null,null,null,null,null,null,null,null,null,null,null,null,null,null,null,null,null,null,null,null,null,null,null,null,null,null,null,null,null,null,null,null,null,null,null,null,null,"Relevant Wave Heights",null,null,{"$f":"IF((AND($B$6>AS48,$B$6<AS49)),AS48,(IF((AND($B$6>AS49,$B$6<AS50)),AS49,(IF((AND($B$6>AS50,$B$6<AS51)),AS50,(IF((AND($B$6>AS51,$B$6<AS52)),AS51,(IF((AND($B$6>AS52,$B$6<AS53)),AS52,(IF((AND($B$6>AS53,$B$6<AS54)),AS53,(IF((AND($B$6>AS54,$B$6<AS55)),AS54,(IF((AND($B$6>AS55,$B$6<AS56)),AS55,(IF((AND($B$6>AS56,$B$6<AS57)),AS56,(IF((AND($B$6>AS57,$B$6<AS58)),AS57,(IF($B$6>AS58,AS58,\"\")))))))))))))))))))))","v":10.5},{"$f":"IF((AND($B$6>AS48,$B$6<AS49)),AS49,(IF((AND($B$6>AS49,$B$6<AS50)),AS50,(IF((AND($B$6>AS50,$B$6<AS51)),AS51,(IF((AND($B$6>AS51,$B$6<AS52)),AS52,(IF((AND($B$6>AS52,$B$6<AS53)),AS53,(IF((AND($B$6>AS53,$B$6<AS54)),AS54,(IF((AND($B$6>AS54,$B$6<AS55)),AS55,(IF((AND($B$6>AS55,$B$6<AS56)),AS56,(IF((AND($B$6>AS56,$B$6<AS57)),AS57,(IF((AND($B$6>AS57,$B$6<AS58)),AS58,(IF($B$6>AS58,AS58,\"\")))))))))))))))))))))","v":10.5}]
[null,null,null,null,null,null,null,null,null,null,null,null,null,null,null,null,null,null,null,null,null,null,null,null,null,null,null,null,null,null,null,null,null,null,null,null,null,null,null,null,null,null,null,null,null,null,null,null,null,null,null,null,null,"Relevant Power (kW/m)",null,null,{"$f":"(((($B$6-BE62)*((VLOOKUP(BF62,AS48:BE58,13,FALSE))-(VLOOKUP(BE62,AS48:BE58,13,FALSE))))/(BF62-BE62))+(VLOOKUP(BE62,AS48:BE58,13,FALSE)))*0.001","v":{"$error":"#VALUE!"}}]

{"sheet":"Tidal Device Database","index":18,"n_rows":147,"n_cols":20,"rows_kept":147,"cut":false,"hidden":false,"merged":[[0,8,0,10],[0,11,0,18],[45,0,53,0],[121,0,125,0],[1,0,2,0],[1,1,2,1],[1,2,2,2],[0,3,0,7]]}
[null,null,null,"Calculations",null,null,null,null,null,null,null,"Judgement Based Criteria"]
["No","Name","Type","Rated Power ","Diameter","Height","Capture Area","Lifespan","Rated capacity","Required Flow Velocity","Operating Water Depth","Installation Complexity","Lifespan","Primary Seabed Attachment","Planned Inspection/Maintenance Period","Maintenance Complexity","Access Complexity","Shore Connection","Technology Readiness Level","Industry Contact"]
[null,null,null,"(kW)","(m)","(m)","(m^2)","(years)","(kW)","(m/s)","(m)","(-)","(years)","(-)","(-)","(-)","(-)",null,"(-)"]
[{"$f":"1","v":1},"ANDRITZ HYDRO Hammerfest HS1000","Horizontal Axis",1000,null,null,{"$f":"IF(OR(C4=\"Horizontal Axis\",C4=\"Horizontal Contra-Rotating\"),(PI()*((E4/2)^2)),IF(C4=\"Vertical Axis\", (E4*F4),\"\"))","v":0},{"$f":"25","v":25},"501-1000","1.1-2.0","30.1+","Slightly Complex (Specialised Vessels, ROVs)","20+ years","Seabed Mounted","18+ months","Slightly Complex (External)","Moderate (Simple Vessels,Surface Work)","Offshore (1km+ Subsea Infrastructure)","8 (Prototype Proven)"]
[2,"ANDRITZ HYDRO Hammerfest HS300","Horizontal Axis",300,9.6999999999999993,null,73.8981131940659,{"$f":"25","v":25},"251-500","1.1-2.0","30.1+","Slightly Complex (Specialised Vessels, ROVs)","20+ years","Seabed Mounted","18+ months","Slightly Complex (External)","Moderate (Simple Vessels,Surface Work)","Offshore (1km+ Subsea Infrastructure)","9 (Proven)"]
[3,"EEL","Oscillating Hydrofoil",100,null,null,"",{"$f":"25","v":25},null,"0.1-1.0",null,null,"20+ years","Seabed Mounted",null,"More Complex (External, Additional Equipment)","Slightly Complex (Specialised Vessels, ROVs)",null,"8 (Prototype Proven)"]
[4,"Atlantis AR-1000","Horizontal Axis",1500,null,null,0,{"$f":"25","v":25},"1001+","2.1-3.0","30.1+","Slightly Complex (Specialised Vessels, ROVs)","20+ years","Gravity Based",null,null,"Moderate (Simple Vessels,Surface Work)","Offshore (1km+ Subsea Infrastructure)","8 (Prototype Proven)"]
[5,"Seagen S","Horizontal Axis",1200,null,null,0,{"$f":"25","v":25},"1001+","2.1-3.0","20.1-30.0","More Complex (Specialised Vessels, Divers, ROVs)","20+ years","Tower/Monopile",null,null,"Moderate (Simple Vessels,Surface Work)","Near Shore (>0.1km, <0.5km Subsea Infrastructure)","8 (Prototype Proven)"]
[7,"BioStream","Oscillating Hydrofoil",250,null,null,"",{"$f":"25","v":25},"101-250",null,null,null,"20+ years","Seabed Mounted"]
[8,"C2C Tidal turbine","Vertical Axis",10,null,null,0,{"$f":"25","v":25},"10-100","0.1-1.0",null,null,"20+ years","Floating/Moored/Pier Mounted"]
[9,"Oryon Watermill","Vertical Axis",50,6,3,{"$f":"IF(OR(C11=\"Horizontal Axis\",C11=\"Horizontal Contra-Rotating\"),(PI()*((E11/2)^2)),IF(C11=\"Vertical Axis\", (E11*F11),\"\"))","v":18},{"$f":"25","v":25},"10-100","0.1-1.0","5.0-10.0","Slighlty Simple (Simple Vessels, Light Subsea Work)","20+ years","Floating/Moored/Pier Mounted",null,"Moderate (Community, Complex Training)","Simple (Shore Mounted, Readily Accesssible)","Near Shore (<0.1km Subsea Infrastructure)","7 (Prototype Testing)"]
[11,"MAKO","Horizontal Axis",null,null,null,0,{"$f":"25","v":25},null,"0.1-1.0",null,null,null,"Floating/Moored/Pier Mounted",null,null,null,null,null,"info@mako.energy"]
[12,"Guinard MegaWattBlue","Horizontal Axis",4,null,null,0,{"$f":"25","v":25},"10-100",null,null,null,null,"Floating/Moored/Pier Mounted"]
[13,"HydroGen","Vertical Axis",null,null,null,0,{"$f":"25","v":25},"10-100","0.1-1.0",null,null,null,"Floating/Moored/Pier Mounted"]
[14,"HydroQuest","Vertical Axis",1000,null,null,0,{"$f":"25","v":25},null,null,null,null,"20+ years","Seabed Mounted"]
[15,"Jupiter Hydro","Archimedes Screw",1000,null,null,"",{"$f":"25","v":25},null,"0.1-1.0",null,null,null,"Floating/Moored/Pier Mounted"]
[16,"Minesto","Tidal Kite",500,null,null,"",{"$f":"25","v":25},"251-500","1.1-2.0","30.1+","Moderate (Specialised Vessels)",null,"Floating/Moored/Pier Mounted",null,null,"Slightly Complex (Specialised Vessels, ROVs)","Offshore (1km+ Subsea Infrastructure)"]
[17,"CoRMat","Horizontal Contra-Rotating",null,null,null,0,{"$f":"25","v":25},null,null,"5.0-10.0",null,null,"Floating/Moored/Pier Mounted",null,null,null,null,"7 (Prototype Testing)"]
[18,"Nova M100","Horizontal Axis",100,null,null,0,{"$f":"25","v":25},"10-100",null,null,"Slighlty Simple (Simple Vessels, Light Subsea Work)",null,"Seabed Mounted",null,null,"Moderate (Simple Vessels,Surface Work)",null,"9 (Proven)"]
[19,"TidGen","Darrieus",600,null,null,"",{"$f":"25","v":25},null,null,null,null,null,"Gravity Based"]
[20,"Oceana","Horizontal Axis",500,null,null,0,{"$f":"25","v":25},null,null,null,null,null,"Seabed Mounted"]
[21,"Stream Cube","Vertical Axis",6,null,null,0,{"$f":"25","v":25},"10-100","0.1-1.0",null,null,null,"Floating/Moored/Pier Mounted"]
[22,"Capricorn 5","Horizontal Contra-Rotating",50,3.31,null,8.604900817998784,{"$f":"25","v":25},"10-100","0.1-1.0","10.1-15.0","Slighlty Simple (Simple Vessels, Light Subsea Work)",null,"Floating/Moored/Pier Mounted",null,null,"Moderate (Simple Vessels,Surface Work)","Near Shore (<0.1km Subsea Infrastructure)","8 (Prototype Proven)"]
[23,"Capricorn 125","Horizontal Contra-Rotating",1250,16,null,201.06192982974676,{"$f":"25","v":25},"1001+","0.1-1.0","30.1+","Slighlty Simple (Simple Vessels, Light Subsea Work)",null,"Floating/Moored/Pier Mounted",null,null,"Moderate (Simple Vessels,Surface Work)","Near Shore (>0.1km, <0.5km Subsea Infrastructure)"]
[24,"Sabella D10","Horizontal Axis",300,null,null,0,{"$f":"25","v":25},"251-500","2.1-3.0",null,null,null,"Gravity Based"]
[25,"Sabella D12","Horizontal Axis",400,null,null,0,{"$f":"25","v":25},"251-500","2.1-3.0",null,null,null,"Gravity Based"]
[26,"Sabella D15","Horizontal Axis",600,null,null,0,{"$f":"25","v":25},"501-1000","2.1-3.0",null,null,null,"Gravity Based"]
[27,"Shottel Instream Turbine I","Horizontal Axis",70,3,null,7.0685834705770345,{"$f":"25","v":25},"10-100","0.1-1.0",null,null,"20+ years","Floating/Moored/Pier Mounted",null,null,"Simple (Shore Mounted, Readily Accesssible)","Shore Mounted (No Subsea Infrastructure)","8 (Prototype Proven)"]
[28,"Shottel Instream Turbine II","Horizontal Axis",62,4,null,12.566370614359172,{"$f":"25","v":25},"10-100","0.1-1.0",null,null,"20+ years","Floating/Moored/Pier Mounted",null,null,"Moderate (Simple Vessels,Surface Work)","Near Shore (<0.1km Subsea Infrastructure)","8 (Prototype Proven)"]
[29,"Shottel Instream Turbine III","Horizontal Axis",54,5,null,19.634954084936208,{"$f":"25","v":25},"10-100","0.1-1.0",null,null,"20+ years","Floating/Moored/Pier Mounted",null,null,"Moderate (Simple Vessels,Surface Work)","Near Shore (>0.1km, <0.5km Subsea Infrastructure)","8 (Prototype Proven)"]
[30,"SeaPower GEM","Horizontal Axis",null,null,null,0,{"$f":"25","v":25},null,null,"5.0-10.0",null,"20+ years","Floating/Moored/Pier Mounted"]
[31,"Tydal Energy Pty (1.5)","Venturi Rotor",4.5999999999999996,null,null,"",{"$f":"25","v":25},"10-100","1.1-2.0","5.0-10.0",null,null,"Gravity based"]
[32,"Tydal Energy Pty (2.4)","Venturi Rotor",10,null,null,"",{"$f":"25","v":25},"10-100","1.1-2.0","5.0-10.0",null,null,"Gravity based"]
[33,"Tydal Energy Pty (5)","Venturi Rotor",50,null,null,"",{"$f":"25","v":25},"10-100","1.1-2.0","5.0-10.0",null,null,"Gravity based"]
[34,"EVG-005H","Vertical Axis",5,1.5,0.75,1.125,{"$f":"25","v":25},"10-100","3.1-4.0","5.0-10.0","Simple (Simple Vessels)","20+ years","Floating/Moored/Pier Mounted",null,null,"Moderate (Simple Vessels,Surface Work)","Near Shore (>0.1km, <0.5km Subsea Infrastructure)","8 (Prototype Proven)"]
[35,"EVG-010H","Vertical Axis",10,1.5,1.5,2.25,{"$f":"25","v":25},"10-100","3.1-4.0","5.0-10.0","Simple (Simple Vessels)","20+ years","Floating/Moored/Pier Mounted",null,null,"Moderate (Simple Vessels,Surface Work)","Near Shore (>0.1km, <0.5km Subsea Infrastructure)","8 (Prototype Proven)"]
[36,"EVG-025H","Vertical Axis",25,3.4,1.7,5.7799999999999994,{"$f":"25","v":25},"10-100","3.1-4.0","5.0-10.0","Simple (Simple Vessels)","20+ years","Floating/Moored/Pier Mounted",null,null,"Moderate (Simple Vessels,Surface Work)","Near Shore (>0.1km, <0.5km Subsea Infrastructure)","8 (Prototype Proven)"]
[37,"EVG-050H","Vertical Axis",50,3.4,3.4,11.559999999999999,{"$f":"25","v":25},"10-100","3.1-4.0","5.0-10.0","Simple (Simple Vessels)","20+ years","Floating/Moored/Pier Mounted",null,null,"Moderate (Simple Vessels,Surface Work)","Near Shore (>0.1km, <0.5km Subsea Infrastructure)","8 (Prototype Proven)"]
[38,"ENC-025L","Vertical Axis",25,4.8,2.4,11.52,{"$f":"25","v":25},"10-100","2.1-3.0","5.0-10.0","Simple (Simple Vessels)","20+ years","Floating/Moored/Pier Mounted",null,null,"Moderate (Simple Vessels,Surface Work)","Near Shore (>0.1km, <0.5km Subsea Infrastructure)","8 (Prototype Proven)"]
[39,"ENC-025H","Vertical Axis",25,3.4,1.7,5.7799999999999994,{"$f":"25","v":25},"10-100","3.1-4.0","5.0-10.0","Simple (Simple Vessels)","20+ years","Floating/Moored/Pier Mounted",null,null,"Moderate (Simple Vessels,Surface Work)","Near Shore (>0.1km, <0.5km Subsea Infrastructure)","8 (Prototype Proven)"]
[40,"ENC-125H","Vertical Axis",125,7.4,3.7,27.380000000000003,{"$f":"25","v":25},"101-250","3.1-4.0","5.0-10.0","Simple (Simple Vessels)","20+ years","Floating/Moored/Pier Mounted",null,null,"Moderate (Simple Vessels,Surface Work)","Near Shore (>0.1km, <0.5km Subsea Infrastructure)","7 (Prototype Testing)"]
[41,"ENC-250H","Vertical Axis",250,7.4,7.4,54.760000000000005,{"$f":"25","v":25},"101-250","3.1-4.0","10.1-15.0","Simple (Simple Vessels)","20+ years","Floating/Moored/Pier Mounted",null,null,"Moderate (Simple Vessels,Surface Work)","Offshore (>0.5km, <1km Subsea Infrastructure)","7 (Prototype Testing)"]
[42,"EC-OG","Vertical Axis",null,null,null,0,{"$f":"25","v":25},null,"0.1-1.0","20.1-30.0","Slighlty Simple (Simple Vessels, Light Subsea Work)","20+ years","Gravity Based","18+ months","Slightly Complex (External)","Moderate (Simple Vessels,Surface Work)","Near Shore (>0.1km, <0.5km Subsea Infrastructure)","7 (Prototype Testing)"]
[]
[]
["Judgement","Planned Inspection/Maintenance Period"]
[null,"Primary Seabed Attachment"]
[null,"Installation Complexity"]
[null,"Maintenance Complexity"]
[null,"Access Complexity"]
[null,"Installation Period"]
[null,"Technical Maturity (TRL)"]
[null,"Lifespan "]
[null,"Shore Connection"]
[]
["Data  and Judgement Based Criteria"]
[null,"Weighting Factor Grades"]
["Types of Device"]
["Horizontal Axis","-"]
["Vertical Axis","-"]
["Horizontal Contra-Rotating","-"]
["Vertical Axis","-"]
["Darrieus","-"]
["Venturi Rotor","-"]
["Oscillating Hydrofoil","-"]
["Tidal Kite","-"]
["Archimedes Screw","-"]
["Installation Complexity"]
["Simple (Simple Vessels)",5]
["Slighlty Simple (Simple Vessels, Light Subsea Work)",4]
["Moderate (Specialised Vessels)",3]
["Slightly Complex (Specialised Vessels, ROVs)",2]
["More Complex (Specialised Vessels, Divers, ROVs)",1]
["Lifespan"]
["Lifetime Warranty ",5]
["20+ years",4]
["16-20 years",3]
["11-15 years",2]
["1-10 years",1]
["Primary Seabed Attachment"]
["Floating/Moored/Pier Mounted",5]
["Gravity Based",4]
["Seabed Mounted",3]
["Tower/Monopile",2]
["Other/Novel",1]
["Planned Inspection/Maintenance Period"]
["18+ months",5]
["13-18 months",4]
["7 -12 months",3]
["1-6 months",2]
["< 1 month",1]
["Maintenance Complexity"]
["Simple (Community, Minimal Training)",5]
["Slighlty Simple (Community, Moderate Training)",4]
["Moderate (Community, Complex Training)",3]
["Slightly Complex (External)",2]
["More Complex (External, Additional Equipment)",1]
["Access Complexity"]
["Simple (Shore Mounted, Readily Accesssible)",5]
["Slighlty Simple  (Simple Vessels, Visual Inspection)",4]
["Moderate (Simple Vessels,Surface Work)",3]
["Slightly Complex (Specialised Vessels, ROVs)",2]
["More Complex ( Specialised Vessels, Divers, ROVs)",1]
["Technology Readiness Level"]
["9 (Proven)",5]
["8 (Prototype Proven)",4]
["7 (Prototype Testing)",3]
["6 (Component Testing, Fully Feasible)",2]
["5 (Prototype Development)",1]
[4,"-"]
[3,"-"]
[2,"-"]
[1,"-"]
["Shore Connection"]
["Shore Mounted (No Subsea Infrastructure)",5]
["Near Shore (<0.1km Subsea Infrastructure)",4]
["Near Shore (>0.1km, <0.5km Subsea Infrastructure)",3]
["Offshore (>0.5km, <1km Subsea Infrastructure)",2]
["Offshore (1km+ Subsea Infrastructure)",1]
[]
[]
["Numerical","Capital Cost (£)"]
[null,"Scale (kW)"]
[null,"Efficiency"]
[null,"Flow Velocity (m/s)"]
[null,"Operating Water Depth (m)"]
[]
["Numerically Quantifiable Criteria"]
[null,"Weighting Factor Grades"]
["Scale (kW)"]
["10-100",{"$f":"IF(Input!$B$19=\"Yes\",1,5)","v":5}]
["101-250",{"$f":"IF(Input!$B$19=\"Yes\",B131+1,B131-1)","v":4}]
["251-500",{"$f":"IF(Input!$B$19=\"Yes\",B132+1,B132-1)","v":3}]
["501-1000",{"$f":"IF(Input!$B$19=\"Yes\",B133+1,B133-1)","v":2}]
["1001+",{"$f":"IF(Input!$B$19=\"Yes\",B134+1,B134-1)","v":1}]
["Required Flow Velocity (m/s)"]
["0.1-1.0",5]
["1.1-2.0",4]
["2.1-3.0",3]
["3.1-4.0",2]
["4.1+",1]
["Operating Water Depth (m)"]
["5.0-10.0",5]
["10.1-15.0",4]
["15.1-20.0",3]
["20.1-30.0",2]
["30.1+",1]

{"sheet":"Location Database","index":19,"n_rows":67,"n_cols":11,"rows_kept":67,"cut":false,"hidden":false,"merged":[[53,3,53,4],[60,3,60,4],[20,0,22,0],[34,3,34,4],[34,0,34,1],[40,3,40,4],[47,3,47,4],[0,3,0,7],[0,9,0,10],[20,3,24,3],[28,0,28,1],[28,5,28,6],[28,7,28,8],[3,2,7,2],[8,2,12,2],[13,2,17,2],[1,0,2,0],[1,1,2,1],[1,2,2,2]]}
[null,null,null,"Numerically Quantifiable Criteria",null,null,null,null,null,"Judgement Based Criteria"]
["No","Location","Type",{"$f":"D29","v":"Assessed Resource"},{"$f":"D35","v":"Proximity to Load (Shore)"},{"$f":"D41","v":"Wave Height"},{"$f":"D48","v":"Average Water Depth"},{"$f":"D54","v":"Peak Flow Rate"},{"$f":"D61","v":"Tidal Range"},{"$f":"A29","v":"Seabed Topography"},{"$f":"A35","v":"Accessibility"}]
[null,null,null,"(-)","(km)","(m)","(m)","(m/s)","(m)","(-)","(-)"]
[1,{"$f":"Input!B45","v":"[Enter Name]"},"Tidal Stream ",{"$f":"IF('Tidal Stream 1'!$G$2782<>\"\",IF('Tidal Stream 1'!$G$2782>10,'Location Database'!$F$30,(IF((AND('Tidal Stream 1'!$G$2782>=5.01,'Tidal Stream 1'!$G$2782<=10)),'Location Database'!$F$31,(IF((AND('Tidal Stream 1'!$G$2782>=1.01,'Tidal Stream 1'!$G$2782<=5)),'Location Database'!$F$32,IF((AND('Tidal Stream 1'!$G$2782>=0.001,'Tidal Stream 1'!$G$2782<=1)),'Location Database'!$F$33,(IF('Tidal Stream 1'!$G$2782<0.001,'Location Database'!$F$34,\"\")))))))),\"\")","v":""},{"$f":"IF(Input!B50=\"[Select Value]\",\"\",Input!B50)","v":""},"N/A",{"$f":"IF(Input!B51=\"[Select Value]\",\"\",Input!B51)","v":""},{"$f":"IF((AND(Input!B46<>\"\",Input!B46<>\"[Enter Value]\")),(IF(Input!B46>4,'Location Database'!$D$55,(IF((AND(Input!B46>=2.01,Input!B46<=4)),'Location Database'!$D$56,(IF((AND(Input!B46>=1.01,Input!B46<=2)),'Location Database'!$D$57,IF((AND(Input!B46>=0.11,Input!B46<=1)),'Location Database'!$D$58,(IF(Input!B46<=0.1,'Location Database'!$D$59,\"N/A\"))))))))),\"\")","v":""},"N/A",{"$f":"IF(Input!B52=\"[Select Value]\",\"\",Input!B52)","v":""},{"$f":"IF(Input!B53=\"[Select Value]\",\"\",Input!B53)","v":""}]
[2,{"$f":"Input!B55","v":"[Enter Name]"},null,{"$f":"IF('Tidal Stream 2'!$G$2782<>\"\",(IF('Tidal Stream 2'!$G$2782>10,'Location Database'!$F$30,(IF((AND('Tidal Stream 2'!$G$2782>=5.01,'Tidal Stream 2'!$G$2782<=10)),'Location Database'!$F$31,(IF((AND('Tidal Stream 2'!$G$2782>=1.01,'Tidal Stream 2'!$G$2782<=5)),'Location Database'!$F$32,IF((AND('Tidal Stream 2'!$G$2782>=0.001,'Tidal Stream 2'!$G$2782<=1)),'Location Database'!$F$33,(IF('Tidal Stream 2'!$G$2782<0.001,'Location Database'!$F$34,\"\"))))))))),\"\")","v":""},{"$f":"IF(Input!B60=\"[Select Value]\",\"\",Input!B60)","v":""},"N/A",{"$f":"IF(Input!B61=\"[Select Value]\",\"\",Input!B61)","v":""},{"$f":"IF((AND(Input!B56<>\"\",Input!B56<>\"[Enter Value]\")),(IF(Input!B56>4,'Location Database'!$D$55,(IF((AND(Input!B56>=2.01,Input!B56<=4)),'Location Database'!$D$56,(IF((AND(Input!B56>=1.01,Input!B56<=2)),'Location Database'!$D$57,IF((AND(Input!B56>=0.11,Input!B56<=1)),'Location Database'!$D$58,(IF(Input!B56<=0.1,'Location Database'!$D$59,\"N/A\"))))))))),\"\")","v":""},"N/A",{"$f":"IF(Input!B62=\"[Select Value]\",\"\",Input!B62)","v":""},{"$f":"IF(Input!B63=\"[Select Value]\",\"\",Input!B63)","v":""}]
[3,{"$f":"Input!B65","v":"[Enter Name]"},null,{"$f":"IF('Tidal Stream 3'!$G$2782<>\"\",IF('Tidal Stream 1'!$G$2782>10,'Location Database'!$F$30,(IF((AND('Tidal Stream 1'!$G$2782>=5.01,'Tidal Stream 1'!$G$2782<=10)),'Location Database'!$F$31,(IF((AND('Tidal Stream 1'!$G$2782>=1.01,'Tidal Stream 1'!$G$2782<=5)),'Location Database'!$F$32,IF((AND('Tidal Stream 1'!$G$2782>=0.001,'Tidal Stream 1'!$G$2782<=1)),'Location Database'!$F$33,(IF('Tidal Stream 1'!$G$2782<0.001,'Location Database'!$F$34,\"\")))))))),\"\")","v":""},{"$f":"IF(Input!B70=\"[Select Value]\",\"\",Input!B70)","v":""},"N/A",{"$f":"IF(Input!B71=\"[Select Value]\",\"\",Input!B71)","v":""},{"$f":"IF((AND(Input!B66<>\"\",Input!B66<>\"[Enter Value]\")),(IF(Input!B66>4,'Location Database'!$D$55,(IF((AND(Input!B66>=2.01,Input!B66<=4)),'Location Database'!$D$56,(IF((AND(Input!B66>=1.01,Input!B66<=2)),'Location Database'!$D$57,IF((AND(Input!B66>=0.11,Input!B66<=1)),'Location Database'!$D$58,(IF(Input!B66<=0.1,'Location Database'!$D$59,\"N/A\"))))))))),\"\")","v":""},"N/A",{"$f":"IF(Input!B72=\"[Select Value]\",\"\",Input!B72)","v":""},{"$f":"IF(Input!B73=\"[Select Value]\",\"\",Input!B73)","v":""}]
[4,{"$f":"Input!B75","v":"[Enter Name]"},null,{"$f":"IF('Tidal Stream 4'!$G$2782<>\"\",IF('Tidal Stream 1'!$G$2782>10,'Location Database'!$F$30,(IF((AND('Tidal Stream 1'!$G$2782>=5.01,'Tidal Stream 1'!$G$2782<=10)),'Location Database'!$F$31,(IF((AND('Tidal Stream 1'!$G$2782>=1.01,'Tidal Stream 1'!$G$2782<=5)),'Location Database'!$F$32,IF((AND('Tidal Stream 1'!$G$2782>=0.001,'Tidal Stream 1'!$G$2782<=1)),'Location Database'!$F$33,(IF('Tidal Stream 1'!$G$2782<0.001,'Location Database'!$F$34,\"\")))))))),\"\")","v":""},{"$f":"IF(Input!B80=\"[Select Value]\",\"\",Input!B80)","v":""},"N/A",{"$f":"IF(Input!B81=\"[Select Value]\",\"\",Input!B81)","v":""},{"$f":"IF((AND(Input!B76<>\"\",Input!B76<>\"[Enter Value]\")),(IF(Input!B76>4,'Location Database'!$D$55,(IF((AND(Input!B76>=2.01,Input!B76<=4)),'Location Database'!$D$56,(IF((AND(Input!B76>=1.01,Input!B76<=2)),'Location Database'!$D$57,IF((AND(Input!B76>=0.11,Input!B76<=1)),'Location Database'!$D$58,(IF(Input!B76<=0.1,'Location Database'!$D$59,\"N/A\"))))))))),\"\")","v":""},"N/A",{"$f":"IF(Input!B82=\"[Select Value]\",\"\",Input!B82)","v":""},{"$f":"IF(Input!B83=\"[Select Value]\",\"\",Input!B83)","v":""}]
[5,{"$f":"Input!B85","v":"[Enter Name]"},null,{"$f":"IF('Tidal Stream 5'!$G$2782<>\"\",IF('Tidal Stream 1'!$G$2782>10,'Location Database'!$F$30,(IF((AND('Tidal Stream 1'!$G$2782>=5.01,'Tidal Stream 1'!$G$2782<=10)),'Location Database'!$F$31,(IF((AND('Tidal Stream 1'!$G$2782>=1.01,'Tidal Stream 1'!$G$2782<=5)),'Location Database'!$F$32,IF((AND('Tidal Stream 1'!$G$2782>=0.001,'Tidal Stream 1'!$G$2782<=1)),'Location Database'!$F$33,(IF('Tidal Stream 1'!$G$2782<0.001,'Location Database'!$F$34,\"\")))))))),\"\")","v":""},{"$f":"IF(Input!B90=\"[Select Value]\",\"\",Input!B90)","v":""},"N/A",{"$f":"IF(Input!B91=\"[Select Value]\",\"\",Input!B91)","v":""},{"$f":"IF((AND(Input!B86<>\"\",Input!B86<>\"[Enter Value]\")),(IF(Input!B86>4,'Location Database'!$D$55,(IF((AND(Input!B86>=2.01,Input!B86<=4)),'Location Database'!$D$56,(IF((AND(Input!B86>=1.01,Input!B86<=2)),'Location Database'!$D$57,IF((AND(Input!B86>=0.11,Input!B86<=1)),'Location Database'!$D$58,(IF(Input!B86<=0.1,'Location Database'!$D$59,\"N/A\"))))))))),\"\")","v":""},"N/A",{"$f":"IF(Input!B92=\"[Select Value]\",\"\",Input!B92)","v":""},{"$f":"IF(Input!B93=\"[Select Value]\",\"\",Input!B93)","v":""}]
[6,{"$f":"Input!F45","v":"[Enter Name]"},"Tidal Barrage ",{"$f":"IF('Tidal Barrage 1'!$B$27<>\"\",IF('Tidal Barrage 1'!$B$27>300,'Location Database'!$H$30,(IF((AND('Tidal Barrage 1'!$B$27>=150,'Tidal Barrage 1'!$B$27<=300)),'Location Database'!$H$31,(IF((AND('Tidal Barrage 1'!$B$27>=100,'Tidal Barrage 1'!$B$27<=150)),'Location Database'!$H$32,IF((AND('Tidal Barrage 1'!$B$27>=50,'Tidal Barrage 1'!$B$27<=100)),'Location Database'!$H$33,(IF('Tidal Barrage 1'!$B$27<50,'Location Database'!$H$34,\"\")))))))),\"\")","v":""},{"$f":"IF(Input!F50=\"[Select Value]\",\"\",Input!F50)","v":""},"N/A",{"$f":"IF(Input!F51=\"[Select Value]\",\"\",Input!F51)","v":""},"N/A",{"$f":"IF((AND(Input!F47<>\"\",Input!F47<>\"[Enter Value]\")),(IF(Input!F47>12,'Location Database'!$D$62,(IF((AND(Input!F47>=9.01,Input!F47<=12)),'Location Database'!$D$63,(IF((AND(Input!F47>=5.01,Input!F47<=9)),'Location Database'!$D$64,IF((AND(Input!F47>=1.01,Input!F47<=5)),'Location Database'!$D$65,(IF(Input!F47<=1,'Location Database'!$D$66,\"N/A\"))))))))),\"\")","v":""},{"$f":"IF(Input!F52=\"[Select Value]\",\"\",Input!F52)","v":""},{"$f":"IF(Input!F53=\"[Select Value]\",\"\",Input!F53)","v":""}]
[7,{"$f":"Input!F55","v":"[Enter Name]"},null,{"$f":"IF('Tidal Barrage 2'!$B$27<>\"\",IF('Tidal Barrage 2'!$B$27>300,'Location Database'!$H$30,(IF((AND('Tidal Barrage 2'!$B$27>=150,'Tidal Barrage 2'!$B$27<=300)),'Location Database'!$H$31,(IF((AND('Tidal Barrage 2'!$B$27>=100,'Tidal Barrage 2'!$B$27<=150)),'Location Database'!$H$32,IF((AND('Tidal Barrage 2'!$B$27>=50,'Tidal Barrage 2'!$B$27<=100)),'Location Database'!$H$33,(IF('Tidal Barrage 2'!$B$27<50,'Location Database'!$H$34,\"\")))))))),\"\")","v":""},{"$f":"IF(Input!F60=\"[Select Value]\",\"\",Input!F60)","v":""},"N/A",{"$f":"IF(Input!F61=\"[Select Value]\",\"\",Input!F61)","v":""},"N/A",{"$f":"IF((AND(Input!F57<>\"\",Input!F57<>\"[Enter Value]\")),(IF(Input!F57>12,'Location Database'!$D$62,(IF((AND(Input!F57>=9.01,Input!F57<=12)),'Location Database'!$D$63,(IF((AND(Input!F57>=5.01,Input!F57<=9)),'Location Database'!$D$64,IF((AND(Input!F57>=1.01,Input!F57<=5)),'Location Database'!$D$65,(IF(Input!F57<=1,'Location Database'!$D$66,\"N/A\"))))))))),\"\")","v":""},{"$f":"IF(Input!F62=\"[Select Value]\",\"\",Input!F62)","v":""},{"$f":"IF(Input!F63=\"[Select Value]\",\"\",Input!F63)","v":""}]
[8,{"$f":"Input!F65","v":"[Enter Name]"},null,{"$f":"IF('Tidal Barrage 3'!$B$27<>\"\",IF('Tidal Barrage 3'!$B$27>300,'Location Database'!$H$30,(IF((AND('Tidal Barrage 3'!$B$27>=150,'Tidal Barrage 3'!$B$27<=300)),'Location Database'!$H$31,(IF((AND('Tidal Barrage 3'!$B$27>=100,'Tidal Barrage 3'!$B$27<=150)),'Location Database'!$H$32,IF((AND('Tidal Barrage 3'!$B$27>=50,'Tidal Barrage 3'!$B$27<=100)),'Location Database'!$H$33,(IF('Tidal Barrage 3'!$B$27<50,'Location Database'!$H$34,\"\")))))))),\"\")","v":""},{"$f":"IF(Input!F70=\"[Select Value]\",\"\",Input!F70)","v":""},"N/A",{"$f":"IF(Input!F71=\"[Select Value]\",\"\",Input!F71)","v":""},"N/A",{"$f":"IF((AND(Input!F67<>\"\",Input!F67<>\"[Enter Value]\")),(IF(Input!F67>12,'Location Database'!$D$62,(IF((AND(Input!F67>=9.01,Input!F67<=12)),'Location Database'!$D$63,(IF((AND(Input!F67>=5.01,Input!F67<=9)),'Location Database'!$D$64,IF((AND(Input!F67>=1.01,Input!F67<=5)),'Location Database'!$D$65,(IF(Input!F67<=1,'Location Database'!$D$66,\"N/A\"))))))))),\"\")","v":""},{"$f":"IF(Input!F72=\"[Select Value]\",\"\",Input!F72)","v":""},{"$f":"IF(Input!F73=\"[Select Value]\",\"\",Input!F73)","v":""}]
[9,{"$f":"Input!F75","v":"[Enter Name]"},null,{"$f":"IF('Tidal Barrage 4'!$B$27<>\"\",IF('Tidal Barrage 4'!$B$27>300,'Location Database'!$H$30,(IF((AND('Tidal Barrage 4'!$B$27>=150,'Tidal Barrage 4'!$B$27<=300)),'Location Database'!$H$31,(IF((AND('Tidal Barrage 4'!$B$27>=100,'Tidal Barrage 4'!$B$27<=150)),'Location Database'!$H$32,IF((AND('Tidal Barrage 4'!$B$27>=50,'Tidal Barrage 4'!$B$27<=100)),'Location Database'!$H$33,(IF('Tidal Barrage 4'!$B$27<50,'Location Database'!$H$34,\"\")))))))),\"\")","v":""},{"$f":"IF(Input!F80=\"[Select Value]\",\"\",Input!F80)","v":""},"N/A",{"$f":"IF(Input!F81=\"[Select Value]\",\"\",Input!F81)","v":""},"N/A",{"$f":"IF((AND(Input!F77<>\"\",Input!F77<>\"[Enter Value]\")),(IF(Input!F77>12,'Location Database'!$D$62,(IF((AND(Input!F77>=9.01,Input!F77<=12)),'Location Database'!$D$63,(IF((AND(Input!F77>=5.01,Input!F77<=9)),'Location Database'!$D$64,IF((AND(Input!F77>=1.01,Input!F77<=5)),'Location Database'!$D$65,(IF(Input!F77<=1,'Location Database'!$D$66,\"N/A\"))))))))),\"\")","v":""},{"$f":"IF(Input!F82=\"[Select Value]\",\"\",Input!F82)","v":""},{"$f":"IF(Input!F83=\"[Select Value]\",\"\",Input!F83)","v":""}]
[10,{"$f":"Input!F85","v":"[Enter Name]"},null,{"$f":"IF('Tidal Barrage 5'!$B$27<>\"\",IF('Tidal Barrage 5'!$B$27>300,'Location Database'!$H$30,(IF((AND('Tidal Barrage 5'!$B$27>=150,'Tidal Barrage 5'!$B$27<=300)),'Location Database'!$H$31,(IF((AND('Tidal Barrage 5'!$B$27>=100,'Tidal Barrage 5'!$B$27<=150)),'Location Database'!$H$32,IF((AND('Tidal Barrage 5'!$B$27>=50,'Tidal Barrage 5'!$B$27<=100)),'Location Database'!$H$33,(IF('Tidal Barrage 5'!$B$27<50,'Location Database'!$H$34,\"\")))))))),\"\")","v":""},{"$f":"IF(Input!F90=\"[Select Value]\",\"\",Input!F90)","v":""},"N/A",{"$f":"IF(Input!F91=\"[Select Value]\",\"\",Input!F91)","v":""},"N/A",{"$f":"IF((AND(Input!F87<>\"\",Input!F87<>\"[Enter Value]\")),(IF(Input!F87>12,'Location Database'!$D$62,(IF((AND(Input!F87>=9.01,Input!F87<=12)),'Location Database'!$D$63,(IF((AND(Input!F87>=5.01,Input!F87<=9)),'Location Database'!$D$64,IF((AND(Input!F87>=1.01,Input!F87<=5)),'Location Database'!$D$65,(IF(Input!F87<=1,'Location Database'!$D$66,\"N/A\"))))))))),\"\")","v":""},{"$f":"IF(Input!F92=\"[Select Value]\",\"\",Input!F92)","v":""},{"$f":"IF(Input!F93=\"[Select Value]\",\"\",Input!F93)","v":""}]
[11,{"$f":"Input!J45","v":"[Enter Name]"},"Wave",{"$f":"IF('Wave 1'!$B$12<>0,(IF('Wave 1'!$B$12>40,'Location Database'!$D$30,(IF((AND('Wave 1'!$B$12>20,'Wave 1'!$B$12<=40)),'Location Database'!$D$31,(IF((AND('Wave 1'!$B$12>10,'Wave 1'!$B$12<=20)),'Location Database'!$D$32,(IF((AND('Wave 1'!$B$12>5,'Wave 1'!$B$12<=10)),'Location Database'!$D$33,(IF('Wave 1'!$B$12<=5,'Location Database'!$D$34,\"\")))))))))),\"\")","v":""},{"$f":"IF(Input!J49=\"[Select Value]\",\"\",Input!J49)","v":""},{"$f":"IF(Input!J48<>\"[Enter Value]\",IF(Input!J48>4.5,'Location Database'!$D$42,(IF((AND(Input!J48>3.25,Input!J48<=4.5)),'Location Database'!$D$43,(IF((AND(Input!J48>2,Input!J48<=3.25)),'Location Database'!$D$44,IF((AND(Input!J48>0.75,Input!J48<=2)),'Location Database'!$D$45,(IF(Input!J48<=0.75,'Location Database'!$D$46,\"N/A\")))))))),\"\")","v":""},{"$f":"IF(Input!J50=\"[Select Value]\",\"\",Input!J50)","v":""},"N/A","N/A",{"$f":"IF(Input!J51=\"[Select Value]\",\"\",Input!J51)","v":""},{"$f":"IF(Input!J52=\"[Select Value]\",\"\",Input!J52)","v":""}]
[12,{"$f":"Input!J55","v":"[Enter Name]"},null,{"$f":"IF('Wave 2'!$B$12<>0,(IF('Wave 2'!$B$12>40,'Location Database'!$D$30,(IF((AND('Wave 2'!$B$12>20,'Wave 2'!$B$12<=40)),'Location Database'!$D$31,(IF((AND('Wave 2'!$B$12>10,'Wave 2'!$B$12<=20)),'Location Database'!$D$32,(IF((AND('Wave 2'!$B$12>5,'Wave 2'!$B$12<=10)),'Location Database'!$D$33,(IF('Wave 2'!$B$12<=5,'Location Database'!$D$34,\"\")))))))))),\"\")","v":""},{"$f":"IF(Input!J59=\"[Select Value]\",\"\",Input!J59)","v":""},{"$f":"IF(Input!J58<>\"[Enter Value]\",IF(Input!J58>4.5,'Location Database'!$D$42,(IF((AND(Input!J58>3.25,Input!J58<=4.5)),'Location Database'!$D$43,(IF((AND(Input!J58>2,Input!J58<=3.25)),'Location Database'!$D$44,IF((AND(Input!J58>0.75,Input!J58<=2)),'Location Database'!$D$45,(IF(Input!J58<=0.75,'Location Database'!$D$46,\"N/A\")))))))),\"\")","v":""},{"$f":"IF(Input!J60=\"[Select Value]\",\"\",Input!J60)","v":""},"N/A","N/A",{"$f":"IF(Input!J61=\"[Select Value]\",\"\",Input!J61)","v":""},{"$f":"IF(Input!J62=\"[Select Value]\",\"\",Input!J62)","v":""}]
[13,{"$f":"Input!J65","v":"[Enter Name]"},null,{"$f":"IF('Wave 3'!$B$12<>0,(IF('Wave 3'!$B$12>40,'Location Database'!$D$30,(IF((AND('Wave 3'!$B$12>20,'Wave 3'!$B$12<=40)),'Location Database'!$D$31,(IF((AND('Wave 3'!$B$12>10,'Wave 3'!$B$12<=20)),'Location Database'!$D$32,(IF((AND('Wave 3'!$B$12>5,'Wave 3'!$B$12<=10)),'Location Database'!$D$33,(IF('Wave 3'!$B$12<=5,'Location Database'!$D$34,\"\")))))))))),\"\")","v":""},{"$f":"IF(Input!J70=\"[Select Value]\",\"\",Input!J70)","v":""},{"$f":"IF(Input!J68<>\"[Enter Value]\",IF(Input!J68>4.5,'Location Database'!$D$42,(IF((AND(Input!J68>3.25,Input!J68<=4.5)),'Location Database'!$D$43,(IF((AND(Input!J68>2,Input!J68<=3.25)),'Location Database'!$D$44,IF((AND(Input!J68>0.75,Input!J68<=2)),'Location Database'!$D$45,(IF(Input!J68<=0.75,'Location Database'!$D$46,\"N/A\")))))))),\"\")","v":""},{"$f":"IF(Input!J70=\"[Select Value]\",\"\",Input!J70)","v":""},"N/A","N/A",{"$f":"IF(Input!J71=\"[Select Value]\",\"\",Input!J71)","v":""},{"$f":"IF(Input!J72=\"[Select Value]\",\"\",Input!J72)","v":""}]
[14,{"$f":"Input!J75","v":"[Enter Name]"},null,{"$f":"IF('Wave 4'!$B$12<>0,(IF('Wave 4'!$B$12>40,'Location Database'!$D$30,(IF((AND('Wave 4'!$B$12>20,'Wave 4'!$B$12<=40)),'Location Database'!$D$31,(IF((AND('Wave 4'!$B$12>10,'Wave 4'!$B$12<=20)),'Location Database'!$D$32,(IF((AND('Wave 4'!$B$12>5,'Wave 4'!$B$12<=10)),'Location Database'!$D$33,(IF('Wave 4'!$B$12<=5,'Location Database'!$D$34,\"\")))))))))),\"\")","v":""},{"$f":"IF(Input!J80=\"[Select Value]\",\"\",Input!J80)","v":""},{"$f":"IF(Input!J78<>\"[Enter Value]\",IF(Input!J78>4.5,'Location Database'!$D$42,(IF((AND(Input!J78>3.25,Input!J78<=4.5)),'Location Database'!$D$43,(IF((AND(Input!J78>2,Input!J78<=3.25)),'Location Database'!$D$44,IF((AND(Input!J78>0.75,Input!J78<=2)),'Location Database'!$D$45,(IF(Input!J78<=0.75,'Location Database'!$D$46,\"N/A\")))))))),\"\")","v":""},{"$f":"IF(Input!J80=\"[Select Value]\",\"\",Input!J80)","v":""},"N/A","N/A",{"$f":"IF(Input!J81=\"[Select Value]\",\"\",Input!J81)","v":""},{"$f":"IF(Input!J82=\"[Select Value]\",\"\",Input!J82)","v":""}]
[15,{"$f":"Input!J85","v":"[Enter Name]"},null,{"$f":"IF('Wave 5'!$B$12<>0,(IF('Wave 5'!$B$12>40,'Location Database'!$D$30,(IF((AND('Wave 5'!$B$12>20,'Wave 5'!$B$12<=40)),'Location Database'!$D$31,(IF((AND('Wave 5'!$B$12>10,'Wave 5'!$B$12<=20)),'Location Database'!$D$32,(IF((AND('Wave 5'!$B$12>5,'Wave 5'!$B$12<=10)),'Location Database'!$D$33,(IF('Wave 5'!$B$12<=5,'Location Database'!$D$34,\"\")))))))))),\"\")","v":""},{"$f":"IF(Input!J90=\"[Select Value]\",\"\",Input!J90)","v":""},{"$f":"IF(Input!J88<>\"[Enter Value]\",IF(Input!J88>4.5,'Location Database'!$D$42,(IF((AND(Input!J88>3.25,Input!J88<=4.5)),'Location Database'!$D$43,(IF((AND(Input!J88>2,Input!J88<=3.25)),'Location Database'!$D$44,IF((AND(Input!J88>0.75,Input!J88<=2)),'Location Database'!$D$45,(IF(Input!J88<=0.75,'Location Database'!$D$46,\"N/A\")))))))),\"\")","v":""},{"$f":"IF(Input!J90=\"[Select Value]\",\"\",Input!J90)","v":""},"N/A","N/A",{"$f":"IF(Input!J91=\"[Select Value]\",\"\",Input!J91)","v":""},{"$f":"IF(Input!J92=\"[Select Value]\",\"\",Input!J92)","v":""}]
[]
[]
["Judgement","Seabed Topography",null,"Numerical","Assessed Resource"]
[null,"Accessibility",null,null,"Proximity to Load"]
[null,"Site Type",null,null,"Wave Height"]
[null,null,null,null,"Average Water Depth"]
[null,null,null,null,"Flow Rate"]
[]
["Data  and Judgement Based Criteria",null,null,"Numerically Quantifiable Criteria"]
[null,"Weighting Factor Grades",null,null,"Weighting Factor Grades"]
["Seabed Topography",null,null,"Assessed Resource","Wave","Tidal Stream",null,"Tidal Barrage (Annual Energy)"]
["Benign (Sandy, Flat/Gentle Gradient)",5,null,">40 kW/m",5,"> 10 kW/sq.m",5,"300+ MWh",5]
["Moderate (Sandy, Moderate Gradient)",4,null,"20-40 kW/m",4,"5.01- 10 kW/sq.m",4,"150-300 MWh",4]
["Moderate (Rocky, Gentle Gradient)",3,null,"10-20 kW/m",3,"1.01- 5 kW/sq.m",3,"100-150 MWh",3]
["Moderate (Sandy, Steep Gradient)",2,null,"5-10 kW/m",2,"0.001 - 1 kW/sq.m",2,"50-100 MWh",2]
["Harsh (Rocky, Moderate/Steep Gradient)",1,null,"<5 kW/m",1,"< 0.001 kW/sq.m",1,"<50 MWh",1]
["Accessibility",null,null,"Proximity to Load (Shore)"]
["Fully Accessible (Exisiting Infrastructure for Transport)",5,null,"< 1 km",5]
["Partially Accessible (Temporary Works, No Obstacles)",4,null,"1-2 km",4]
["Partially Accessible (Temporary Works, Obstacles)",3,null,"2-3 km",3]
["Partially Accessible (Complex Temporary Works, Obstacles)",2,null,"3-5 km",2]
["Inaccessible (No Infrastructure, Extremely Difficult)",1,null,"5 km +",1]
["Site Type",null,null,"Wave Height"]
["Wave","-",null,"> 4.5 m",5]
["Tidal Stream ","-",null,"3.26-4.5 m",4]
["Tidal Barrage","-",null,"2.01-3.25 m",3]
[null,null,null,"0.75-2 m",2]
["Notes for Devices",null,null,"< 0.75 m",1]
["None (Fully Submerged)",null,null,"N/A",0]
["Slight (Far Offshore, Surface Piercing)",null,null,"Average Water Depth"]
["Moderate (Near Shore, Surface Piercing)",null,null,"5 - 10 m",5]
["Fully Visible (Shore Attached, Surface Piercing)",null,null,"10 -15 m",4]
["Intrusive (Shore Attached, Surface Piercing, Sensitive Area)",null,null,"15 - 20 m",3]
[null,null,null,"< 5 m",2]
[null,null,null,"> 20m",1]
[null,null,null,"Peak Flow Rate"]
[null,null,null,">4 m/s",5]
[null,null,null,"2.01-4 m/s",4]
[null,null,null,"1.01-2 m/s",3]
[null,null,null,"0.11-1 m/s",2]
[null,null,null,"<0.1 m/s",1]
[null,null,null,"N/A",0]
[null,null," ","Tidal Range"]
[null,null,null,">12 m",5]
[null,null,null,"9.01-12 m",4]
[null,null,null,"5.01-9 m",3]
[null,null,null,"1.01-5 m",2]
[null,null,null,"<1 m",1]
[null,null,null,"N/A",0]

{"sheet":"Storage Device Database","index":20,"n_rows":109,"n_cols":15,"rows_kept":109,"cut":false,"hidden":false,"merged":[[73,1,73,2],[103,1,103,2],[97,1,97,2],[91,1,91,2],[85,1,85,2],[79,1,79,2],[31,1,31,2],[25,1,25,2],[19,1,19,2],[1,1,2,1],[67,1,67,2],[61,1,61,2],[55,1,55,2],[49,1,49,2],[43,1,43,2],[37,1,37,2]]}
[]
[null,"Storage Type","Specific Energy (Wh/kg)","Specific Power (W/kg)","Energy Density (kWh/m^3)","Power Density ","Effiency (%)","Lifespan (Years)","Cycle Life (No. of Cycles)","Captial Energy Cost (US$/kWh)","Capital Power Cost (US$/kW)","Maturity","Self-Discharge Rate (%/Day)","Environmental Impact","Lifetime Energy Cost (US$/kWh)"]
[null,null,"(Wh/kg)","(W/kg)","(kWh/m^3)","(kW/m^3)","(%)","(Years)","(No.)","($/kWh)","($/kW)","(-)","(%/day)","(-)","($/kWh)"]
[null,"Zinc Silver",146.13,76.37,308.51,151.88,68.75,5,408.5,9795,3941000,"Very Mature/Fully Commercialsed",0.09,"Low",1959]
[null,"Nickel Iron",43.1,54.9,50,25.4,72.5,37,3875,962,12500,"Mature/Limited Development",0.8,"Low",26]
[null,"Zinc Manganese",137,17.2,386,49.3,73,5.0999999999999996,73.7,463,5008,"Very Mature/Fully Commercialsed",8.9999999999999993E-3,"Medium",90.784313725490208]
[null,"Solid Oxide",773,27.3,227,9.31,58.6,4.26,"NA",231.3,3130,"Proven/Commercialising","NA","Medium/Low",54.295774647887328]
[null,"Vanadium Redox",24.43,110.46,21.7,17.96,76.959999999999994,10.5,7759,448.1,2461,"Proven/Commercialising","NA","Medium/Low",42.676190476190477]
[null,"Lithium Ion",143.9,606,290,366.4,89.8,10.130000000000001,1018,1110,2325,"Mature/Commercialsed",0.158,"High/Medium",109.57551826258637]
[null,"Zinc Air",227,117,816.5,74.900000000000006,44.25,8.08,234,313,1533,"Mature/Commercialsed",7.0000000000000001E-3,"Low",38.737623762376238]
[null,"Pumped Hydro",0.87,0.05,1.07,0.05,76.59,49.2,29000,57.94,{"$f":"40000/0.78","v":51282.051282051281},"Very Mature/Fully Commercialsed",0,"High/Medium",1.1776422764227641]
[null,"Nickel Cadmium",45.3,222,"          ",89.5,69.8,13.6,2561,1132,867,"Very Mature/Fully Commercialsed",0.34,"High",83.235294117647058]
[null,"Compressed Air",28.5,16.13,3,3.03,68.3,30,16000,35.67,649.54999999999995,"Proven/Commercialising",0,"Medium/Low",1.1890000000000001]
[null,"Nickel Zinc",69.599999999999994,201,236,309,84.5,5.5,350,398,400,"Mature/Limited Development",0.79,"Low",72.36363636363636]
[null,"Lead Acid",29.8,195,59.6,123,76.900000000000006,8.33,1053,303,383,"Very Mature/Fully Commercialsed",0.33,"High",36.374549819927971]
[null,"RedT Flow Battery",null,null,null,null,null,25,null,null,null,null,null,"Medium/Low"]
[null,"EoS Zinc Air",null,null,51.9,4.5599999999999996,75,15,5000,160,null,null,null,"Low",10.666666666666666]
[]
[]
[null,"Captial Energy Cost (US$/kWh)"]
[null,"1 - 250",5]
[null,"251 - 500",4]
[null,"501 - 1000",3]
[null,"1001 - 1500",2]
[null,"1501+",1]
[null,"Capital Power Cost (US$/kW)"]
[null,"1 - 500",5]
[null,"501 - 1000",4]
[null,"1001 - 2500",3]
[null,"2501 - 6000",2]
[null,"6001+",1]
[null,"Lifetime Energy Cost (US$/kWh)"]
[null,"1 - 20",5]
[null,"21 - 40",4]
[null,"41 - 80 ",3]
[null,"81 - 120",2]
[null,"121+",1]
[null,"Specific Energy (Wh/kg)"]
[null,"301+",5]
[null,"201 - 300",4]
[null,"101 - 200",3]
[null,"36 - 100",2]
[null,"1 - 35",1]
[null,"Specific Power (W/kg)"]
[null,"301+",5]
[null,"201 - 300",4]
[null,"101 - 200",3]
[null,"21 - 100",2]
[null,"1 - 20",1]
[null,"Energy Density (kWh/m^3)"]
[null,"451+",5]
[null,"301 - 450",4]
[null,"151 - 300",3]
[null,"41 - 150",2]
[null,"0 - 40",1]
[null,"Power Density (kW/m^3)"]
[null,"201+",5]
[null,"101 - 200",4]
[null,"51 - 100",3]
[null,"11 - 50",2]
[null,"0 - 10",1]
[null,"Environmental Impact"]
[null,"Low/Very Low",5]
[null,"Medium/Low",4]
[null,"Medium",3]
[null,"High/Medium",2]
[null,"High",1]
[null,"Cycle Life (No. of Cycles)"]
[null,"15001+",5]
[null,"4001 - 15000",4]
[null,"2001 - 4000",3]
[null,"1001 - 2000",2]
[null,"1 - 1000",1]
[null,"Lifetime (Years)"]
[null,"30+",5]
[null,"10.1 - 29",4]
[null,"7.1 - 10",3]
[null,"4.6 - 7",2]
[null,"0 - 4.5",1]
[null,"Scalability (Range of kW)"]
[null,"1 - 10",5]
[null,"11 - 50",4]
[null,"51 - 100",3]
[null,"101 - 200",2]
[null,"200+",1]
[null,"Power Regulation"]
[null,"None Required",5]
[null,"-",4]
[null,"-",3]
[null,"-",2]
[null,"Reliant",1]
[null,"Technical Maturity"]
[null,"Very Mature/Fully Commercialsed",5]
[null,"Mature/Commercialsed",4]
[null,"Mature/Limited Development",3]
[null,"Proven/Commercialising",2]
[null,"Proven/Developing",1]
[null,"Self-Discharge Rate (%/Day)"]
[null,"0 - 0.05",5]
[null,"0.051 - 0.100",4]
[null,"0.101 - 0.200",3]
[null,"0.201 - 0.400",2]
[null,"0.401+",1]
[null,"Efficiency (%)"]
[null,"81+",5]
[null,"71 - 80",4]
[null,"61 - 70",3]
[null,"51 - 60",2]
[null,"0 - 50",1]

{"sheet":"Wave Device Database","index":21,"n_rows":100,"n_cols":20,"rows_kept":100,"cut":false,"hidden":false,"merged":[[46,7,46,8],[22,1,22,2],[28,1,28,2],[40,1,40,2],[22,7,22,8],[28,7,28,8],[34,7,34,8],[40,7,40,8],[0,3,0,6],[88,1,88,2],[88,7,88,8],[94,1,94,2],[94,7,94,8],[70,1,70,2],[70,7,70,8],[76,1,76,2],[76,7,76,8],[82,7,82,8],[52,1,52,2],[52,7,52,8],[58,1,58,2],[58,7,58,8],[64,7,64,8],[46,1,46,2]]}
[]
["No.","Name","Type","Availability","Capital Cost per KW","Lifespan (Y) ","Rated Capacity (kW)","Distance from Shore","Visual Impact","Access Complexity","Capital Cost","Technology Readiness Level","Lifespan","Efficiency","Scale (kW)","Shore Connection","Planned Inspection/Maintenance Period","Primary Attachment","Installation Complexity","Maintenanc Complexity"]
[1,"Yam Pro Energy","Shore based",{"$f":"IF('Resource and Financial Summary'!$L$15=\"SW\",SUM('Wave Areas'!R116:S118)/'Wave Areas'!Z126,(IF('Resource and Financial Summary'!$L$15=\"W\",SUM('Wave Areas'!D133:E135)/'Wave Areas'!L143,(IF('Resource and Financial Summary'!$L$15=\"NW\",SUM('Wave Areas'!R134:S136)/'Wave Areas'!Z144,(IF('Resource and Financial Summary'!$B$73=\"N\",SUM('Wave Areas'!D79:E81/'Wave Areas'!L89,(IF('Resource and Financial Summary'!$L$15=\"NE\",SUM('Wave Areas'!R80:S82)/'Wave Areas'!Z90,(IF('Resource and Financial Summary'!$L$15=\"E\",SUM('Wave Areas'!D97:E99)/'Wave Areas'!L107,(IF('Resource and Financial Summary'!$L$15=\"SE\",SUM('Wave Areas'!R98:S100/'Wave Areas'!Z108,(IF('Resource and Financial Summary'!$L$15=\"S\",SUM('Wave Areas'!D115:E117)/'Wave Areas'!L125,\"\")))))))))))))))))","v":false},950,25,100,"Onshore","Fully Visible (Shore Attached, Surface Piercing)","Simple (Shore Mounted, Readily Accesssible)","£0-2000","Proven","Lifetime Warranty ","50%+","10-100","Shore Attached (No Seacable or Hydraulic Pipe)","< 1 month","Shore Attached","Simple (Simple Vessels)","Moderate (Community, Complex Training)"]
[2,"Wave El Buoy","Point Absorber",{"$f":"(IF('Resource and Financial Summary'!$L$15=\"SW\",SUM('Wave Areas'!R117:T120)/'Wave Areas'!Z126, (IF('Resource and Financial Summary'!$L$15=\"W\",SUM('Wave Areas'!D134:F137)/'Wave Areas'!L143,(IF('Resource and Financial Summary'!$L$15=\"NW\",SUM('Wave Areas'!R135:T138)/'Wave Areas'!Z144, (IF($B$73=\"N\",SUM('Wave Areas'!D80:F83)/'Wave Areas'!L89,(IF('Resource and Financial Summary'!$O$15=\"NE\",SUM('Wave Areas'!R81:T84)/'Wave Areas'!Z90,(IF('Resource and Financial Summary'!$L$15=\"E\",SUM('Wave Areas'!D98:F101)/'Wave Areas'!L107,(IF('Resource and Financial Summary'!$L$15=\"SE\",SUM('Wave Areas'!R99:T102)/'Wave Areas'!Z108,(IF('Resource and Financial Summary'!$L$15=\"S\",SUM('Wave Areas'!D116:F119)/'Wave Areas'!L125,0))))))))))))))))","v":0},4333,25,150,"Far Offshore (101m+)","Moderate (Near Shore, Surface Piercing)","Moderate (Simple Vessels,Surface Work)","£4001-6000","Proven","Lifetime Warranty ","30-39%","251-500","Offshore, Deepwater (0.5km+ Seacable or Hydraulic Pipe)","7 -12 months","Floating/Moored","Slightly Complex (Specialised Vessels, ROVs)","Moderate (Community, Complex Training)"]
[3,"Rotary Wave","Attenuator ",{"$f":"(IF('Resource and Financial Summary'!$L$15=\"SW\",SUM('Wave Areas'!P117:S119)/'Wave Areas'!Z126, (IF('Resource and Financial Summary'!$L$15=\"W\",SUM('Wave Areas'!B134:E136)/'Wave Areas'!L143,(IF('Resource and Financial Summary'!$L$15=\"NW\",SUM('Wave Areas'!P135:S137)/'Wave Areas'!Z144, (IF($B$73=\"N\",SUM('Wave Areas'!B80:E82)/'Wave Areas'!L89,(IF('Resource and Financial Summary'!$O$15=\"NE\",SUM('Wave Areas'!P81:S83)/'Wave Areas'!Z90,(IF('Resource and Financial Summary'!$L$15=\"E\",SUM('Wave Areas'!B98:E100)/'Wave Areas'!L107,(IF('Resource and Financial Summary'!$L$15=\"SE\",SUM('Wave Areas'!P99:S101)/'Wave Areas'!Z108,(IF('Resource and Financial Summary'!$L$15=\"S\",SUM('Wave Areas'!B116:E118)/'Wave Areas'!L125,0))))))))))))))))","v":0},6487.9,20,200,"Offshore (41 - 100m)","Moderate (Near Shore, Surface Piercing)","Moderate (Simple Vessels,Surface Work)","£6001-8000","Prototype Proven","Lifetime Warranty ","50%+","101-250","Nearshore (<0.1km Seacable or Hydraulic Pipe)","< 1 month","Floating/Moored","Slighlty Simple (Simple Vessels, Light Subsea Work)","Moderate (Community, Complex Training)"]
[4,"Electric Buoy","Point Absorber",{"$f":"(IF('Resource and Financial Summary'!$L$15=\"SW\",SUM('Wave Areas'!P117:S119)/'Wave Areas'!Z126, (IF('Resource and Financial Summary'!$L$15=\"W\",SUM('Wave Areas'!B134:E136)/'Wave Areas'!L143,(IF('Resource and Financial Summary'!$L$15=\"NW\",SUM('Wave Areas'!P135:S137)/'Wave Areas'!Z144, (IF($B$73=\"N\",SUM('Wave Areas'!B80:E82)/'Wave Areas'!L89,(IF('Resource and Financial Summary'!$O$15=\"NE\",SUM('Wave Areas'!P81:S83)/'Wave Areas'!Z90,(IF('Resource and Financial Summary'!$L$15=\"E\",SUM('Wave Areas'!B98:E100)/'Wave Areas'!L107,(IF('Resource and Financial Summary'!$L$15=\"SE\",SUM('Wave Areas'!P99:S101)/'Wave Areas'!Z108,(IF('Resource and Financial Summary'!$L$15=\"S\",SUM('Wave Areas'!B116:E118)/'Wave Areas'!L125,0))))))))))))))))","v":0},1587.4,20,350000,"Far Offshore (101m+)","Fully Visible (Shore Attached, Surface Piercing)","Moderate (Simple Vessels,Surface Work)","£2001-4000","Prototype Development","Lifetime Warranty ","30-39%","1001+","Offshore, Deepwater (0.5km+ Seacable or Hydraulic Pipe)","< 1 month","Floating/Moored","Slightly Complex (Specialised Vessels, ROVs)","More Complex (External, Additional Equipment)"]
[5,"Wave Dragon","Overtopping/Terminator Device",null,null,25,200,"Far nearshore (21 - 40m)","Moderate (Near Shore, Surface Piercing)","Moderate (Simple Vessels,Surface Work)",null,"Proven","20+ years","50%+","501-1000","Nearshore , Shallow (0.1 - 0.5km Seacable or Hydraulic Pipe)",null,"Floating/Moored","Slighlty Simple (Simple Vessels, Light Subsea Work)"]
[6,"Limpet","Oscillating Water Column",null,null,null,200,"Onshore","Intrusive (Shore Attached, Surface Piercing, Sensitive Area)","Simple (Shore Mounted, Readily Accesssible)",null,"Proven",null,"0-19%","101-250","Shore Attached (No Seacable or Hydraulic Pipe)",null,"Shore Attached","Simple (Simple Vessels)"]
[]
[]
[]
[]
[null,"Types of Device"]
[null,"Attenuator ","-"]
[null,"Point Absorber","-"]
[null,"Oscillating Wave Surge Converter","-"]
[null,"Oscillating Water Column","-"]
[null,"Overtopping/Terminator Device","-"]
[null,"Submerged Pressure Differential","-"]
[null,"Bulge Wave","-"]
[null,"Rotating Mass","-"]
[null,"Shore Based","-"]
[null,"Distance from Shore"]
[null,"Onshore",5]
[null,"Nearshore (5 - 20m)",4]
[null,"Far nearshore (21 - 40m)",3]
[null,"Offshore (41 - 100m)",2]
[null,"Far Offshore (101m+)",1]
[null,"Visual Impact"]
[null,"None (Fully Submerged)",5]
[null,"Slight (Far Offshore, Surface Piercing)",4]
[null,"Moderate (Near Shore, Surface Piercing)",3]
[null,"Fully Visible (Shore Attached, Surface Piercing)",2]
[null,"Intrusive (Shore Attached, Surface Piercing, Sensitive Area)",1]
[null,"Access Complexity"]
[null,"Simple (Shore Mounted, Readily Accesssible)",5]
[null,"Slighlty Simple  (Simple Vessels, Visual Inspection)",4]
[null,"Moderate (Simple Vessels,Surface Work)",3]
[null,"Slightly Complex (Specialised Vessels, ROVs)",2]
[null,"More Complex ( Specialised Vessels, Divers, ROVs)",1]
[null,"Capital Cost per kW"]
[null,"£0-2000",5]
[null,"£2001-4000",4]
[null,"£4001-6000",3]
[null,"£6001-8000",2]
[null,"£8001+",1]
[null,"Technology Readiness Level"]
[null,"Proven",5]
[null,"Prototype Proven",4]
[null,"Prototype Testing",3]
[null,"Component Testing, Fully Feasible",2]
[null,"Prototype Development",1]
[null,"Lifespan"]
[null,"Lifetime Warranty ",5]
[null,"20+ years",4]
[null,"16-20 years",3]
[null,"11-15 years",2]
[null,"1-10 years",1]
[null,"Efficiency"]
[null,"50%+",5]
[null,"40-49%",4]
[null,"30-39%",3]
[null,"20-29%",2]
[null,"0-19%",1]
[null,"Scale (kW)"]
[null,"10-100",{"$f":"IF(Input!$B$19=\"Yes\",1,5)","v":5}]
[null,"101-250",{"$f":"IF(Input!$B$19=\"Yes\",C66+1,C66-1)","v":4}]
[null,"251-500",{"$f":"IF(Input!$B$19=\"Yes\",C67+1,C67-1)","v":3}]
[null,"501-1000",{"$f":"IF(Input!$B$19=\"Yes\",C68+1,C68-1)","v":2}]
[null,"1001+",{"$f":"IF(Input!$B$19=\"Yes\",C69+1,C69-1)","v":1}]
[null,"Shore Connection"]
[null,"Shore Attached (No Seacable or Hydraulic Pipe)",5]
[null,"Nearshore (Hydraulic PTO Buried) ",4]
[null,"Nearshore (<0.1km Seacable or Hydraulic Pipe)",3]
[null,"Nearshore , Shallow (0.1 - 0.5km Seacable or Hydraulic Pipe)",2]
[null,"Offshore, Deepwater (0.5km+ Seacable or Hydraulic Pipe)",1]
[null,"Planned Inspection/Maintenance Period"]
[null,"18+ months",5]
[null,"13-18 months",4]
[null,"7 -12 months",3]
[null,"1-6 months",2]
[null,"< 1 month",1]
[null,"Primary Attachment"]
[null,"Shore Attached",5]
[null,"Floating/Moored",4]
[null,"Gravity based",3]
[null,"Seabed Mounted",2]
[null,"Other/Novel",1]
[null,"Installation Complexity"]
[null,"Simple (Simple Vessels)",5]
[null,"Slighlty Simple (Simple Vessels, Light Subsea Work)",4]
[null,"Moderate (Specialised Vessels)",3]
[null,"Slightly Complex (Specialised Vessels, ROVs)",2]
[null,"More Complex (Specialised Vessels, Divers, ROVs)",1]
[null,"Maintenance Complexity"]
[null,"Simple (Community, Minimal Training)",5]
[null,"Slighlty Simple (Community, Moderate Training)",4]
[null,"Moderate (Community, Complex Training)",3]
[null,"Slightly Complex (External)",2]
[null,"More Complex (External, Additional Equipment)",1]

{"sheet":"Wave Areas","index":22,"n_rows":144,"n_cols":45,"rows_kept":144,"cut":false,"hidden":false,"merged":[[30,26,30,37],[31,26,31,37],[44,26,44,36],[75,0,75,11],[7,26,7,37],[8,26,8,37],[21,26,21,36],[7,13,7,24],[8,13,8,24],[21,13,21,23],[74,0,74,11],[7,0,7,11],[8,0,8,11],[21,0,21,10],[30,0,30,11],[31,0,31,11],[44,0,44,10],[88,0,88,10],[52,26,52,37],[53,26,53,37],[66,26,66,36],[52,0,52,11],[53,0,53,11],[66,0,66,10],[52,13,52,24],[53,13,53,24],[66,13,66,23],[75,14,75,25],[76,14,76,25],[143,14,143,24],[92,0,92,11],[93,0,93,11],[106,0,106,10],[110,0,110,11],[111,0,111,11],[124,0,124,10],[128,0,128,11],[129,0,129,11],[142,0,142,10],[112,14,112,25],[125,14,125,24],[129,14,129,25],[130,14,130,25],[89,14,89,24],[93,14,93,25],[94,14,94,25],[107,14,107,24],[111,14,111,25]]}
["Global Wave Statistics"]
[]
["Area","North Sea, Area 10"]
[]
["North West",0.1255,null,null,null,null,null,null,null,null,null,null,null,"North",0.88100000000000001,null,null,null,null,null,null,null,null,null,null,null,"North East",0.64400000000000002]
[]
[]
["North Sea Area 9",null,null,null,null,null,null,null,null,null,null,null,null,"North Sea Area 9",null,null,null,null,null,null,null,null,null,null,null,null,"North Sea Area 9"]
["Number of Occurences",null,null,null,null,null,null,null,null,null,null,null,null,"Number of Occurences",null,null,null,null,null,null,null,null,null,null,null,null,"Number of Occurences"]
["Hs                      T",3.5,4.5,5.5,6.5,7.5,8.5,9.5,10.5,11.5,12.5,13.5,null,"Hs                      T",3.5,4.5,5.5,6.5,7.5,8.5,9.5,10.5,11.5,12.5,13.5,null,"Hs                      T",3.5,4.5,5.5,6.5,7.5,8.5,9.5,10.5,11.5,12.5,13.5]
[0.5,0,4,22,33,21,7,1,0,null,0,0,null,0.5,0,8,30,37,20,6,1,0,0,0,0,null,0.5,2,20,51,49,23,6,1,0,0,0,0]
[1.5,0,1,17,66,85,52,18,4,1,0,0,null,1.5,0,2,29,86,91,49,16,4,1,0,0,null,1.5,0,7,52,104,89,42,13,3,1,0,0]
[2.5,0,0,6,38,78,71,36,12,3,1,0,null,2.5,0,0,11,51,84,67,31,10,2,1,0,null,2.5,0,2,21,68,80,52,22,7,2,0,0]
[3.5,0,0,2,17,46,55,35,14,4,1,0,null,3.5,0,0,3,22,50,50,30,12,4,1,0,null,3.5,0,0,7,29,46,37,19,7,2,0,0]
[4.5,0,0,1,7,23,34,26,13,4,1,0,null,4.5,0,0,1,8,23,29,21,10,3,1,0,null,4.5,0,0,2,11,21,21,12,5,2,0,0]
[5.5,0,0,0,2,11,18,16,9,4,1,0,null,5.5,0,0,0,3,10,15,12,6,3,1,0,null,5.5,0,0,1,4,9,10,7,3,1,0,0]
[6.5,0,0,0,1,5,9,10,6,3,1,0,null,6.5,0,0,0,1,4,7,6,4,2,1,0,null,6.5,0,0,0,1,4,4,3,2,1,0,0,null,null,null,null,null,null,{"$f":"VLOOKUP((MAX('Decision Matrices'!$B$86:$B$89)),'Decision Matrices'!$B$86:$C$89,2,FALSE)","v":"Yam Pro Energy"}]
[7.5,0,0,0,0,2,5,5,4,2,1,0,null,7.5,0,0,0,0,2,3,3,2,1,0,0,null,7.5,0,0,0,1,1,2,2,1,0,0,0]
[8.5,0,0,0,0,1,2,3,2,1,0,0,null,8.5,0,0,0,0,1,1,2,1,1,0,0,null,8.5,0,0,0,0,1,1,1,1,0,0,0]
[9.5,0,0,0,0,1,2,2,2,1,0,0,null,9.5,0,0,0,0,0,1,1,1,0,0,0,null,9.5,0,0,0,0,0,0,1,0,0,0,0]
[10.5,0,0,0,0,0,2,2,3,1,0,0,null,10.5,0,0,0,0,0,0,0,0,0,0,0,null,10.5,0,0,0,0,0,0,0,0,0,0,0]
["Total Occurences",null,null,null,null,null,null,null,null,null,null,{"$f":"SUM(B11:L21)","v":1000},null,"Total Occurences",null,null,null,null,null,null,null,null,null,null,{"$f":"SUM(O11:Y21)","v":1000},null,"Total Occurences",null,null,null,null,null,null,null,null,null,null,{"$f":"SUM(AB11:AL21)","v":1000}]
[null,{"$f":"SUM(B11:B21)","v":0},5,48,164,273,257,154,69,24,6,null,null,null,{"$f":"SUM(O11:O21)","v":0},10,74,208,285,228,123,50,17,5,null,null,null,{"$f":"SUM(AB11:AB21)","v":2},29,134,267,274,175,81,29,9,0]
[]
[]
[]
[]
["West",0.2046,null,null,null,null,null,null,null,null,null,null,null,null,null,null,null,null,null,null,null,null,null,null,null,null,"East",0.754]
[]
[]
["North Sea Area 9",null,null,null,null,null,null,null,null,null,null,null,null,null,null,null,null,null,null,null,null,null,null,null,null,null,"North Sea Area 9"]
["Number of Occurences",null,null,null,null,null,null,null,null,null,null,null,null,null,null,null,null,null,null,null,null,null,null,null,null,null,"Number of Occurences"]
["Hs                      T",3.5,4.5,5.5,6.5,7.5,8.5,9.5,10.5,11.5,12.5,13.5,null,null,null,null,null,null,null,null,null,null,null,null,null,null,"Hs                      T",3.5,4.5,5.5,6.5,7.5,8.5,9.5,10.5,11.5,12.5,13.5]
[0.5,0,2,16,31,23,8,2,0,0,0,0,null,null,null,null,null,null,null,null,null,null,null,null,null,null,0.5,7,51,82,52,17,4,1,0,0,0,0]
[1.5,0,0,10,51,80,54,20,5,1,0,0,null,null,null,null,null,null,null,null,null,null,null,null,null,null,1.5,1,23,92,112,64,21,5,1,0,0,0]
[2.5,0,0,3,27,70,72,38,13,3,1,0,null,null,null,null,null,null,null,null,null,null,null,null,null,null,2.5,0,7,44,79,60,27,8,2,0,0,0]
[3.5,0,0,1,12,42,57,40,17,5,1,0,null,null,null,null,null,null,null,null,null,null,null,null,null,null,3.5,0,2,17,39,38,20,7,2,0,0,0]
[4.5,0,0,0,5,22,37,31,16,5,1,0,null,null,null,null,null,null,null,null,null,null,null,null,null,null,4.5,0,1,6,17,20,12,5,2,0,0,0]
[5.5,0,0,0,2,11,21,21,12,5,1,0,null,null,null,null,null,null,null,null,null,null,null,null,null,null,5.5,0,0,2,7,9,6,3,1,0,0,0]
[6.5,0,0,0,1,5,12,13,9,4,1,0,null,null,null,null,null,null,null,null,null,null,null,null,null,null,6.5,0,0,1,3,4,3,2,1,0,0,0]
[7.5,0,0,0,0,2,6,8,6,3,1,0,null,null,null,null,null,null,null,null,null,null,null,null,null,null,7.5,0,0,0,1,2,2,1,0,0,0,0]
[8.5,0,0,0,0,1,3,4,4,2,1,0,null,null,null,null,null,null,null,null,null,null,null,null,null,null,8.5,0,0,0,1,1,1,1,0,0,0,0]
[9.5,0,0,0,0,1,2,3,2,1,1,0,null,null,null,null,null,null,null,null,null,null,null,null,null,null,9.5,0,0,0,0,0,0,0,0,0,0,0]
[10.5,0,0,0,0,0,2,3,3,1,0,0,null,null,null,null,null,null,null,null,null,null,null,null,null,null,10.5,0,0,0,0,0,0,0,0,0,0,0]
["Total Occurences",null,null,null,null,null,null,null,null,null,null,{"$f":"SUM(B34:L44)","v":1000},null,null,null,null,null,null,null,null,null,null,null,null,null,null,"Total Occurences",null,null,null,null,null,null,null,null,null,null,{"$f":"SUM(AB34:AL44)","v":1000}]
[null,{"$f":"SUM(B34:B44)","v":0},2,30,129,257,274,183,87,30,8,null,null,null,null,null,null,null,null,null,null,null,null,null,null,null,null,{"$f":"SUM(AB34:AB44)","v":8},84,244,311,215,96,33,9,0,0]
[]
[]
["South West",null,0.16950000000000001,null,null,null,null,null,null,null,null,null,null,"South ",0.16200000000000001,null,null,null,null,null,null,null,null,null,null,null,"South East",0.90900000000000003]
[]
[]
[]
["North Sea Area 9",null,null,null,null,null,null,null,null,null,null,null,null,"North Sea Area 9",null,null,null,null,null,null,null,null,null,null,null,null,"North Sea Area 9"]
["Number of Occurences",null,null,null,null,null,null,null,null,null,null,null,null,"Number of Occurences",null,null,null,null,null,null,null,null,null,null,null,null,"Number of Occurences"]
["Hs                      T",3.5,4.5,5.5,6.5,7.5,8.5,9.5,10.5,11.5,12.5,13.5,null,"Hs                      T",3.5,4.5,5.5,6.5,7.5,8.5,9.5,10.5,11.5,12.5,13.5,null,"Hs                      T",3.5,4.5,5.5,6.5,7.5,8.5,9.5,10.5,11.5,12.5,13.5]
[0.5,0,7,30,39,22,7,1,0,0,0,0,null,0.5,1,19,51,47,20,5,1,0,0,0,0,null,0.5,4,39,73,49,17,4,1,0,0,0,0]
[1.5,0,2,24,76,87,48,16,4,1,0,0,null,1.5,0,6,47,98,80,34,10,2,0,0,0,null,1.5,0,17,83,113,68,23,5,1,0,0,0]
[2.5,0,0,9,46,81,65,30,9,2,1,0,null,2.5,0,2,21,67,80,49,18,5,2,0,0,null,2.5,0,5,38,78,66,30,9,2,0,0,0]
[3.5,0,0,3,21,49,51,30,11,3,1,0,null,3.5,0,0,8,34,52,39,18,6,1,1,0,null,3.5,0,1,15,40,42,24,9,2,1,0,0]
[4.5,0,0,1,9,25,32,22,10,3,1,1,null,4.5,0,0,3,15,27,24,13,5,1,1,0,null,4.5,0,1,6,18,23,15,6,2,0,0,0]
[5.5,0,0,0,3,12,17,14,7,3,1,0,null,5.5,0,0,1,6,13,13,8,4,1,0,0,null,5.5,0,0,2,8,11,9,4,1,0,0,0]
[6.5,0,0,0,1,5,9,9,5,2,1,0,null,6.5,0,0,0,2,6,7,4,2,1,0,0,null,6.5,0,0,1,3,6,5,2,1,0,0,0]
[7.5,0,0,0,1,2,4,4,3,1,0,0,null,7.5,0,0,0,1,3,3,2,1,0,0,0,null,7.5,0,0,0,2,3,3,1,1,0,0,0]
[8.5,0,0,0,0,1,2,2,2,1,0,0,null,8.5,0,0,0,0,1,2,1,1,0,0,0,null,8.5,0,0,0,1,1,1,1,0,0,0,0]
[9.5,0,0,0,0,1,1,1,1,1,0,0,null,9.5,0,0,0,0,1,1,1,0,0,0,0,null,9.5,0,0,0,0,1,1,1,0,0,0,0]
[10.5,0,0,0,0,0,1,1,1,0,0,0,null,10.5,0,0,0,0,0,1,0,0,0,0,0,null,10.5,0,0,0,0,0,0,0,0,0,0,0]
["Total Occurences",null,null,null,null,null,null,null,null,null,null,{"$f":"SUM(B56:L66)","v":1000},null,"Total Occurences",null,null,null,null,null,null,null,null,null,null,{"$f":"SUM(O56:Y66)","v":1000},null,"Total Occurences",null,null,null,null,null,null,null,null,null,null,{"$f":"SUM(AB56:AL66)","v":1000}]
[null,{"$f":"SUM(B56:B66)","v":0},9,67,196,285,237,130,53,17,5,null,null,null,{"$f":"SUM(O56:O66)","v":1},27,131,270,283,178,76,26,6,2,null,null,null,{"$f":"SUM(AB56:AB66)","v":4},63,218,312,238,115,39,10,1,0]
[]
[]
["Combinations"]
[]
["Quadrant ","N"]
[null,null,null,null,null,null,null,null,null,null,null,null,null,null,"Quadrant ","NE"]
["North Sea Area 9"]
["Number of Occurences",null,null,null,null,null,null,null,null,null,null,null,null,null,"North Sea Area 9"]
["Hs                      T",3.5,4.5,5.5,6.5,7.5,8.5,9.5,10.5,11.5,12.5,13.5,"Availability",null,"Number of Occurences"]
[0.5,{"$f":"IF($B$73=\"SW\",SUM(B34,B56,O56), (IF($B$73=\"W\",SUM(B56,B34,B11),(IF($B$73=\"NW\",SUM(B34,B11,O11), (IF($B$73=\"N\",SUM(B11,O11,AB11),(IF($B$73=\"NE\",SUM(O11,AB11,AB34),(IF($B$73=\"E\",SUM(AB11,AB34,AB56),(IF($B$73=\"SE\",SUM(AB34,AB56,O56),(IF($B$73=\"S\",SUM(AB56,O56,B56),0)))))))))))))))","v":2},{"$f":"IF($B$73=\"SW\",SUM(C34,C56,P56), (IF($B$73=\"W\",SUM(C56,C34,C11),(IF($B$73=\"NW\",SUM(C34,C11,P11), (IF($B$73=\"N\",SUM(C11,P11,AC11),(IF($B$73=\"NE\",SUM(P11,AC11,AC34),(IF($B$73=\"E\",SUM(AC11,AC34,AC56),(IF($B$73=\"SE\",SUM(AC34,AC56,P56),(IF($B$73=\"S\",SUM(AC56,P56,C56),0)))))))))))))))","v":32},103,119,64,19,3,0,0,0,0,{"$f":"(SUM(B78:L78))/L89","v":0.114},null,"Hs                      T",3.5,4.5,5.5,6.5,7.5,8.5,9.5,10.5,11.5,12.5,13.5,"Availability"]
[1.5,{"$f":"IF($B$73=\"SW\",SUM(B35,B57,O57), (IF($B$73=\"W\",SUM(B57,B35,B12),(IF($B$73=\"NW\",SUM(B35,B12,O12), (IF($B$73=\"N\",SUM(B12,O12,AB12),(IF($B$73=\"NE\",SUM(O12,AB12,AB35),(IF($B$73=\"E\",SUM(AB12,AB35,AB57),(IF($B$73=\"SE\",SUM(AB35,AB57,O57),(IF($B$73=\"S\",SUM(AB57,O57,B57),0)))))))))))))))","v":0},10,98,256,265,143,47,11,3,0,0,{"$f":"(SUM(B79:L79))/L89","v":0.27766666666666667},null,0.5,{"$f":"IF($P$74=\"SW\",SUM(B34,B56,O56), (IF($P$74=\"W\",SUM(B56,B34,B11),(IF($P$74=\"NW\",SUM(B34,B11,O11), (IF($P$74=\"N\",SUM(B11,O11,AB11),(IF($P$74=\"NE\",SUM(O11,AB11,AB34),(IF($P$74=\"E\",SUM(AB11,AB34,AB56),(IF($P$74=\"SE\",SUM(AB34,AB56,O56),(IF($P$74=\"S\",SUM(AB56,O56,B56),0)))))))))))))))","v":9},{"$f":"IF($P$74=\"SW\",SUM(C34,C56,P56), (IF($P$74=\"W\",SUM(C56,C34,C11),(IF($P$74=\"NW\",SUM(C34,C11,P11), (IF($P$74=\"N\",SUM(C11,P11,AC11),(IF($P$74=\"NE\",SUM(P11,AC11,AC34),(IF($P$74=\"E\",SUM(AC11,AC34,AC56),(IF($P$74=\"SE\",SUM(AC34,AC56,P56),(IF($P$74=\"S\",SUM(AC56,P56,C56),0)))))))))))))))","v":79},{"$f":"IF($P$74=\"SW\",SUM(D34,D56,Q56), (IF($P$74=\"W\",SUM(D56,D34,D11),(IF($P$74=\"NW\",SUM(D34,D11,Q11), (IF($P$74=\"N\",SUM(D11,Q11,AD11),(IF($P$74=\"NE\",SUM(Q11,AD11,AD34),(IF($P$74=\"E\",SUM(AD11,AD34,AD56),(IF($P$74=\"SE\",SUM(AD34,AD56,Q56),(IF($P$74=\"S\",SUM(AD56,Q56,D56),0)))))))))))))))","v":163},{"$f":"IF($P$74=\"SW\",SUM(E34,E56,R56), (IF($P$74=\"W\",SUM(E56,E34,E11),(IF($P$74=\"NW\",SUM(E34,E11,R11), (IF($P$74=\"N\",SUM(E11,R11,AE11),(IF($P$74=\"NE\",SUM(R11,AE11,AE34),(IF($P$74=\"E\",SUM(AE11,AE34,AE56),(IF($P$74=\"SE\",SUM(AE34,AE56,R56),(IF($P$74=\"S\",SUM(AE56,R56,E56),0)))))))))))))))","v":138},{"$f":"IF($P$74=\"SW\",SUM(F34,F56,S56), (IF($P$74=\"W\",SUM(F56,F34,F11),(IF($P$74=\"NW\",SUM(F34,F11,S11), (IF($P$74=\"N\",SUM(F11,S11,AF11),(IF($P$74=\"NE\",SUM(S11,AF11,AF34),(IF($P$74=\"E\",SUM(AF11,AF34,AF56),(IF($P$74=\"SE\",SUM(AF34,AF56,S56),(IF($P$74=\"S\",SUM(AF56,S56,F56),0)))))))))))))))","v":60},{"$f":"IF($P$74=\"SW\",SUM(G34,G56,T56), (IF($P$74=\"W\",SUM(G56,G34,G11),(IF($P$74=\"NW\",SUM(G34,G11,T11), (IF($P$74=\"N\",SUM(G11,T11,AG11),(IF($P$74=\"NE\",SUM(T11,AG11,AG34),(IF($P$74=\"E\",SUM(AG11,AG34,AG56),(IF($P$74=\"SE\",SUM(AG34,AG56,T56),(IF($P$74=\"S\",SUM(AG56,T56,G56),0)))))))))))))))","v":16},{"$f":"IF($P$74=\"SW\",SUM(H34,H56,U56), (IF($P$74=\"W\",SUM(H56,H34,H11),(IF($P$74=\"NW\",SUM(H34,H11,U11), (IF($P$74=\"N\",SUM(H11,U11,AH11),(IF($P$74=\"NE\",SUM(U11,AH11,AH34),(IF($P$74=\"E\",SUM(AH11,AH34,AH56),(IF($P$74=\"SE\",SUM(AH34,AH56,U56),(IF($P$74=\"S\",SUM(AH56,U56,H56),0)))))))))))))))","v":3},{"$f":"IF($P$74=\"SW\",SUM(I34,I56,V56), (IF($P$74=\"W\",SUM(I56,I34,I11),(IF($P$74=\"NW\",SUM(I34,I11,V11), (IF($P$74=\"N\",SUM(I11,V11,AI11),(IF($P$74=\"NE\",SUM(V11,AI11,AI34),(IF($P$74=\"E\",SUM(AI11,AI34,AI56),(IF($P$74=\"SE\",SUM(AI34,AI56,V56),(IF($P$74=\"S\",SUM(AI56,V56,I56),0)))))))))))))))","v":0},{"$f":"IF($P$74=\"SW\",SUM(J34,J56,W56), (IF($P$74=\"W\",SUM(J56,J34,J11),(IF($P$74=\"NW\",SUM(J34,J11,W11), (IF($P$74=\"N\",SUM(J11,W11,AJ11),(IF($P$74=\"NE\",SUM(W11,AJ11,AJ34),(IF($P$74=\"E\",SUM(AJ11,AJ34,AJ56),(IF($P$74=\"SE\",SUM(AJ34,AJ56,W56),(IF($P$74=\"S\",SUM(AJ56,W56,J56),0)))))))))))))))","v":0},{"$f":"IF($P$74=\"SW\",SUM(K34,K56,X56), (IF($P$74=\"W\",SUM(K56,K34,K11),(IF($P$74=\"NW\",SUM(K34,K11,X11), (IF($P$74=\"N\",SUM(K11,X11,AK11),(IF($P$74=\"NE\",SUM(X11,AK11,AK34),(IF($P$74=\"E\",SUM(AK11,AK34,AK56),(IF($P$74=\"SE\",SUM(AK34,AK56,X56),(IF($P$74=\"S\",SUM(AK56,X56,K56),0)))))))))))))))","v":0},{"$f":"IF($P$74=\"SW\",SUM(L34,L56,Y56), (IF($P$74=\"W\",SUM(L56,L34,L11),(IF($P$74=\"NW\",SUM(L34,L11,Y11), (IF($P$74=\"N\",SUM(L11,Y11,AL11),(IF($P$74=\"NE\",SUM(Y11,AL11,AL34),(IF($P$74=\"E\",SUM(AL11,AL34,AL56),(IF($P$74=\"SE\",SUM(AL34,AL56,Y56),(IF($P$74=\"S\",SUM(AL56,Y56,L56),0)))))))))))))))","v":0},{"$f":"(SUM(P79:Z79))/Z90","v":0.156}]
[2.5,0,2,38,157,242,190,89,29,7,2,0,{"$f":"(SUM(B80:L80))/L89","v":0.252},null,1.5,1,32,173,302,244,112,34,8,2,0,0,{"$f":"(SUM(P80:Z80))/Z90","v":0.30266666666666664}]
[3.5,0,0,12,68,142,142,84,33,10,2,0,{"$f":"(SUM(B81:L81))/L89","v":0.16433333333333333},null,2.5,0,9,76,198,224,146,61,19,4,1,0,{"$f":"(SUM(P81:Z81))/Z90","v":0.246}]
[4.5,0,0,4,26,67,84,59,28,9,2,0,{"$f":"(SUM(B82:L82))/L89","v":9.2999999999999999E-2},null,3.5,0,2,27,90,134,107,56,21,6,1,0,{"$f":"(SUM(P82:Z82))/Z90","v":0.14799999999999999}]
[5.5,0,0,1,9,30,43,35,18,8,2,0,{"$f":"(SUM(B83:L83))/L89","v":4.8666666666666664E-2},null,4.5,0,1,9,36,64,62,38,17,5,1,0,{"$f":"(SUM(P83:Z83))/Z90","v":7.7666666666666662E-2}]
[6.5,0,0,0,3,13,20,19,12,6,2,0,{"$f":"(SUM(B84:L84))/L89","v":2.5000000000000001E-2},null,5.5,0,0,3,14,28,31,22,10,4,1,0,{"$f":"(SUM(P84:Z84))/Z90","v":3.7666666666666668E-2}]
[7.5,0,0,0,1,5,10,10,7,3,1,0,{"$f":"(SUM(B85:L85))/L89","v":1.2333333333333333E-2},null,6.5,0,0,1,5,12,14,11,7,3,1,0,{"$f":"(SUM(P85:Z85))/Z90","v":1.7999999999999999E-2}]
[8.5,0,0,0,0,3,4,6,4,2,0,0,{"$f":"(SUM(B86:L86))/L89","v":6.3333333333333332E-3},null,7.5,0,0,0,2,5,7,6,3,1,0,0,{"$f":"(SUM(P86:Z86))/Z90","v":8.0000000000000002E-3}]
[9.5,0,0,0,0,1,3,4,3,1,0,0,{"$f":"(SUM(B87:L87))/L89","v":4.0000000000000001E-3},null,8.5,0,0,0,1,3,3,4,2,1,0,0,{"$f":"(SUM(P87:Z87))/Z90","v":4.6666666666666671E-3}]
[10.5,0,0,0,0,0,2,2,3,1,0,0,{"$f":"(SUM(B88:L88))/L89","v":2.6666666666666666E-3},null,9.5,0,0,0,0,0,1,2,1,0,0,0,{"$f":"(SUM(P88:Z88))/Z90","v":1.3333333333333333E-3}]
["Total Occurences",null,null,null,null,null,null,null,null,null,null,{"$f":"SUM(B78:L88)","v":3000},{"$f":"SUM(M78:M88)","v":0.99999999999999989},null,10.5,0,0,0,0,0,0,0,0,0,0,0,{"$f":"(SUM(P89:Z89))/Z90","v":0}]
[null,null,null,null,null,null,null,null,null,null,null,null,null,null,"Total Occurences",null,null,null,null,null,null,null,null,null,null,{"$f":"SUM(P79:Z89)","v":3000},{"$f":"SUM(AA79:AA89)","v":1}]
["Quadrant ","E"]
[null,null,null,null,null,null,null,null,null,null,null,null,null,null,"Quadrant ","SE"]
["North Sea Area 9"]
["Number of Occurences",null,null,null,null,null,null,null,null,null,null,null,null,null,"North Sea Area 9"]
["Hs                      T",3.5,4.5,5.5,6.5,7.5,8.5,9.5,10.5,11.5,12.5,13.5,"Availability",null,"Number of Occurences"]
[0.5,{"$f":"IF($B$91=\"SW\",SUM(B34,B56,O56), (IF($B$91=\"W\",SUM(B56,B34,B11),(IF($B$91=\"NW\",SUM(B34,B11,O11), (IF($B$91=\"N\",SUM(B11,O11,AB11),(IF($B$91=\"NE\",SUM(O11,AB11,AB34),(IF($B$91=\"E\",SUM(AB11,AB34,AB56),(IF($B$91=\"SE\",SUM(AB34,AB56,O56),(IF($B$91=\"S\",SUM(AB56,O56,B56),0)))))))))))))))","v":13},{"$f":"IF($B$91=\"SW\",SUM(C34,C56,P56), (IF($B$91=\"W\",SUM(C56,C34,C11),(IF($B$91=\"NW\",SUM(C34,C11,P11), (IF($B$91=\"N\",SUM(C11,P11,AC11),(IF($B$91=\"NE\",SUM(P11,AC11,AC34),(IF($B$91=\"E\",SUM(AC11,AC34,AC56),(IF($B$91=\"SE\",SUM(AC34,AC56,P56),(IF($B$91=\"S\",SUM(AC56,P56,C56),0)))))))))))))))","v":110},206,150,57,14,3,0,0,0,0,{"$f":"(SUM(B96:L96))/L107","v":0.18433333333333332},null,"Hs                      T",3.5,4.5,5.5,6.5,7.5,8.5,9.5,10.5,11.5,12.5,13.5,"Availability"]
[1.5,{"$f":"IF($B$91=\"SW\",SUM(B35,B57,O57), (IF($B$91=\"W\",SUM(B57,B35,B12),(IF($B$91=\"NW\",SUM(B35,B12,O12), (IF($B$91=\"N\",SUM(B12,O12,AB12),(IF($B$91=\"NE\",SUM(O12,AB12,AB35),(IF($B$91=\"E\",SUM(AB12,AB35,AB57),(IF($B$91=\"SE\",SUM(AB35,AB57,O57),(IF($B$91=\"S\",SUM(AB57,O57,B57),0)))))))))))))))","v":1},47,227,329,221,86,23,5,1,0,0,{"$f":"(SUM(B97:L97))/L107","v":0.31333333333333335},null,0.5,{"$f":"IF($P$92=\"SW\",SUM(B34,B56,O56), (IF($P$92=\"W\",SUM(B56,B34,B11),(IF($P$92=\"NW\",SUM(B34,B11,O11), (IF($P$92=\"N\",SUM(B11,O11,AB11),(IF($P$92=\"NE\",SUM(O11,AB11,AB34),(IF($P$92=\"E\",SUM(AB11,AB34,AB56),(IF($P$92=\"SE\",SUM(AB34,AB56,O56),(IF($P$92=\"S\",SUM(AB56,O56,B56),0)))))))))))))))","v":12},{"$f":"IF($P$92=\"SW\",SUM(C34,C56,P56), (IF($P$92=\"W\",SUM(C56,C34,C11),(IF($P$92=\"NW\",SUM(C34,C11,P11), (IF($P$92=\"N\",SUM(C11,P11,AC11),(IF($P$92=\"NE\",SUM(P11,AC11,AC34),(IF($P$92=\"E\",SUM(AC11,AC34,AC56),(IF($P$92=\"SE\",SUM(AC34,AC56,P56),(IF($P$92=\"S\",SUM(AC56,P56,C56),0)))))))))))))))","v":109},{"$f":"IF($P$92=\"SW\",SUM(D34,D56,Q56), (IF($P$92=\"W\",SUM(D56,D34,D11),(IF($P$92=\"NW\",SUM(D34,D11,Q11), (IF($P$92=\"N\",SUM(D11,Q11,AD11),(IF($P$92=\"NE\",SUM(Q11,AD11,AD34),(IF($P$92=\"E\",SUM(AD11,AD34,AD56),(IF($P$92=\"SE\",SUM(AD34,AD56,Q56),(IF($P$92=\"S\",SUM(AD56,Q56,D56),0)))))))))))))))","v":206},{"$f":"IF($P$92=\"SW\",SUM(E34,E56,R56), (IF($P$92=\"W\",SUM(E56,E34,E11),(IF($P$92=\"NW\",SUM(E34,E11,R11), (IF($P$92=\"N\",SUM(E11,R11,AE11),(IF($P$92=\"NE\",SUM(R11,AE11,AE34),(IF($P$92=\"E\",SUM(AE11,AE34,AE56),(IF($P$92=\"SE\",SUM(AE34,AE56,R56),(IF($P$92=\"S\",SUM(AE56,R56,E56),0)))))))))))))))","v":148},{"$f":"IF($P$92=\"SW\",SUM(F34,F56,S56), (IF($P$92=\"W\",SUM(F56,F34,F11),(IF($P$92=\"NW\",SUM(F34,F11,S11), (IF($P$92=\"N\",SUM(F11,S11,AF11),(IF($P$92=\"NE\",SUM(S11,AF11,AF34),(IF($P$92=\"E\",SUM(AF11,AF34,AF56),(IF($P$92=\"SE\",SUM(AF34,AF56,S56),(IF($P$92=\"S\",SUM(AF56,S56,F56),0)))))))))))))))","v":54},{"$f":"IF($P$92=\"SW\",SUM(G34,G56,T56), (IF($P$92=\"W\",SUM(G56,G34,G11),(IF($P$92=\"NW\",SUM(G34,G11,T11), (IF($P$92=\"N\",SUM(G11,T11,AG11),(IF($P$92=\"NE\",SUM(T11,AG11,AG34),(IF($P$92=\"E\",SUM(AG11,AG34,AG56),(IF($P$92=\"SE\",SUM(AG34,AG56,T56),(IF($P$92=\"S\",SUM(AG56,T56,G56),0)))))))))))))))","v":13},{"$f":"IF($P$92=\"SW\",SUM(H34,H56,U56), (IF($P$92=\"W\",SUM(H56,H34,H11),(IF($P$92=\"NW\",SUM(H34,H11,U11), (IF($P$92=\"N\",SUM(H11,U11,AH11),(IF($P$92=\"NE\",SUM(U11,AH11,AH34),(IF($P$92=\"E\",SUM(AH11,AH34,AH56),(IF($P$92=\"SE\",SUM(AH34,AH56,U56),(IF($P$92=\"S\",SUM(AH56,U56,H56),0)))))))))))))))","v":3},{"$f":"IF($P$92=\"SW\",SUM(I34,I56,V56), (IF($P$92=\"W\",SUM(I56,I34,I11),(IF($P$92=\"NW\",SUM(I34,I11,V11), (IF($P$92=\"N\",SUM(I11,V11,AI11),(IF($P$92=\"NE\",SUM(V11,AI11,AI34),(IF($P$92=\"E\",SUM(AI11,AI34,AI56),(IF($P$92=\"SE\",SUM(AI34,AI56,V56),(IF($P$92=\"S\",SUM(AI56,V56,I56),0)))))))))))))))","v":0},{"$f":"IF($P$92=\"SW\",SUM(J34,J56,W56), (IF($P$92=\"W\",SUM(J56,J34,J11),(IF($P$92=\"NW\",SUM(J34,J11,W11), (IF($P$92=\"N\",SUM(J11,W11,AJ11),(IF($P$92=\"NE\",SUM(W11,AJ11,AJ34),(IF($P$92=\"E\",SUM(AJ11,AJ34,AJ56),(IF($P$92=\"SE\",SUM(AJ34,AJ56,W56),(IF($P$92=\"S\",SUM(AJ56,W56,J56),0)))))))))))))))","v":0},{"$f":"IF($P$92=\"SW\",SUM(K34,K56,X56), (IF($P$92=\"W\",SUM(K56,K34,K11),(IF($P$92=\"NW\",SUM(K34,K11,X11), (IF($P$92=\"N\",SUM(K11,X11,AK11),(IF($P$92=\"NE\",SUM(X11,AK11,AK34),(IF($P$92=\"E\",SUM(AK11,AK34,AK56),(IF($P$92=\"SE\",SUM(AK34,AK56,X56),(IF($P$92=\"S\",SUM(AK56,X56,K56),0)))))))))))))))","v":0},{"$f":"IF($P$92=\"SW\",SUM(L34,L56,Y56), (IF($P$92=\"W\",SUM(L56,L34,L11),(IF($P$92=\"NW\",SUM(L34,L11,Y11), (IF($P$92=\"N\",SUM(L11,Y11,AL11),(IF($P$92=\"NE\",SUM(Y11,AL11,AL34),(IF($P$92=\"E\",SUM(AL11,AL34,AL56),(IF($P$92=\"SE\",SUM(AL34,AL56,Y56),(IF($P$92=\"S\",SUM(AL56,Y56,L56),0)))))))))))))))","v":0},{"$f":"(SUM(P97:Z97))/Z108","v":0.18166666666666667}]
[2.5,0,14,103,225,206,109,39,11,2,0,0,{"$f":"(SUM(B98:L98))/L107","v":0.23633333333333334},null,1.5,1,46,222,323,212,78,20,4,0,0,0,{"$f":"(SUM(P98:Z98))/Z108","v":0.30199999999999999}]
[3.5,0,3,39,108,126,81,35,11,3,0,0,{"$f":"(SUM(B99:L99))/L107","v":0.13533333333333333},null,2.5,0,14,103,224,206,106,35,9,2,0,0,{"$f":"(SUM(P99:Z99))/Z108","v":0.23300000000000001}]
[4.5,0,2,14,46,64,48,23,9,2,0,0,{"$f":"(SUM(B100:L100))/L107","v":6.933333333333333E-2},null,3.5,0,3,40,113,132,83,34,10,2,1,0,{"$f":"(SUM(P100:Z100))/Z108","v":0.13933333333333334}]
[5.5,0,0,5,19,29,25,14,5,1,0,0,{"$f":"(SUM(B101:L101))/L107","v":3.2666666666666663E-2},null,4.5,0,2,15,50,70,51,24,9,1,1,0,{"$f":"(SUM(P101:Z101))/Z108","v":7.4333333333333335E-2}]
[6.5,0,0,2,7,14,12,7,4,1,0,0,{"$f":"(SUM(B102:L102))/L107","v":1.5666666666666666E-2},null,5.5,0,0,5,21,33,28,15,6,1,0,0,{"$f":"(SUM(P102:Z102))/Z108","v":3.6333333333333336E-2}]
[7.5,0,0,0,4,6,7,4,2,0,0,0,{"$f":"(SUM(B103:L103))/L107","v":7.6666666666666662E-3},null,6.5,0,0,2,8,16,15,8,4,1,0,0,{"$f":"(SUM(P103:Z103))/Z108","v":1.7999999999999999E-2}]
[8.5,0,0,0,2,3,3,3,1,0,0,0,{"$f":"(SUM(B104:L104))/L107","v":4.0000000000000001E-3},null,7.5,0,0,0,4,8,8,4,2,0,0,0,{"$f":"(SUM(P104:Z104))/Z108","v":8.6666666666666663E-3}]
[9.5,0,0,0,0,1,1,2,0,0,0,0,{"$f":"(SUM(B105:L105))/L107","v":1.3333333333333333E-3},null,8.5,0,0,0,2,3,4,3,1,0,0,0,{"$f":"(SUM(P105:Z105))/Z108","v":4.3333333333333331E-3}]
[10.5,0,0,0,0,0,0,0,0,0,0,0,{"$f":"(SUM(B106:L106))/L107","v":0},null,9.5,0,0,0,0,2,2,2,0,0,0,0,{"$f":"(SUM(P106:Z106))/Z108","v":2E-3}]
["Total Occurences",null,null,null,null,null,null,null,null,null,null,{"$f":"SUM(B96:L106)","v":3000},{"$f":"SUM(M96:M106)","v":1},null,10.5,0,0,0,0,0,1,0,0,0,0,0,{"$f":"(SUM(P107:Z107))/Z108","v":3.3333333333333332E-4}]
[null,null,null,null,null,null,null,null,null,null,null,null,null,null,"Total Occurences",null,null,null,null,null,null,null,null,null,null,{"$f":"SUM(P97:Z107)","v":3000},{"$f":"SUM(AA97:AA107)","v":1}]
["Quadrant ","S"]
[null,null,null,null,null,null,null,null,null,null,null,null,null,null,"Quadrant ","SW"]
["North Sea Area 9"]
["Number of Occurences",null,null,null,null,null,null,null,null,null,null,null,null,null,"North Sea Area 9"]
["Hs                      T",3.5,4.5,5.5,6.5,7.5,8.5,9.5,10.5,11.5,12.5,13.5,"Availability",null,"Number of Occurences"]
[0.5,{"$f":"IF($B$109=\"SW\",SUM(B34,B56,O56), (IF($B$109=\"W\",SUM(B56,B34,B11),(IF($B$109=\"NW\",SUM(B34,B11,O11), (IF($B$109=\"N\",SUM(B11,O11,AB11),(IF($B$109=\"NE\",SUM(O11,AB11,AB34),(IF($B$109=\"E\",SUM(AB11,AB34,AB56),(IF($B$109=\"SE\",SUM(AB34,AB56,O56),(IF($B$109=\"S\",SUM(AB56,O56,B56),0)))))))))))))))","v":5},{"$f":"IF($B$109=\"SW\",SUM(C34,C56,P56), (IF($B$109=\"W\",SUM(C56,C34,C11),(IF($B$109=\"NW\",SUM(C34,C11,P11), (IF($B$109=\"N\",SUM(C11,P11,AC11),(IF($B$109=\"NE\",SUM(P11,AC11,AC34),(IF($B$109=\"E\",SUM(AC11,AC34,AC56),(IF($B$109=\"SE\",SUM(AC34,AC56,P56),(IF($B$109=\"S\",SUM(AC56,P56,C56),0)))))))))))))))","v":65},154,135,59,16,3,0,0,0,0,{"$f":"(SUM(B114:L114))/L125","v":0.14566666666666667},null,"Hs                      T",3.5,4.5,5.5,6.5,7.5,8.5,9.5,10.5,11.5,12.5,13.5,"Availability"]
[1.5,{"$f":"IF($B$109=\"SW\",SUM(B35,B57,O57), (IF($B$109=\"W\",SUM(B57,B35,B12),(IF($B$109=\"NW\",SUM(B35,B12,O12), (IF($B$109=\"N\",SUM(B12,O12,AB12),(IF($B$109=\"NE\",SUM(O12,AB12,AB35),(IF($B$109=\"E\",SUM(AB12,AB35,AB57),(IF($B$109=\"SE\",SUM(AB35,AB57,O57),(IF($B$109=\"S\",SUM(AB57,O57,B57),0)))))))))))))))","v":0},25,154,287,235,105,31,7,1,0,0,{"$f":"(SUM(B115:L115))/L125","v":0.28166666666666668},null,0.5,{"$f":"IF($P$110=\"SW\",SUM(B34,B56,O56), (IF($P$110=\"W\",SUM(B56,B34,B11),(IF($P$110=\"NW\",SUM(B34,B11,O11), (IF($P$110=\"N\",SUM(B11,O11,AB11),(IF($P$110=\"NE\",SUM(O11,AB11,AB34),(IF($P$110=\"E\",SUM(AB11,AB34,AB56),(IF($P$110=\"SE\",SUM(AB34,AB56,O56),(IF($P$110=\"S\",SUM(AB56,O56,B56),0)))))))))))))))","v":1},{"$f":"IF($P$110=\"SW\",SUM(C34,C56,P56), (IF($P$110=\"W\",SUM(C56,C34,C11),(IF($P$110=\"NW\",SUM(C34,C11,P11), (IF($P$110=\"N\",SUM(C11,P11,AC11),(IF($P$110=\"NE\",SUM(P11,AC11,AC34),(IF($P$110=\"E\",SUM(AC11,AC34,AC56),(IF($P$110=\"SE\",SUM(AC34,AC56,P56),(IF($P$110=\"S\",SUM(AC56,P56,C56),0)))))))))))))))","v":28},{"$f":"IF($P$110=\"SW\",SUM(D34,D56,Q56), (IF($P$110=\"W\",SUM(D56,D34,D11),(IF($P$110=\"NW\",SUM(D34,D11,Q11), (IF($P$110=\"N\",SUM(D11,Q11,AD11),(IF($P$110=\"NE\",SUM(Q11,AD11,AD34),(IF($P$110=\"E\",SUM(AD11,AD34,AD56),(IF($P$110=\"SE\",SUM(AD34,AD56,Q56),(IF($P$110=\"S\",SUM(AD56,Q56,D56),0)))))))))))))))","v":97},{"$f":"IF($P$110=\"SW\",SUM(E34,E56,R56), (IF($P$110=\"W\",SUM(E56,E34,E11),(IF($P$110=\"NW\",SUM(E34,E11,R11), (IF($P$110=\"N\",SUM(E11,R11,AE11),(IF($P$110=\"NE\",SUM(R11,AE11,AE34),(IF($P$110=\"E\",SUM(AE11,AE34,AE56),(IF($P$110=\"SE\",SUM(AE34,AE56,R56),(IF($P$110=\"S\",SUM(AE56,R56,E56),0)))))))))))))))","v":117},{"$f":"IF($P$110=\"SW\",SUM(F34,F56,S56), (IF($P$110=\"W\",SUM(F56,F34,F11),(IF($P$110=\"NW\",SUM(F34,F11,S11), (IF($P$110=\"N\",SUM(F11,S11,AF11),(IF($P$110=\"NE\",SUM(S11,AF11,AF34),(IF($P$110=\"E\",SUM(AF11,AF34,AF56),(IF($P$110=\"SE\",SUM(AF34,AF56,S56),(IF($P$110=\"S\",SUM(AF56,S56,F56),0)))))))))))))))","v":65},{"$f":"IF($P$110=\"SW\",SUM(G34,G56,T56), (IF($P$110=\"W\",SUM(G56,G34,G11),(IF($P$110=\"NW\",SUM(G34,G11,T11), (IF($P$110=\"N\",SUM(G11,T11,AG11),(IF($P$110=\"NE\",SUM(T11,AG11,AG34),(IF($P$110=\"E\",SUM(AG11,AG34,AG56),(IF($P$110=\"SE\",SUM(AG34,AG56,T56),(IF($P$110=\"S\",SUM(AG56,T56,G56),0)))))))))))))))","v":20},{"$f":"IF($P$110=\"SW\",SUM(H34,H56,U56), (IF($P$110=\"W\",SUM(H56,H34,H11),(IF($P$110=\"NW\",SUM(H34,H11,U11), (IF($P$110=\"N\",SUM(H11,U11,AH11),(IF($P$110=\"NE\",SUM(U11,AH11,AH34),(IF($P$110=\"E\",SUM(AH11,AH34,AH56),(IF($P$110=\"SE\",SUM(AH34,AH56,U56),(IF($P$110=\"S\",SUM(AH56,U56,H56),0)))))))))))))))","v":4},{"$f":"IF($P$110=\"SW\",SUM(I34,I56,V56), (IF($P$110=\"W\",SUM(I56,I34,I11),(IF($P$110=\"NW\",SUM(I34,I11,V11), (IF($P$110=\"N\",SUM(I11,V11,AI11),(IF($P$110=\"NE\",SUM(V11,AI11,AI34),(IF($P$110=\"E\",SUM(AI11,AI34,AI56),(IF($P$110=\"SE\",SUM(AI34,AI56,V56),(IF($P$110=\"S\",SUM(AI56,V56,I56),0)))))))))))))))","v":0},{"$f":"IF($P$110=\"SW\",SUM(J34,J56,W56), (IF($P$110=\"W\",SUM(J56,J34,J11),(IF($P$110=\"NW\",SUM(J34,J11,W11), (IF($P$110=\"N\",SUM(J11,W11,AJ11),(IF($P$110=\"NE\",SUM(W11,AJ11,AJ34),(IF($P$110=\"E\",SUM(AJ11,AJ34,AJ56),(IF($P$110=\"SE\",SUM(AJ34,AJ56,W56),(IF($P$110=\"S\",SUM(AJ56,W56,J56),0)))))))))))))))","v":0},{"$f":"IF($P$110=\"SW\",SUM(K34,K56,X56), (IF($P$110=\"W\",SUM(K56,K34,K11),(IF($P$110=\"NW\",SUM(K34,K11,X11), (IF($P$110=\"N\",SUM(K11,X11,AK11),(IF($P$110=\"NE\",SUM(X11,AK11,AK34),(IF($P$110=\"E\",SUM(AK11,AK34,AK56),(IF($P$110=\"SE\",SUM(AK34,AK56,X56),(IF($P$110=\"S\",SUM(AK56,X56,K56),0)))))))))))))))","v":0},{"$f":"IF($P$110=\"SW\",SUM(L34,L56,Y56), (IF($P$110=\"W\",SUM(L56,L34,L11),(IF($P$110=\"NW\",SUM(L34,L11,Y11), (IF($P$110=\"N\",SUM(L11,Y11,AL11),(IF($P$110=\"NE\",SUM(Y11,AL11,AL34),(IF($P$110=\"E\",SUM(AL11,AL34,AL56),(IF($P$110=\"SE\",SUM(AL34,AL56,Y56),(IF($P$110=\"S\",SUM(AL56,Y56,L56),0)))))))))))))))","v":0},{"$f":"(SUM(P115:Z115))/Z126","v":0.11066666666666666}]
[2.5,0,7,68,191,227,144,57,16,4,1,0,{"$f":"(SUM(B116:L116))/L125","v":0.23833333333333334},null,1.5,0,8,81,225,247,136,46,11,2,0,0,{"$f":"(SUM(P116:Z116))/Z126","v":0.252}]
[3.5,0,1,26,95,143,114,57,19,5,2,0,{"$f":"(SUM(B117:L117))/L125","v":0.154},null,2.5,0,2,33,140,231,186,86,27,7,2,0,{"$f":"(SUM(P117:Z117))/Z126","v":0.23799999999999999}]
[4.5,0,1,10,42,75,71,41,17,4,2,1,{"$f":"(SUM(B118:L118))/L125","v":8.7999999999999995E-2},null,3.5,0,0,12,67,143,147,88,34,9,3,0,{"$f":"(SUM(P118:Z118))/Z126","v":0.16766666666666666}]
[5.5,0,0,3,17,36,39,26,12,4,1,0,{"$f":"(SUM(B119:L119))/L125","v":4.5999999999999999E-2},null,4.5,0,0,4,29,74,93,66,31,9,3,1,{"$f":"(SUM(P119:Z119))/Z126","v":0.10333333333333333}]
[6.5,0,0,1,6,17,21,15,8,3,1,0,{"$f":"(SUM(B120:L120))/L125","v":2.4E-2},null,5.5,0,0,1,11,36,51,43,23,9,2,0,{"$f":"(SUM(P120:Z120))/Z126","v":5.8666666666666666E-2}]
[7.5,0,0,0,4,8,10,7,5,1,0,0,{"$f":"(SUM(B121:L121))/L125","v":1.1666666666666667E-2},null,6.5,0,0,0,4,16,28,26,16,7,2,0,{"$f":"(SUM(P121:Z121))/Z126","v":3.3000000000000002E-2}]
[8.5,0,0,0,1,3,5,4,3,1,0,0,{"$f":"(SUM(B122:L122))/L125","v":5.6666666666666671E-3},null,7.5,0,0,0,2,7,13,14,10,4,1,0,{"$f":"(SUM(P122:Z122))/Z126","v":1.7000000000000001E-2}]
[9.5,0,0,0,0,3,3,3,1,1,0,0,{"$f":"(SUM(B123:L123))/L125","v":3.6666666666666666E-3},null,8.5,0,0,0,0,3,7,7,7,3,1,0,{"$f":"(SUM(P123:Z123))/Z126","v":9.3333333333333341E-3}]
[10.5,0,0,0,0,0,2,1,1,0,0,0,{"$f":"(SUM(B124:L124))/L125","v":1.3333333333333333E-3},null,9.5,0,0,0,0,3,4,5,3,2,1,0,{"$f":"(SUM(P124:Z124))/Z126","v":6.0000000000000001E-3}]
["Total Occurences",null,null,null,null,null,null,null,null,null,null,{"$f":"SUM(B114:L124)","v":3000},{"$f":"SUM(M114:M124)","v":1.0000000000000002},null,10.5,0,0,0,0,0,4,4,4,1,0,0,{"$f":"(SUM(P125:Z125))/Z126","v":4.3333333333333331E-3}]
[null,null,null,null,null,null,null,null,null,null,null,null,null,null,"Total Occurences",null,null,null,null,null,null,null,null,null,null,{"$f":"SUM(P115:Z125)","v":3000},{"$f":"SUM(AA115:AA125)","v":0.99999999999999989}]
["Quadrant ","W"]
[null,null,null,null,null,null,null,null,null,null,null,null,null,null,"Quadrant ","NW"]
["North Sea Area 9"]
["Number of Occurences",null,null,null,null,null,null,null,null,null,null,null,null,null,"North Sea Area 9"]
["Hs                      T",3.5,4.5,5.5,6.5,7.5,8.5,9.5,10.5,11.5,12.5,13.5,"Availability",null,"Number of Occurences"]
[0.5,{"$f":"IF($B$127=\"SW\",SUM(B34,B56,O56), (IF($B$127=\"W\",SUM(B56,B34,B11),(IF($B$127=\"NW\",SUM(B34,B11,O11), (IF($B$127=\"N\",SUM(B11,O11,AB11),(IF($B$127=\"NE\",SUM(O11,AB11,AB34),(IF($B$127=\"E\",SUM(AB11,AB34,AB56),(IF($B$127=\"SE\",SUM(AB34,AB56,O56),(IF($B$127=\"S\",SUM(AB56,O56,B56),0)))))))))))))))","v":0},{"$f":"IF($B$127=\"SW\",SUM(C34,C56,P56), (IF($B$127=\"W\",SUM(C56,C34,C11),(IF($B$127=\"NW\",SUM(C34,C11,P11), (IF($B$127=\"N\",SUM(C11,P11,AC11),(IF($B$127=\"NE\",SUM(P11,AC11,AC34),(IF($B$127=\"E\",SUM(AC11,AC34,AC56),(IF($B$127=\"SE\",SUM(AC34,AC56,P56),(IF($B$127=\"S\",SUM(AC56,P56,C56),0)))))))))))))))","v":13},68,103,66,22,4,0,0,0,0,{"$f":"(SUM(B132:L132))/L143","v":9.1999999999999998E-2},null,"Hs                      T",3.5,4.5,5.5,6.5,7.5,8.5,9.5,10.5,11.5,12.5,13.5,"Availability"]
[1.5,{"$f":"IF($B$127=\"SW\",SUM(B35,B57,O57), (IF($B$127=\"W\",SUM(B57,B35,B12),(IF($B$127=\"NW\",SUM(B35,B12,O12), (IF($B$127=\"N\",SUM(B12,O12,AB12),(IF($B$127=\"NE\",SUM(O12,AB12,AB35),(IF($B$127=\"E\",SUM(AB12,AB35,AB57),(IF($B$127=\"SE\",SUM(AB35,AB57,O57),(IF($B$127=\"S\",SUM(AB57,O57,B57),0)))))))))))))))","v":0},3,51,193,252,154,54,13,3,0,0,{"$f":"(SUM(B133:L133))/L143","v":0.24099999999999999},null,0.5,{"$f":"IF($P$128=\"SW\",SUM(B34,B56,O56), (IF($P$128=\"W\",SUM(B56,B34,B11),(IF($P$128=\"NW\",SUM(B34,B11,O11), (IF($P$128=\"N\",SUM(B11,O11,AB11),(IF($P$128=\"NE\",SUM(O11,AB11,AB34),(IF($P$128=\"E\",SUM(AB11,AB34,AB56),(IF($P$128=\"SE\",SUM(AB34,AB56,O56),(IF($P$128=\"S\",SUM(AB56,O56,B56),0)))))))))))))))","v":0},{"$f":"IF($P$128=\"SW\",SUM(C34,C56,P56), (IF($P$128=\"W\",SUM(C56,C34,C11),(IF($P$128=\"NW\",SUM(C34,C11,P11), (IF($P$128=\"N\",SUM(C11,P11,AC11),(IF($P$128=\"NE\",SUM(P11,AC11,AC34),(IF($P$128=\"E\",SUM(AC11,AC34,AC56),(IF($P$128=\"SE\",SUM(AC34,AC56,P56),(IF($P$128=\"S\",SUM(AC56,P56,C56),0)))))))))))))))","v":14},{"$f":"IF($P$128=\"SW\",SUM(D34,D56,Q56), (IF($P$128=\"W\",SUM(D56,D34,D11),(IF($P$128=\"NW\",SUM(D34,D11,Q11), (IF($P$128=\"N\",SUM(D11,Q11,AD11),(IF($P$128=\"NE\",SUM(Q11,AD11,AD34),(IF($P$128=\"E\",SUM(AD11,AD34,AD56),(IF($P$128=\"SE\",SUM(AD34,AD56,Q56),(IF($P$128=\"S\",SUM(AD56,Q56,D56),0)))))))))))))))","v":68},{"$f":"IF($P$128=\"SW\",SUM(E34,E56,R56), (IF($P$128=\"W\",SUM(E56,E34,E11),(IF($P$128=\"NW\",SUM(E34,E11,R11), (IF($P$128=\"N\",SUM(E11,R11,AE11),(IF($P$128=\"NE\",SUM(R11,AE11,AE34),(IF($P$128=\"E\",SUM(AE11,AE34,AE56),(IF($P$128=\"SE\",SUM(AE34,AE56,R56),(IF($P$128=\"S\",SUM(AE56,R56,E56),0)))))))))))))))","v":101},{"$f":"IF($P$128=\"SW\",SUM(F34,F56,S56), (IF($P$128=\"W\",SUM(F56,F34,F11),(IF($P$128=\"NW\",SUM(F34,F11,S11), (IF($P$128=\"N\",SUM(F11,S11,AF11),(IF($P$128=\"NE\",SUM(S11,AF11,AF34),(IF($P$128=\"E\",SUM(AF11,AF34,AF56),(IF($P$128=\"SE\",SUM(AF34,AF56,S56),(IF($P$128=\"S\",SUM(AF56,S56,F56),0)))))))))))))))","v":64},{"$f":"IF($P$128=\"SW\",SUM(G34,G56,T56), (IF($P$128=\"W\",SUM(G56,G34,G11),(IF($P$128=\"NW\",SUM(G34,G11,T11), (IF($P$128=\"N\",SUM(G11,T11,AG11),(IF($P$128=\"NE\",SUM(T11,AG11,AG34),(IF($P$128=\"E\",SUM(AG11,AG34,AG56),(IF($P$128=\"SE\",SUM(AG34,AG56,T56),(IF($P$128=\"S\",SUM(AG56,T56,G56),0)))))))))))))))","v":21},{"$f":"IF($P$128=\"SW\",SUM(H34,H56,U56), (IF($P$128=\"W\",SUM(H56,H34,H11),(IF($P$128=\"NW\",SUM(H34,H11,U11), (IF($P$128=\"N\",SUM(H11,U11,AH11),(IF($P$128=\"NE\",SUM(U11,AH11,AH34),(IF($P$128=\"E\",SUM(AH11,AH34,AH56),(IF($P$128=\"SE\",SUM(AH34,AH56,U56),(IF($P$128=\"S\",SUM(AH56,U56,H56),0)))))))))))))))","v":4},{"$f":"IF($P$128=\"SW\",SUM(I34,I56,V56), (IF($P$128=\"W\",SUM(I56,I34,I11),(IF($P$128=\"NW\",SUM(I34,I11,V11), (IF($P$128=\"N\",SUM(I11,V11,AI11),(IF($P$128=\"NE\",SUM(V11,AI11,AI34),(IF($P$128=\"E\",SUM(AI11,AI34,AI56),(IF($P$128=\"SE\",SUM(AI34,AI56,V56),(IF($P$128=\"S\",SUM(AI56,V56,I56),0)))))))))))))))","v":0},{"$f":"IF($P$128=\"SW\",SUM(J34,J56,W56), (IF($P$128=\"W\",SUM(J56,J34,J11),(IF($P$128=\"NW\",SUM(J34,J11,W11), (IF($P$128=\"N\",SUM(J11,W11,AJ11),(IF($P$128=\"NE\",SUM(W11,AJ11,AJ34),(IF($P$128=\"E\",SUM(AJ11,AJ34,AJ56),(IF($P$128=\"SE\",SUM(AJ34,AJ56,W56),(IF($P$128=\"S\",SUM(AJ56,W56,J56),0)))))))))))))))","v":0},{"$f":"IF($P$128=\"SW\",SUM(K34,K56,X56), (IF($P$128=\"W\",SUM(K56,K34,K11),(IF($P$128=\"NW\",SUM(K34,K11,X11), (IF($P$128=\"N\",SUM(K11,X11,AK11),(IF($P$128=\"NE\",SUM(X11,AK11,AK34),(IF($P$128=\"E\",SUM(AK11,AK34,AK56),(IF($P$128=\"SE\",SUM(AK34,AK56,X56),(IF($P$128=\"S\",SUM(AK56,X56,K56),0)))))))))))))))","v":0},{"$f":"IF($P$128=\"SW\",SUM(L34,L56,Y56), (IF($P$128=\"W\",SUM(L56,L34,L11),(IF($P$128=\"NW\",SUM(L34,L11,Y11), (IF($P$128=\"N\",SUM(L11,Y11,AL11),(IF($P$128=\"NE\",SUM(Y11,AL11,AL34),(IF($P$128=\"E\",SUM(AL11,AL34,AL56),(IF($P$128=\"SE\",SUM(AL34,AL56,Y56),(IF($P$128=\"S\",SUM(AL56,Y56,L56),0)))))))))))))))","v":0},{"$f":"(SUM(P133:Z133))/Z144","v":9.0666666666666673E-2}]
[2.5,0,0,18,111,229,208,104,34,8,3,0,{"$f":"(SUM(B134:L134))/L143","v":0.23833333333333334},null,1.5,0,3,56,203,256,155,54,13,3,0,0,{"$f":"(SUM(P134:Z134))/Z144","v":0.24766666666666667}]
[3.5,0,0,6,50,137,163,105,42,12,3,0,{"$f":"(SUM(B135:L135))/L143","v":0.17266666666666666},null,2.5,0,0,20,116,232,210,105,35,8,3,0,{"$f":"(SUM(P135:Z135))/Z144","v":0.24299999999999999}]
[4.5,0,0,2,21,70,103,79,39,12,3,1,{"$f":"(SUM(B136:L136))/L143","v":0.11},null,3.5,0,0,6,51,138,162,105,43,13,3,0,{"$f":"(SUM(P136:Z136))/Z144","v":0.17366666666666666}]
[5.5,0,0,0,7,34,56,51,28,12,3,0,{"$f":"(SUM(B137:L137))/L143","v":6.3666666666666663E-2},null,4.5,0,0,2,20,68,100,78,39,12,3,0,{"$f":"(SUM(P137:Z137))/Z144","v":0.10733333333333334}]
[6.5,0,0,0,3,15,30,32,20,9,3,0,{"$f":"(SUM(B138:L138))/L143","v":3.7333333333333336E-2},null,5.5,0,0,0,7,32,54,49,27,12,3,0,{"$f":"(SUM(P138:Z138))/Z144","v":6.133333333333333E-2}]
[7.5,0,0,0,1,6,15,17,13,6,2,0,{"$f":"(SUM(B139:L139))/L143","v":0.02},null,6.5,0,0,0,3,14,28,29,19,9,3,0,{"$f":"(SUM(P139:Z139))/Z144","v":3.5000000000000003E-2}]
[8.5,0,0,0,0,3,7,9,8,4,1,0,{"$f":"(SUM(B140:L140))/L143","v":1.0666666666666666E-2},null,7.5,0,0,0,0,6,14,16,12,6,2,0,{"$f":"(SUM(P140:Z140))/Z144","v":1.8666666666666668E-2}]
[9.5,0,0,0,0,3,5,6,5,3,1,0,{"$f":"(SUM(B141:L141))/L143","v":7.6666666666666662E-3},null,8.5,0,0,0,0,3,6,9,7,4,1,0,{"$f":"(SUM(P141:Z141))/Z144","v":0.01}]
[10.5,0,0,0,0,0,5,6,7,2,0,0,{"$f":"(SUM(B142:L142))/L143","v":6.6666666666666671E-3},null,9.5,0,0,0,0,2,5,6,5,2,1,0,{"$f":"(SUM(P142:Z142))/Z144","v":7.0000000000000001E-3}]
["Total Occurences",null,null,null,null,null,null,null,null,null,null,{"$f":"SUM(B132:L142)","v":3000},{"$f":"SUM(M132:M142)","v":1},null,10.5,0,0,0,0,0,4,5,6,2,0,0,{"$f":"(SUM(P143:Z143))/Z144","v":5.6666666666666671E-3}]
[null,null,null,null,null,null,null,null,null,null,null,null,null,null,"Total Occurences",null,null,null,null,null,null,null,null,null,null,{"$f":"SUM(P133:Z143)","v":3000},{"$f":"SUM(AA133:AA143)","v":1.0000000000000002}]